{"text_format":"1","workbook":"xlsx","n_sheets":6,"sheets":["Om verktyget","Fyll i så här","Styrning och kompetens","Insatser","Handläggning och uppföljning","Resultat-diagram"],"not_rendered":{"charts":1,"images":1,"macros":1,"external_links":0,"defined_names":1,"comments":0,"pivot_tables":0},"unopened":[],"bounds":{"document_bytes":16777216,"sheet_cells":100000,"rows_first":2000,"rows_last":500,"rows_between":2000,"halvings":0,"cell_chars":16384,"cell_head_chars":4096},"cells_cut":0,"cells_raw":0,"read":"whole","date_system":"1900"}

{"sheet":"Om verktyget","index":0,"n_rows":0,"n_cols":0,"rows_kept":0,"cut":false,"hidden":false,"merged":[[0,0,85,16383]]}

{"sheet":"Fyll i så här","index":1,"n_rows":7,"n_cols":3,"rows_kept":7,"cut":false,"hidden":false,"merged":[[40,1,43,1],[45,1,46,1],[47,1,48,1],[9,0,9,2],[10,0,19,0],[10,1,11,1],[12,1,14,1],[17,1,19,1],[20,0,40,0],[20,1,23,1],[24,1,32,1],[33,1,34,1],[35,1,39,1]]}
["Självskattningsverktyg"]
["Stöd för kartläggning och utveckling av arbetet mot våld i nära relationer"]
["Excelfilen är framtagen av Socialstyrelsen, men kan ändras av användaren. Lösenord: 1234"]
["Använd materialet så här: "]
["1.","Flik: Styrning och kompetens","Steg 1: \nSpara ner en kopia av excel-filen. \nSkriv i cell A2 i fliken Styrning och kompetens in datum, verksamhet och namn på den som har fyllt i filen.\n\nArbeta därefter med ett påstående i taget. Påståendena är uppdelade på fyra flikar. Välj det svarsalternativ i kolumn B som bäst motsvarar ert arbete.                                                                                                                                                                           Svarsalternativen är: \n•\tJa, i huvudsak\n•\tEtt mindre förändringsarbete behövs\n•\tMer omfattandet förändringsarbete behövs\n•\tNej\n•\tEj aktuellt\n•\tVet ej\nTa stöd av läshänvisningarna till handboken som finns i kolumn D. De kan bidra till att  fördjupa förståelsen för ett påstående.\n\nOBS! Kontrollera att ni har valt ett svarsalternativ för samtliga påståenden innan ni går vidare till fliken Resultat- diagram, annars blir resultatet felaktigt. \n\nFyll i egna kommentarer i kolumn C. \nDet finns tre stödfrågor:  \n•\tVad gör vi idag? \n•\tVad behöver vi vidta för ytterligare åtgärder? \n•\tHur kan vi upprätthålla det som fungerar bra?"]
[]
["2.","Resultat-diagram","Steg 2: \nKlicka på fliken Resultat-diagram.\n\nNi ser där en sammanställning av de olika påståenden som självskattningen utgår ifrån. \nDessa är sorterade så att ni överst ser de områden och frågor där ni har bedömt att det finns störst behov av utvecklings- och förändringsarbete.\n\nFördelningen av era svar visualiseras i ett cirkeldiagram. Denna finns längst ner på sidan under sammanställningen av era påståenden.\n"]

{"sheet":"Styrning och kompetens","index":2,"n_rows":17,"n_cols":4,"rows_kept":17,"cut":false,"hidden":false,"merged":[[0,0,0,1]]}
["Styrning och kompetens "]
["Datum:\nVerksamhet: \nGenomförd av:","Välj det svarsalternativ som bäst motsvarar verksamhetens arbete. \nKlicka på pilknappen i nedre högra hörnet för att välja. \nOBS! Kolla att du har gjort ett val på samtliga frågor. ","EGNA KOMMENTARER \nVad gör vi idag? \nVad behöver vi vidta för ytterligare åtgärder? \nHur kan vi upprätthålla det som fungerar bra? ","Läshänvisningar  "]
["Mål och planering "]
["I vår kommun finns fastställda mål för arbetet med våld i nära relationer. De fastställda målen avser såväl arbetet med våldsutsatta, barn som bevittnat våld som våldsutövare.  Det framgår av målen när och hur de ska uppnås.","Välj Alternativ",null,"Handboken kapitel 8.1.1"]
["I vår verksamhet har vi konkreta aktiviteter eller arbetssätt för att uppnå målen med  arbetet med våld i nära relationer. ","Välj Alternativ",null,"Handboken kapitel 8.1.1"]
["I vår kommun beaktar vi särskild utsatthet och sårbarhet  i vårt arbete med våld i nära relationer. Det gör vi när vi planerar, utreder och fattar beslut i ärenden samt vid uppföljning.\nDet kan handla om utsatthet på grund av exempelvis ålder, sexuell läggning, ekonomisk situation, funktionsnedsättning, hedersrelaterad kontext, kön, könsidentitet och könsuttryck, beroendeproblematik, tillhörighet till en nationell minoritet eller utländsk bakgrund. ","Välj Alternativ",null,"Handboken kapitel 8.2 samt 12.7"]
["Att ställa frågor och upptäcka våld "]
["I vår kommun finns fastställda rutiner för när och hur personalen i respektive verksamhet ska ställa frågor om våld för att kunna upptäcka våldsutsatta som behöver stöd och hjälp.","Välj Alternativ",null,"Handboken kapitel 8.3.1.1"]
["I vår kommun finns fastställda rutiner för när och hur personalen i respektive verksamhet ska ställa frågor om våld för att kunna upptäcka barn som bevittnat våld som behöver stöd och hjälp.","Välj Alternativ",null,"Handboken kapitel 8.3.1.3"]
["I vår kommun finns fastställda rutiner för när och hur personalen i respektive verksamhet ska ställa frågor om våld för att kunna upptäcka våldsutövare som behöver insatser för att ändra sitt beteende.","Välj Alternativ",null,"Handboken kapitel 8.3.1.2"]
["Vår personal vet när och hur de ska ställa frågor om våld och gör det  i sitt dagliga arbete.","Välj Alternativ",null,"Handboken kapitel 8.3.1.2"]
["Kompetens "]
["I vår kommun har all personal som arbetar med handläggning och uppföljning av alla slags ärenden som gäller enskilda kunskap om våld och andra övergrepp av eller mot närstående samt har förmågan att omsätta kunskaperna i det praktiska arbetet.  ","Välj Alternativ",null,"Handboken kapitel 12.6"]
["I vår kommun har personal som genomför insatser inom socialtjänstens verksamhetsområde kunskap om våld i nära relationer. De kan identifiera våldsutsatta, och ser till att de får det stöd och den hjälp de behöver. ","Välj Alternativ",null,"Handboken kapitel 12.4"]
["I vår kommun finns rutin för hur barn vars förälder har avlidit till följd av våld ska få stöd av personal med adekvat kompetens. Rutinen omfattar stöd i det akuta skedet, samt på kort och lång sikt. ","Välj Alternativ",null,"Handboken kapitel 8.3.3"]
["I vår kommun bygger de metoder som används för att ge stöd och hjälp till våldsutsatta och barn som bevittnat våld på bästa tillgängliga kunskap eller beprövad erfarenhet. ","Välj Alternativ",null,"Handboken kapitel 12.3.1"]
["I vår kommun följer vi  upp om de metoder vi använder i arbetet är baserade på bästa tillgängliga kunskap eller beprövad erfarenhet.  ","Välj Alternativ",null,"Handboken kapitel 12.3"]

{"sheet":"Insatser","index":3,"n_rows":22,"n_cols":4,"rows_kept":22,"cut":false,"hidden":false,"merged":[[0,0,0,1]]}
["Insatser till våldsutsatta, barn som bevittnat våld och våldsutövare "]
[null,"Välj det svarsalternativ som bäst motsvarar verksamhetens arbete. \nKlicka på pilknappen i nedre högra hörnet för att välja. \nOBS! Kolla att du gjort ett val på samtliga frågor .  ","EGNA KOMMENTARER \nVad gör vi idag? \nVad behöver vi vidta för ytterligare åtgärder? \nHur kan vi upprätthålla det som fungerar bra? ","Läshänvisningar "]
["Insatser "]
["I vår kommun har det gjorts en analys av om utbudet av insatser som erbjuds våldsutsatta, barn som bevittnat våld och våldsutövare svarar mot behoven i kommunen.","Välj Alternativ",null,"Handboken kapitel 8.4.1"]
["I vår kommun har vi kartlagt förekomsten av våldsutsatta, barn som bevittnar våld och våldsutövare  i kommunen. ","Välj Alternativ",null,"Handboken kapitel 8.4.2"]
["Vår verksamhet deltar i och bidrar med underlag till analys- och kartläggningsarbetet. ","Välj Alternativ",null,"Handboken kapitel 8.4.2"]
["I vår kommun erbjuder vi våldsutsatta vuxna insatser med utgångspunkt i den enskildes behov av skydd, stöd och hjälp. Insatserna kan vara akuta och på kort och lång sikt.  ","Välj Alternativ",null,"Handboken kapitel 13.1.7"]
["I vår kommun erbjuder vi våldsutsatta barn och barn som bevittnat våld insatser med utgångspunkt i den enskildes behov av skydd, stöd och hjälp. Insatserna kan vara akuta och på kort och lång sikt.  ","Välj Alternativ",null,"Handboken kapitel 14.4.7"]
["I vår kommun erbjuder vi insatser till våldsutövande barn och vuxna med syftet att de ska ändra sitt beteende. När vi gör detta beaktar vi säkerheten för den som utsätts eller har utsatts för våld eller andra övergrepp. ","Välj Alternativ",null,"Handboken kapitel 8.4.2.2"]
["Skyddat boende"]
["I vår kommun ser vi till att en person som är utsatt för hot, våld eller andra övergrepp vid behov tas emot i ett skyddat boende.","Välj Alternativ",null,"Handboken kapitel 15.3.1"]
["I vår kommun har de skyddade boenden som vi erbjuder individanpassade insatser som syftar till att stärka den boendes förmåga att klara sig själv och minska hens sårbarhet.","Välj Alternativ",null,"Handboken kapitel 15.3.1"]
["I vår kommun genomför de skyddade boenden som vi använder säkerhetsplaneringar för såväl vuxna som barn.","Välj Alternativ",null,"Handboken kapitel 15.3.1"]
["I vår kommun har de skyddade boenden som vi erbjuder tillräcklig bemanning och tillräckliga skyddsanordningar för att kunna utgöra ett skydd mot hot, våld och andra övergrepp. ","Välj Alternativ",null,"Handboken kapitel 15.3.1"]
["De skyddade boenden som erbjuds våldsutsatta i vår kommun är lämpliga för medföljande barn. I boendet finns det personal med kunskap om barns behov och rättigheter. Barns hälsa och skolgång uppmärksammas. ","Välj Alternativ",null,"Handboken kapitel 15.3.3"]
["Samverkan"]
["I vår kommun är det fastställt var ansvaret för intern och extern samverkan ligger.  ","Välj Alternativ",null,"Handboken kapitel 10.4"]
["I vår kommun samordnar vi våra insatser för våldsutsatta, barn som bevittnat våld och våldsutövare så att insatserna kompletterar, och inte motverka varandra.","Välj Alternativ",null,"Handboken kapitel 10.1.1"]
["I vår kommun samordnar vi insatser internt när dessa ges till flera personer i en familj. Vi har då alltid trygghet och säkerhet för våldsutsatta och barn som bevittnat våld i fokus. ","Välj Alternativ",null,"Handboken kapitel 10.1.1"]
["I vår kommun samverkar vi externt med berörda verksamheter, myndigheter och organisationer för att skapa förutsättningar för att samordna de olika aktörernas insatser och åtgärder så att de inte motverkar varandra.","Välj Alternativ",null,"Handboken kapitel 10.1..2"]
["I vår kommun vet vi under vilka förutsättningar det är möjligt att lämna ut personuppgifter i samband med intern och extern samverkan.  ","Välj Alternativ",null,"Handboken kapitel 10.1.4- 10.1.4.1"]
["I vår kommun vet vi när vi utan hinder av sekretess får lämna uppgifter till bl.a. Polismyndigheten gällande misstanke om, förebyggande av eller ingripande mot brott. ","Välj Alternativ",null,"Handboken kapitel 11"]

{"sheet":"Handläggning och uppföljning","index":4,"n_rows":16,"n_cols":4,"rows_kept":16,"cut":false,"hidden":false,"merged":[[0,0,0,1]]}
["Handläggning och uppföljning"]
[null,"Välj det svarsalternativ som bäst motsvarar verksamhetens arbete. \nKlicka på pilknappen i nedre högra hörnet för att välja. \nOBS! Kolla att du har gjort ett val på samtliga frågor.                  ","EGNA KOMMENTARER \nVad gör vi idag? \nVad behöver vi vidta för ytterligare åtgärder? \nHur kan vi upprätthålla det som fungerar bra? ","Läshänvisningar"]
["Utredning "]
["I vår kommun är det fastställt var i verksamheten ansvaret ligger för att utreda, fatta beslut och följa upp ärenden som gäller våldsutsatta, barn som bevittnat våld och våldsutövare.","Välj Alternativ",null,"Handboken kapitel 13"]
["I vår kommun finns fastställda rutiner för hur information om att ett barn kan vara våldsutsatt eller kan ha bevittnat våld ska föras vidare till den del av verksamhet som har ansvaret för att utreda barnets behov. ","Välj Alternativ",null,"Handboken kapitel 8.3.2"]
["Personalen i vår verksamhet har kunskap om när och hur information om att ett barn kan vara våldsutsatt eller kan ha bevittnat våld ska föras vidare och gör det i sitt dagliga arbete.","Välj Alternativ",null,"Handboken kapitel 8.3.3 samt 14.4.8"]
["I vår kommun gör vi omedelbara skyddsbedömningar när vi får in orosanmälningar som rör barn och unga. ","Välj Alternativ",null,"  Handboken kapitel 14.1.1"]
["I vår kommun inleder vi genast en utredning om vi får kännedom om att ett barn eller en ungdom kan ha utsatts för våld eller bevittnat våld. ","Välj Alternativ",null,"Handboken kapitel 14.1.1"]
["I vår kommun har vi beredskap för att kunna handlägga ett ärende som gäller en våldutsatt vuxen i akut behov av ekonomiskt bistånd. Vid akuta behov handlägger vi sådana ärenden. ","Välj Alternativ",null," Handboken kapitel 15.2.1"]
["Riskbedömning"]
["När vi i vår kommun utreder ärenden som rör våldsutsatta barn eller barn som bevittnat våld, gör vi en riskbedömning för att avgöra om barnet kan komma att utsättas för eller bevittna ytterligare våld. Vid behov genomför vi nya bedömningar.","Välj Alternativ",null," Handboken kapitel 14.5.1"]
["När vi i vår kommun utreder ärenden som rör våldsutsatta vuxna gör vi en riskbedömning för att avgöra om den vuxne kan komma att utsättas för ytterligare våld. Vid behov genomför vi nya bedömningar.","Välj Alternativ",null," Handboken kapitel 13.2.1"]
["I vår kommun tar vi in polisens bedömning av risk för fortsatt våld i ärenden som rör våldsutsatta vuxna och barn. Vi delger även polisen vår riskbedömning, om det inte finns några sekretesshinder.","Välj Alternativ",null," Handboken kapitel 13.2.3"]
["Uppföljning "]
["I vår kommun är det fastställt hur verksamheter som genomför insatser avseende våldsutsatta, barn som bevittnar våld och våldsutövare kontrolleras och följs upp.","Välj Alternativ",null," Handboken kapitel 18"]
["I vår kommun följer vi upp insatser till våldsutsatta vuxna, våldsutsatta barn och barn som bevittnat våld och våldsutövare för att säkerställa att insatserna tillgodoser deras behov av skydd och stöd. ","Välj Alternativ",null," Handboken kapitel 18"]

{"sheet":"Resultat-diagram","index":5,"n_rows":3104,"n_cols":6,"rows_kept":3104,"cut":false,"hidden":false,"merged":[[3103,1,3103,3]]}
[]
[null,"NEJ","KOMMENTAR ","LÄSHÄNVISNINGAR "]
[null,{"$f":"IF('Styrning och kompetens'!B4=\"Nej\",'Styrning och kompetens'!A4,\"\")","v":""},{"$f":"IF('Styrning och kompetens'!B4=\"Nej\",'Styrning och kompetens'!C4,\"\")","v":""},{"$f":"IF('Styrning och kompetens'!B4=\"Nej\",IF(ISBLANK('Styrning och kompetens'!D4),\"\",'Styrning och kompetens'!D4),\"\")","v":""}]
[null,{"$f":"IF('Styrning och kompetens'!B5=\"Nej\",'Styrning och kompetens'!A5,\"\")","v":""},{"$f":"IF('Styrning och kompetens'!B5=\"Nej\",'Styrning och kompetens'!C5,\"\")","v":""},{"$f":"IF('Styrning och kompetens'!B5=\"Nej\",IF(ISBLANK('Styrning och kompetens'!D5),\"\",'Styrning och kompetens'!D5),\"\")","v":""}]
[null,{"$f":"IF('Styrning och kompetens'!B6=\"Nej\",'Styrning och kompetens'!A6,\"\")","v":""},{"$f":"IF('Styrning och kompetens'!B6=\"Nej\",'Styrning och kompetens'!C6,\"\")","v":""},{"$f":"IF('Styrning och kompetens'!B6=\"Nej\",IF(ISBLANK('Styrning och kompetens'!D6),\"\",'Styrning och kompetens'!D6),\"\")","v":""}]
[null,{"$f":"IF('Styrning och kompetens'!B7=\"Nej\",'Styrning och kompetens'!A7,\"\")","v":""},{"$f":"IF('Styrning och kompetens'!B7=\"Nej\",'Styrning och kompetens'!C7,\"\")","v":""},{"$f":"IF('Styrning och kompetens'!B7=\"Nej\",IF(ISBLANK('Styrning och kompetens'!D7),\"\",'Styrning och kompetens'!D7),\"\")","v":""}]
[null,{"$f":"IF('Styrning och kompetens'!B8=\"Nej\",'Styrning och kompetens'!A8,\"\")","v":""},{"$f":"IF('Styrning och kompetens'!B8=\"Nej\",'Styrning och kompetens'!C8,\"\")","v":""},{"$f":"IF('Styrning och kompetens'!B8=\"Nej\",IF(ISBLANK('Styrning och kompetens'!D8),\"\",'Styrning och kompetens'!D8),\"\")","v":""}]
[null,{"$f":"IF('Styrning och kompetens'!B9=\"Nej\",'Styrning och kompetens'!A9,\"\")","v":""},{"$f":"IF('Styrning och kompetens'!B9=\"Nej\",'Styrning och kompetens'!C9,\"\")","v":""},{"$f":"IF('Styrning och kompetens'!B9=\"Nej\",IF(ISBLANK('Styrning och kompetens'!D9),\"\",'Styrning och kompetens'!D9),\"\")","v":""}]
[null,{"$f":"IF('Styrning och kompetens'!B10=\"Nej\",'Styrning och kompetens'!A10,\"\")","v":""},{"$f":"IF('Styrning och kompetens'!B10=\"Nej\",'Styrning och kompetens'!C10,\"\")","v":""},{"$f":"IF('Styrning och kompetens'!B10=\"Nej\",IF(ISBLANK('Styrning och kompetens'!D10),\"\",'Styrning och kompetens'!D10),\"\")","v":""}]
[null,{"$f":"IF('Styrning och kompetens'!B11=\"Nej\",'Styrning och kompetens'!A11,\"\")","v":""},{"$f":"IF('Styrning och kompetens'!B11=\"Nej\",'Styrning och kompetens'!C11,\"\")","v":""},{"$f":"IF('Styrning och kompetens'!B11=\"Nej\",IF(ISBLANK('Styrning och kompetens'!D11),\"\",'Styrning och kompetens'!D11),\"\")","v":""}]
[null,{"$f":"IF('Styrning och kompetens'!B12=\"Nej\",'Styrning och kompetens'!A12,\"\")","v":""},{"$f":"IF('Styrning och kompetens'!B12=\"Nej\",'Styrning och kompetens'!C12,\"\")","v":""},{"$f":"IF('Styrning och kompetens'!B12=\"Nej\",IF(ISBLANK('Styrning och kompetens'!D12),\"\",'Styrning och kompetens'!D12),\"\")","v":""}]
[null,{"$f":"IF('Styrning och kompetens'!B13=\"Nej\",'Styrning och kompetens'!A13,\"\")","v":""},{"$f":"IF('Styrning och kompetens'!B13=\"Nej\",'Styrning och kompetens'!C13,\"\")","v":""},{"$f":"IF('Styrning och kompetens'!B13=\"Nej\",IF(ISBLANK('Styrning och kompetens'!D13),\"\",'Styrning och kompetens'!D13),\"\")","v":""}]
[null,{"$f":"IF('Styrning och kompetens'!B14=\"Nej\",'Styrning och kompetens'!A14,\"\")","v":""},{"$f":"IF('Styrning och kompetens'!B14=\"Nej\",'Styrning och kompetens'!C14,\"\")","v":""},{"$f":"IF('Styrning och kompetens'!B14=\"Nej\",IF(ISBLANK('Styrning och kompetens'!D14),\"\",'Styrning och kompetens'!D14),\"\")","v":""}]
[null,{"$f":"IF('Styrning och kompetens'!B15=\"Nej\",'Styrning och kompetens'!A15,\"\")","v":""},{"$f":"IF('Styrning och kompetens'!B15=\"Nej\",'Styrning och kompetens'!C15,\"\")","v":""},{"$f":"IF('Styrning och kompetens'!B15=\"Nej\",IF(ISBLANK('Styrning och kompetens'!D15),\"\",'Styrning och kompetens'!D15),\"\")","v":""}]
[null,{"$f":"IF('Styrning och kompetens'!B16=\"Nej\",'Styrning och kompetens'!A16,\"\")","v":""},{"$f":"IF('Styrning och kompetens'!B16=\"Nej\",'Styrning och kompetens'!C16,\"\")","v":""},{"$f":"IF('Styrning och kompetens'!B16=\"Nej\",IF(ISBLANK('Styrning och kompetens'!D16),\"\",'Styrning och kompetens'!D16),\"\")","v":""}]
[null,{"$f":"IF('Styrning och kompetens'!B17=\"Nej\",'Styrning och kompetens'!A17,\"\")","v":""},{"$f":"IF('Styrning och kompetens'!B17=\"Nej\",'Styrning och kompetens'!C17,\"\")","v":""},{"$f":"IF('Styrning och kompetens'!B17=\"Nej\",IF(ISBLANK('Styrning och kompetens'!D17),\"\",'Styrning och kompetens'!D17),\"\")","v":""}]
[null,{"$f":"IF('Styrning och kompetens'!B18=\"Nej\",'Styrning och kompetens'!A18,\"\")","v":""},{"$f":"IF('Styrning och kompetens'!B18=\"Nej\",'Styrning och kompetens'!C18,\"\")","v":""},{"$f":"IF('Styrning och kompetens'!B18=\"Nej\",IF(ISBLANK('Styrning och kompetens'!D18),\"\",'Styrning och kompetens'!D18),\"\")","v":""}]
[null,{"$f":"IF('Styrning och kompetens'!B19=\"Nej\",'Styrning och kompetens'!A19,\"\")","v":""},{"$f":"IF('Styrning och kompetens'!B19=\"Nej\",'Styrning och kompetens'!C19,\"\")","v":""},{"$f":"IF('Styrning och kompetens'!B19=\"Nej\",IF(ISBLANK('Styrning och kompetens'!D19),\"\",'Styrning och kompetens'!D19),\"\")","v":""}]
[null,{"$f":"IF('Styrning och kompetens'!B20=\"Nej\",'Styrning och kompetens'!A20,\"\")","v":""},{"$f":"IF('Styrning och kompetens'!B20=\"Nej\",'Styrning och kompetens'!C20,\"\")","v":""},{"$f":"IF('Styrning och kompetens'!B20=\"Nej\",IF(ISBLANK('Styrning och kompetens'!D20),\"\",'Styrning och kompetens'!D20),\"\")","v":""}]
[null,{"$f":"IF('Styrning och kompetens'!B21=\"Nej\",'Styrning och kompetens'!A21,\"\")","v":""},{"$f":"IF('Styrning och kompetens'!B21=\"Nej\",'Styrning och kompetens'!C21,\"\")","v":""},{"$f":"IF('Styrning och kompetens'!B21=\"Nej\",IF(ISBLANK('Styrning och kompetens'!D21),\"\",'Styrning och kompetens'!D21),\"\")","v":""}]
[null,{"$f":"IF('Styrning och kompetens'!B22=\"Nej\",'Styrning och kompetens'!A22,\"\")","v":""},{"$f":"IF('Styrning och kompetens'!B22=\"Nej\",'Styrning och kompetens'!C22,\"\")","v":""},{"$f":"IF('Styrning och kompetens'!B22=\"Nej\",IF(ISBLANK('Styrning och kompetens'!D22),\"\",'Styrning och kompetens'!D22),\"\")","v":""}]
[null,{"$f":"IF('Styrning och kompetens'!B23=\"Nej\",'Styrning och kompetens'!A23,\"\")","v":""},{"$f":"IF('Styrning och kompetens'!B23=\"Nej\",'Styrning och kompetens'!C23,\"\")","v":""},{"$f":"IF('Styrning och kompetens'!B23=\"Nej\",IF(ISBLANK('Styrning och kompetens'!D23),\"\",'Styrning och kompetens'!D23),\"\")","v":""}]
[null,{"$f":"IF('Styrning och kompetens'!B24=\"Nej\",'Styrning och kompetens'!A24,\"\")","v":""},{"$f":"IF('Styrning och kompetens'!B24=\"Nej\",'Styrning och kompetens'!C24,\"\")","v":""},{"$f":"IF('Styrning och kompetens'!B24=\"Nej\",IF(ISBLANK('Styrning och kompetens'!D24),\"\",'Styrning och kompetens'!D24),\"\")","v":""}]
[null,{"$f":"IF('Styrning och kompetens'!B25=\"Nej\",'Styrning och kompetens'!A25,\"\")","v":""},{"$f":"IF('Styrning och kompetens'!B25=\"Nej\",'Styrning och kompetens'!C25,\"\")","v":""},{"$f":"IF('Styrning och kompetens'!B25=\"Nej\",IF(ISBLANK('Styrning och kompetens'!D25),\"\",'Styrning och kompetens'!D25),\"\")","v":""}]
[null,{"$f":"IF('Styrning och kompetens'!B26=\"Nej\",'Styrning och kompetens'!A26,\"\")","v":""},{"$f":"IF('Styrning och kompetens'!B26=\"Nej\",'Styrning och kompetens'!C26,\"\")","v":""},{"$f":"IF('Styrning och kompetens'!B26=\"Nej\",IF(ISBLANK('Styrning och kompetens'!D26),\"\",'Styrning och kompetens'!D26),\"\")","v":""}]
[null,{"$f":"IF('Styrning och kompetens'!B27=\"Nej\",'Styrning och kompetens'!A27,\"\")","v":""},{"$f":"IF('Styrning och kompetens'!B27=\"Nej\",'Styrning och kompetens'!C27,\"\")","v":""},{"$f":"IF('Styrning och kompetens'!B27=\"Nej\",IF(ISBLANK('Styrning och kompetens'!D27),\"\",'Styrning och kompetens'!D27),\"\")","v":""}]
[null,{"$f":"IF('Styrning och kompetens'!B28=\"Nej\",'Styrning och kompetens'!A28,\"\")","v":""},{"$f":"IF('Styrning och kompetens'!B28=\"Nej\",'Styrning och kompetens'!C28,\"\")","v":""},{"$f":"IF('Styrning och kompetens'!B28=\"Nej\",IF(ISBLANK('Styrning och kompetens'!D28),\"\",'Styrning och kompetens'!D28),\"\")","v":""}]
[null,{"$f":"IF('Styrning och kompetens'!B29=\"Nej\",'Styrning och kompetens'!A29,\"\")","v":""},{"$f":"IF('Styrning och kompetens'!B29=\"Nej\",'Styrning och kompetens'!C29,\"\")","v":""},{"$f":"IF('Styrning och kompetens'!B29=\"Nej\",IF(ISBLANK('Styrning och kompetens'!D29),\"\",'Styrning och kompetens'!D29),\"\")","v":""}]
[null,{"$f":"IF('Styrning och kompetens'!B30=\"Nej\",'Styrning och kompetens'!A30,\"\")","v":""},{"$f":"IF('Styrning och kompetens'!B30=\"Nej\",'Styrning och kompetens'!C30,\"\")","v":""},{"$f":"IF('Styrning och kompetens'!B30=\"Nej\",IF(ISBLANK('Styrning och kompetens'!D30),\"\",'Styrning och kompetens'!D30),\"\")","v":""}]
[null,{"$f":"IF('Styrning och kompetens'!B31=\"Nej\",'Styrning och kompetens'!A31,\"\")","v":""},{"$f":"IF('Styrning och kompetens'!B31=\"Nej\",'Styrning och kompetens'!C31,\"\")","v":""},{"$f":"IF('Styrning och kompetens'!B31=\"Nej\",IF(ISBLANK('Styrning och kompetens'!D31),\"\",'Styrning och kompetens'!D31),\"\")","v":""}]
[null,{"$f":"IF('Styrning och kompetens'!B32=\"Nej\",'Styrning och kompetens'!A32,\"\")","v":""},{"$f":"IF('Styrning och kompetens'!B32=\"Nej\",'Styrning och kompetens'!C32,\"\")","v":""},{"$f":"IF('Styrning och kompetens'!B32=\"Nej\",IF(ISBLANK('Styrning och kompetens'!D32),\"\",'Styrning och kompetens'!D32),\"\")","v":""}]
[null,{"$f":"IF('Styrning och kompetens'!B33=\"Nej\",'Styrning och kompetens'!A33,\"\")","v":""},{"$f":"IF('Styrning och kompetens'!B33=\"Nej\",'Styrning och kompetens'!C33,\"\")","v":""},{"$f":"IF('Styrning och kompetens'!B33=\"Nej\",IF(ISBLANK('Styrning och kompetens'!D33),\"\",'Styrning och kompetens'!D33),\"\")","v":""}]
[null,{"$f":"IF('Styrning och kompetens'!B34=\"Nej\",'Styrning och kompetens'!A34,\"\")","v":""},{"$f":"IF('Styrning och kompetens'!B34=\"Nej\",'Styrning och kompetens'!C34,\"\")","v":""},{"$f":"IF('Styrning och kompetens'!B34=\"Nej\",IF(ISBLANK('Styrning och kompetens'!D34),\"\",'Styrning och kompetens'!D34),\"\")","v":""}]
[null,{"$f":"IF('Styrning och kompetens'!B35=\"Nej\",'Styrning och kompetens'!A35,\"\")","v":""},{"$f":"IF('Styrning och kompetens'!B35=\"Nej\",'Styrning och kompetens'!C35,\"\")","v":""},{"$f":"IF('Styrning och kompetens'!B35=\"Nej\",IF(ISBLANK('Styrning och kompetens'!D35),\"\",'Styrning och kompetens'!D35),\"\")","v":""}]
[null,{"$f":"IF('Styrning och kompetens'!B36=\"Nej\",'Styrning och kompetens'!A36,\"\")","v":""},{"$f":"IF('Styrning och kompetens'!B36=\"Nej\",'Styrning och kompetens'!C36,\"\")","v":""},{"$f":"IF('Styrning och kompetens'!B36=\"Nej\",IF(ISBLANK('Styrning och kompetens'!D36),\"\",'Styrning och kompetens'!D36),\"\")","v":""}]
[null,{"$f":"IF('Styrning och kompetens'!B37=\"Nej\",'Styrning och kompetens'!A37,\"\")","v":""},{"$f":"IF('Styrning och kompetens'!B37=\"Nej\",'Styrning och kompetens'!C37,\"\")","v":""},{"$f":"IF('Styrning och kompetens'!B37=\"Nej\",IF(ISBLANK('Styrning och kompetens'!D37),\"\",'Styrning och kompetens'!D37),\"\")","v":""}]
[null,{"$f":"IF('Styrning och kompetens'!B38=\"Nej\",'Styrning och kompetens'!A38,\"\")","v":""},{"$f":"IF('Styrning och kompetens'!B38=\"Nej\",'Styrning och kompetens'!C38,\"\")","v":""},{"$f":"IF('Styrning och kompetens'!B38=\"Nej\",IF(ISBLANK('Styrning och kompetens'!D38),\"\",'Styrning och kompetens'!D38),\"\")","v":""}]
[null,{"$f":"IF('Styrning och kompetens'!B39=\"Nej\",'Styrning och kompetens'!A39,\"\")","v":""},{"$f":"IF('Styrning och kompetens'!B39=\"Nej\",'Styrning och kompetens'!C39,\"\")","v":""},{"$f":"IF('Styrning och kompetens'!B39=\"Nej\",IF(ISBLANK('Styrning och kompetens'!D39),\"\",'Styrning och kompetens'!D39),\"\")","v":""}]
[null,{"$f":"IF('Styrning och kompetens'!B40=\"Nej\",'Styrning och kompetens'!A40,\"\")","v":""},{"$f":"IF('Styrning och kompetens'!B40=\"Nej\",'Styrning och kompetens'!C40,\"\")","v":""},{"$f":"IF('Styrning och kompetens'!B40=\"Nej\",IF(ISBLANK('Styrning och kompetens'!D40),\"\",'Styrning och kompetens'!D40),\"\")","v":""}]
[null,{"$f":"IF('Styrning och kompetens'!B41=\"Nej\",'Styrning och kompetens'!A41,\"\")","v":""},{"$f":"IF('Styrning och kompetens'!B41=\"Nej\",'Styrning och kompetens'!C41,\"\")","v":""},{"$f":"IF('Styrning och kompetens'!B41=\"Nej\",IF(ISBLANK('Styrning och kompetens'!D41),\"\",'Styrning och kompetens'!D41),\"\")","v":""}]
[null,{"$f":"IF('Styrning och kompetens'!B42=\"Nej\",'Styrning och kompetens'!A42,\"\")","v":""},{"$f":"IF('Styrning och kompetens'!B42=\"Nej\",'Styrning och kompetens'!C42,\"\")","v":""},{"$f":"IF('Styrning och kompetens'!B42=\"Nej\",IF(ISBLANK('Styrning och kompetens'!D42),\"\",'Styrning och kompetens'!D42),\"\")","v":""}]
[null,{"$f":"IF('Styrning och kompetens'!B43=\"Nej\",'Styrning och kompetens'!A43,\"\")","v":""},{"$f":"IF('Styrning och kompetens'!B43=\"Nej\",'Styrning och kompetens'!C43,\"\")","v":""},{"$f":"IF('Styrning och kompetens'!B43=\"Nej\",IF(ISBLANK('Styrning och kompetens'!D43),\"\",'Styrning och kompetens'!D43),\"\")","v":""}]
[null,{"$f":"IF('Styrning och kompetens'!B44=\"Nej\",'Styrning och kompetens'!A44,\"\")","v":""},{"$f":"IF('Styrning och kompetens'!B44=\"Nej\",'Styrning och kompetens'!C44,\"\")","v":""},{"$f":"IF('Styrning och kompetens'!B44=\"Nej\",IF(ISBLANK('Styrning och kompetens'!D44),\"\",'Styrning och kompetens'!D44),\"\")","v":""}]
[null,{"$f":"IF('Styrning och kompetens'!B45=\"Nej\",'Styrning och kompetens'!A45,\"\")","v":""},{"$f":"IF('Styrning och kompetens'!B45=\"Nej\",'Styrning och kompetens'!C45,\"\")","v":""},{"$f":"IF('Styrning och kompetens'!B45=\"Nej\",IF(ISBLANK('Styrning och kompetens'!D45),\"\",'Styrning och kompetens'!D45),\"\")","v":""}]
[null,{"$f":"IF('Styrning och kompetens'!B46=\"Nej\",'Styrning och kompetens'!A46,\"\")","v":""},{"$f":"IF('Styrning och kompetens'!B46=\"Nej\",'Styrning och kompetens'!C46,\"\")","v":""},{"$f":"IF('Styrning och kompetens'!B46=\"Nej\",IF(ISBLANK('Styrning och kompetens'!D46),\"\",'Styrning och kompetens'!D46),\"\")","v":""}]
[null,{"$f":"IF('Styrning och kompetens'!B47=\"Nej\",'Styrning och kompetens'!A47,\"\")","v":""},{"$f":"IF('Styrning och kompetens'!B47=\"Nej\",'Styrning och kompetens'!C47,\"\")","v":""},{"$f":"IF('Styrning och kompetens'!B47=\"Nej\",IF(ISBLANK('Styrning och kompetens'!D47),\"\",'Styrning och kompetens'!D47),\"\")","v":""}]
[null,{"$f":"IF('Styrning och kompetens'!B48=\"Nej\",'Styrning och kompetens'!A48,\"\")","v":""},{"$f":"IF('Styrning och kompetens'!B48=\"Nej\",'Styrning och kompetens'!C48,\"\")","v":""},{"$f":"IF('Styrning och kompetens'!B48=\"Nej\",IF(ISBLANK('Styrning och kompetens'!D48),\"\",'Styrning och kompetens'!D48),\"\")","v":""}]
[null,{"$f":"IF('Styrning och kompetens'!B49=\"Nej\",'Styrning och kompetens'!A49,\"\")","v":""},{"$f":"IF('Styrning och kompetens'!B49=\"Nej\",'Styrning och kompetens'!C49,\"\")","v":""},{"$f":"IF('Styrning och kompetens'!B49=\"Nej\",IF(ISBLANK('Styrning och kompetens'!D49),\"\",'Styrning och kompetens'!D49),\"\")","v":""}]
[null,{"$f":"IF('Styrning och kompetens'!B50=\"Nej\",'Styrning och kompetens'!A50,\"\")","v":""},{"$f":"IF('Styrning och kompetens'!B50=\"Nej\",'Styrning och kompetens'!C50,\"\")","v":""},{"$f":"IF('Styrning och kompetens'!B50=\"Nej\",IF(ISBLANK('Styrning och kompetens'!D50),\"\",'Styrning och kompetens'!D50),\"\")","v":""}]
[null,{"$f":"IF('Styrning och kompetens'!B51=\"Nej\",'Styrning och kompetens'!A51,\"\")","v":""},{"$f":"IF('Styrning och kompetens'!B51=\"Nej\",'Styrning och kompetens'!C51,\"\")","v":""},{"$f":"IF('Styrning och kompetens'!B51=\"Nej\",IF(ISBLANK('Styrning och kompetens'!D51),\"\",'Styrning och kompetens'!D51),\"\")","v":""}]
[null,{"$f":"IF('Styrning och kompetens'!B52=\"Nej\",'Styrning och kompetens'!A52,\"\")","v":""},{"$f":"IF('Styrning och kompetens'!B52=\"Nej\",'Styrning och kompetens'!C52,\"\")","v":""},{"$f":"IF('Styrning och kompetens'!B52=\"Nej\",IF(ISBLANK('Styrning och kompetens'!D52),\"\",'Styrning och kompetens'!D52),\"\")","v":""}]
[null,{"$f":"IF('Styrning och kompetens'!B53=\"Nej\",'Styrning och kompetens'!A53,\"\")","v":""},{"$f":"IF('Styrning och kompetens'!B53=\"Nej\",'Styrning och kompetens'!C53,\"\")","v":""},{"$f":"IF('Styrning och kompetens'!B53=\"Nej\",IF(ISBLANK('Styrning och kompetens'!D53),\"\",'Styrning och kompetens'!D53),\"\")","v":""}]
[null,{"$f":"IF('Styrning och kompetens'!B54=\"Nej\",'Styrning och kompetens'!A54,\"\")","v":""},{"$f":"IF('Styrning och kompetens'!B54=\"Nej\",'Styrning och kompetens'!C54,\"\")","v":""},{"$f":"IF('Styrning och kompetens'!B54=\"Nej\",IF(ISBLANK('Styrning och kompetens'!D54),\"\",'Styrning och kompetens'!D54),\"\")","v":""}]
[null,{"$f":"IF('Styrning och kompetens'!B55=\"Nej\",'Styrning och kompetens'!A55,\"\")","v":""},{"$f":"IF('Styrning och kompetens'!B55=\"Nej\",'Styrning och kompetens'!C55,\"\")","v":""},{"$f":"IF('Styrning och kompetens'!B55=\"Nej\",IF(ISBLANK('Styrning och kompetens'!D55),\"\",'Styrning och kompetens'!D55),\"\")","v":""}]
[null,{"$f":"IF('Styrning och kompetens'!B56=\"Nej\",'Styrning och kompetens'!A56,\"\")","v":""},{"$f":"IF('Styrning och kompetens'!B56=\"Nej\",'Styrning och kompetens'!C56,\"\")","v":""},{"$f":"IF('Styrning och kompetens'!B56=\"Nej\",IF(ISBLANK('Styrning och kompetens'!D56),\"\",'Styrning och kompetens'!D56),\"\")","v":""}]
[null,{"$f":"IF('Styrning och kompetens'!B57=\"Nej\",'Styrning och kompetens'!A57,\"\")","v":""},{"$f":"IF('Styrning och kompetens'!B57=\"Nej\",'Styrning och kompetens'!C57,\"\")","v":""},{"$f":"IF('Styrning och kompetens'!B57=\"Nej\",IF(ISBLANK('Styrning och kompetens'!D57),\"\",'Styrning och kompetens'!D57),\"\")","v":""}]
[null,{"$f":"IF('Styrning och kompetens'!B58=\"Nej\",'Styrning och kompetens'!A58,\"\")","v":""},{"$f":"IF('Styrning och kompetens'!B58=\"Nej\",'Styrning och kompetens'!C58,\"\")","v":""},{"$f":"IF('Styrning och kompetens'!B58=\"Nej\",IF(ISBLANK('Styrning och kompetens'!D58),\"\",'Styrning och kompetens'!D58),\"\")","v":""}]
[null,{"$f":"IF('Styrning och kompetens'!B59=\"Nej\",'Styrning och kompetens'!A59,\"\")","v":""},{"$f":"IF('Styrning och kompetens'!B59=\"Nej\",'Styrning och kompetens'!C59,\"\")","v":""},{"$f":"IF('Styrning och kompetens'!B59=\"Nej\",IF(ISBLANK('Styrning och kompetens'!D59),\"\",'Styrning och kompetens'!D59),\"\")","v":""}]
[null,{"$f":"IF('Styrning och kompetens'!B60=\"Nej\",'Styrning och kompetens'!A60,\"\")","v":""},{"$f":"IF('Styrning och kompetens'!B60=\"Nej\",'Styrning och kompetens'!C60,\"\")","v":""},{"$f":"IF('Styrning och kompetens'!B60=\"Nej\",IF(ISBLANK('Styrning och kompetens'!D60),\"\",'Styrning och kompetens'!D60),\"\")","v":""}]
[null,{"$f":"IF('Styrning och kompetens'!B61=\"Nej\",'Styrning och kompetens'!A61,\"\")","v":""},{"$f":"IF('Styrning och kompetens'!B61=\"Nej\",'Styrning och kompetens'!C61,\"\")","v":""},{"$f":"IF('Styrning och kompetens'!B61=\"Nej\",IF(ISBLANK('Styrning och kompetens'!D61),\"\",'Styrning och kompetens'!D61),\"\")","v":""}]
[null,{"$f":"IF('Styrning och kompetens'!B62=\"Nej\",'Styrning och kompetens'!A62,\"\")","v":""},{"$f":"IF('Styrning och kompetens'!B62=\"Nej\",'Styrning och kompetens'!C62,\"\")","v":""},{"$f":"IF('Styrning och kompetens'!B62=\"Nej\",IF(ISBLANK('Styrning och kompetens'!D62),\"\",'Styrning och kompetens'!D62),\"\")","v":""}]
[null,{"$f":"IF('Styrning och kompetens'!B63=\"Nej\",'Styrning och kompetens'!A63,\"\")","v":""},{"$f":"IF('Styrning och kompetens'!B63=\"Nej\",'Styrning och kompetens'!C63,\"\")","v":""},{"$f":"IF('Styrning och kompetens'!B63=\"Nej\",IF(ISBLANK('Styrning och kompetens'!D63),\"\",'Styrning och kompetens'!D63),\"\")","v":""}]
[null,{"$f":"IF('Styrning och kompetens'!B64=\"Nej\",'Styrning och kompetens'!A64,\"\")","v":""},{"$f":"IF('Styrning och kompetens'!B64=\"Nej\",'Styrning och kompetens'!C64,\"\")","v":""},{"$f":"IF('Styrning och kompetens'!B64=\"Nej\",IF(ISBLANK('Styrning och kompetens'!D64),\"\",'Styrning och kompetens'!D64),\"\")","v":""}]
[null,{"$f":"IF('Styrning och kompetens'!B65=\"Nej\",'Styrning och kompetens'!A65,\"\")","v":""},{"$f":"IF('Styrning och kompetens'!B65=\"Nej\",'Styrning och kompetens'!C65,\"\")","v":""},{"$f":"IF('Styrning och kompetens'!B65=\"Nej\",IF(ISBLANK('Styrning och kompetens'!D65),\"\",'Styrning och kompetens'!D65),\"\")","v":""}]
[null,{"$f":"IF('Styrning och kompetens'!B66=\"Nej\",'Styrning och kompetens'!A66,\"\")","v":""},{"$f":"IF('Styrning och kompetens'!B66=\"Nej\",'Styrning och kompetens'!C66,\"\")","v":""},{"$f":"IF('Styrning och kompetens'!B66=\"Nej\",IF(ISBLANK('Styrning och kompetens'!D66),\"\",'Styrning och kompetens'!D66),\"\")","v":""}]
[null,{"$f":"IF('Styrning och kompetens'!B67=\"Nej\",'Styrning och kompetens'!A67,\"\")","v":""},{"$f":"IF('Styrning och kompetens'!B67=\"Nej\",'Styrning och kompetens'!C67,\"\")","v":""},{"$f":"IF('Styrning och kompetens'!B67=\"Nej\",IF(ISBLANK('Styrning och kompetens'!D67),\"\",'Styrning och kompetens'!D67),\"\")","v":""}]
[null,{"$f":"IF('Styrning och kompetens'!B68=\"Nej\",'Styrning och kompetens'!A68,\"\")","v":""},{"$f":"IF('Styrning och kompetens'!B68=\"Nej\",'Styrning och kompetens'!C68,\"\")","v":""},{"$f":"IF('Styrning och kompetens'!B68=\"Nej\",IF(ISBLANK('Styrning och kompetens'!D68),\"\",'Styrning och kompetens'!D68),\"\")","v":""}]
[null,{"$f":"IF('Styrning och kompetens'!B69=\"Nej\",'Styrning och kompetens'!A69,\"\")","v":""},{"$f":"IF('Styrning och kompetens'!B69=\"Nej\",'Styrning och kompetens'!C69,\"\")","v":""},{"$f":"IF('Styrning och kompetens'!B69=\"Nej\",IF(ISBLANK('Styrning och kompetens'!D69),\"\",'Styrning och kompetens'!D69),\"\")","v":""}]
[null,{"$f":"IF('Styrning och kompetens'!B70=\"Nej\",'Styrning och kompetens'!A70,\"\")","v":""},{"$f":"IF('Styrning och kompetens'!B70=\"Nej\",'Styrning och kompetens'!C70,\"\")","v":""},{"$f":"IF('Styrning och kompetens'!B70=\"Nej\",IF(ISBLANK('Styrning och kompetens'!D70),\"\",'Styrning och kompetens'!D70),\"\")","v":""}]
[null,{"$f":"IF('Styrning och kompetens'!B71=\"Nej\",'Styrning och kompetens'!A71,\"\")","v":""},{"$f":"IF('Styrning och kompetens'!B71=\"Nej\",'Styrning och kompetens'!C71,\"\")","v":""},{"$f":"IF('Styrning och kompetens'!B71=\"Nej\",IF(ISBLANK('Styrning och kompetens'!D71),\"\",'Styrning och kompetens'!D71),\"\")","v":""}]
[null,{"$f":"IF('Styrning och kompetens'!B72=\"Nej\",'Styrning och kompetens'!A72,\"\")","v":""},{"$f":"IF('Styrning och kompetens'!B72=\"Nej\",'Styrning och kompetens'!C72,\"\")","v":""},{"$f":"IF('Styrning och kompetens'!B72=\"Nej\",IF(ISBLANK('Styrning och kompetens'!D72),\"\",'Styrning och kompetens'!D72),\"\")","v":""}]
[null,{"$f":"IF('Styrning och kompetens'!B73=\"Nej\",'Styrning och kompetens'!A73,\"\")","v":""},{"$f":"IF('Styrning och kompetens'!B73=\"Nej\",'Styrning och kompetens'!C73,\"\")","v":""},{"$f":"IF('Styrning och kompetens'!B73=\"Nej\",IF(ISBLANK('Styrning och kompetens'!D73),\"\",'Styrning och kompetens'!D73),\"\")","v":""}]
[null,{"$f":"IF('Styrning och kompetens'!B74=\"Nej\",'Styrning och kompetens'!A74,\"\")","v":""},{"$f":"IF('Styrning och kompetens'!B74=\"Nej\",'Styrning och kompetens'!C74,\"\")","v":""},{"$f":"IF('Styrning och kompetens'!B74=\"Nej\",IF(ISBLANK('Styrning och kompetens'!D74),\"\",'Styrning och kompetens'!D74),\"\")","v":""}]
[null,{"$f":"IF('Styrning och kompetens'!B75=\"Nej\",'Styrning och kompetens'!A75,\"\")","v":""},{"$f":"IF('Styrning och kompetens'!B75=\"Nej\",'Styrning och kompetens'!C75,\"\")","v":""},{"$f":"IF('Styrning och kompetens'!B75=\"Nej\",IF(ISBLANK('Styrning och kompetens'!D75),\"\",'Styrning och kompetens'!D75),\"\")","v":""}]
[null,{"$f":"IF('Styrning och kompetens'!B76=\"Nej\",'Styrning och kompetens'!A76,\"\")","v":""},{"$f":"IF('Styrning och kompetens'!B76=\"Nej\",'Styrning och kompetens'!C76,\"\")","v":""},{"$f":"IF('Styrning och kompetens'!B76=\"Nej\",IF(ISBLANK('Styrning och kompetens'!D76),\"\",'Styrning och kompetens'!D76),\"\")","v":""}]
[null,{"$f":"IF('Styrning och kompetens'!B77=\"Nej\",'Styrning och kompetens'!A77,\"\")","v":""},{"$f":"IF('Styrning och kompetens'!B77=\"Nej\",'Styrning och kompetens'!C77,\"\")","v":""},{"$f":"IF('Styrning och kompetens'!B77=\"Nej\",IF(ISBLANK('Styrning och kompetens'!D77),\"\",'Styrning och kompetens'!D77),\"\")","v":""}]
[null,{"$f":"IF('Styrning och kompetens'!B78=\"Nej\",'Styrning och kompetens'!A78,\"\")","v":""},{"$f":"IF('Styrning och kompetens'!B78=\"Nej\",'Styrning och kompetens'!C78,\"\")","v":""},{"$f":"IF('Styrning och kompetens'!B78=\"Nej\",IF(ISBLANK('Styrning och kompetens'!D78),\"\",'Styrning och kompetens'!D78),\"\")","v":""}]
[null,{"$f":"IF('Styrning och kompetens'!B79=\"Nej\",'Styrning och kompetens'!A79,\"\")","v":""},{"$f":"IF('Styrning och kompetens'!B79=\"Nej\",'Styrning och kompetens'!C79,\"\")","v":""},{"$f":"IF('Styrning och kompetens'!B79=\"Nej\",IF(ISBLANK('Styrning och kompetens'!D79),\"\",'Styrning och kompetens'!D79),\"\")","v":""}]
[null,{"$f":"IF('Styrning och kompetens'!B80=\"Nej\",'Styrning och kompetens'!A80,\"\")","v":""},{"$f":"IF('Styrning och kompetens'!B80=\"Nej\",'Styrning och kompetens'!C80,\"\")","v":""},{"$f":"IF('Styrning och kompetens'!B80=\"Nej\",IF(ISBLANK('Styrning och kompetens'!D80),\"\",'Styrning och kompetens'!D80),\"\")","v":""}]
[null,{"$f":"IF('Styrning och kompetens'!B81=\"Nej\",'Styrning och kompetens'!A81,\"\")","v":""},{"$f":"IF('Styrning och kompetens'!B81=\"Nej\",'Styrning och kompetens'!C81,\"\")","v":""},{"$f":"IF('Styrning och kompetens'!B81=\"Nej\",IF(ISBLANK('Styrning och kompetens'!D81),\"\",'Styrning och kompetens'!D81),\"\")","v":""}]
[null,{"$f":"IF('Styrning och kompetens'!B82=\"Nej\",'Styrning och kompetens'!A82,\"\")","v":""},{"$f":"IF('Styrning och kompetens'!B82=\"Nej\",'Styrning och kompetens'!C82,\"\")","v":""},{"$f":"IF('Styrning och kompetens'!B82=\"Nej\",IF(ISBLANK('Styrning och kompetens'!D82),\"\",'Styrning och kompetens'!D82),\"\")","v":""}]
[null,{"$f":"IF('Styrning och kompetens'!B83=\"Nej\",'Styrning och kompetens'!A83,\"\")","v":""},{"$f":"IF('Styrning och kompetens'!B83=\"Nej\",'Styrning och kompetens'!C83,\"\")","v":""},{"$f":"IF('Styrning och kompetens'!B83=\"Nej\",IF(ISBLANK('Styrning och kompetens'!D83),\"\",'Styrning och kompetens'!D83),\"\")","v":""}]
[null,{"$f":"IF('Styrning och kompetens'!B84=\"Nej\",'Styrning och kompetens'!A84,\"\")","v":""},{"$f":"IF('Styrning och kompetens'!B84=\"Nej\",'Styrning och kompetens'!C84,\"\")","v":""},{"$f":"IF('Styrning och kompetens'!B84=\"Nej\",IF(ISBLANK('Styrning och kompetens'!D84),\"\",'Styrning och kompetens'!D84),\"\")","v":""}]
[null,{"$f":"IF('Styrning och kompetens'!B85=\"Nej\",'Styrning och kompetens'!A85,\"\")","v":""},{"$f":"IF('Styrning och kompetens'!B85=\"Nej\",'Styrning och kompetens'!C85,\"\")","v":""},{"$f":"IF('Styrning och kompetens'!B85=\"Nej\",IF(ISBLANK('Styrning och kompetens'!D85),\"\",'Styrning och kompetens'!D85),\"\")","v":""}]
[null,{"$f":"IF('Styrning och kompetens'!B86=\"Nej\",'Styrning och kompetens'!A86,\"\")","v":""},{"$f":"IF('Styrning och kompetens'!B86=\"Nej\",'Styrning och kompetens'!C86,\"\")","v":""},{"$f":"IF('Styrning och kompetens'!B86=\"Nej\",IF(ISBLANK('Styrning och kompetens'!D86),\"\",'Styrning och kompetens'!D86),\"\")","v":""}]
[null,{"$f":"IF('Styrning och kompetens'!B87=\"Nej\",'Styrning och kompetens'!A87,\"\")","v":""},{"$f":"IF('Styrning och kompetens'!B87=\"Nej\",'Styrning och kompetens'!C87,\"\")","v":""},{"$f":"IF('Styrning och kompetens'!B87=\"Nej\",IF(ISBLANK('Styrning och kompetens'!D87),\"\",'Styrning och kompetens'!D87),\"\")","v":""}]
[null,{"$f":"IF('Styrning och kompetens'!B88=\"Nej\",'Styrning och kompetens'!A88,\"\")","v":""},{"$f":"IF('Styrning och kompetens'!B88=\"Nej\",'Styrning och kompetens'!C88,\"\")","v":""},{"$f":"IF('Styrning och kompetens'!B88=\"Nej\",IF(ISBLANK('Styrning och kompetens'!D88),\"\",'Styrning och kompetens'!D88),\"\")","v":""}]
[null,{"$f":"IF('Styrning och kompetens'!B89=\"Nej\",'Styrning och kompetens'!A89,\"\")","v":""},{"$f":"IF('Styrning och kompetens'!B89=\"Nej\",'Styrning och kompetens'!C89,\"\")","v":""},{"$f":"IF('Styrning och kompetens'!B89=\"Nej\",IF(ISBLANK('Styrning och kompetens'!D89),\"\",'Styrning och kompetens'!D89),\"\")","v":""}]
[null,{"$f":"IF('Styrning och kompetens'!B90=\"Nej\",'Styrning och kompetens'!A90,\"\")","v":""},{"$f":"IF('Styrning och kompetens'!B90=\"Nej\",'Styrning och kompetens'!C90,\"\")","v":""},{"$f":"IF('Styrning och kompetens'!B90=\"Nej\",IF(ISBLANK('Styrning och kompetens'!D90),\"\",'Styrning och kompetens'!D90),\"\")","v":""}]
[null,{"$f":"IF('Styrning och kompetens'!B91=\"Nej\",'Styrning och kompetens'!A91,\"\")","v":""},{"$f":"IF('Styrning och kompetens'!B91=\"Nej\",'Styrning och kompetens'!C91,\"\")","v":""},{"$f":"IF('Styrning och kompetens'!B91=\"Nej\",IF(ISBLANK('Styrning och kompetens'!D91),\"\",'Styrning och kompetens'!D91),\"\")","v":""}]
[null,{"$f":"IF('Styrning och kompetens'!B92=\"Nej\",'Styrning och kompetens'!A92,\"\")","v":""},{"$f":"IF('Styrning och kompetens'!B92=\"Nej\",'Styrning och kompetens'!C92,\"\")","v":""},{"$f":"IF('Styrning och kompetens'!B92=\"Nej\",IF(ISBLANK('Styrning och kompetens'!D92),\"\",'Styrning och kompetens'!D92),\"\")","v":""}]
[null,{"$f":"IF('Styrning och kompetens'!B93=\"Nej\",'Styrning och kompetens'!A93,\"\")","v":""},{"$f":"IF('Styrning och kompetens'!B93=\"Nej\",'Styrning och kompetens'!C93,\"\")","v":""},{"$f":"IF('Styrning och kompetens'!B93=\"Nej\",IF(ISBLANK('Styrning och kompetens'!D93),\"\",'Styrning och kompetens'!D93),\"\")","v":""}]
[null,{"$f":"IF('Styrning och kompetens'!B94=\"Nej\",'Styrning och kompetens'!A94,\"\")","v":""},{"$f":"IF('Styrning och kompetens'!B94=\"Nej\",'Styrning och kompetens'!C94,\"\")","v":""},{"$f":"IF('Styrning och kompetens'!B94=\"Nej\",IF(ISBLANK('Styrning och kompetens'!D94),\"\",'Styrning och kompetens'!D94),\"\")","v":""}]
[null,{"$f":"IF('Styrning och kompetens'!B95=\"Nej\",'Styrning och kompetens'!A95,\"\")","v":""},{"$f":"IF('Styrning och kompetens'!B95=\"Nej\",'Styrning och kompetens'!C95,\"\")","v":""},{"$f":"IF('Styrning och kompetens'!B95=\"Nej\",IF(ISBLANK('Styrning och kompetens'!D95),\"\",'Styrning och kompetens'!D95),\"\")","v":""}]
[null,{"$f":"IF('Styrning och kompetens'!B96=\"Nej\",'Styrning och kompetens'!A96,\"\")","v":""},{"$f":"IF('Styrning och kompetens'!B96=\"Nej\",'Styrning och kompetens'!C96,\"\")","v":""},{"$f":"IF('Styrning och kompetens'!B96=\"Nej\",IF(ISBLANK('Styrning och kompetens'!D96),\"\",'Styrning och kompetens'!D96),\"\")","v":""}]
[null,{"$f":"IF('Styrning och kompetens'!B97=\"Nej\",'Styrning och kompetens'!A97,\"\")","v":""},{"$f":"IF('Styrning och kompetens'!B97=\"Nej\",'Styrning och kompetens'!C97,\"\")","v":""},{"$f":"IF('Styrning och kompetens'!B97=\"Nej\",IF(ISBLANK('Styrning och kompetens'!D97),\"\",'Styrning och kompetens'!D97),\"\")","v":""}]
[null,{"$f":"IF('Styrning och kompetens'!B98=\"Nej\",'Styrning och kompetens'!A98,\"\")","v":""},{"$f":"IF('Styrning och kompetens'!B98=\"Nej\",'Styrning och kompetens'!C98,\"\")","v":""},{"$f":"IF('Styrning och kompetens'!B98=\"Nej\",IF(ISBLANK('Styrning och kompetens'!D98),\"\",'Styrning och kompetens'!D98),\"\")","v":""}]
[null,{"$f":"IF('Styrning och kompetens'!B99=\"Nej\",'Styrning och kompetens'!A99,\"\")","v":""},{"$f":"IF('Styrning och kompetens'!B99=\"Nej\",'Styrning och kompetens'!C99,\"\")","v":""},{"$f":"IF('Styrning och kompetens'!B99=\"Nej\",IF(ISBLANK('Styrning och kompetens'!D99),\"\",'Styrning och kompetens'!D99),\"\")","v":""}]
[null,{"$f":"IF('Styrning och kompetens'!B100=\"Nej\",'Styrning och kompetens'!A100,\"\")","v":""},{"$f":"IF('Styrning och kompetens'!B100=\"Nej\",'Styrning och kompetens'!C100,\"\")","v":""},{"$f":"IF('Styrning och kompetens'!B100=\"Nej\",IF(ISBLANK('Styrning och kompetens'!D100),\"\",'Styrning och kompetens'!D100),\"\")","v":""}]
[null,{"$f":"IF('Styrning och kompetens'!B101=\"Nej\",'Styrning och kompetens'!A101,\"\")","v":""},{"$f":"IF('Styrning och kompetens'!B101=\"Nej\",'Styrning och kompetens'!C101,\"\")","v":""},{"$f":"IF('Styrning och kompetens'!B101=\"Nej\",IF(ISBLANK('Styrning och kompetens'!D101),\"\",'Styrning och kompetens'!D101),\"\")","v":""}]
[null,{"$f":"IF('Styrning och kompetens'!B102=\"Nej\",'Styrning och kompetens'!A102,\"\")","v":""},{"$f":"IF('Styrning och kompetens'!B102=\"Nej\",'Styrning och kompetens'!C102,\"\")","v":""},{"$f":"IF('Styrning och kompetens'!B102=\"Nej\",IF(ISBLANK('Styrning och kompetens'!D102),\"\",'Styrning och kompetens'!D102),\"\")","v":""}]
[null,{"$f":"IF('Styrning och kompetens'!B103=\"Nej\",'Styrning och kompetens'!A103,\"\")","v":""},{"$f":"IF('Styrning och kompetens'!B103=\"Nej\",'Styrning och kompetens'!C103,\"\")","v":""},{"$f":"IF('Styrning och kompetens'!B103=\"Nej\",IF(ISBLANK('Styrning och kompetens'!D103),\"\",'Styrning och kompetens'!D103),\"\")","v":""}]
[null,{"$f":"IF('Styrning och kompetens'!B104=\"Nej\",'Styrning och kompetens'!A104,\"\")","v":""},{"$f":"IF('Styrning och kompetens'!B104=\"Nej\",'Styrning och kompetens'!C104,\"\")","v":""},{"$f":"IF('Styrning och kompetens'!B104=\"Nej\",IF(ISBLANK('Styrning och kompetens'!D104),\"\",'Styrning och kompetens'!D104),\"\")","v":""}]
[null,{"$f":"IF('Styrning och kompetens'!B105=\"Nej\",'Styrning och kompetens'!A105,\"\")","v":""},{"$f":"IF('Styrning och kompetens'!B105=\"Nej\",'Styrning och kompetens'!C105,\"\")","v":""},{"$f":"IF('Styrning och kompetens'!B105=\"Nej\",IF(ISBLANK('Styrning och kompetens'!D105),\"\",'Styrning och kompetens'!D105),\"\")","v":""}]
[null,{"$f":"IF('Styrning och kompetens'!B106=\"Nej\",'Styrning och kompetens'!A106,\"\")","v":""},{"$f":"IF('Styrning och kompetens'!B106=\"Nej\",'Styrning och kompetens'!C106,\"\")","v":""},{"$f":"IF('Styrning och kompetens'!B106=\"Nej\",IF(ISBLANK('Styrning och kompetens'!D106),\"\",'Styrning och kompetens'!D106),\"\")","v":""}]
[null,{"$f":"IF('Styrning och kompetens'!B107=\"Nej\",'Styrning och kompetens'!A107,\"\")","v":""},{"$f":"IF('Styrning och kompetens'!B107=\"Nej\",'Styrning och kompetens'!C107,\"\")","v":""},{"$f":"IF('Styrning och kompetens'!B107=\"Nej\",IF(ISBLANK('Styrning och kompetens'!D107),\"\",'Styrning och kompetens'!D107),\"\")","v":""}]
[null,{"$f":"IF('Styrning och kompetens'!B108=\"Nej\",'Styrning och kompetens'!A108,\"\")","v":""},{"$f":"IF('Styrning och kompetens'!B108=\"Nej\",'Styrning och kompetens'!C108,\"\")","v":""},{"$f":"IF('Styrning och kompetens'!B108=\"Nej\",IF(ISBLANK('Styrning och kompetens'!D108),\"\",'Styrning och kompetens'!D108),\"\")","v":""}]
[null,{"$f":"IF('Styrning och kompetens'!B109=\"Nej\",'Styrning och kompetens'!A109,\"\")","v":""},{"$f":"IF('Styrning och kompetens'!B109=\"Nej\",'Styrning och kompetens'!C109,\"\")","v":""},{"$f":"IF('Styrning och kompetens'!B109=\"Nej\",IF(ISBLANK('Styrning och kompetens'!D109),\"\",'Styrning och kompetens'!D109),\"\")","v":""}]
[null,{"$f":"IF('Styrning och kompetens'!B110=\"Nej\",'Styrning och kompetens'!A110,\"\")","v":""},{"$f":"IF('Styrning och kompetens'!B110=\"Nej\",'Styrning och kompetens'!C110,\"\")","v":""},{"$f":"IF('Styrning och kompetens'!B110=\"Nej\",IF(ISBLANK('Styrning och kompetens'!D110),\"\",'Styrning och kompetens'!D110),\"\")","v":""}]
[null,{"$f":"IF('Styrning och kompetens'!B111=\"Nej\",'Styrning och kompetens'!A111,\"\")","v":""},{"$f":"IF('Styrning och kompetens'!B111=\"Nej\",'Styrning och kompetens'!C111,\"\")","v":""},{"$f":"IF('Styrning och kompetens'!B111=\"Nej\",IF(ISBLANK('Styrning och kompetens'!D111),\"\",'Styrning och kompetens'!D111),\"\")","v":""}]
[null,{"$f":"IF('Styrning och kompetens'!B112=\"Nej\",'Styrning och kompetens'!A112,\"\")","v":""},{"$f":"IF('Styrning och kompetens'!B112=\"Nej\",'Styrning och kompetens'!C112,\"\")","v":""},{"$f":"IF('Styrning och kompetens'!B112=\"Nej\",IF(ISBLANK('Styrning och kompetens'!D112),\"\",'Styrning och kompetens'!D112),\"\")","v":""}]
[null,{"$f":"IF('Styrning och kompetens'!B113=\"Nej\",'Styrning och kompetens'!A113,\"\")","v":""},{"$f":"IF('Styrning och kompetens'!B113=\"Nej\",'Styrning och kompetens'!C113,\"\")","v":""},{"$f":"IF('Styrning och kompetens'!B113=\"Nej\",IF(ISBLANK('Styrning och kompetens'!D113),\"\",'Styrning och kompetens'!D113),\"\")","v":""}]
[null,{"$f":"IF('Styrning och kompetens'!B114=\"Nej\",'Styrning och kompetens'!A114,\"\")","v":""},{"$f":"IF('Styrning och kompetens'!B114=\"Nej\",'Styrning och kompetens'!C114,\"\")","v":""},{"$f":"IF('Styrning och kompetens'!B114=\"Nej\",IF(ISBLANK('Styrning och kompetens'!D114),\"\",'Styrning och kompetens'!D114),\"\")","v":""}]
[null,{"$f":"IF('Styrning och kompetens'!B115=\"Nej\",'Styrning och kompetens'!A115,\"\")","v":""},{"$f":"IF('Styrning och kompetens'!B115=\"Nej\",'Styrning och kompetens'!C115,\"\")","v":""},{"$f":"IF('Styrning och kompetens'!B115=\"Nej\",IF(ISBLANK('Styrning och kompetens'!D115),\"\",'Styrning och kompetens'!D115),\"\")","v":""}]
[null,{"$f":"IF('Styrning och kompetens'!B116=\"Nej\",'Styrning och kompetens'!A116,\"\")","v":""},{"$f":"IF('Styrning och kompetens'!B116=\"Nej\",'Styrning och kompetens'!C116,\"\")","v":""},{"$f":"IF('Styrning och kompetens'!B116=\"Nej\",IF(ISBLANK('Styrning och kompetens'!D116),\"\",'Styrning och kompetens'!D116),\"\")","v":""}]
[null,{"$f":"IF('Styrning och kompetens'!B117=\"Nej\",'Styrning och kompetens'!A117,\"\")","v":""},{"$f":"IF('Styrning och kompetens'!B117=\"Nej\",'Styrning och kompetens'!C117,\"\")","v":""},{"$f":"IF('Styrning och kompetens'!B117=\"Nej\",IF(ISBLANK('Styrning och kompetens'!D117),\"\",'Styrning och kompetens'!D117),\"\")","v":""}]
[null,{"$f":"IF('Styrning och kompetens'!B118=\"Nej\",'Styrning och kompetens'!A118,\"\")","v":""},{"$f":"IF('Styrning och kompetens'!B118=\"Nej\",'Styrning och kompetens'!C118,\"\")","v":""},{"$f":"IF('Styrning och kompetens'!B118=\"Nej\",IF(ISBLANK('Styrning och kompetens'!D118),\"\",'Styrning och kompetens'!D118),\"\")","v":""}]
[null,{"$f":"IF('Styrning och kompetens'!B119=\"Nej\",'Styrning och kompetens'!A119,\"\")","v":""},{"$f":"IF('Styrning och kompetens'!B119=\"Nej\",'Styrning och kompetens'!C119,\"\")","v":""},{"$f":"IF('Styrning och kompetens'!B119=\"Nej\",IF(ISBLANK('Styrning och kompetens'!D119),\"\",'Styrning och kompetens'!D119),\"\")","v":""}]
[null,{"$f":"IF('Styrning och kompetens'!B120=\"Nej\",'Styrning och kompetens'!A120,\"\")","v":""},{"$f":"IF('Styrning och kompetens'!B120=\"Nej\",'Styrning och kompetens'!C120,\"\")","v":""},{"$f":"IF('Styrning och kompetens'!B120=\"Nej\",IF(ISBLANK('Styrning och kompetens'!D120),\"\",'Styrning och kompetens'!D120),\"\")","v":""}]
[null,{"$f":"IF('Styrning och kompetens'!B121=\"Nej\",'Styrning och kompetens'!A121,\"\")","v":""},{"$f":"IF('Styrning och kompetens'!B121=\"Nej\",'Styrning och kompetens'!C121,\"\")","v":""},{"$f":"IF('Styrning och kompetens'!B121=\"Nej\",IF(ISBLANK('Styrning och kompetens'!D121),\"\",'Styrning och kompetens'!D121),\"\")","v":""}]
[null,{"$f":"IF('Styrning och kompetens'!B122=\"Nej\",'Styrning och kompetens'!A122,\"\")","v":""},{"$f":"IF('Styrning och kompetens'!B122=\"Nej\",'Styrning och kompetens'!C122,\"\")","v":""},{"$f":"IF('Styrning och kompetens'!B122=\"Nej\",IF(ISBLANK('Styrning och kompetens'!D122),\"\",'Styrning och kompetens'!D122),\"\")","v":""}]
[null,{"$f":"IF('Styrning och kompetens'!B123=\"Nej\",'Styrning och kompetens'!A123,\"\")","v":""},{"$f":"IF('Styrning och kompetens'!B123=\"Nej\",'Styrning och kompetens'!C123,\"\")","v":""},{"$f":"IF('Styrning och kompetens'!B123=\"Nej\",IF(ISBLANK('Styrning och kompetens'!D123),\"\",'Styrning och kompetens'!D123),\"\")","v":""}]
[null,{"$f":"IF('Styrning och kompetens'!B124=\"Nej\",'Styrning och kompetens'!A124,\"\")","v":""},{"$f":"IF('Styrning och kompetens'!B124=\"Nej\",'Styrning och kompetens'!C124,\"\")","v":""},{"$f":"IF('Styrning och kompetens'!B124=\"Nej\",IF(ISBLANK('Styrning och kompetens'!D124),\"\",'Styrning och kompetens'!D124),\"\")","v":""}]
[null,{"$f":"IF('Styrning och kompetens'!B125=\"Nej\",'Styrning och kompetens'!A125,\"\")","v":""},{"$f":"IF('Styrning och kompetens'!B125=\"Nej\",'Styrning och kompetens'!C125,\"\")","v":""},{"$f":"IF('Styrning och kompetens'!B125=\"Nej\",IF(ISBLANK('Styrning och kompetens'!D125),\"\",'Styrning och kompetens'!D125),\"\")","v":""}]
[null,{"$f":"IF('Styrning och kompetens'!B126=\"Nej\",'Styrning och kompetens'!A126,\"\")","v":""},{"$f":"IF('Styrning och kompetens'!B126=\"Nej\",'Styrning och kompetens'!C126,\"\")","v":""},{"$f":"IF('Styrning och kompetens'!B126=\"Nej\",IF(ISBLANK('Styrning och kompetens'!D126),\"\",'Styrning och kompetens'!D126),\"\")","v":""}]
[null,{"$f":"IF('Styrning och kompetens'!B127=\"Nej\",'Styrning och kompetens'!A127,\"\")","v":""},{"$f":"IF('Styrning och kompetens'!B127=\"Nej\",'Styrning och kompetens'!C127,\"\")","v":""},{"$f":"IF('Styrning och kompetens'!B127=\"Nej\",IF(ISBLANK('Styrning och kompetens'!D127),\"\",'Styrning och kompetens'!D127),\"\")","v":""}]
[null,{"$f":"IF('Styrning och kompetens'!B128=\"Nej\",'Styrning och kompetens'!A128,\"\")","v":""},{"$f":"IF('Styrning och kompetens'!B128=\"Nej\",'Styrning och kompetens'!C128,\"\")","v":""},{"$f":"IF('Styrning och kompetens'!B128=\"Nej\",IF(ISBLANK('Styrning och kompetens'!D128),\"\",'Styrning och kompetens'!D128),\"\")","v":""}]
[null,{"$f":"IF('Styrning och kompetens'!B129=\"Nej\",'Styrning och kompetens'!A129,\"\")","v":""},{"$f":"IF('Styrning och kompetens'!B129=\"Nej\",'Styrning och kompetens'!C129,\"\")","v":""},{"$f":"IF('Styrning och kompetens'!B129=\"Nej\",IF(ISBLANK('Styrning och kompetens'!D129),\"\",'Styrning och kompetens'!D129),\"\")","v":""}]
[null,{"$f":"IF('Styrning och kompetens'!B130=\"Nej\",'Styrning och kompetens'!A130,\"\")","v":""},{"$f":"IF('Styrning och kompetens'!B130=\"Nej\",'Styrning och kompetens'!C130,\"\")","v":""},{"$f":"IF('Styrning och kompetens'!B130=\"Nej\",IF(ISBLANK('Styrning och kompetens'!D130),\"\",'Styrning och kompetens'!D130),\"\")","v":""}]
[null,{"$f":"IF('Styrning och kompetens'!B131=\"Nej\",'Styrning och kompetens'!A131,\"\")","v":""},{"$f":"IF('Styrning och kompetens'!B131=\"Nej\",'Styrning och kompetens'!C131,\"\")","v":""},{"$f":"IF('Styrning och kompetens'!B131=\"Nej\",IF(ISBLANK('Styrning och kompetens'!D131),\"\",'Styrning och kompetens'!D131),\"\")","v":""}]
[null,{"$f":"IF('Styrning och kompetens'!B132=\"Nej\",'Styrning och kompetens'!A132,\"\")","v":""},{"$f":"IF('Styrning och kompetens'!B132=\"Nej\",'Styrning och kompetens'!C132,\"\")","v":""},{"$f":"IF('Styrning och kompetens'!B132=\"Nej\",IF(ISBLANK('Styrning och kompetens'!D132),\"\",'Styrning och kompetens'!D132),\"\")","v":""}]
[null,{"$f":"IF('Styrning och kompetens'!B133=\"Nej\",'Styrning och kompetens'!A133,\"\")","v":""},{"$f":"IF('Styrning och kompetens'!B133=\"Nej\",'Styrning och kompetens'!C133,\"\")","v":""},{"$f":"IF('Styrning och kompetens'!B133=\"Nej\",IF(ISBLANK('Styrning och kompetens'!D133),\"\",'Styrning och kompetens'!D133),\"\")","v":""}]
[null,{"$f":"IF('Styrning och kompetens'!B134=\"Nej\",'Styrning och kompetens'!A134,\"\")","v":""},{"$f":"IF('Styrning och kompetens'!B134=\"Nej\",'Styrning och kompetens'!C134,\"\")","v":""},{"$f":"IF('Styrning och kompetens'!B134=\"Nej\",IF(ISBLANK('Styrning och kompetens'!D134),\"\",'Styrning och kompetens'!D134),\"\")","v":""}]
[null,{"$f":"IF('Styrning och kompetens'!B135=\"Nej\",'Styrning och kompetens'!A135,\"\")","v":""},{"$f":"IF('Styrning och kompetens'!B135=\"Nej\",'Styrning och kompetens'!C135,\"\")","v":""},{"$f":"IF('Styrning och kompetens'!B135=\"Nej\",IF(ISBLANK('Styrning och kompetens'!D135),\"\",'Styrning och kompetens'!D135),\"\")","v":""}]
[null,{"$f":"IF('Styrning och kompetens'!B136=\"Nej\",'Styrning och kompetens'!A136,\"\")","v":""},{"$f":"IF('Styrning och kompetens'!B136=\"Nej\",'Styrning och kompetens'!C136,\"\")","v":""},{"$f":"IF('Styrning och kompetens'!B136=\"Nej\",IF(ISBLANK('Styrning och kompetens'!D136),\"\",'Styrning och kompetens'!D136),\"\")","v":""}]
[null,{"$f":"IF('Styrning och kompetens'!B137=\"Nej\",'Styrning och kompetens'!A137,\"\")","v":""},{"$f":"IF('Styrning och kompetens'!B137=\"Nej\",'Styrning och kompetens'!C137,\"\")","v":""},{"$f":"IF('Styrning och kompetens'!B137=\"Nej\",IF(ISBLANK('Styrning och kompetens'!D137),\"\",'Styrning och kompetens'!D137),\"\")","v":""}]
[null,{"$f":"IF('Styrning och kompetens'!B138=\"Nej\",'Styrning och kompetens'!A138,\"\")","v":""},{"$f":"IF('Styrning och kompetens'!B138=\"Nej\",'Styrning och kompetens'!C138,\"\")","v":""},{"$f":"IF('Styrning och kompetens'!B138=\"Nej\",IF(ISBLANK('Styrning och kompetens'!D138),\"\",'Styrning och kompetens'!D138),\"\")","v":""}]
[null,{"$f":"IF('Styrning och kompetens'!B139=\"Nej\",'Styrning och kompetens'!A139,\"\")","v":""},{"$f":"IF('Styrning och kompetens'!B139=\"Nej\",'Styrning och kompetens'!C139,\"\")","v":""},{"$f":"IF('Styrning och kompetens'!B139=\"Nej\",IF(ISBLANK('Styrning och kompetens'!D139),\"\",'Styrning och kompetens'!D139),\"\")","v":""}]
[null,{"$f":"IF('Styrning och kompetens'!B140=\"Nej\",'Styrning och kompetens'!A140,\"\")","v":""},{"$f":"IF('Styrning och kompetens'!B140=\"Nej\",'Styrning och kompetens'!C140,\"\")","v":""},{"$f":"IF('Styrning och kompetens'!B140=\"Nej\",IF(ISBLANK('Styrning och kompetens'!D140),\"\",'Styrning och kompetens'!D140),\"\")","v":""}]
[null,{"$f":"IF('Styrning och kompetens'!B141=\"Nej\",'Styrning och kompetens'!A141,\"\")","v":""},{"$f":"IF('Styrning och kompetens'!B141=\"Nej\",'Styrning och kompetens'!C141,\"\")","v":""},{"$f":"IF('Styrning och kompetens'!B141=\"Nej\",IF(ISBLANK('Styrning och kompetens'!D141),\"\",'Styrning och kompetens'!D141),\"\")","v":""}]
[null,{"$f":"IF('Styrning och kompetens'!B142=\"Nej\",'Styrning och kompetens'!A142,\"\")","v":""},{"$f":"IF('Styrning och kompetens'!B142=\"Nej\",'Styrning och kompetens'!C142,\"\")","v":""},{"$f":"IF('Styrning och kompetens'!B142=\"Nej\",IF(ISBLANK('Styrning och kompetens'!D142),\"\",'Styrning och kompetens'!D142),\"\")","v":""}]
[null,{"$f":"IF('Styrning och kompetens'!B143=\"Nej\",'Styrning och kompetens'!A143,\"\")","v":""},{"$f":"IF('Styrning och kompetens'!B143=\"Nej\",'Styrning och kompetens'!C143,\"\")","v":""},{"$f":"IF('Styrning och kompetens'!B143=\"Nej\",IF(ISBLANK('Styrning och kompetens'!D143),\"\",'Styrning och kompetens'!D143),\"\")","v":""}]
[null,{"$f":"IF('Styrning och kompetens'!B144=\"Nej\",'Styrning och kompetens'!A144,\"\")","v":""},{"$f":"IF('Styrning och kompetens'!B144=\"Nej\",'Styrning och kompetens'!C144,\"\")","v":""},{"$f":"IF('Styrning och kompetens'!B144=\"Nej\",IF(ISBLANK('Styrning och kompetens'!D144),\"\",'Styrning och kompetens'!D144),\"\")","v":""}]
[null,{"$f":"IF('Styrning och kompetens'!B145=\"Nej\",'Styrning och kompetens'!A145,\"\")","v":""},{"$f":"IF('Styrning och kompetens'!B145=\"Nej\",'Styrning och kompetens'!C145,\"\")","v":""},{"$f":"IF('Styrning och kompetens'!B145=\"Nej\",IF(ISBLANK('Styrning och kompetens'!D145),\"\",'Styrning och kompetens'!D145),\"\")","v":""}]
[null,{"$f":"IF('Styrning och kompetens'!B146=\"Nej\",'Styrning och kompetens'!A146,\"\")","v":""},{"$f":"IF('Styrning och kompetens'!B146=\"Nej\",'Styrning och kompetens'!C146,\"\")","v":""},{"$f":"IF('Styrning och kompetens'!B146=\"Nej\",IF(ISBLANK('Styrning och kompetens'!D146),\"\",'Styrning och kompetens'!D146),\"\")","v":""}]
[null,{"$f":"IF('Styrning och kompetens'!B147=\"Nej\",'Styrning och kompetens'!A147,\"\")","v":""},{"$f":"IF('Styrning och kompetens'!B147=\"Nej\",'Styrning och kompetens'!C147,\"\")","v":""},{"$f":"IF('Styrning och kompetens'!B147=\"Nej\",IF(ISBLANK('Styrning och kompetens'!D147),\"\",'Styrning och kompetens'!D147),\"\")","v":""}]
[null,{"$f":"IF('Styrning och kompetens'!B148=\"Nej\",'Styrning och kompetens'!A148,\"\")","v":""},{"$f":"IF('Styrning och kompetens'!B148=\"Nej\",'Styrning och kompetens'!C148,\"\")","v":""},{"$f":"IF('Styrning och kompetens'!B148=\"Nej\",IF(ISBLANK('Styrning och kompetens'!D148),\"\",'Styrning och kompetens'!D148),\"\")","v":""}]
[null,{"$f":"IF('Styrning och kompetens'!B149=\"Nej\",'Styrning och kompetens'!A149,\"\")","v":""},{"$f":"IF('Styrning och kompetens'!B149=\"Nej\",'Styrning och kompetens'!C149,\"\")","v":""},{"$f":"IF('Styrning och kompetens'!B149=\"Nej\",IF(ISBLANK('Styrning och kompetens'!D149),\"\",'Styrning och kompetens'!D149),\"\")","v":""}]
[null,{"$f":"IF('Styrning och kompetens'!B150=\"Nej\",'Styrning och kompetens'!A150,\"\")","v":""},{"$f":"IF('Styrning och kompetens'!B150=\"Nej\",'Styrning och kompetens'!C150,\"\")","v":""},{"$f":"IF('Styrning och kompetens'!B150=\"Nej\",IF(ISBLANK('Styrning och kompetens'!D150),\"\",'Styrning och kompetens'!D150),\"\")","v":""}]
[null,{"$f":"IF('Styrning och kompetens'!B151=\"Nej\",'Styrning och kompetens'!A151,\"\")","v":""},{"$f":"IF('Styrning och kompetens'!B151=\"Nej\",'Styrning och kompetens'!C151,\"\")","v":""},{"$f":"IF('Styrning och kompetens'!B151=\"Nej\",IF(ISBLANK('Styrning och kompetens'!D151),\"\",'Styrning och kompetens'!D151),\"\")","v":""}]
[null,{"$f":"IF('Styrning och kompetens'!B152=\"Nej\",'Styrning och kompetens'!A152,\"\")","v":""},{"$f":"IF('Styrning och kompetens'!B152=\"Nej\",'Styrning och kompetens'!C152,\"\")","v":""},{"$f":"IF('Styrning och kompetens'!B152=\"Nej\",IF(ISBLANK('Styrning och kompetens'!D152),\"\",'Styrning och kompetens'!D152),\"\")","v":""}]
[null,{"$f":"IF('Styrning och kompetens'!B153=\"Nej\",'Styrning och kompetens'!A153,\"\")","v":""},{"$f":"IF('Styrning och kompetens'!B153=\"Nej\",'Styrning och kompetens'!C153,\"\")","v":""},{"$f":"IF('Styrning och kompetens'!B153=\"Nej\",IF(ISBLANK('Styrning och kompetens'!D153),\"\",'Styrning och kompetens'!D153),\"\")","v":""}]
[null,{"$f":"IF('Styrning och kompetens'!B154=\"Nej\",'Styrning och kompetens'!A154,\"\")","v":""},{"$f":"IF('Styrning och kompetens'!B154=\"Nej\",'Styrning och kompetens'!C154,\"\")","v":""},{"$f":"IF('Styrning och kompetens'!B154=\"Nej\",IF(ISBLANK('Styrning och kompetens'!D154),\"\",'Styrning och kompetens'!D154),\"\")","v":""}]
[null,{"$f":"IF('Handläggning och uppföljning'!B4=\"Nej\",'Handläggning och uppföljning'!A4,\"\")","v":""},{"$f":"IF('Handläggning och uppföljning'!B4=\"Nej\",'Handläggning och uppföljning'!C4,\"\")","v":""},{"$f":"IF('Handläggning och uppföljning'!B4=\"Nej\",IF(ISBLANK('Handläggning och uppföljning'!D4),\"\",'Handläggning och uppföljning'!D4),\"\")","v":""}]
[null,{"$f":"IF('Handläggning och uppföljning'!B5=\"Nej\",'Handläggning och uppföljning'!A5,\"\")","v":""},{"$f":"IF('Handläggning och uppföljning'!B5=\"Nej\",'Handläggning och uppföljning'!C5,\"\")","v":""},{"$f":"IF('Handläggning och uppföljning'!B5=\"Nej\",IF(ISBLANK('Handläggning och uppföljning'!D5),\"\",'Handläggning och uppföljning'!D5),\"\")","v":""}]
[null,{"$f":"IF('Handläggning och uppföljning'!B6=\"Nej\",'Handläggning och uppföljning'!A6,\"\")","v":""},{"$f":"IF('Handläggning och uppföljning'!B6=\"Nej\",'Handläggning och uppföljning'!C6,\"\")","v":""},{"$f":"IF('Handläggning och uppföljning'!B6=\"Nej\",IF(ISBLANK('Handläggning och uppföljning'!D6),\"\",'Handläggning och uppföljning'!D6),\"\")","v":""}]
[null,{"$f":"IF('Handläggning och uppföljning'!B7=\"Nej\",'Handläggning och uppföljning'!A7,\"\")","v":""},{"$f":"IF('Handläggning och uppföljning'!B7=\"Nej\",'Handläggning och uppföljning'!C7,\"\")","v":""},{"$f":"IF('Handläggning och uppföljning'!B7=\"Nej\",IF(ISBLANK('Handläggning och uppföljning'!D7),\"\",'Handläggning och uppföljning'!D7),\"\")","v":""}]
[null,{"$f":"IF('Handläggning och uppföljning'!B8=\"Nej\",'Handläggning och uppföljning'!A8,\"\")","v":""},{"$f":"IF('Handläggning och uppföljning'!B8=\"Nej\",'Handläggning och uppföljning'!C8,\"\")","v":""},{"$f":"IF('Handläggning och uppföljning'!B8=\"Nej\",IF(ISBLANK('Handläggning och uppföljning'!D8),\"\",'Handläggning och uppföljning'!D8),\"\")","v":""}]
[null,{"$f":"IF('Handläggning och uppföljning'!B9=\"Nej\",'Handläggning och uppföljning'!A9,\"\")","v":""},{"$f":"IF('Handläggning och uppföljning'!B9=\"Nej\",'Handläggning och uppföljning'!C9,\"\")","v":""},{"$f":"IF('Handläggning och uppföljning'!B9=\"Nej\",IF(ISBLANK('Handläggning och uppföljning'!D9),\"\",'Handläggning och uppföljning'!D9),\"\")","v":""}]
[null,{"$f":"IF('Handläggning och uppföljning'!B10=\"Nej\",'Handläggning och uppföljning'!A10,\"\")","v":""},{"$f":"IF('Handläggning och uppföljning'!B10=\"Nej\",'Handläggning och uppföljning'!C10,\"\")","v":""},{"$f":"IF('Handläggning och uppföljning'!B10=\"Nej\",IF(ISBLANK('Handläggning och uppföljning'!D10),\"\",'Handläggning och uppföljning'!D10),\"\")","v":""}]
[null,{"$f":"IF('Handläggning och uppföljning'!B11=\"Nej\",'Handläggning och uppföljning'!A11,\"\")","v":""},{"$f":"IF('Handläggning och uppföljning'!B11=\"Nej\",'Handläggning och uppföljning'!C11,\"\")","v":""},{"$f":"IF('Handläggning och uppföljning'!B11=\"Nej\",IF(ISBLANK('Handläggning och uppföljning'!D11),\"\",'Handläggning och uppföljning'!D11),\"\")","v":""}]
[null,{"$f":"IF('Handläggning och uppföljning'!B12=\"Nej\",'Handläggning och uppföljning'!A12,\"\")","v":""},{"$f":"IF('Handläggning och uppföljning'!B12=\"Nej\",'Handläggning och uppföljning'!C12,\"\")","v":""},{"$f":"IF('Handläggning och uppföljning'!B12=\"Nej\",IF(ISBLANK('Handläggning och uppföljning'!D12),\"\",'Handläggning och uppföljning'!D12),\"\")","v":""}]
[null,{"$f":"IF('Handläggning och uppföljning'!B13=\"Nej\",'Handläggning och uppföljning'!A13,\"\")","v":""},{"$f":"IF('Handläggning och uppföljning'!B13=\"Nej\",'Handläggning och uppföljning'!C13,\"\")","v":""},{"$f":"IF('Handläggning och uppföljning'!B13=\"Nej\",IF(ISBLANK('Handläggning och uppföljning'!D13),\"\",'Handläggning och uppföljning'!D13),\"\")","v":""}]
[null,{"$f":"IF('Handläggning och uppföljning'!B14=\"Nej\",'Handläggning och uppföljning'!A14,\"\")","v":""},{"$f":"IF('Handläggning och uppföljning'!B14=\"Nej\",'Handläggning och uppföljning'!C14,\"\")","v":""},{"$f":"IF('Handläggning och uppföljning'!B14=\"Nej\",IF(ISBLANK('Handläggning och uppföljning'!D14),\"\",'Handläggning och uppföljning'!D14),\"\")","v":""}]
[null,{"$f":"IF('Handläggning och uppföljning'!B15=\"Nej\",'Handläggning och uppföljning'!A15,\"\")","v":""},{"$f":"IF('Handläggning och uppföljning'!B15=\"Nej\",'Handläggning och uppföljning'!C15,\"\")","v":""},{"$f":"IF('Handläggning och uppföljning'!B15=\"Nej\",IF(ISBLANK('Handläggning och uppföljning'!D15),\"\",'Handläggning och uppföljning'!D15),\"\")","v":""}]
[null,{"$f":"IF('Handläggning och uppföljning'!B16=\"Nej\",'Handläggning och uppföljning'!A16,\"\")","v":""},{"$f":"IF('Handläggning och uppföljning'!B16=\"Nej\",'Handläggning och uppföljning'!C16,\"\")","v":""},{"$f":"IF('Handläggning och uppföljning'!B16=\"Nej\",IF(ISBLANK('Handläggning och uppföljning'!D16),\"\",'Handläggning och uppföljning'!D16),\"\")","v":""}]
[null,{"$f":"IF('Handläggning och uppföljning'!B17=\"Nej\",'Handläggning och uppföljning'!A17,\"\")","v":""},{"$f":"IF('Handläggning och uppföljning'!B17=\"Nej\",'Handläggning och uppföljning'!C17,\"\")","v":""},{"$f":"IF('Handläggning och uppföljning'!B17=\"Nej\",IF(ISBLANK('Handläggning och uppföljning'!D17),\"\",'Handläggning och uppföljning'!D17),\"\")","v":""}]
[null,{"$f":"IF('Handläggning och uppföljning'!B18=\"Nej\",'Handläggning och uppföljning'!A18,\"\")","v":""},{"$f":"IF('Handläggning och uppföljning'!B18=\"Nej\",'Handläggning och uppföljning'!C18,\"\")","v":""},{"$f":"IF('Handläggning och uppföljning'!B18=\"Nej\",IF(ISBLANK('Handläggning och uppföljning'!D18),\"\",'Handläggning och uppföljning'!D18),\"\")","v":""}]
[null,{"$f":"IF('Handläggning och uppföljning'!B19=\"Nej\",'Handläggning och uppföljning'!A19,\"\")","v":""},{"$f":"IF('Handläggning och uppföljning'!B19=\"Nej\",'Handläggning och uppföljning'!C19,\"\")","v":""},{"$f":"IF('Handläggning och uppföljning'!B19=\"Nej\",IF(ISBLANK('Handläggning och uppföljning'!D19),\"\",'Handläggning och uppföljning'!D19),\"\")","v":""}]
[null,{"$f":"IF('Handläggning och uppföljning'!B20=\"Nej\",'Handläggning och uppföljning'!A20,\"\")","v":""},{"$f":"IF('Handläggning och uppföljning'!B20=\"Nej\",'Handläggning och uppföljning'!C20,\"\")","v":""},{"$f":"IF('Handläggning och uppföljning'!B20=\"Nej\",IF(ISBLANK('Handläggning och uppföljning'!D20),\"\",'Handläggning och uppföljning'!D20),\"\")","v":""}]
[null,{"$f":"IF('Handläggning och uppföljning'!B21=\"Nej\",'Handläggning och uppföljning'!A21,\"\")","v":""},{"$f":"IF('Handläggning och uppföljning'!B21=\"Nej\",'Handläggning och uppföljning'!C21,\"\")","v":""},{"$f":"IF('Handläggning och uppföljning'!B21=\"Nej\",IF(ISBLANK('Handläggning och uppföljning'!D21),\"\",'Handläggning och uppföljning'!D21),\"\")","v":""}]
[null,{"$f":"IF('Handläggning och uppföljning'!B22=\"Nej\",'Handläggning och uppföljning'!A22,\"\")","v":""},{"$f":"IF('Handläggning och uppföljning'!B22=\"Nej\",'Handläggning och uppföljning'!C22,\"\")","v":""},{"$f":"IF('Handläggning och uppföljning'!B22=\"Nej\",IF(ISBLANK('Handläggning och uppföljning'!D22),\"\",'Handläggning och uppföljning'!D22),\"\")","v":""}]
[null,{"$f":"IF('Handläggning och uppföljning'!B23=\"Nej\",'Handläggning och uppföljning'!A23,\"\")","v":""},{"$f":"IF('Handläggning och uppföljning'!B23=\"Nej\",'Handläggning och uppföljning'!C23,\"\")","v":""},{"$f":"IF('Handläggning och uppföljning'!B23=\"Nej\",IF(ISBLANK('Handläggning och uppföljning'!D23),\"\",'Handläggning och uppföljning'!D23),\"\")","v":""}]
[null,{"$f":"IF('Handläggning och uppföljning'!B24=\"Nej\",'Handläggning och uppföljning'!A24,\"\")","v":""},{"$f":"IF('Handläggning och uppföljning'!B24=\"Nej\",'Handläggning och uppföljning'!C24,\"\")","v":""},{"$f":"IF('Handläggning och uppföljning'!B24=\"Nej\",IF(ISBLANK('Handläggning och uppföljning'!D24),\"\",'Handläggning och uppföljning'!D24),\"\")","v":""}]
[null,{"$f":"IF('Handläggning och uppföljning'!B25=\"Nej\",'Handläggning och uppföljning'!A25,\"\")","v":""},{"$f":"IF('Handläggning och uppföljning'!B25=\"Nej\",'Handläggning och uppföljning'!C25,\"\")","v":""},{"$f":"IF('Handläggning och uppföljning'!B25=\"Nej\",IF(ISBLANK('Handläggning och uppföljning'!D25),\"\",'Handläggning och uppföljning'!D25),\"\")","v":""}]
[null,{"$f":"IF('Handläggning och uppföljning'!B26=\"Nej\",'Handläggning och uppföljning'!A26,\"\")","v":""},{"$f":"IF('Handläggning och uppföljning'!B26=\"Nej\",'Handläggning och uppföljning'!C26,\"\")","v":""},{"$f":"IF('Handläggning och uppföljning'!B26=\"Nej\",IF(ISBLANK('Handläggning och uppföljning'!D26),\"\",'Handläggning och uppföljning'!D26),\"\")","v":""}]
[null,{"$f":"IF('Handläggning och uppföljning'!B27=\"Nej\",'Handläggning och uppföljning'!A27,\"\")","v":""},{"$f":"IF('Handläggning och uppföljning'!B27=\"Nej\",'Handläggning och uppföljning'!C27,\"\")","v":""},{"$f":"IF('Handläggning och uppföljning'!B27=\"Nej\",IF(ISBLANK('Handläggning och uppföljning'!D27),\"\",'Handläggning och uppföljning'!D27),\"\")","v":""}]
[null,{"$f":"IF('Handläggning och uppföljning'!B28=\"Nej\",'Handläggning och uppföljning'!A28,\"\")","v":""},{"$f":"IF('Handläggning och uppföljning'!B28=\"Nej\",'Handläggning och uppföljning'!C28,\"\")","v":""},{"$f":"IF('Handläggning och uppföljning'!B28=\"Nej\",IF(ISBLANK('Handläggning och uppföljning'!D28),\"\",'Handläggning och uppföljning'!D28),\"\")","v":""}]
[null,{"$f":"IF('Handläggning och uppföljning'!B29=\"Nej\",'Handläggning och uppföljning'!A29,\"\")","v":""},{"$f":"IF('Handläggning och uppföljning'!B29=\"Nej\",'Handläggning och uppföljning'!C29,\"\")","v":""},{"$f":"IF('Handläggning och uppföljning'!B29=\"Nej\",IF(ISBLANK('Handläggning och uppföljning'!D29),\"\",'Handläggning och uppföljning'!D29),\"\")","v":""}]
[null,{"$f":"IF('Handläggning och uppföljning'!B30=\"Nej\",'Handläggning och uppföljning'!A30,\"\")","v":""},{"$f":"IF('Handläggning och uppföljning'!B30=\"Nej\",'Handläggning och uppföljning'!C30,\"\")","v":""},{"$f":"IF('Handläggning och uppföljning'!B30=\"Nej\",IF(ISBLANK('Handläggning och uppföljning'!D30),\"\",'Handläggning och uppföljning'!D30),\"\")","v":""}]
[null,{"$f":"IF('Handläggning och uppföljning'!B31=\"Nej\",'Handläggning och uppföljning'!A31,\"\")","v":""},{"$f":"IF('Handläggning och uppföljning'!B31=\"Nej\",'Handläggning och uppföljning'!C31,\"\")","v":""},{"$f":"IF('Handläggning och uppföljning'!B31=\"Nej\",IF(ISBLANK('Handläggning och uppföljning'!D31),\"\",'Handläggning och uppföljning'!D31),\"\")","v":""}]
[null,{"$f":"IF('Handläggning och uppföljning'!B32=\"Nej\",'Handläggning och uppföljning'!A32,\"\")","v":""},{"$f":"IF('Handläggning och uppföljning'!B32=\"Nej\",'Handläggning och uppföljning'!C32,\"\")","v":""},{"$f":"IF('Handläggning och uppföljning'!B32=\"Nej\",IF(ISBLANK('Handläggning och uppföljning'!D32),\"\",'Handläggning och uppföljning'!D32),\"\")","v":""}]
[null,{"$f":"IF('Handläggning och uppföljning'!B33=\"Nej\",'Handläggning och uppföljning'!A33,\"\")","v":""},{"$f":"IF('Handläggning och uppföljning'!B33=\"Nej\",'Handläggning och uppföljning'!C33,\"\")","v":""},{"$f":"IF('Handläggning och uppföljning'!B33=\"Nej\",IF(ISBLANK('Handläggning och uppföljning'!D33),\"\",'Handläggning och uppföljning'!D33),\"\")","v":""}]
[null,{"$f":"IF('Handläggning och uppföljning'!B34=\"Nej\",'Handläggning och uppföljning'!A34,\"\")","v":""},{"$f":"IF('Handläggning och uppföljning'!B34=\"Nej\",'Handläggning och uppföljning'!C34,\"\")","v":""},{"$f":"IF('Handläggning och uppföljning'!B34=\"Nej\",IF(ISBLANK('Handläggning och uppföljning'!D34),\"\",'Handläggning och uppföljning'!D34),\"\")","v":""}]
[null,{"$f":"IF('Handläggning och uppföljning'!B35=\"Nej\",'Handläggning och uppföljning'!A35,\"\")","v":""},{"$f":"IF('Handläggning och uppföljning'!B35=\"Nej\",'Handläggning och uppföljning'!C35,\"\")","v":""},{"$f":"IF('Handläggning och uppföljning'!B35=\"Nej\",IF(ISBLANK('Handläggning och uppföljning'!D35),\"\",'Handläggning och uppföljning'!D35),\"\")","v":""}]
[null,{"$f":"IF('Handläggning och uppföljning'!B36=\"Nej\",'Handläggning och uppföljning'!A36,\"\")","v":""},{"$f":"IF('Handläggning och uppföljning'!B36=\"Nej\",'Handläggning och uppföljning'!C36,\"\")","v":""},{"$f":"IF('Handläggning och uppföljning'!B36=\"Nej\",IF(ISBLANK('Handläggning och uppföljning'!D36),\"\",'Handläggning och uppföljning'!D36),\"\")","v":""}]
[null,{"$f":"IF('Handläggning och uppföljning'!B37=\"Nej\",'Handläggning och uppföljning'!A37,\"\")","v":""},{"$f":"IF('Handläggning och uppföljning'!B37=\"Nej\",'Handläggning och uppföljning'!C37,\"\")","v":""},{"$f":"IF('Handläggning och uppföljning'!B37=\"Nej\",IF(ISBLANK('Handläggning och uppföljning'!D37),\"\",'Handläggning och uppföljning'!D37),\"\")","v":""}]
[null,{"$f":"IF('Handläggning och uppföljning'!B38=\"Nej\",'Handläggning och uppföljning'!A38,\"\")","v":""},{"$f":"IF('Handläggning och uppföljning'!B38=\"Nej\",'Handläggning och uppföljning'!C38,\"\")","v":""},{"$f":"IF('Handläggning och uppföljning'!B38=\"Nej\",IF(ISBLANK('Handläggning och uppföljning'!D38),\"\",'Handläggning och uppföljning'!D38),\"\")","v":""}]
[null,{"$f":"IF('Handläggning och uppföljning'!B39=\"Nej\",'Handläggning och uppföljning'!A39,\"\")","v":""},{"$f":"IF('Handläggning och uppföljning'!B39=\"Nej\",'Handläggning och uppföljning'!C39,\"\")","v":""},{"$f":"IF('Handläggning och uppföljning'!B39=\"Nej\",IF(ISBLANK('Handläggning och uppföljning'!D39),\"\",'Handläggning och uppföljning'!D39),\"\")","v":""}]
[null,{"$f":"IF('Handläggning och uppföljning'!B40=\"Nej\",'Handläggning och uppföljning'!A40,\"\")","v":""},{"$f":"IF('Handläggning och uppföljning'!B40=\"Nej\",'Handläggning och uppföljning'!C40,\"\")","v":""},{"$f":"IF('Handläggning och uppföljning'!B40=\"Nej\",IF(ISBLANK('Handläggning och uppföljning'!D40),\"\",'Handläggning och uppföljning'!D40),\"\")","v":""}]
[null,{"$f":"IF('Handläggning och uppföljning'!B41=\"Nej\",'Handläggning och uppföljning'!A41,\"\")","v":""},{"$f":"IF('Handläggning och uppföljning'!B41=\"Nej\",'Handläggning och uppföljning'!C41,\"\")","v":""},{"$f":"IF('Handläggning och uppföljning'!B41=\"Nej\",IF(ISBLANK('Handläggning och uppföljning'!D41),\"\",'Handläggning och uppföljning'!D41),\"\")","v":""}]
[null,{"$f":"IF('Handläggning och uppföljning'!B42=\"Nej\",'Handläggning och uppföljning'!A42,\"\")","v":""},{"$f":"IF('Handläggning och uppföljning'!B42=\"Nej\",'Handläggning och uppföljning'!C42,\"\")","v":""},{"$f":"IF('Handläggning och uppföljning'!B42=\"Nej\",IF(ISBLANK('Handläggning och uppföljning'!D42),\"\",'Handläggning och uppföljning'!D42),\"\")","v":""}]
[null,{"$f":"IF('Handläggning och uppföljning'!B43=\"Nej\",'Handläggning och uppföljning'!A43,\"\")","v":""},{"$f":"IF('Handläggning och uppföljning'!B43=\"Nej\",'Handläggning och uppföljning'!C43,\"\")","v":""},{"$f":"IF('Handläggning och uppföljning'!B43=\"Nej\",IF(ISBLANK('Handläggning och uppföljning'!D43),\"\",'Handläggning och uppföljning'!D43),\"\")","v":""}]
[null,{"$f":"IF('Handläggning och uppföljning'!B44=\"Nej\",'Handläggning och uppföljning'!A44,\"\")","v":""},{"$f":"IF('Handläggning och uppföljning'!B44=\"Nej\",'Handläggning och uppföljning'!C44,\"\")","v":""},{"$f":"IF('Handläggning och uppföljning'!B44=\"Nej\",IF(ISBLANK('Handläggning och uppföljning'!D44),\"\",'Handläggning och uppföljning'!D44),\"\")","v":""}]
[null,{"$f":"IF('Handläggning och uppföljning'!B45=\"Nej\",'Handläggning och uppföljning'!A45,\"\")","v":""},{"$f":"IF('Handläggning och uppföljning'!B45=\"Nej\",'Handläggning och uppföljning'!C45,\"\")","v":""},{"$f":"IF('Handläggning och uppföljning'!B45=\"Nej\",IF(ISBLANK('Handläggning och uppföljning'!D45),\"\",'Handläggning och uppföljning'!D45),\"\")","v":""}]
[null,{"$f":"IF('Handläggning och uppföljning'!B46=\"Nej\",'Handläggning och uppföljning'!A46,\"\")","v":""},{"$f":"IF('Handläggning och uppföljning'!B46=\"Nej\",'Handläggning och uppföljning'!C46,\"\")","v":""},{"$f":"IF('Handläggning och uppföljning'!B46=\"Nej\",IF(ISBLANK('Handläggning och uppföljning'!D46),\"\",'Handläggning och uppföljning'!D46),\"\")","v":""}]
[null,{"$f":"IF('Handläggning och uppföljning'!B47=\"Nej\",'Handläggning och uppföljning'!A47,\"\")","v":""},{"$f":"IF('Handläggning och uppföljning'!B47=\"Nej\",'Handläggning och uppföljning'!C47,\"\")","v":""},{"$f":"IF('Handläggning och uppföljning'!B47=\"Nej\",IF(ISBLANK('Handläggning och uppföljning'!D47),\"\",'Handläggning och uppföljning'!D47),\"\")","v":""}]
[null,{"$f":"IF('Handläggning och uppföljning'!B48=\"Nej\",'Handläggning och uppföljning'!A48,\"\")","v":""},{"$f":"IF('Handläggning och uppföljning'!B48=\"Nej\",'Handläggning och uppföljning'!C48,\"\")","v":""},{"$f":"IF('Handläggning och uppföljning'!B48=\"Nej\",IF(ISBLANK('Handläggning och uppföljning'!D48),\"\",'Handläggning och uppföljning'!D48),\"\")","v":""}]
[null,{"$f":"IF('Handläggning och uppföljning'!B49=\"Nej\",'Handläggning och uppföljning'!A49,\"\")","v":""},{"$f":"IF('Handläggning och uppföljning'!B49=\"Nej\",'Handläggning och uppföljning'!C49,\"\")","v":""},{"$f":"IF('Handläggning och uppföljning'!B49=\"Nej\",IF(ISBLANK('Handläggning och uppföljning'!D49),\"\",'Handläggning och uppföljning'!D49),\"\")","v":""}]
[null,{"$f":"IF('Handläggning och uppföljning'!B50=\"Nej\",'Handläggning och uppföljning'!A50,\"\")","v":""},{"$f":"IF('Handläggning och uppföljning'!B50=\"Nej\",'Handläggning och uppföljning'!C50,\"\")","v":""},{"$f":"IF('Handläggning och uppföljning'!B50=\"Nej\",IF(ISBLANK('Handläggning och uppföljning'!D50),\"\",'Handläggning och uppföljning'!D50),\"\")","v":""}]
[null,{"$f":"IF('Handläggning och uppföljning'!B51=\"Nej\",'Handläggning och uppföljning'!A51,\"\")","v":""},{"$f":"IF('Handläggning och uppföljning'!B51=\"Nej\",'Handläggning och uppföljning'!C51,\"\")","v":""},{"$f":"IF('Handläggning och uppföljning'!B51=\"Nej\",IF(ISBLANK('Handläggning och uppföljning'!D51),\"\",'Handläggning och uppföljning'!D51),\"\")","v":""}]
[null,{"$f":"IF('Handläggning och uppföljning'!B52=\"Nej\",'Handläggning och uppföljning'!A52,\"\")","v":""},{"$f":"IF('Handläggning och uppföljning'!B52=\"Nej\",'Handläggning och uppföljning'!C52,\"\")","v":""},{"$f":"IF('Handläggning och uppföljning'!B52=\"Nej\",IF(ISBLANK('Handläggning och uppföljning'!D52),\"\",'Handläggning och uppföljning'!D52),\"\")","v":""}]
[null,{"$f":"IF('Handläggning och uppföljning'!B53=\"Nej\",'Handläggning och uppföljning'!A53,\"\")","v":""},{"$f":"IF('Handläggning och uppföljning'!B53=\"Nej\",'Handläggning och uppföljning'!C53,\"\")","v":""},{"$f":"IF('Handläggning och uppföljning'!B53=\"Nej\",IF(ISBLANK('Handläggning och uppföljning'!D53),\"\",'Handläggning och uppföljning'!D53),\"\")","v":""}]
[null,{"$f":"IF('Handläggning och uppföljning'!B54=\"Nej\",'Handläggning och uppföljning'!A54,\"\")","v":""},{"$f":"IF('Handläggning och uppföljning'!B54=\"Nej\",'Handläggning och uppföljning'!C54,\"\")","v":""},{"$f":"IF('Handläggning och uppföljning'!B54=\"Nej\",IF(ISBLANK('Handläggning och uppföljning'!D54),\"\",'Handläggning och uppföljning'!D54),\"\")","v":""}]
[null,{"$f":"IF('Handläggning och uppföljning'!B55=\"Nej\",'Handläggning och uppföljning'!A55,\"\")","v":""},{"$f":"IF('Handläggning och uppföljning'!B55=\"Nej\",'Handläggning och uppföljning'!C55,\"\")","v":""},{"$f":"IF('Handläggning och uppföljning'!B55=\"Nej\",IF(ISBLANK('Handläggning och uppföljning'!D55),\"\",'Handläggning och uppföljning'!D55),\"\")","v":""}]
[null,{"$f":"IF('Handläggning och uppföljning'!B56=\"Nej\",'Handläggning och uppföljning'!A56,\"\")","v":""},{"$f":"IF('Handläggning och uppföljning'!B56=\"Nej\",'Handläggning och uppföljning'!C56,\"\")","v":""},{"$f":"IF('Handläggning och uppföljning'!B56=\"Nej\",IF(ISBLANK('Handläggning och uppföljning'!D56),\"\",'Handläggning och uppföljning'!D56),\"\")","v":""}]
[null,{"$f":"IF('Handläggning och uppföljning'!B57=\"Nej\",'Handläggning och uppföljning'!A57,\"\")","v":""},{"$f":"IF('Handläggning och uppföljning'!B57=\"Nej\",'Handläggning och uppföljning'!C57,\"\")","v":""},{"$f":"IF('Handläggning och uppföljning'!B57=\"Nej\",IF(ISBLANK('Handläggning och uppföljning'!D57),\"\",'Handläggning och uppföljning'!D57),\"\")","v":""}]
[null,{"$f":"IF('Handläggning och uppföljning'!B58=\"Nej\",'Handläggning och uppföljning'!A58,\"\")","v":""},{"$f":"IF('Handläggning och uppföljning'!B58=\"Nej\",'Handläggning och uppföljning'!C58,\"\")","v":""},{"$f":"IF('Handläggning och uppföljning'!B58=\"Nej\",IF(ISBLANK('Handläggning och uppföljning'!D58),\"\",'Handläggning och uppföljning'!D58),\"\")","v":""}]
[null,{"$f":"IF('Handläggning och uppföljning'!B59=\"Nej\",'Handläggning och uppföljning'!A59,\"\")","v":""},{"$f":"IF('Handläggning och uppföljning'!B59=\"Nej\",'Handläggning och uppföljning'!C59,\"\")","v":""},{"$f":"IF('Handläggning och uppföljning'!B59=\"Nej\",IF(ISBLANK('Handläggning och uppföljning'!D59),\"\",'Handläggning och uppföljning'!D59),\"\")","v":""}]
[null,{"$f":"IF('Handläggning och uppföljning'!B60=\"Nej\",'Handläggning och uppföljning'!A60,\"\")","v":""},{"$f":"IF('Handläggning och uppföljning'!B60=\"Nej\",'Handläggning och uppföljning'!C60,\"\")","v":""},{"$f":"IF('Handläggning och uppföljning'!B60=\"Nej\",IF(ISBLANK('Handläggning och uppföljning'!D60),\"\",'Handläggning och uppföljning'!D60),\"\")","v":""}]
[null,{"$f":"IF('Handläggning och uppföljning'!B61=\"Nej\",'Handläggning och uppföljning'!A61,\"\")","v":""},{"$f":"IF('Handläggning och uppföljning'!B61=\"Nej\",'Handläggning och uppföljning'!C61,\"\")","v":""},{"$f":"IF('Handläggning och uppföljning'!B61=\"Nej\",IF(ISBLANK('Handläggning och uppföljning'!D61),\"\",'Handläggning och uppföljning'!D61),\"\")","v":""}]
[null,{"$f":"IF('Handläggning och uppföljning'!B62=\"Nej\",'Handläggning och uppföljning'!A62,\"\")","v":""},{"$f":"IF('Handläggning och uppföljning'!B62=\"Nej\",'Handläggning och uppföljning'!C62,\"\")","v":""},{"$f":"IF('Handläggning och uppföljning'!B62=\"Nej\",IF(ISBLANK('Handläggning och uppföljning'!D62),\"\",'Handläggning och uppföljning'!D62),\"\")","v":""}]
[null,{"$f":"IF('Handläggning och uppföljning'!B63=\"Nej\",'Handläggning och uppföljning'!A63,\"\")","v":""},{"$f":"IF('Handläggning och uppföljning'!B63=\"Nej\",'Handläggning och uppföljning'!C63,\"\")","v":""},{"$f":"IF('Handläggning och uppföljning'!B63=\"Nej\",IF(ISBLANK('Handläggning och uppföljning'!D63),\"\",'Handläggning och uppföljning'!D63),\"\")","v":""}]
[null,{"$f":"IF('Handläggning och uppföljning'!B64=\"Nej\",'Handläggning och uppföljning'!A64,\"\")","v":""},{"$f":"IF('Handläggning och uppföljning'!B64=\"Nej\",'Handläggning och uppföljning'!C64,\"\")","v":""},{"$f":"IF('Handläggning och uppföljning'!B64=\"Nej\",IF(ISBLANK('Handläggning och uppföljning'!D64),\"\",'Handläggning och uppföljning'!D64),\"\")","v":""}]
[null,{"$f":"IF('Handläggning och uppföljning'!B65=\"Nej\",'Handläggning och uppföljning'!A65,\"\")","v":""},{"$f":"IF('Handläggning och uppföljning'!B65=\"Nej\",'Handläggning och uppföljning'!C65,\"\")","v":""},{"$f":"IF('Handläggning och uppföljning'!B65=\"Nej\",IF(ISBLANK('Handläggning och uppföljning'!D65),\"\",'Handläggning och uppföljning'!D65),\"\")","v":""}]
[null,{"$f":"IF('Handläggning och uppföljning'!B66=\"Nej\",'Handläggning och uppföljning'!A66,\"\")","v":""},{"$f":"IF('Handläggning och uppföljning'!B66=\"Nej\",'Handläggning och uppföljning'!C66,\"\")","v":""},{"$f":"IF('Handläggning och uppföljning'!B66=\"Nej\",IF(ISBLANK('Handläggning och uppföljning'!D66),\"\",'Handläggning och uppföljning'!D66),\"\")","v":""}]
[null,{"$f":"IF('Handläggning och uppföljning'!B67=\"Nej\",'Handläggning och uppföljning'!A67,\"\")","v":""},{"$f":"IF('Handläggning och uppföljning'!B67=\"Nej\",'Handläggning och uppföljning'!C67,\"\")","v":""},{"$f":"IF('Handläggning och uppföljning'!B67=\"Nej\",IF(ISBLANK('Handläggning och uppföljning'!D67),\"\",'Handläggning och uppföljning'!D67),\"\")","v":""}]
[null,{"$f":"IF('Handläggning och uppföljning'!B68=\"Nej\",'Handläggning och uppföljning'!A68,\"\")","v":""},{"$f":"IF('Handläggning och uppföljning'!B68=\"Nej\",'Handläggning och uppföljning'!C68,\"\")","v":""},{"$f":"IF('Handläggning och uppföljning'!B68=\"Nej\",IF(ISBLANK('Handläggning och uppföljning'!D68),\"\",'Handläggning och uppföljning'!D68),\"\")","v":""}]
[null,{"$f":"IF('Handläggning och uppföljning'!B69=\"Nej\",'Handläggning och uppföljning'!A69,\"\")","v":""},{"$f":"IF('Handläggning och uppföljning'!B69=\"Nej\",'Handläggning och uppföljning'!C69,\"\")","v":""},{"$f":"IF('Handläggning och uppföljning'!B69=\"Nej\",IF(ISBLANK('Handläggning och uppföljning'!D69),\"\",'Handläggning och uppföljning'!D69),\"\")","v":""}]
[null,{"$f":"IF('Handläggning och uppföljning'!B70=\"Nej\",'Handläggning och uppföljning'!A70,\"\")","v":""},{"$f":"IF('Handläggning och uppföljning'!B70=\"Nej\",'Handläggning och uppföljning'!C70,\"\")","v":""},{"$f":"IF('Handläggning och uppföljning'!B70=\"Nej\",IF(ISBLANK('Handläggning och uppföljning'!D70),\"\",'Handläggning och uppföljning'!D70),\"\")","v":""}]
[null,{"$f":"IF('Handläggning och uppföljning'!B71=\"Nej\",'Handläggning och uppföljning'!A71,\"\")","v":""},{"$f":"IF('Handläggning och uppföljning'!B71=\"Nej\",'Handläggning och uppföljning'!C71,\"\")","v":""},{"$f":"IF('Handläggning och uppföljning'!B71=\"Nej\",IF(ISBLANK('Handläggning och uppföljning'!D71),\"\",'Handläggning och uppföljning'!D71),\"\")","v":""}]
[null,{"$f":"IF('Handläggning och uppföljning'!B72=\"Nej\",'Handläggning och uppföljning'!A72,\"\")","v":""},{"$f":"IF('Handläggning och uppföljning'!B72=\"Nej\",'Handläggning och uppföljning'!C72,\"\")","v":""},{"$f":"IF('Handläggning och uppföljning'!B72=\"Nej\",IF(ISBLANK('Handläggning och uppföljning'!D72),\"\",'Handläggning och uppföljning'!D72),\"\")","v":""}]
[null,{"$f":"IF('Handläggning och uppföljning'!B73=\"Nej\",'Handläggning och uppföljning'!A73,\"\")","v":""},{"$f":"IF('Handläggning och uppföljning'!B73=\"Nej\",'Handläggning och uppföljning'!C73,\"\")","v":""},{"$f":"IF('Handläggning och uppföljning'!B73=\"Nej\",IF(ISBLANK('Handläggning och uppföljning'!D73),\"\",'Handläggning och uppföljning'!D73),\"\")","v":""}]
[null,{"$f":"IF('Handläggning och uppföljning'!B74=\"Nej\",'Handläggning och uppföljning'!A74,\"\")","v":""},{"$f":"IF('Handläggning och uppföljning'!B74=\"Nej\",'Handläggning och uppföljning'!C74,\"\")","v":""},{"$f":"IF('Handläggning och uppföljning'!B74=\"Nej\",IF(ISBLANK('Handläggning och uppföljning'!D74),\"\",'Handläggning och uppföljning'!D74),\"\")","v":""}]
[null,{"$f":"IF('Handläggning och uppföljning'!B75=\"Nej\",'Handläggning och uppföljning'!A75,\"\")","v":""},{"$f":"IF('Handläggning och uppföljning'!B75=\"Nej\",'Handläggning och uppföljning'!C75,\"\")","v":""},{"$f":"IF('Handläggning och uppföljning'!B75=\"Nej\",IF(ISBLANK('Handläggning och uppföljning'!D75),\"\",'Handläggning och uppföljning'!D75),\"\")","v":""}]
[null,{"$f":"IF('Handläggning och uppföljning'!B76=\"Nej\",'Handläggning och uppföljning'!A76,\"\")","v":""},{"$f":"IF('Handläggning och uppföljning'!B76=\"Nej\",'Handläggning och uppföljning'!C76,\"\")","v":""},{"$f":"IF('Handläggning och uppföljning'!B76=\"Nej\",IF(ISBLANK('Handläggning och uppföljning'!D76),\"\",'Handläggning och uppföljning'!D76),\"\")","v":""}]
[null,{"$f":"IF('Handläggning och uppföljning'!B77=\"Nej\",'Handläggning och uppföljning'!A77,\"\")","v":""},{"$f":"IF('Handläggning och uppföljning'!B77=\"Nej\",'Handläggning och uppföljning'!C77,\"\")","v":""},{"$f":"IF('Handläggning och uppföljning'!B77=\"Nej\",IF(ISBLANK('Handläggning och uppföljning'!D77),\"\",'Handläggning och uppföljning'!D77),\"\")","v":""}]
[null,{"$f":"IF('Handläggning och uppföljning'!B78=\"Nej\",'Handläggning och uppföljning'!A78,\"\")","v":""},{"$f":"IF('Handläggning och uppföljning'!B78=\"Nej\",'Handläggning och uppföljning'!C78,\"\")","v":""},{"$f":"IF('Handläggning och uppföljning'!B78=\"Nej\",IF(ISBLANK('Handläggning och uppföljning'!D78),\"\",'Handläggning och uppföljning'!D78),\"\")","v":""}]
[null,{"$f":"IF('Handläggning och uppföljning'!B79=\"Nej\",'Handläggning och uppföljning'!A79,\"\")","v":""},{"$f":"IF('Handläggning och uppföljning'!B79=\"Nej\",'Handläggning och uppföljning'!C79,\"\")","v":""},{"$f":"IF('Handläggning och uppföljning'!B79=\"Nej\",IF(ISBLANK('Handläggning och uppföljning'!D79),\"\",'Handläggning och uppföljning'!D79),\"\")","v":""}]
[null,{"$f":"IF('Handläggning och uppföljning'!B80=\"Nej\",'Handläggning och uppföljning'!A80,\"\")","v":""},{"$f":"IF('Handläggning och uppföljning'!B80=\"Nej\",'Handläggning och uppföljning'!C80,\"\")","v":""},{"$f":"IF('Handläggning och uppföljning'!B80=\"Nej\",IF(ISBLANK('Handläggning och uppföljning'!D80),\"\",'Handläggning och uppföljning'!D80),\"\")","v":""}]
[null,{"$f":"IF('Handläggning och uppföljning'!B81=\"Nej\",'Handläggning och uppföljning'!A81,\"\")","v":""},{"$f":"IF('Handläggning och uppföljning'!B81=\"Nej\",'Handläggning och uppföljning'!C81,\"\")","v":""},{"$f":"IF('Handläggning och uppföljning'!B81=\"Nej\",IF(ISBLANK('Handläggning och uppföljning'!D81),\"\",'Handläggning och uppföljning'!D81),\"\")","v":""}]
[null,{"$f":"IF('Handläggning och uppföljning'!B82=\"Nej\",'Handläggning och uppföljning'!A82,\"\")","v":""},{"$f":"IF('Handläggning och uppföljning'!B82=\"Nej\",'Handläggning och uppföljning'!C82,\"\")","v":""},{"$f":"IF('Handläggning och uppföljning'!B82=\"Nej\",IF(ISBLANK('Handläggning och uppföljning'!D82),\"\",'Handläggning och uppföljning'!D82),\"\")","v":""}]
[null,{"$f":"IF('Handläggning och uppföljning'!B83=\"Nej\",'Handläggning och uppföljning'!A83,\"\")","v":""},{"$f":"IF('Handläggning och uppföljning'!B83=\"Nej\",'Handläggning och uppföljning'!C83,\"\")","v":""},{"$f":"IF('Handläggning och uppföljning'!B83=\"Nej\",IF(ISBLANK('Handläggning och uppföljning'!D83),\"\",'Handläggning och uppföljning'!D83),\"\")","v":""}]
[null,{"$f":"IF('Handläggning och uppföljning'!B84=\"Nej\",'Handläggning och uppföljning'!A84,\"\")","v":""},{"$f":"IF('Handläggning och uppföljning'!B84=\"Nej\",'Handläggning och uppföljning'!C84,\"\")","v":""},{"$f":"IF('Handläggning och uppföljning'!B84=\"Nej\",IF(ISBLANK('Handläggning och uppföljning'!D84),\"\",'Handläggning och uppföljning'!D84),\"\")","v":""}]
[null,{"$f":"IF('Handläggning och uppföljning'!B85=\"Nej\",'Handläggning och uppföljning'!A85,\"\")","v":""},{"$f":"IF('Handläggning och uppföljning'!B85=\"Nej\",'Handläggning och uppföljning'!C85,\"\")","v":""},{"$f":"IF('Handläggning och uppföljning'!B85=\"Nej\",IF(ISBLANK('Handläggning och uppföljning'!D85),\"\",'Handläggning och uppföljning'!D85),\"\")","v":""}]
[null,{"$f":"IF('Handläggning och uppföljning'!B86=\"Nej\",'Handläggning och uppföljning'!A86,\"\")","v":""},{"$f":"IF('Handläggning och uppföljning'!B86=\"Nej\",'Handläggning och uppföljning'!C86,\"\")","v":""},{"$f":"IF('Handläggning och uppföljning'!B86=\"Nej\",IF(ISBLANK('Handläggning och uppföljning'!D86),\"\",'Handläggning och uppföljning'!D86),\"\")","v":""}]
[null,{"$f":"IF('Handläggning och uppföljning'!B87=\"Nej\",'Handläggning och uppföljning'!A87,\"\")","v":""},{"$f":"IF('Handläggning och uppföljning'!B87=\"Nej\",'Handläggning och uppföljning'!C87,\"\")","v":""},{"$f":"IF('Handläggning och uppföljning'!B87=\"Nej\",IF(ISBLANK('Handläggning och uppföljning'!D87),\"\",'Handläggning och uppföljning'!D87),\"\")","v":""}]
[null,{"$f":"IF('Handläggning och uppföljning'!B88=\"Nej\",'Handläggning och uppföljning'!A88,\"\")","v":""},{"$f":"IF('Handläggning och uppföljning'!B88=\"Nej\",'Handläggning och uppföljning'!C88,\"\")","v":""},{"$f":"IF('Handläggning och uppföljning'!B88=\"Nej\",IF(ISBLANK('Handläggning och uppföljning'!D88),\"\",'Handläggning och uppföljning'!D88),\"\")","v":""}]
[null,{"$f":"IF('Handläggning och uppföljning'!B89=\"Nej\",'Handläggning och uppföljning'!A89,\"\")","v":""},{"$f":"IF('Handläggning och uppföljning'!B89=\"Nej\",'Handläggning och uppföljning'!C89,\"\")","v":""},{"$f":"IF('Handläggning och uppföljning'!B89=\"Nej\",IF(ISBLANK('Handläggning och uppföljning'!D89),\"\",'Handläggning och uppföljning'!D89),\"\")","v":""}]
[null,{"$f":"IF('Handläggning och uppföljning'!B90=\"Nej\",'Handläggning och uppföljning'!A90,\"\")","v":""},{"$f":"IF('Handläggning och uppföljning'!B90=\"Nej\",'Handläggning och uppföljning'!C90,\"\")","v":""},{"$f":"IF('Handläggning och uppföljning'!B90=\"Nej\",IF(ISBLANK('Handläggning och uppföljning'!D90),\"\",'Handläggning och uppföljning'!D90),\"\")","v":""}]
[null,{"$f":"IF('Handläggning och uppföljning'!B91=\"Nej\",'Handläggning och uppföljning'!A91,\"\")","v":""},{"$f":"IF('Handläggning och uppföljning'!B91=\"Nej\",'Handläggning och uppföljning'!C91,\"\")","v":""},{"$f":"IF('Handläggning och uppföljning'!B91=\"Nej\",IF(ISBLANK('Handläggning och uppföljning'!D91),\"\",'Handläggning och uppföljning'!D91),\"\")","v":""}]
[null,{"$f":"IF('Handläggning och uppföljning'!B92=\"Nej\",'Handläggning och uppföljning'!A92,\"\")","v":""},{"$f":"IF('Handläggning och uppföljning'!B92=\"Nej\",'Handläggning och uppföljning'!C92,\"\")","v":""},{"$f":"IF('Handläggning och uppföljning'!B92=\"Nej\",IF(ISBLANK('Handläggning och uppföljning'!D92),\"\",'Handläggning och uppföljning'!D92),\"\")","v":""}]
[null,{"$f":"IF('Handläggning och uppföljning'!B93=\"Nej\",'Handläggning och uppföljning'!A93,\"\")","v":""},{"$f":"IF('Handläggning och uppföljning'!B93=\"Nej\",'Handläggning och uppföljning'!C93,\"\")","v":""},{"$f":"IF('Handläggning och uppföljning'!B93=\"Nej\",IF(ISBLANK('Handläggning och uppföljning'!D93),\"\",'Handläggning och uppföljning'!D93),\"\")","v":""}]
[null,{"$f":"IF('Handläggning och uppföljning'!B94=\"Nej\",'Handläggning och uppföljning'!A94,\"\")","v":""},{"$f":"IF('Handläggning och uppföljning'!B94=\"Nej\",'Handläggning och uppföljning'!C94,\"\")","v":""},{"$f":"IF('Handläggning och uppföljning'!B94=\"Nej\",IF(ISBLANK('Handläggning och uppföljning'!D94),\"\",'Handläggning och uppföljning'!D94),\"\")","v":""}]
[null,{"$f":"IF('Handläggning och uppföljning'!B95=\"Nej\",'Handläggning och uppföljning'!A95,\"\")","v":""},{"$f":"IF('Handläggning och uppföljning'!B95=\"Nej\",'Handläggning och uppföljning'!C95,\"\")","v":""},{"$f":"IF('Handläggning och uppföljning'!B95=\"Nej\",IF(ISBLANK('Handläggning och uppföljning'!D95),\"\",'Handläggning och uppföljning'!D95),\"\")","v":""}]
[null,{"$f":"IF('Handläggning och uppföljning'!B96=\"Nej\",'Handläggning och uppföljning'!A96,\"\")","v":""},{"$f":"IF('Handläggning och uppföljning'!B96=\"Nej\",'Handläggning och uppföljning'!C96,\"\")","v":""},{"$f":"IF('Handläggning och uppföljning'!B96=\"Nej\",IF(ISBLANK('Handläggning och uppföljning'!D96),\"\",'Handläggning och uppföljning'!D96),\"\")","v":""}]
[null,{"$f":"IF('Handläggning och uppföljning'!B97=\"Nej\",'Handläggning och uppföljning'!A97,\"\")","v":""},{"$f":"IF('Handläggning och uppföljning'!B97=\"Nej\",'Handläggning och uppföljning'!C97,\"\")","v":""},{"$f":"IF('Handläggning och uppföljning'!B97=\"Nej\",IF(ISBLANK('Handläggning och uppföljning'!D97),\"\",'Handläggning och uppföljning'!D97),\"\")","v":""}]
[null,{"$f":"IF('Handläggning och uppföljning'!B98=\"Nej\",'Handläggning och uppföljning'!A98,\"\")","v":""},{"$f":"IF('Handläggning och uppföljning'!B98=\"Nej\",'Handläggning och uppföljning'!C98,\"\")","v":""},{"$f":"IF('Handläggning och uppföljning'!B98=\"Nej\",IF(ISBLANK('Handläggning och uppföljning'!D98),\"\",'Handläggning och uppföljning'!D98),\"\")","v":""}]
[null,{"$f":"IF('Handläggning och uppföljning'!B99=\"Nej\",'Handläggning och uppföljning'!A99,\"\")","v":""},{"$f":"IF('Handläggning och uppföljning'!B99=\"Nej\",'Handläggning och uppföljning'!C99,\"\")","v":""},{"$f":"IF('Handläggning och uppföljning'!B99=\"Nej\",IF(ISBLANK('Handläggning och uppföljning'!D99),\"\",'Handläggning och uppföljning'!D99),\"\")","v":""}]
[null,{"$f":"IF('Handläggning och uppföljning'!B100=\"Nej\",'Handläggning och uppföljning'!A100,\"\")","v":""},{"$f":"IF('Handläggning och uppföljning'!B100=\"Nej\",'Handläggning och uppföljning'!C100,\"\")","v":""},{"$f":"IF('Handläggning och uppföljning'!B100=\"Nej\",IF(ISBLANK('Handläggning och uppföljning'!D100),\"\",'Handläggning och uppföljning'!D100),\"\")","v":""}]
[null,{"$f":"IF('Handläggning och uppföljning'!B101=\"Nej\",'Handläggning och uppföljning'!A101,\"\")","v":""},{"$f":"IF('Handläggning och uppföljning'!B101=\"Nej\",'Handläggning och uppföljning'!C101,\"\")","v":""},{"$f":"IF('Handläggning och uppföljning'!B101=\"Nej\",IF(ISBLANK('Handläggning och uppföljning'!D101),\"\",'Handläggning och uppföljning'!D101),\"\")","v":""}]
[null,{"$f":"IF('Handläggning och uppföljning'!B102=\"Nej\",'Handläggning och uppföljning'!A102,\"\")","v":""},{"$f":"IF('Handläggning och uppföljning'!B102=\"Nej\",'Handläggning och uppföljning'!C102,\"\")","v":""},{"$f":"IF('Handläggning och uppföljning'!B102=\"Nej\",IF(ISBLANK('Handläggning och uppföljning'!D102),\"\",'Handläggning och uppföljning'!D102),\"\")","v":""}]
[null,{"$f":"IF('Handläggning och uppföljning'!B103=\"Nej\",'Handläggning och uppföljning'!A103,\"\")","v":""},{"$f":"IF('Handläggning och uppföljning'!B103=\"Nej\",'Handläggning och uppföljning'!C103,\"\")","v":""},{"$f":"IF('Handläggning och uppföljning'!B103=\"Nej\",IF(ISBLANK('Handläggning och uppföljning'!D103),\"\",'Handläggning och uppföljning'!D103),\"\")","v":""}]
[null,{"$f":"IF('Handläggning och uppföljning'!B104=\"Nej\",'Handläggning och uppföljning'!A104,\"\")","v":""},{"$f":"IF('Handläggning och uppföljning'!B104=\"Nej\",'Handläggning och uppföljning'!C104,\"\")","v":""},{"$f":"IF('Handläggning och uppföljning'!B104=\"Nej\",IF(ISBLANK('Handläggning och uppföljning'!D104),\"\",'Handläggning och uppföljning'!D104),\"\")","v":""}]
[null,{"$f":"IF('Handläggning och uppföljning'!B105=\"Nej\",'Handläggning och uppföljning'!A105,\"\")","v":""},{"$f":"IF('Handläggning och uppföljning'!B105=\"Nej\",'Handläggning och uppföljning'!C105,\"\")","v":""},{"$f":"IF('Handläggning och uppföljning'!B105=\"Nej\",IF(ISBLANK('Handläggning och uppföljning'!D105),\"\",'Handläggning och uppföljning'!D105),\"\")","v":""}]
[null,{"$f":"IF('Handläggning och uppföljning'!B106=\"Nej\",'Handläggning och uppföljning'!A106,\"\")","v":""},{"$f":"IF('Handläggning och uppföljning'!B106=\"Nej\",'Handläggning och uppföljning'!C106,\"\")","v":""},{"$f":"IF('Handläggning och uppföljning'!B106=\"Nej\",IF(ISBLANK('Handläggning och uppföljning'!D106),\"\",'Handläggning och uppföljning'!D106),\"\")","v":""}]
[null,{"$f":"IF('Handläggning och uppföljning'!B107=\"Nej\",'Handläggning och uppföljning'!A107,\"\")","v":""},{"$f":"IF('Handläggning och uppföljning'!B107=\"Nej\",'Handläggning och uppföljning'!C107,\"\")","v":""},{"$f":"IF('Handläggning och uppföljning'!B107=\"Nej\",IF(ISBLANK('Handläggning och uppföljning'!D107),\"\",'Handläggning och uppföljning'!D107),\"\")","v":""}]
[null,{"$f":"IF('Handläggning och uppföljning'!B108=\"Nej\",'Handläggning och uppföljning'!A108,\"\")","v":""},{"$f":"IF('Handläggning och uppföljning'!B108=\"Nej\",'Handläggning och uppföljning'!C108,\"\")","v":""},{"$f":"IF('Handläggning och uppföljning'!B108=\"Nej\",IF(ISBLANK('Handläggning och uppföljning'!D108),\"\",'Handläggning och uppföljning'!D108),\"\")","v":""}]
[null,{"$f":"IF('Handläggning och uppföljning'!B109=\"Nej\",'Handläggning och uppföljning'!A109,\"\")","v":""},{"$f":"IF('Handläggning och uppföljning'!B109=\"Nej\",'Handläggning och uppföljning'!C109,\"\")","v":""},{"$f":"IF('Handläggning och uppföljning'!B109=\"Nej\",IF(ISBLANK('Handläggning och uppföljning'!D109),\"\",'Handläggning och uppföljning'!D109),\"\")","v":""}]
[null,{"$f":"IF('Handläggning och uppföljning'!B110=\"Nej\",'Handläggning och uppföljning'!A110,\"\")","v":""},{"$f":"IF('Handläggning och uppföljning'!B110=\"Nej\",'Handläggning och uppföljning'!C110,\"\")","v":""},{"$f":"IF('Handläggning och uppföljning'!B110=\"Nej\",IF(ISBLANK('Handläggning och uppföljning'!D110),\"\",'Handläggning och uppföljning'!D110),\"\")","v":""}]
[null,{"$f":"IF('Handläggning och uppföljning'!B111=\"Nej\",'Handläggning och uppföljning'!A111,\"\")","v":""},{"$f":"IF('Handläggning och uppföljning'!B111=\"Nej\",'Handläggning och uppföljning'!C111,\"\")","v":""},{"$f":"IF('Handläggning och uppföljning'!B111=\"Nej\",IF(ISBLANK('Handläggning och uppföljning'!D111),\"\",'Handläggning och uppföljning'!D111),\"\")","v":""}]
[null,{"$f":"IF('Handläggning och uppföljning'!B112=\"Nej\",'Handläggning och uppföljning'!A112,\"\")","v":""},{"$f":"IF('Handläggning och uppföljning'!B112=\"Nej\",'Handläggning och uppföljning'!C112,\"\")","v":""},{"$f":"IF('Handläggning och uppföljning'!B112=\"Nej\",IF(ISBLANK('Handläggning och uppföljning'!D112),\"\",'Handläggning och uppföljning'!D112),\"\")","v":""}]
[null,{"$f":"IF('Handläggning och uppföljning'!B113=\"Nej\",'Handläggning och uppföljning'!A113,\"\")","v":""},{"$f":"IF('Handläggning och uppföljning'!B113=\"Nej\",'Handläggning och uppföljning'!C113,\"\")","v":""},{"$f":"IF('Handläggning och uppföljning'!B113=\"Nej\",IF(ISBLANK('Handläggning och uppföljning'!D113),\"\",'Handläggning och uppföljning'!D113),\"\")","v":""}]
[null,{"$f":"IF('Handläggning och uppföljning'!B114=\"Nej\",'Handläggning och uppföljning'!A114,\"\")","v":""},{"$f":"IF('Handläggning och uppföljning'!B114=\"Nej\",'Handläggning och uppföljning'!C114,\"\")","v":""},{"$f":"IF('Handläggning och uppföljning'!B114=\"Nej\",IF(ISBLANK('Handläggning och uppföljning'!D114),\"\",'Handläggning och uppföljning'!D114),\"\")","v":""}]
[null,{"$f":"IF('Handläggning och uppföljning'!B115=\"Nej\",'Handläggning och uppföljning'!A115,\"\")","v":""},{"$f":"IF('Handläggning och uppföljning'!B115=\"Nej\",'Handläggning och uppföljning'!C115,\"\")","v":""},{"$f":"IF('Handläggning och uppföljning'!B115=\"Nej\",IF(ISBLANK('Handläggning och uppföljning'!D115),\"\",'Handläggning och uppföljning'!D115),\"\")","v":""}]
[null,{"$f":"IF('Handläggning och uppföljning'!B116=\"Nej\",'Handläggning och uppföljning'!A116,\"\")","v":""},{"$f":"IF('Handläggning och uppföljning'!B116=\"Nej\",'Handläggning och uppföljning'!C116,\"\")","v":""},{"$f":"IF('Handläggning och uppföljning'!B116=\"Nej\",IF(ISBLANK('Handläggning och uppföljning'!D116),\"\",'Handläggning och uppföljning'!D116),\"\")","v":""}]
[null,{"$f":"IF('Handläggning och uppföljning'!B117=\"Nej\",'Handläggning och uppföljning'!A117,\"\")","v":""},{"$f":"IF('Handläggning och uppföljning'!B117=\"Nej\",'Handläggning och uppföljning'!C117,\"\")","v":""},{"$f":"IF('Handläggning och uppföljning'!B117=\"Nej\",IF(ISBLANK('Handläggning och uppföljning'!D117),\"\",'Handläggning och uppföljning'!D117),\"\")","v":""}]
[null,{"$f":"IF('Handläggning och uppföljning'!B118=\"Nej\",'Handläggning och uppföljning'!A118,\"\")","v":""},{"$f":"IF('Handläggning och uppföljning'!B118=\"Nej\",'Handläggning och uppföljning'!C118,\"\")","v":""},{"$f":"IF('Handläggning och uppföljning'!B118=\"Nej\",IF(ISBLANK('Handläggning och uppföljning'!D118),\"\",'Handläggning och uppföljning'!D118),\"\")","v":""}]
[null,{"$f":"IF('Handläggning och uppföljning'!B119=\"Nej\",'Handläggning och uppföljning'!A119,\"\")","v":""},{"$f":"IF('Handläggning och uppföljning'!B119=\"Nej\",'Handläggning och uppföljning'!C119,\"\")","v":""},{"$f":"IF('Handläggning och uppföljning'!B119=\"Nej\",IF(ISBLANK('Handläggning och uppföljning'!D119),\"\",'Handläggning och uppföljning'!D119),\"\")","v":""}]
[null,{"$f":"IF('Handläggning och uppföljning'!B120=\"Nej\",'Handläggning och uppföljning'!A120,\"\")","v":""},{"$f":"IF('Handläggning och uppföljning'!B120=\"Nej\",'Handläggning och uppföljning'!C120,\"\")","v":""},{"$f":"IF('Handläggning och uppföljning'!B120=\"Nej\",IF(ISBLANK('Handläggning och uppföljning'!D120),\"\",'Handläggning och uppföljning'!D120),\"\")","v":""}]
[null,{"$f":"IF('Handläggning och uppföljning'!B121=\"Nej\",'Handläggning och uppföljning'!A121,\"\")","v":""},{"$f":"IF('Handläggning och uppföljning'!B121=\"Nej\",'Handläggning och uppföljning'!C121,\"\")","v":""},{"$f":"IF('Handläggning och uppföljning'!B121=\"Nej\",IF(ISBLANK('Handläggning och uppföljning'!D121),\"\",'Handläggning och uppföljning'!D121),\"\")","v":""}]
[null,{"$f":"IF('Handläggning och uppföljning'!B122=\"Nej\",'Handläggning och uppföljning'!A122,\"\")","v":""},{"$f":"IF('Handläggning och uppföljning'!B122=\"Nej\",'Handläggning och uppföljning'!C122,\"\")","v":""},{"$f":"IF('Handläggning och uppföljning'!B122=\"Nej\",IF(ISBLANK('Handläggning och uppföljning'!D122),\"\",'Handläggning och uppföljning'!D122),\"\")","v":""}]
[null,{"$f":"IF('Handläggning och uppföljning'!B123=\"Nej\",'Handläggning och uppföljning'!A123,\"\")","v":""},{"$f":"IF('Handläggning och uppföljning'!B123=\"Nej\",'Handläggning och uppföljning'!C123,\"\")","v":""},{"$f":"IF('Handläggning och uppföljning'!B123=\"Nej\",IF(ISBLANK('Handläggning och uppföljning'!D123),\"\",'Handläggning och uppföljning'!D123),\"\")","v":""}]
[null,{"$f":"IF('Handläggning och uppföljning'!B124=\"Nej\",'Handläggning och uppföljning'!A124,\"\")","v":""},{"$f":"IF('Handläggning och uppföljning'!B124=\"Nej\",'Handläggning och uppföljning'!C124,\"\")","v":""},{"$f":"IF('Handläggning och uppföljning'!B124=\"Nej\",IF(ISBLANK('Handläggning och uppföljning'!D124),\"\",'Handläggning och uppföljning'!D124),\"\")","v":""}]
[null,{"$f":"IF('Handläggning och uppföljning'!B125=\"Nej\",'Handläggning och uppföljning'!A125,\"\")","v":""},{"$f":"IF('Handläggning och uppföljning'!B125=\"Nej\",'Handläggning och uppföljning'!C125,\"\")","v":""},{"$f":"IF('Handläggning och uppföljning'!B125=\"Nej\",IF(ISBLANK('Handläggning och uppföljning'!D125),\"\",'Handläggning och uppföljning'!D125),\"\")","v":""}]
[null,{"$f":"IF('Handläggning och uppföljning'!B126=\"Nej\",'Handläggning och uppföljning'!A126,\"\")","v":""},{"$f":"IF('Handläggning och uppföljning'!B126=\"Nej\",'Handläggning och uppföljning'!C126,\"\")","v":""},{"$f":"IF('Handläggning och uppföljning'!B126=\"Nej\",IF(ISBLANK('Handläggning och uppföljning'!D126),\"\",'Handläggning och uppföljning'!D126),\"\")","v":""}]
[null,{"$f":"IF('Handläggning och uppföljning'!B127=\"Nej\",'Handläggning och uppföljning'!A127,\"\")","v":""},{"$f":"IF('Handläggning och uppföljning'!B127=\"Nej\",'Handläggning och uppföljning'!C127,\"\")","v":""},{"$f":"IF('Handläggning och uppföljning'!B127=\"Nej\",IF(ISBLANK('Handläggning och uppföljning'!D127),\"\",'Handläggning och uppföljning'!D127),\"\")","v":""}]
[null,{"$f":"IF('Handläggning och uppföljning'!B128=\"Nej\",'Handläggning och uppföljning'!A128,\"\")","v":""},{"$f":"IF('Handläggning och uppföljning'!B128=\"Nej\",'Handläggning och uppföljning'!C128,\"\")","v":""},{"$f":"IF('Handläggning och uppföljning'!B128=\"Nej\",IF(ISBLANK('Handläggning och uppföljning'!D128),\"\",'Handläggning och uppföljning'!D128),\"\")","v":""}]
[null,{"$f":"IF('Handläggning och uppföljning'!B129=\"Nej\",'Handläggning och uppföljning'!A129,\"\")","v":""},{"$f":"IF('Handläggning och uppföljning'!B129=\"Nej\",'Handläggning och uppföljning'!C129,\"\")","v":""},{"$f":"IF('Handläggning och uppföljning'!B129=\"Nej\",IF(ISBLANK('Handläggning och uppföljning'!D129),\"\",'Handläggning och uppföljning'!D129),\"\")","v":""}]
[null,{"$f":"IF('Handläggning och uppföljning'!B130=\"Nej\",'Handläggning och uppföljning'!A130,\"\")","v":""},{"$f":"IF('Handläggning och uppföljning'!B130=\"Nej\",'Handläggning och uppföljning'!C130,\"\")","v":""},{"$f":"IF('Handläggning och uppföljning'!B130=\"Nej\",IF(ISBLANK('Handläggning och uppföljning'!D130),\"\",'Handläggning och uppföljning'!D130),\"\")","v":""}]
[null,{"$f":"IF('Handläggning och uppföljning'!B131=\"Nej\",'Handläggning och uppföljning'!A131,\"\")","v":""},{"$f":"IF('Handläggning och uppföljning'!B131=\"Nej\",'Handläggning och uppföljning'!C131,\"\")","v":""},{"$f":"IF('Handläggning och uppföljning'!B131=\"Nej\",IF(ISBLANK('Handläggning och uppföljning'!D131),\"\",'Handläggning och uppföljning'!D131),\"\")","v":""}]
[null,{"$f":"IF('Handläggning och uppföljning'!B132=\"Nej\",'Handläggning och uppföljning'!A132,\"\")","v":""},{"$f":"IF('Handläggning och uppföljning'!B132=\"Nej\",'Handläggning och uppföljning'!C132,\"\")","v":""},{"$f":"IF('Handläggning och uppföljning'!B132=\"Nej\",IF(ISBLANK('Handläggning och uppföljning'!D132),\"\",'Handläggning och uppföljning'!D132),\"\")","v":""}]
[null,{"$f":"IF('Handläggning och uppföljning'!B133=\"Nej\",'Handläggning och uppföljning'!A133,\"\")","v":""},{"$f":"IF('Handläggning och uppföljning'!B133=\"Nej\",'Handläggning och uppföljning'!C133,\"\")","v":""},{"$f":"IF('Handläggning och uppföljning'!B133=\"Nej\",IF(ISBLANK('Handläggning och uppföljning'!D133),\"\",'Handläggning och uppföljning'!D133),\"\")","v":""}]
[null,{"$f":"IF('Handläggning och uppföljning'!B134=\"Nej\",'Handläggning och uppföljning'!A134,\"\")","v":""},{"$f":"IF('Handläggning och uppföljning'!B134=\"Nej\",'Handläggning och uppföljning'!C134,\"\")","v":""},{"$f":"IF('Handläggning och uppföljning'!B134=\"Nej\",IF(ISBLANK('Handläggning och uppföljning'!D134),\"\",'Handläggning och uppföljning'!D134),\"\")","v":""}]
[null,{"$f":"IF('Handläggning och uppföljning'!B135=\"Nej\",'Handläggning och uppföljning'!A135,\"\")","v":""},{"$f":"IF('Handläggning och uppföljning'!B135=\"Nej\",'Handläggning och uppföljning'!C135,\"\")","v":""},{"$f":"IF('Handläggning och uppföljning'!B135=\"Nej\",IF(ISBLANK('Handläggning och uppföljning'!D135),\"\",'Handläggning och uppföljning'!D135),\"\")","v":""}]
[null,{"$f":"IF('Handläggning och uppföljning'!B136=\"Nej\",'Handläggning och uppföljning'!A136,\"\")","v":""},{"$f":"IF('Handläggning och uppföljning'!B136=\"Nej\",'Handläggning och uppföljning'!C136,\"\")","v":""},{"$f":"IF('Handläggning och uppföljning'!B136=\"Nej\",IF(ISBLANK('Handläggning och uppföljning'!D136),\"\",'Handläggning och uppföljning'!D136),\"\")","v":""}]
[null,{"$f":"IF('Handläggning och uppföljning'!B137=\"Nej\",'Handläggning och uppföljning'!A137,\"\")","v":""},{"$f":"IF('Handläggning och uppföljning'!B137=\"Nej\",'Handläggning och uppföljning'!C137,\"\")","v":""},{"$f":"IF('Handläggning och uppföljning'!B137=\"Nej\",IF(ISBLANK('Handläggning och uppföljning'!D137),\"\",'Handläggning och uppföljning'!D137),\"\")","v":""}]
[null,{"$f":"IF('Handläggning och uppföljning'!B138=\"Nej\",'Handläggning och uppföljning'!A138,\"\")","v":""},{"$f":"IF('Handläggning och uppföljning'!B138=\"Nej\",'Handläggning och uppföljning'!C138,\"\")","v":""},{"$f":"IF('Handläggning och uppföljning'!B138=\"Nej\",IF(ISBLANK('Handläggning och uppföljning'!D138),\"\",'Handläggning och uppföljning'!D138),\"\")","v":""}]
[null,{"$f":"IF('Handläggning och uppföljning'!B139=\"Nej\",'Handläggning och uppföljning'!A139,\"\")","v":""},{"$f":"IF('Handläggning och uppföljning'!B139=\"Nej\",'Handläggning och uppföljning'!C139,\"\")","v":""},{"$f":"IF('Handläggning och uppföljning'!B139=\"Nej\",IF(ISBLANK('Handläggning och uppföljning'!D139),\"\",'Handläggning och uppföljning'!D139),\"\")","v":""}]
[null,{"$f":"IF('Handläggning och uppföljning'!B140=\"Nej\",'Handläggning och uppföljning'!A140,\"\")","v":""},{"$f":"IF('Handläggning och uppföljning'!B140=\"Nej\",'Handläggning och uppföljning'!C140,\"\")","v":""},{"$f":"IF('Handläggning och uppföljning'!B140=\"Nej\",IF(ISBLANK('Handläggning och uppföljning'!D140),\"\",'Handläggning och uppföljning'!D140),\"\")","v":""}]
[null,{"$f":"IF('Handläggning och uppföljning'!B141=\"Nej\",'Handläggning och uppföljning'!A141,\"\")","v":""},{"$f":"IF('Handläggning och uppföljning'!B141=\"Nej\",'Handläggning och uppföljning'!C141,\"\")","v":""},{"$f":"IF('Handläggning och uppföljning'!B141=\"Nej\",IF(ISBLANK('Handläggning och uppföljning'!D141),\"\",'Handläggning och uppföljning'!D141),\"\")","v":""}]
[null,{"$f":"IF('Handläggning och uppföljning'!B142=\"Nej\",'Handläggning och uppföljning'!A142,\"\")","v":""},{"$f":"IF('Handläggning och uppföljning'!B142=\"Nej\",'Handläggning och uppföljning'!C142,\"\")","v":""},{"$f":"IF('Handläggning och uppföljning'!B142=\"Nej\",IF(ISBLANK('Handläggning och uppföljning'!D142),\"\",'Handläggning och uppföljning'!D142),\"\")","v":""}]
[null,{"$f":"IF('Handläggning och uppföljning'!B143=\"Nej\",'Handläggning och uppföljning'!A143,\"\")","v":""},{"$f":"IF('Handläggning och uppföljning'!B143=\"Nej\",'Handläggning och uppföljning'!C143,\"\")","v":""},{"$f":"IF('Handläggning och uppföljning'!B143=\"Nej\",IF(ISBLANK('Handläggning och uppföljning'!D143),\"\",'Handläggning och uppföljning'!D143),\"\")","v":""}]
[null,{"$f":"IF('Handläggning och uppföljning'!B144=\"Nej\",'Handläggning och uppföljning'!A144,\"\")","v":""},{"$f":"IF('Handläggning och uppföljning'!B144=\"Nej\",'Handläggning och uppföljning'!C144,\"\")","v":""},{"$f":"IF('Handläggning och uppföljning'!B144=\"Nej\",IF(ISBLANK('Handläggning och uppföljning'!D144),\"\",'Handläggning och uppföljning'!D144),\"\")","v":""}]
[null,{"$f":"IF('Handläggning och uppföljning'!B145=\"Nej\",'Handläggning och uppföljning'!A145,\"\")","v":""},{"$f":"IF('Handläggning och uppföljning'!B145=\"Nej\",'Handläggning och uppföljning'!C145,\"\")","v":""},{"$f":"IF('Handläggning och uppföljning'!B145=\"Nej\",IF(ISBLANK('Handläggning och uppföljning'!D145),\"\",'Handläggning och uppföljning'!D145),\"\")","v":""}]
[null,{"$f":"IF('Handläggning och uppföljning'!B146=\"Nej\",'Handläggning och uppföljning'!A146,\"\")","v":""},{"$f":"IF('Handläggning och uppföljning'!B146=\"Nej\",'Handläggning och uppföljning'!C146,\"\")","v":""},{"$f":"IF('Handläggning och uppföljning'!B146=\"Nej\",IF(ISBLANK('Handläggning och uppföljning'!D146),\"\",'Handläggning och uppföljning'!D146),\"\")","v":""}]
[null,{"$f":"IF('Handläggning och uppföljning'!B147=\"Nej\",'Handläggning och uppföljning'!A147,\"\")","v":""},{"$f":"IF('Handläggning och uppföljning'!B147=\"Nej\",'Handläggning och uppföljning'!C147,\"\")","v":""},{"$f":"IF('Handläggning och uppföljning'!B147=\"Nej\",IF(ISBLANK('Handläggning och uppföljning'!D147),\"\",'Handläggning och uppföljning'!D147),\"\")","v":""}]
[null,{"$f":"IF('Handläggning och uppföljning'!B148=\"Nej\",'Handläggning och uppföljning'!A148,\"\")","v":""},{"$f":"IF('Handläggning och uppföljning'!B148=\"Nej\",'Handläggning och uppföljning'!C148,\"\")","v":""},{"$f":"IF('Handläggning och uppföljning'!B148=\"Nej\",IF(ISBLANK('Handläggning och uppföljning'!D148),\"\",'Handläggning och uppföljning'!D148),\"\")","v":""}]
[null,{"$f":"IF('Handläggning och uppföljning'!B149=\"Nej\",'Handläggning och uppföljning'!A149,\"\")","v":""},{"$f":"IF('Handläggning och uppföljning'!B149=\"Nej\",'Handläggning och uppföljning'!C149,\"\")","v":""},{"$f":"IF('Handläggning och uppföljning'!B149=\"Nej\",IF(ISBLANK('Handläggning och uppföljning'!D149),\"\",'Handläggning och uppföljning'!D149),\"\")","v":""}]
[null,{"$f":"IF('Handläggning och uppföljning'!B150=\"Nej\",'Handläggning och uppföljning'!A150,\"\")","v":""},{"$f":"IF('Handläggning och uppföljning'!B150=\"Nej\",'Handläggning och uppföljning'!C150,\"\")","v":""},{"$f":"IF('Handläggning och uppföljning'!B150=\"Nej\",IF(ISBLANK('Handläggning och uppföljning'!D150),\"\",'Handläggning och uppföljning'!D150),\"\")","v":""}]
[null,{"$f":"IF('Handläggning och uppföljning'!B151=\"Nej\",'Handläggning och uppföljning'!A151,\"\")","v":""},{"$f":"IF('Handläggning och uppföljning'!B151=\"Nej\",'Handläggning och uppföljning'!C151,\"\")","v":""},{"$f":"IF('Handläggning och uppföljning'!B151=\"Nej\",IF(ISBLANK('Handläggning och uppföljning'!D151),\"\",'Handläggning och uppföljning'!D151),\"\")","v":""}]
[null,{"$f":"IF('Handläggning och uppföljning'!B152=\"Nej\",'Handläggning och uppföljning'!A152,\"\")","v":""},{"$f":"IF('Handläggning och uppföljning'!B152=\"Nej\",'Handläggning och uppföljning'!C152,\"\")","v":""},{"$f":"IF('Handläggning och uppföljning'!B152=\"Nej\",IF(ISBLANK('Handläggning och uppföljning'!D152),\"\",'Handläggning och uppföljning'!D152),\"\")","v":""}]
[null,{"$f":"IF('Handläggning och uppföljning'!B153=\"Nej\",'Handläggning och uppföljning'!A153,\"\")","v":""},{"$f":"IF('Handläggning och uppföljning'!B153=\"Nej\",'Handläggning och uppföljning'!C153,\"\")","v":""},{"$f":"IF('Handläggning och uppföljning'!B153=\"Nej\",IF(ISBLANK('Handläggning och uppföljning'!D153),\"\",'Handläggning och uppföljning'!D153),\"\")","v":""}]
[null,{"$f":"IF('Handläggning och uppföljning'!B154=\"Nej\",'Handläggning och uppföljning'!A154,\"\")","v":""},{"$f":"IF('Handläggning och uppföljning'!B154=\"Nej\",'Handläggning och uppföljning'!C154,\"\")","v":""},{"$f":"IF('Handläggning och uppföljning'!B154=\"Nej\",IF(ISBLANK('Handläggning och uppföljning'!D154),\"\",'Handläggning och uppföljning'!D154),\"\")","v":""}]
[null,{"$f":"IF('Handläggning och uppföljning'!B155=\"Nej\",'Handläggning och uppföljning'!A155,\"\")","v":""},{"$f":"IF('Handläggning och uppföljning'!B155=\"Nej\",'Handläggning och uppföljning'!C155,\"\")","v":""},{"$f":"IF('Handläggning och uppföljning'!B155=\"Nej\",IF(ISBLANK('Handläggning och uppföljning'!D155),\"\",'Handläggning och uppföljning'!D155),\"\")","v":""}]
[null,{"$f":"IF('Handläggning och uppföljning'!B156=\"Nej\",'Handläggning och uppföljning'!A156,\"\")","v":""},{"$f":"IF('Handläggning och uppföljning'!B156=\"Nej\",'Handläggning och uppföljning'!C156,\"\")","v":""},{"$f":"IF('Handläggning och uppföljning'!B156=\"Nej\",IF(ISBLANK('Handläggning och uppföljning'!D156),\"\",'Handläggning och uppföljning'!D156),\"\")","v":""}]
[null,{"$f":"IF(Insatser!B4=\"Nej\",Insatser!A4,\"\")","v":""},{"$f":"IF(Insatser!B4=\"Nej\",Insatser!C4,\"\")","v":""},{"$f":"IF(Insatser!B4=\"Nej\",IF(ISBLANK(Insatser!D4),\"\",Insatser!D4),\"\")","v":""}]
[null,{"$f":"IF(Insatser!B5=\"Nej\",Insatser!A5,\"\")","v":""},{"$f":"IF(Insatser!B5=\"Nej\",Insatser!C5,\"\")","v":""},{"$f":"IF(Insatser!B5=\"Nej\",IF(ISBLANK(Insatser!D5),\"\",Insatser!D5),\"\")","v":""}]
[null,{"$f":"IF(Insatser!B6=\"Nej\",Insatser!A6,\"\")","v":""},{"$f":"IF(Insatser!B6=\"Nej\",Insatser!C6,\"\")","v":""},{"$f":"IF(Insatser!B6=\"Nej\",IF(ISBLANK(Insatser!D6),\"\",Insatser!D6),\"\")","v":""}]
[null,{"$f":"IF(Insatser!B7=\"Nej\",Insatser!A7,\"\")","v":""},{"$f":"IF(Insatser!B7=\"Nej\",Insatser!C7,\"\")","v":""},{"$f":"IF(Insatser!B7=\"Nej\",IF(ISBLANK(Insatser!D7),\"\",Insatser!D7),\"\")","v":""}]
[null,{"$f":"IF(Insatser!B8=\"Nej\",Insatser!A8,\"\")","v":""},{"$f":"IF(Insatser!B8=\"Nej\",Insatser!C8,\"\")","v":""},{"$f":"IF(Insatser!B8=\"Nej\",IF(ISBLANK(Insatser!D8),\"\",Insatser!D8),\"\")","v":""}]
[null,{"$f":"IF(Insatser!B9=\"Nej\",Insatser!A9,\"\")","v":""},{"$f":"IF(Insatser!B9=\"Nej\",Insatser!C9,\"\")","v":""},{"$f":"IF(Insatser!B9=\"Nej\",IF(ISBLANK(Insatser!D9),\"\",Insatser!D9),\"\")","v":""}]
[null,{"$f":"IF(Insatser!B10=\"Nej\",Insatser!A10,\"\")","v":""},{"$f":"IF(Insatser!B10=\"Nej\",Insatser!C10,\"\")","v":""},{"$f":"IF(Insatser!B10=\"Nej\",IF(ISBLANK(Insatser!D10),\"\",Insatser!D10),\"\")","v":""}]
[null,{"$f":"IF(Insatser!B11=\"Nej\",Insatser!A11,\"\")","v":""},{"$f":"IF(Insatser!B11=\"Nej\",Insatser!C11,\"\")","v":""},{"$f":"IF(Insatser!B11=\"Nej\",IF(ISBLANK(Insatser!D11),\"\",Insatser!D11),\"\")","v":""}]
[null,{"$f":"IF(Insatser!B12=\"Nej\",Insatser!A12,\"\")","v":""},{"$f":"IF(Insatser!B12=\"Nej\",Insatser!C12,\"\")","v":""},{"$f":"IF(Insatser!B12=\"Nej\",IF(ISBLANK(Insatser!D12),\"\",Insatser!D12),\"\")","v":""}]
[null,{"$f":"IF(Insatser!B13=\"Nej\",Insatser!A13,\"\")","v":""},{"$f":"IF(Insatser!B13=\"Nej\",Insatser!C13,\"\")","v":""},{"$f":"IF(Insatser!B13=\"Nej\",IF(ISBLANK(Insatser!D13),\"\",Insatser!D13),\"\")","v":""}]
[null,{"$f":"IF(Insatser!B14=\"Nej\",Insatser!A14,\"\")","v":""},{"$f":"IF(Insatser!B14=\"Nej\",Insatser!C14,\"\")","v":""},{"$f":"IF(Insatser!B14=\"Nej\",IF(ISBLANK(Insatser!D14),\"\",Insatser!D14),\"\")","v":""}]
[null,{"$f":"IF(Insatser!B15=\"Nej\",Insatser!A15,\"\")","v":""},{"$f":"IF(Insatser!B15=\"Nej\",Insatser!C15,\"\")","v":""},{"$f":"IF(Insatser!B15=\"Nej\",IF(ISBLANK(Insatser!D15),\"\",Insatser!D15),\"\")","v":""}]
[null,{"$f":"IF(Insatser!B16=\"Nej\",Insatser!A16,\"\")","v":""},{"$f":"IF(Insatser!B16=\"Nej\",Insatser!C16,\"\")","v":""},{"$f":"IF(Insatser!B16=\"Nej\",IF(ISBLANK(Insatser!D16),\"\",Insatser!D16),\"\")","v":""}]
[null,{"$f":"IF(Insatser!B17=\"Nej\",Insatser!A17,\"\")","v":""},{"$f":"IF(Insatser!B17=\"Nej\",Insatser!C17,\"\")","v":""},{"$f":"IF(Insatser!B17=\"Nej\",IF(ISBLANK(Insatser!D17),\"\",Insatser!D17),\"\")","v":""}]
[null,{"$f":"IF(Insatser!B18=\"Nej\",Insatser!A18,\"\")","v":""},{"$f":"IF(Insatser!B18=\"Nej\",Insatser!C18,\"\")","v":""},{"$f":"IF(Insatser!B18=\"Nej\",IF(ISBLANK(Insatser!D18),\"\",Insatser!D18),\"\")","v":""}]
[null,{"$f":"IF(Insatser!B19=\"Nej\",Insatser!A19,\"\")","v":""},{"$f":"IF(Insatser!B19=\"Nej\",Insatser!C19,\"\")","v":""},{"$f":"IF(Insatser!B19=\"Nej\",IF(ISBLANK(Insatser!D19),\"\",Insatser!D19),\"\")","v":""}]
[null,{"$f":"IF(Insatser!B20=\"Nej\",Insatser!A20,\"\")","v":""},{"$f":"IF(Insatser!B20=\"Nej\",Insatser!C20,\"\")","v":""},{"$f":"IF(Insatser!B20=\"Nej\",IF(ISBLANK(Insatser!D20),\"\",Insatser!D20),\"\")","v":""}]
[null,{"$f":"IF(Insatser!B21=\"Nej\",Insatser!A21,\"\")","v":""},{"$f":"IF(Insatser!B21=\"Nej\",Insatser!C21,\"\")","v":""},{"$f":"IF(Insatser!B21=\"Nej\",IF(ISBLANK(Insatser!D21),\"\",Insatser!D21),\"\")","v":""}]
[null,{"$f":"IF(Insatser!B22=\"Nej\",Insatser!A22,\"\")","v":""},{"$f":"IF(Insatser!B22=\"Nej\",Insatser!C22,\"\")","v":""},{"$f":"IF(Insatser!B22=\"Nej\",IF(ISBLANK(Insatser!D22),\"\",Insatser!D22),\"\")","v":""}]
[null,{"$f":"IF(Insatser!B23=\"Nej\",Insatser!A23,\"\")","v":""},{"$f":"IF(Insatser!B23=\"Nej\",Insatser!C23,\"\")","v":""},{"$f":"IF(Insatser!B23=\"Nej\",IF(ISBLANK(Insatser!D23),\"\",Insatser!D23),\"\")","v":""}]
[null,{"$f":"IF(Insatser!B24=\"Nej\",Insatser!A24,\"\")","v":""},{"$f":"IF(Insatser!B24=\"Nej\",Insatser!C24,\"\")","v":""},{"$f":"IF(Insatser!B24=\"Nej\",IF(ISBLANK(Insatser!D24),\"\",Insatser!D24),\"\")","v":""}]
[null,{"$f":"IF(Insatser!B25=\"Nej\",Insatser!A25,\"\")","v":""},{"$f":"IF(Insatser!B25=\"Nej\",Insatser!C25,\"\")","v":""},{"$f":"IF(Insatser!B25=\"Nej\",IF(ISBLANK(Insatser!D25),\"\",Insatser!D25),\"\")","v":""}]
[null,{"$f":"IF(Insatser!B26=\"Nej\",Insatser!A26,\"\")","v":""},{"$f":"IF(Insatser!B26=\"Nej\",Insatser!C26,\"\")","v":""},{"$f":"IF(Insatser!B26=\"Nej\",IF(ISBLANK(Insatser!D26),\"\",Insatser!D26),\"\")","v":""}]
[null,{"$f":"IF(Insatser!B27=\"Nej\",Insatser!A27,\"\")","v":""},{"$f":"IF(Insatser!B27=\"Nej\",Insatser!C27,\"\")","v":""},{"$f":"IF(Insatser!B27=\"Nej\",IF(ISBLANK(Insatser!D27),\"\",Insatser!D27),\"\")","v":""}]
[null,{"$f":"IF(Insatser!B28=\"Nej\",Insatser!A28,\"\")","v":""},{"$f":"IF(Insatser!B28=\"Nej\",Insatser!C28,\"\")","v":""},{"$f":"IF(Insatser!B28=\"Nej\",IF(ISBLANK(Insatser!D28),\"\",Insatser!D28),\"\")","v":""}]
[null,{"$f":"IF(Insatser!B29=\"Nej\",Insatser!A29,\"\")","v":""},{"$f":"IF(Insatser!B29=\"Nej\",Insatser!C29,\"\")","v":""},{"$f":"IF(Insatser!B29=\"Nej\",IF(ISBLANK(Insatser!D29),\"\",Insatser!D29),\"\")","v":""}]
[null,{"$f":"IF(Insatser!B30=\"Nej\",Insatser!A30,\"\")","v":""},{"$f":"IF(Insatser!B30=\"Nej\",Insatser!C30,\"\")","v":""},{"$f":"IF(Insatser!B30=\"Nej\",IF(ISBLANK(Insatser!D30),\"\",Insatser!D30),\"\")","v":""}]
[null,{"$f":"IF(Insatser!B31=\"Nej\",Insatser!A31,\"\")","v":""},{"$f":"IF(Insatser!B31=\"Nej\",Insatser!C31,\"\")","v":""},{"$f":"IF(Insatser!B31=\"Nej\",IF(ISBLANK(Insatser!D31),\"\",Insatser!D31),\"\")","v":""}]
[null,{"$f":"IF(Insatser!B32=\"Nej\",Insatser!A32,\"\")","v":""},{"$f":"IF(Insatser!B32=\"Nej\",Insatser!C32,\"\")","v":""},{"$f":"IF(Insatser!B32=\"Nej\",IF(ISBLANK(Insatser!D32),\"\",Insatser!D32),\"\")","v":""}]
[null,{"$f":"IF(Insatser!B33=\"Nej\",Insatser!A33,\"\")","v":""},{"$f":"IF(Insatser!B33=\"Nej\",Insatser!C33,\"\")","v":""},{"$f":"IF(Insatser!B33=\"Nej\",IF(ISBLANK(Insatser!D33),\"\",Insatser!D33),\"\")","v":""}]
[null,{"$f":"IF(Insatser!B34=\"Nej\",Insatser!A34,\"\")","v":""},{"$f":"IF(Insatser!B34=\"Nej\",Insatser!C34,\"\")","v":""},{"$f":"IF(Insatser!B34=\"Nej\",IF(ISBLANK(Insatser!D34),\"\",Insatser!D34),\"\")","v":""}]
[null,{"$f":"IF(Insatser!B35=\"Nej\",Insatser!A35,\"\")","v":""},{"$f":"IF(Insatser!B35=\"Nej\",Insatser!C35,\"\")","v":""},{"$f":"IF(Insatser!B35=\"Nej\",IF(ISBLANK(Insatser!D35),\"\",Insatser!D35),\"\")","v":""}]
[null,{"$f":"IF(Insatser!B36=\"Nej\",Insatser!A36,\"\")","v":""},{"$f":"IF(Insatser!B36=\"Nej\",Insatser!C36,\"\")","v":""},{"$f":"IF(Insatser!B36=\"Nej\",IF(ISBLANK(Insatser!D36),\"\",Insatser!D36),\"\")","v":""}]
[null,{"$f":"IF(Insatser!B37=\"Nej\",Insatser!A37,\"\")","v":""},{"$f":"IF(Insatser!B37=\"Nej\",Insatser!C37,\"\")","v":""},{"$f":"IF(Insatser!B37=\"Nej\",IF(ISBLANK(Insatser!D37),\"\",Insatser!D37),\"\")","v":""}]
[null,{"$f":"IF(Insatser!B38=\"Nej\",Insatser!A38,\"\")","v":""},{"$f":"IF(Insatser!B38=\"Nej\",Insatser!C38,\"\")","v":""},{"$f":"IF(Insatser!B38=\"Nej\",IF(ISBLANK(Insatser!D38),\"\",Insatser!D38),\"\")","v":""}]
[null,{"$f":"IF(Insatser!B39=\"Nej\",Insatser!A39,\"\")","v":""},{"$f":"IF(Insatser!B39=\"Nej\",Insatser!C39,\"\")","v":""},{"$f":"IF(Insatser!B39=\"Nej\",IF(ISBLANK(Insatser!D39),\"\",Insatser!D39),\"\")","v":""}]
[null,{"$f":"IF(Insatser!B40=\"Nej\",Insatser!A40,\"\")","v":""},{"$f":"IF(Insatser!B40=\"Nej\",Insatser!C40,\"\")","v":""},{"$f":"IF(Insatser!B40=\"Nej\",IF(ISBLANK(Insatser!D40),\"\",Insatser!D40),\"\")","v":""}]
[null,{"$f":"IF(Insatser!B41=\"Nej\",Insatser!A41,\"\")","v":""},{"$f":"IF(Insatser!B41=\"Nej\",Insatser!C41,\"\")","v":""},{"$f":"IF(Insatser!B41=\"Nej\",IF(ISBLANK(Insatser!D41),\"\",Insatser!D41),\"\")","v":""}]
[null,{"$f":"IF(Insatser!B42=\"Nej\",Insatser!A42,\"\")","v":""},{"$f":"IF(Insatser!B42=\"Nej\",Insatser!C42,\"\")","v":""},{"$f":"IF(Insatser!B42=\"Nej\",IF(ISBLANK(Insatser!D42),\"\",Insatser!D42),\"\")","v":""}]
[null,{"$f":"IF(Insatser!B43=\"Nej\",Insatser!A43,\"\")","v":""},{"$f":"IF(Insatser!B43=\"Nej\",Insatser!C43,\"\")","v":""},{"$f":"IF(Insatser!B43=\"Nej\",IF(ISBLANK(Insatser!D43),\"\",Insatser!D43),\"\")","v":""}]
[null,{"$f":"IF(Insatser!B44=\"Nej\",Insatser!A44,\"\")","v":""},{"$f":"IF(Insatser!B44=\"Nej\",Insatser!C44,\"\")","v":""},{"$f":"IF(Insatser!B44=\"Nej\",IF(ISBLANK(Insatser!D44),\"\",Insatser!D44),\"\")","v":""}]
[null,{"$f":"IF(Insatser!B45=\"Nej\",Insatser!A45,\"\")","v":""},{"$f":"IF(Insatser!B45=\"Nej\",Insatser!C45,\"\")","v":""},{"$f":"IF(Insatser!B45=\"Nej\",IF(ISBLANK(Insatser!D45),\"\",Insatser!D45),\"\")","v":""}]
[null,{"$f":"IF(Insatser!B46=\"Nej\",Insatser!A46,\"\")","v":""},{"$f":"IF(Insatser!B46=\"Nej\",Insatser!C46,\"\")","v":""},{"$f":"IF(Insatser!B46=\"Nej\",IF(ISBLANK(Insatser!D46),\"\",Insatser!D46),\"\")","v":""}]
[null,{"$f":"IF(Insatser!B47=\"Nej\",Insatser!A47,\"\")","v":""},{"$f":"IF(Insatser!B47=\"Nej\",Insatser!C47,\"\")","v":""},{"$f":"IF(Insatser!B47=\"Nej\",IF(ISBLANK(Insatser!D47),\"\",Insatser!D47),\"\")","v":""}]
[null,{"$f":"IF(Insatser!B48=\"Nej\",Insatser!A48,\"\")","v":""},{"$f":"IF(Insatser!B48=\"Nej\",Insatser!C48,\"\")","v":""},{"$f":"IF(Insatser!B48=\"Nej\",IF(ISBLANK(Insatser!D48),\"\",Insatser!D48),\"\")","v":""}]
[null,{"$f":"IF(Insatser!B49=\"Nej\",Insatser!A49,\"\")","v":""},{"$f":"IF(Insatser!B49=\"Nej\",Insatser!C49,\"\")","v":""},{"$f":"IF(Insatser!B49=\"Nej\",IF(ISBLANK(Insatser!D49),\"\",Insatser!D49),\"\")","v":""}]
[null,{"$f":"IF(Insatser!B50=\"Nej\",Insatser!A50,\"\")","v":""},{"$f":"IF(Insatser!B50=\"Nej\",Insatser!C50,\"\")","v":""},{"$f":"IF(Insatser!B50=\"Nej\",IF(ISBLANK(Insatser!D50),\"\",Insatser!D50),\"\")","v":""}]
[null,{"$f":"IF(Insatser!B51=\"Nej\",Insatser!A51,\"\")","v":""},{"$f":"IF(Insatser!B51=\"Nej\",Insatser!C51,\"\")","v":""},{"$f":"IF(Insatser!B51=\"Nej\",IF(ISBLANK(Insatser!D51),\"\",Insatser!D51),\"\")","v":""}]
[null,{"$f":"IF(Insatser!B52=\"Nej\",Insatser!A52,\"\")","v":""},{"$f":"IF(Insatser!B52=\"Nej\",Insatser!C52,\"\")","v":""},{"$f":"IF(Insatser!B52=\"Nej\",IF(ISBLANK(Insatser!D52),\"\",Insatser!D52),\"\")","v":""}]
[null,{"$f":"IF(Insatser!B53=\"Nej\",Insatser!A53,\"\")","v":""},{"$f":"IF(Insatser!B53=\"Nej\",Insatser!C53,\"\")","v":""},{"$f":"IF(Insatser!B53=\"Nej\",IF(ISBLANK(Insatser!D53),\"\",Insatser!D53),\"\")","v":""}]
[null,{"$f":"IF(Insatser!B54=\"Nej\",Insatser!A54,\"\")","v":""},{"$f":"IF(Insatser!B54=\"Nej\",Insatser!C54,\"\")","v":""},{"$f":"IF(Insatser!B54=\"Nej\",IF(ISBLANK(Insatser!D54),\"\",Insatser!D54),\"\")","v":""}]
[null,{"$f":"IF(Insatser!B55=\"Nej\",Insatser!A55,\"\")","v":""},{"$f":"IF(Insatser!B55=\"Nej\",Insatser!C55,\"\")","v":""},{"$f":"IF(Insatser!B55=\"Nej\",IF(ISBLANK(Insatser!D55),\"\",Insatser!D55),\"\")","v":""}]
[null,{"$f":"IF(Insatser!B56=\"Nej\",Insatser!A56,\"\")","v":""},{"$f":"IF(Insatser!B56=\"Nej\",Insatser!C56,\"\")","v":""},{"$f":"IF(Insatser!B56=\"Nej\",IF(ISBLANK(Insatser!D56),\"\",Insatser!D56),\"\")","v":""}]
[null,{"$f":"IF(Insatser!B57=\"Nej\",Insatser!A57,\"\")","v":""},{"$f":"IF(Insatser!B57=\"Nej\",Insatser!C57,\"\")","v":""},{"$f":"IF(Insatser!B57=\"Nej\",IF(ISBLANK(Insatser!D57),\"\",Insatser!D57),\"\")","v":""}]
[null,{"$f":"IF(Insatser!B58=\"Nej\",Insatser!A58,\"\")","v":""},{"$f":"IF(Insatser!B58=\"Nej\",Insatser!C58,\"\")","v":""},{"$f":"IF(Insatser!B58=\"Nej\",IF(ISBLANK(Insatser!D58),\"\",Insatser!D58),\"\")","v":""}]
[null,{"$f":"IF(Insatser!B59=\"Nej\",Insatser!A59,\"\")","v":""},{"$f":"IF(Insatser!B59=\"Nej\",Insatser!C59,\"\")","v":""},{"$f":"IF(Insatser!B59=\"Nej\",IF(ISBLANK(Insatser!D59),\"\",Insatser!D59),\"\")","v":""}]
[null,{"$f":"IF(Insatser!B60=\"Nej\",Insatser!A60,\"\")","v":""},{"$f":"IF(Insatser!B60=\"Nej\",Insatser!C60,\"\")","v":""},{"$f":"IF(Insatser!B60=\"Nej\",IF(ISBLANK(Insatser!D60),\"\",Insatser!D60),\"\")","v":""}]
[null,{"$f":"IF(Insatser!B61=\"Nej\",Insatser!A61,\"\")","v":""},{"$f":"IF(Insatser!B61=\"Nej\",Insatser!C61,\"\")","v":""},{"$f":"IF(Insatser!B61=\"Nej\",IF(ISBLANK(Insatser!D61),\"\",Insatser!D61),\"\")","v":""}]
[null,{"$f":"IF(Insatser!B62=\"Nej\",Insatser!A62,\"\")","v":""},{"$f":"IF(Insatser!B62=\"Nej\",Insatser!C62,\"\")","v":""},{"$f":"IF(Insatser!B62=\"Nej\",IF(ISBLANK(Insatser!D62),\"\",Insatser!D62),\"\")","v":""}]
[null,{"$f":"IF(Insatser!B63=\"Nej\",Insatser!A63,\"\")","v":""},{"$f":"IF(Insatser!B63=\"Nej\",Insatser!C63,\"\")","v":""},{"$f":"IF(Insatser!B63=\"Nej\",IF(ISBLANK(Insatser!D63),\"\",Insatser!D63),\"\")","v":""}]
[null,{"$f":"IF(Insatser!B64=\"Nej\",Insatser!A64,\"\")","v":""},{"$f":"IF(Insatser!B64=\"Nej\",Insatser!C64,\"\")","v":""},{"$f":"IF(Insatser!B64=\"Nej\",IF(ISBLANK(Insatser!D64),\"\",Insatser!D64),\"\")","v":""}]
[null,{"$f":"IF(Insatser!B65=\"Nej\",Insatser!A65,\"\")","v":""},{"$f":"IF(Insatser!B65=\"Nej\",Insatser!C65,\"\")","v":""},{"$f":"IF(Insatser!B65=\"Nej\",IF(ISBLANK(Insatser!D65),\"\",Insatser!D65),\"\")","v":""}]
[null,{"$f":"IF(Insatser!B66=\"Nej\",Insatser!A66,\"\")","v":""},{"$f":"IF(Insatser!B66=\"Nej\",Insatser!C66,\"\")","v":""},{"$f":"IF(Insatser!B66=\"Nej\",IF(ISBLANK(Insatser!D66),\"\",Insatser!D66),\"\")","v":""}]
[null,{"$f":"IF(Insatser!B67=\"Nej\",Insatser!A67,\"\")","v":""},{"$f":"IF(Insatser!B67=\"Nej\",Insatser!C67,\"\")","v":""},{"$f":"IF(Insatser!B67=\"Nej\",IF(ISBLANK(Insatser!D67),\"\",Insatser!D67),\"\")","v":""}]
[null,{"$f":"IF(Insatser!B68=\"Nej\",Insatser!A68,\"\")","v":""},{"$f":"IF(Insatser!B68=\"Nej\",Insatser!C68,\"\")","v":""},{"$f":"IF(Insatser!B68=\"Nej\",IF(ISBLANK(Insatser!D68),\"\",Insatser!D68),\"\")","v":""}]
[null,{"$f":"IF(Insatser!B69=\"Nej\",Insatser!A69,\"\")","v":""},{"$f":"IF(Insatser!B69=\"Nej\",Insatser!C69,\"\")","v":""},{"$f":"IF(Insatser!B69=\"Nej\",IF(ISBLANK(Insatser!D69),\"\",Insatser!D69),\"\")","v":""}]
[null,{"$f":"IF(Insatser!B70=\"Nej\",Insatser!A70,\"\")","v":""},{"$f":"IF(Insatser!B70=\"Nej\",Insatser!C70,\"\")","v":""},{"$f":"IF(Insatser!B70=\"Nej\",IF(ISBLANK(Insatser!D70),\"\",Insatser!D70),\"\")","v":""}]
[null,{"$f":"IF(Insatser!B71=\"Nej\",Insatser!A71,\"\")","v":""},{"$f":"IF(Insatser!B71=\"Nej\",Insatser!C71,\"\")","v":""},{"$f":"IF(Insatser!B71=\"Nej\",IF(ISBLANK(Insatser!D71),\"\",Insatser!D71),\"\")","v":""}]
[null,{"$f":"IF(Insatser!B72=\"Nej\",Insatser!A72,\"\")","v":""},{"$f":"IF(Insatser!B72=\"Nej\",Insatser!C72,\"\")","v":""},{"$f":"IF(Insatser!B72=\"Nej\",IF(ISBLANK(Insatser!D72),\"\",Insatser!D72),\"\")","v":""}]
[null,{"$f":"IF(Insatser!B73=\"Nej\",Insatser!A73,\"\")","v":""},{"$f":"IF(Insatser!B73=\"Nej\",Insatser!C73,\"\")","v":""},{"$f":"IF(Insatser!B73=\"Nej\",IF(ISBLANK(Insatser!D73),\"\",Insatser!D73),\"\")","v":""}]
[null,{"$f":"IF(Insatser!B74=\"Nej\",Insatser!A74,\"\")","v":""},{"$f":"IF(Insatser!B74=\"Nej\",Insatser!C74,\"\")","v":""},{"$f":"IF(Insatser!B74=\"Nej\",IF(ISBLANK(Insatser!D74),\"\",Insatser!D74),\"\")","v":""}]
[null,{"$f":"IF(Insatser!B75=\"Nej\",Insatser!A75,\"\")","v":""},{"$f":"IF(Insatser!B75=\"Nej\",Insatser!C75,\"\")","v":""},{"$f":"IF(Insatser!B75=\"Nej\",IF(ISBLANK(Insatser!D75),\"\",Insatser!D75),\"\")","v":""}]
[null,{"$f":"IF(Insatser!B76=\"Nej\",Insatser!A76,\"\")","v":""},{"$f":"IF(Insatser!B76=\"Nej\",Insatser!C76,\"\")","v":""},{"$f":"IF(Insatser!B76=\"Nej\",IF(ISBLANK(Insatser!D76),\"\",Insatser!D76),\"\")","v":""}]
[null,{"$f":"IF(Insatser!B77=\"Nej\",Insatser!A77,\"\")","v":""},{"$f":"IF(Insatser!B77=\"Nej\",Insatser!C77,\"\")","v":""},{"$f":"IF(Insatser!B77=\"Nej\",IF(ISBLANK(Insatser!D77),\"\",Insatser!D77),\"\")","v":""}]
[null,{"$f":"IF(Insatser!B78=\"Nej\",Insatser!A78,\"\")","v":""},{"$f":"IF(Insatser!B78=\"Nej\",Insatser!C78,\"\")","v":""},{"$f":"IF(Insatser!B78=\"Nej\",IF(ISBLANK(Insatser!D78),\"\",Insatser!D78),\"\")","v":""}]
[null,{"$f":"IF(Insatser!B79=\"Nej\",Insatser!A79,\"\")","v":""},{"$f":"IF(Insatser!B79=\"Nej\",Insatser!C79,\"\")","v":""},{"$f":"IF(Insatser!B79=\"Nej\",IF(ISBLANK(Insatser!D79),\"\",Insatser!D79),\"\")","v":""}]
[null,{"$f":"IF(Insatser!B80=\"Nej\",Insatser!A80,\"\")","v":""},{"$f":"IF(Insatser!B80=\"Nej\",Insatser!C80,\"\")","v":""},{"$f":"IF(Insatser!B80=\"Nej\",IF(ISBLANK(Insatser!D80),\"\",Insatser!D80),\"\")","v":""}]
[null,{"$f":"IF(Insatser!B81=\"Nej\",Insatser!A81,\"\")","v":""},{"$f":"IF(Insatser!B81=\"Nej\",Insatser!C81,\"\")","v":""},{"$f":"IF(Insatser!B81=\"Nej\",IF(ISBLANK(Insatser!D81),\"\",Insatser!D81),\"\")","v":""}]
[null,{"$f":"IF(Insatser!B82=\"Nej\",Insatser!A82,\"\")","v":""},{"$f":"IF(Insatser!B82=\"Nej\",Insatser!C82,\"\")","v":""},{"$f":"IF(Insatser!B82=\"Nej\",IF(ISBLANK(Insatser!D82),\"\",Insatser!D82),\"\")","v":""}]
[null,{"$f":"IF(Insatser!B83=\"Nej\",Insatser!A83,\"\")","v":""},{"$f":"IF(Insatser!B83=\"Nej\",Insatser!C83,\"\")","v":""},{"$f":"IF(Insatser!B83=\"Nej\",IF(ISBLANK(Insatser!D83),\"\",Insatser!D83),\"\")","v":""}]
[null,{"$f":"IF(Insatser!B84=\"Nej\",Insatser!A84,\"\")","v":""},{"$f":"IF(Insatser!B84=\"Nej\",Insatser!C84,\"\")","v":""},{"$f":"IF(Insatser!B84=\"Nej\",IF(ISBLANK(Insatser!D84),\"\",Insatser!D84),\"\")","v":""}]
[null,{"$f":"IF(Insatser!B85=\"Nej\",Insatser!A85,\"\")","v":""},{"$f":"IF(Insatser!B85=\"Nej\",Insatser!C85,\"\")","v":""},{"$f":"IF(Insatser!B85=\"Nej\",IF(ISBLANK(Insatser!D85),\"\",Insatser!D85),\"\")","v":""}]
[null,{"$f":"IF(Insatser!B86=\"Nej\",Insatser!A86,\"\")","v":""},{"$f":"IF(Insatser!B86=\"Nej\",Insatser!C86,\"\")","v":""},{"$f":"IF(Insatser!B86=\"Nej\",IF(ISBLANK(Insatser!D86),\"\",Insatser!D86),\"\")","v":""}]
[null,{"$f":"IF(Insatser!B87=\"Nej\",Insatser!A87,\"\")","v":""},{"$f":"IF(Insatser!B87=\"Nej\",Insatser!C87,\"\")","v":""},{"$f":"IF(Insatser!B87=\"Nej\",IF(ISBLANK(Insatser!D87),\"\",Insatser!D87),\"\")","v":""}]
[null,{"$f":"IF(Insatser!B88=\"Nej\",Insatser!A88,\"\")","v":""},{"$f":"IF(Insatser!B88=\"Nej\",Insatser!C88,\"\")","v":""},{"$f":"IF(Insatser!B88=\"Nej\",IF(ISBLANK(Insatser!D88),\"\",Insatser!D88),\"\")","v":""}]
[null,{"$f":"IF(Insatser!B89=\"Nej\",Insatser!A89,\"\")","v":""},{"$f":"IF(Insatser!B89=\"Nej\",Insatser!C89,\"\")","v":""},{"$f":"IF(Insatser!B89=\"Nej\",IF(ISBLANK(Insatser!D89),\"\",Insatser!D89),\"\")","v":""}]
[null,{"$f":"IF(Insatser!B90=\"Nej\",Insatser!A90,\"\")","v":""},{"$f":"IF(Insatser!B90=\"Nej\",Insatser!C90,\"\")","v":""},{"$f":"IF(Insatser!B90=\"Nej\",IF(ISBLANK(Insatser!D90),\"\",Insatser!D90),\"\")","v":""}]
[null,{"$f":"IF(Insatser!B91=\"Nej\",Insatser!A91,\"\")","v":""},{"$f":"IF(Insatser!B91=\"Nej\",Insatser!C91,\"\")","v":""},{"$f":"IF(Insatser!B91=\"Nej\",IF(ISBLANK(Insatser!D91),\"\",Insatser!D91),\"\")","v":""}]
[null,{"$f":"IF(Insatser!B92=\"Nej\",Insatser!A92,\"\")","v":""},{"$f":"IF(Insatser!B92=\"Nej\",Insatser!C92,\"\")","v":""},{"$f":"IF(Insatser!B92=\"Nej\",IF(ISBLANK(Insatser!D92),\"\",Insatser!D92),\"\")","v":""}]
[null,{"$f":"IF(Insatser!B93=\"Nej\",Insatser!A93,\"\")","v":""},{"$f":"IF(Insatser!B93=\"Nej\",Insatser!C93,\"\")","v":""},{"$f":"IF(Insatser!B93=\"Nej\",IF(ISBLANK(Insatser!D93),\"\",Insatser!D93),\"\")","v":""}]
[null,{"$f":"IF(Insatser!B94=\"Nej\",Insatser!A94,\"\")","v":""},{"$f":"IF(Insatser!B94=\"Nej\",Insatser!C94,\"\")","v":""},{"$f":"IF(Insatser!B94=\"Nej\",IF(ISBLANK(Insatser!D94),\"\",Insatser!D94),\"\")","v":""}]
[null,{"$f":"IF(Insatser!B95=\"Nej\",Insatser!A95,\"\")","v":""},{"$f":"IF(Insatser!B95=\"Nej\",Insatser!C95,\"\")","v":""},{"$f":"IF(Insatser!B95=\"Nej\",IF(ISBLANK(Insatser!D95),\"\",Insatser!D95),\"\")","v":""}]
[null,{"$f":"IF(Insatser!B96=\"Nej\",Insatser!A96,\"\")","v":""},{"$f":"IF(Insatser!B96=\"Nej\",Insatser!C96,\"\")","v":""},{"$f":"IF(Insatser!B96=\"Nej\",IF(ISBLANK(Insatser!D96),\"\",Insatser!D96),\"\")","v":""}]
[null,{"$f":"IF(Insatser!B97=\"Nej\",Insatser!A97,\"\")","v":""},{"$f":"IF(Insatser!B97=\"Nej\",Insatser!C97,\"\")","v":""},{"$f":"IF(Insatser!B97=\"Nej\",IF(ISBLANK(Insatser!D97),\"\",Insatser!D97),\"\")","v":""}]
[null,{"$f":"IF(Insatser!B98=\"Nej\",Insatser!A98,\"\")","v":""},{"$f":"IF(Insatser!B98=\"Nej\",Insatser!C98,\"\")","v":""},{"$f":"IF(Insatser!B98=\"Nej\",IF(ISBLANK(Insatser!D98),\"\",Insatser!D98),\"\")","v":""}]
[null,{"$f":"IF(Insatser!B99=\"Nej\",Insatser!A99,\"\")","v":""},{"$f":"IF(Insatser!B99=\"Nej\",Insatser!C99,\"\")","v":""},{"$f":"IF(Insatser!B99=\"Nej\",IF(ISBLANK(Insatser!D99),\"\",Insatser!D99),\"\")","v":""}]
[null,{"$f":"IF(Insatser!B100=\"Nej\",Insatser!A100,\"\")","v":""},{"$f":"IF(Insatser!B100=\"Nej\",Insatser!C100,\"\")","v":""},{"$f":"IF(Insatser!B100=\"Nej\",IF(ISBLANK(Insatser!D100),\"\",Insatser!D100),\"\")","v":""}]
[null,{"$f":"IF(Insatser!B101=\"Nej\",Insatser!A101,\"\")","v":""},{"$f":"IF(Insatser!B101=\"Nej\",Insatser!C101,\"\")","v":""},{"$f":"IF(Insatser!B101=\"Nej\",IF(ISBLANK(Insatser!D101),\"\",Insatser!D101),\"\")","v":""}]
[null,{"$f":"IF(Insatser!B102=\"Nej\",Insatser!A102,\"\")","v":""},{"$f":"IF(Insatser!B102=\"Nej\",Insatser!C102,\"\")","v":""},{"$f":"IF(Insatser!B102=\"Nej\",IF(ISBLANK(Insatser!D102),\"\",Insatser!D102),\"\")","v":""}]
[null,{"$f":"IF(Insatser!B103=\"Nej\",Insatser!A103,\"\")","v":""},{"$f":"IF(Insatser!B103=\"Nej\",Insatser!C103,\"\")","v":""},{"$f":"IF(Insatser!B103=\"Nej\",IF(ISBLANK(Insatser!D103),\"\",Insatser!D103),\"\")","v":""}]
[null,{"$f":"IF(Insatser!B104=\"Nej\",Insatser!A104,\"\")","v":""},{"$f":"IF(Insatser!B104=\"Nej\",Insatser!C104,\"\")","v":""},{"$f":"IF(Insatser!B104=\"Nej\",IF(ISBLANK(Insatser!D104),\"\",Insatser!D104),\"\")","v":""}]
[null,{"$f":"IF(Insatser!B105=\"Nej\",Insatser!A105,\"\")","v":""},{"$f":"IF(Insatser!B105=\"Nej\",Insatser!C105,\"\")","v":""},{"$f":"IF(Insatser!B105=\"Nej\",IF(ISBLANK(Insatser!D105),\"\",Insatser!D105),\"\")","v":""}]
[null,{"$f":"IF(Insatser!B106=\"Nej\",Insatser!A106,\"\")","v":""},{"$f":"IF(Insatser!B106=\"Nej\",Insatser!C106,\"\")","v":""},{"$f":"IF(Insatser!B106=\"Nej\",IF(ISBLANK(Insatser!D106),\"\",Insatser!D106),\"\")","v":""}]
[null,{"$f":"IF(Insatser!B107=\"Nej\",Insatser!A107,\"\")","v":""},{"$f":"IF(Insatser!B107=\"Nej\",Insatser!C107,\"\")","v":""},{"$f":"IF(Insatser!B107=\"Nej\",IF(ISBLANK(Insatser!D107),\"\",Insatser!D107),\"\")","v":""}]
[null,{"$f":"IF(Insatser!B108=\"Nej\",Insatser!A108,\"\")","v":""},{"$f":"IF(Insatser!B108=\"Nej\",Insatser!C108,\"\")","v":""},{"$f":"IF(Insatser!B108=\"Nej\",IF(ISBLANK(Insatser!D108),\"\",Insatser!D108),\"\")","v":""}]
[null,{"$f":"IF(Insatser!B109=\"Nej\",Insatser!A109,\"\")","v":""},{"$f":"IF(Insatser!B109=\"Nej\",Insatser!C109,\"\")","v":""},{"$f":"IF(Insatser!B109=\"Nej\",IF(ISBLANK(Insatser!D109),\"\",Insatser!D109),\"\")","v":""}]
[null,{"$f":"IF(Insatser!B110=\"Nej\",Insatser!A110,\"\")","v":""},{"$f":"IF(Insatser!B110=\"Nej\",Insatser!C110,\"\")","v":""},{"$f":"IF(Insatser!B110=\"Nej\",IF(ISBLANK(Insatser!D110),\"\",Insatser!D110),\"\")","v":""}]
[null,{"$f":"IF(Insatser!B111=\"Nej\",Insatser!A111,\"\")","v":""},{"$f":"IF(Insatser!B111=\"Nej\",Insatser!C111,\"\")","v":""},{"$f":"IF(Insatser!B111=\"Nej\",IF(ISBLANK(Insatser!D111),\"\",Insatser!D111),\"\")","v":""}]
[null,{"$f":"IF(Insatser!B112=\"Nej\",Insatser!A112,\"\")","v":""},{"$f":"IF(Insatser!B112=\"Nej\",Insatser!C112,\"\")","v":""},{"$f":"IF(Insatser!B112=\"Nej\",IF(ISBLANK(Insatser!D112),\"\",Insatser!D112),\"\")","v":""}]
[null,{"$f":"IF(Insatser!B113=\"Nej\",Insatser!A113,\"\")","v":""},{"$f":"IF(Insatser!B113=\"Nej\",Insatser!C113,\"\")","v":""},{"$f":"IF(Insatser!B113=\"Nej\",IF(ISBLANK(Insatser!D113),\"\",Insatser!D113),\"\")","v":""}]
[null,{"$f":"IF(Insatser!B114=\"Nej\",Insatser!A114,\"\")","v":""},{"$f":"IF(Insatser!B114=\"Nej\",Insatser!C114,\"\")","v":""},{"$f":"IF(Insatser!B114=\"Nej\",IF(ISBLANK(Insatser!D114),\"\",Insatser!D114),\"\")","v":""}]
[null,{"$f":"IF(Insatser!B115=\"Nej\",Insatser!A115,\"\")","v":""},{"$f":"IF(Insatser!B115=\"Nej\",Insatser!C115,\"\")","v":""},{"$f":"IF(Insatser!B115=\"Nej\",IF(ISBLANK(Insatser!D115),\"\",Insatser!D115),\"\")","v":""}]
[null,{"$f":"IF(Insatser!B116=\"Nej\",Insatser!A116,\"\")","v":""},{"$f":"IF(Insatser!B116=\"Nej\",Insatser!C116,\"\")","v":""},{"$f":"IF(Insatser!B116=\"Nej\",IF(ISBLANK(Insatser!D116),\"\",Insatser!D116),\"\")","v":""}]
[null,{"$f":"IF(Insatser!B117=\"Nej\",Insatser!A117,\"\")","v":""},{"$f":"IF(Insatser!B117=\"Nej\",Insatser!C117,\"\")","v":""},{"$f":"IF(Insatser!B117=\"Nej\",IF(ISBLANK(Insatser!D117),\"\",Insatser!D117),\"\")","v":""}]
[null,{"$f":"IF(Insatser!B118=\"Nej\",Insatser!A118,\"\")","v":""},{"$f":"IF(Insatser!B118=\"Nej\",Insatser!C118,\"\")","v":""},{"$f":"IF(Insatser!B118=\"Nej\",IF(ISBLANK(Insatser!D118),\"\",Insatser!D118),\"\")","v":""}]
[null,{"$f":"IF(Insatser!B119=\"Nej\",Insatser!A119,\"\")","v":""},{"$f":"IF(Insatser!B119=\"Nej\",Insatser!C119,\"\")","v":""},{"$f":"IF(Insatser!B119=\"Nej\",IF(ISBLANK(Insatser!D119),\"\",Insatser!D119),\"\")","v":""}]
[null,{"$f":"IF(Insatser!B120=\"Nej\",Insatser!A120,\"\")","v":""},{"$f":"IF(Insatser!B120=\"Nej\",Insatser!C120,\"\")","v":""},{"$f":"IF(Insatser!B120=\"Nej\",IF(ISBLANK(Insatser!D120),\"\",Insatser!D120),\"\")","v":""}]
[null,{"$f":"IF(Insatser!B121=\"Nej\",Insatser!A121,\"\")","v":""},{"$f":"IF(Insatser!B121=\"Nej\",Insatser!C121,\"\")","v":""},{"$f":"IF(Insatser!B121=\"Nej\",IF(ISBLANK(Insatser!D121),\"\",Insatser!D121),\"\")","v":""}]
[null,{"$f":"IF(Insatser!B122=\"Nej\",Insatser!A122,\"\")","v":""},{"$f":"IF(Insatser!B122=\"Nej\",Insatser!C122,\"\")","v":""},{"$f":"IF(Insatser!B122=\"Nej\",IF(ISBLANK(Insatser!D122),\"\",Insatser!D122),\"\")","v":""}]
[null,{"$f":"IF(Insatser!B123=\"Nej\",Insatser!A123,\"\")","v":""},{"$f":"IF(Insatser!B123=\"Nej\",Insatser!C123,\"\")","v":""},{"$f":"IF(Insatser!B123=\"Nej\",IF(ISBLANK(Insatser!D123),\"\",Insatser!D123),\"\")","v":""}]
[null,{"$f":"IF(Insatser!B124=\"Nej\",Insatser!A124,\"\")","v":""},{"$f":"IF(Insatser!B124=\"Nej\",Insatser!C124,\"\")","v":""},{"$f":"IF(Insatser!B124=\"Nej\",IF(ISBLANK(Insatser!D124),\"\",Insatser!D124),\"\")","v":""}]
[null,{"$f":"IF(Insatser!B125=\"Nej\",Insatser!A125,\"\")","v":""},{"$f":"IF(Insatser!B125=\"Nej\",Insatser!C125,\"\")","v":""},{"$f":"IF(Insatser!B125=\"Nej\",IF(ISBLANK(Insatser!D125),\"\",Insatser!D125),\"\")","v":""}]
[null,{"$f":"IF(Insatser!B126=\"Nej\",Insatser!A126,\"\")","v":""},{"$f":"IF(Insatser!B126=\"Nej\",Insatser!C126,\"\")","v":""},{"$f":"IF(Insatser!B126=\"Nej\",IF(ISBLANK(Insatser!D126),\"\",Insatser!D126),\"\")","v":""}]
[null,{"$f":"IF(Insatser!B127=\"Nej\",Insatser!A127,\"\")","v":""},{"$f":"IF(Insatser!B127=\"Nej\",Insatser!C127,\"\")","v":""},{"$f":"IF(Insatser!B127=\"Nej\",IF(ISBLANK(Insatser!D127),\"\",Insatser!D127),\"\")","v":""}]
[null,{"$f":"IF(Insatser!B128=\"Nej\",Insatser!A128,\"\")","v":""},{"$f":"IF(Insatser!B128=\"Nej\",Insatser!C128,\"\")","v":""},{"$f":"IF(Insatser!B128=\"Nej\",IF(ISBLANK(Insatser!D128),\"\",Insatser!D128),\"\")","v":""}]
[null,{"$f":"IF(Insatser!B129=\"Nej\",Insatser!A129,\"\")","v":""},{"$f":"IF(Insatser!B129=\"Nej\",Insatser!C129,\"\")","v":""},{"$f":"IF(Insatser!B129=\"Nej\",IF(ISBLANK(Insatser!D129),\"\",Insatser!D129),\"\")","v":""}]
[null,{"$f":"IF(Insatser!B130=\"Nej\",Insatser!A130,\"\")","v":""},{"$f":"IF(Insatser!B130=\"Nej\",Insatser!C130,\"\")","v":""},{"$f":"IF(Insatser!B130=\"Nej\",IF(ISBLANK(Insatser!D130),\"\",Insatser!D130),\"\")","v":""}]
[null,{"$f":"IF(Insatser!B131=\"Nej\",Insatser!A131,\"\")","v":""},{"$f":"IF(Insatser!B131=\"Nej\",Insatser!C131,\"\")","v":""},{"$f":"IF(Insatser!B131=\"Nej\",IF(ISBLANK(Insatser!D131),\"\",Insatser!D131),\"\")","v":""}]
[null,{"$f":"IF(Insatser!B132=\"Nej\",Insatser!A132,\"\")","v":""},{"$f":"IF(Insatser!B132=\"Nej\",Insatser!C132,\"\")","v":""},{"$f":"IF(Insatser!B132=\"Nej\",IF(ISBLANK(Insatser!D132),\"\",Insatser!D132),\"\")","v":""}]
[null,{"$f":"IF(Insatser!B133=\"Nej\",Insatser!A133,\"\")","v":""},{"$f":"IF(Insatser!B133=\"Nej\",Insatser!C133,\"\")","v":""},{"$f":"IF(Insatser!B133=\"Nej\",IF(ISBLANK(Insatser!D133),\"\",Insatser!D133),\"\")","v":""}]
[null,{"$f":"IF(Insatser!B134=\"Nej\",Insatser!A134,\"\")","v":""},{"$f":"IF(Insatser!B134=\"Nej\",Insatser!C134,\"\")","v":""},{"$f":"IF(Insatser!B134=\"Nej\",IF(ISBLANK(Insatser!D134),\"\",Insatser!D134),\"\")","v":""}]
[null,{"$f":"IF(Insatser!B135=\"Nej\",Insatser!A135,\"\")","v":""},{"$f":"IF(Insatser!B135=\"Nej\",Insatser!C135,\"\")","v":""},{"$f":"IF(Insatser!B135=\"Nej\",IF(ISBLANK(Insatser!D135),\"\",Insatser!D135),\"\")","v":""}]
[null,{"$f":"IF(Insatser!B136=\"Nej\",Insatser!A136,\"\")","v":""},{"$f":"IF(Insatser!B136=\"Nej\",Insatser!C136,\"\")","v":""},{"$f":"IF(Insatser!B136=\"Nej\",IF(ISBLANK(Insatser!D136),\"\",Insatser!D136),\"\")","v":""}]
[null,{"$f":"IF(Insatser!B137=\"Nej\",Insatser!A137,\"\")","v":""},{"$f":"IF(Insatser!B137=\"Nej\",Insatser!C137,\"\")","v":""},{"$f":"IF(Insatser!B137=\"Nej\",IF(ISBLANK(Insatser!D137),\"\",Insatser!D137),\"\")","v":""}]
[null,{"$f":"IF(Insatser!B138=\"Nej\",Insatser!A138,\"\")","v":""},{"$f":"IF(Insatser!B138=\"Nej\",Insatser!C138,\"\")","v":""},{"$f":"IF(Insatser!B138=\"Nej\",IF(ISBLANK(Insatser!D138),\"\",Insatser!D138),\"\")","v":""}]
[null,{"$f":"IF(Insatser!B139=\"Nej\",Insatser!A139,\"\")","v":""},{"$f":"IF(Insatser!B139=\"Nej\",Insatser!C139,\"\")","v":""},{"$f":"IF(Insatser!B139=\"Nej\",IF(ISBLANK(Insatser!D139),\"\",Insatser!D139),\"\")","v":""}]
[null,{"$f":"IF(Insatser!B140=\"Nej\",Insatser!A140,\"\")","v":""},{"$f":"IF(Insatser!B140=\"Nej\",Insatser!C140,\"\")","v":""},{"$f":"IF(Insatser!B140=\"Nej\",IF(ISBLANK(Insatser!D140),\"\",Insatser!D140),\"\")","v":""}]
[null,{"$f":"IF(Insatser!B141=\"Nej\",Insatser!A141,\"\")","v":""},{"$f":"IF(Insatser!B141=\"Nej\",Insatser!C141,\"\")","v":""},{"$f":"IF(Insatser!B141=\"Nej\",IF(ISBLANK(Insatser!D141),\"\",Insatser!D141),\"\")","v":""}]
[null,{"$f":"IF(Insatser!B142=\"Nej\",Insatser!A142,\"\")","v":""},{"$f":"IF(Insatser!B142=\"Nej\",Insatser!C142,\"\")","v":""},{"$f":"IF(Insatser!B142=\"Nej\",IF(ISBLANK(Insatser!D142),\"\",Insatser!D142),\"\")","v":""}]
[null,{"$f":"IF(Insatser!B143=\"Nej\",Insatser!A143,\"\")","v":""},{"$f":"IF(Insatser!B143=\"Nej\",Insatser!C143,\"\")","v":""},{"$f":"IF(Insatser!B143=\"Nej\",IF(ISBLANK(Insatser!D143),\"\",Insatser!D143),\"\")","v":""}]
[null,{"$f":"IF(Insatser!B144=\"Nej\",Insatser!A144,\"\")","v":""},{"$f":"IF(Insatser!B144=\"Nej\",Insatser!C144,\"\")","v":""},{"$f":"IF(Insatser!B144=\"Nej\",IF(ISBLANK(Insatser!D144),\"\",Insatser!D144),\"\")","v":""}]
[null,{"$f":"IF(Insatser!B145=\"Nej\",Insatser!A145,\"\")","v":""},{"$f":"IF(Insatser!B145=\"Nej\",Insatser!C145,\"\")","v":""},{"$f":"IF(Insatser!B145=\"Nej\",IF(ISBLANK(Insatser!D145),\"\",Insatser!D145),\"\")","v":""}]
[null,{"$f":"IF(Insatser!B146=\"Nej\",Insatser!A146,\"\")","v":""},{"$f":"IF(Insatser!B146=\"Nej\",Insatser!C146,\"\")","v":""},{"$f":"IF(Insatser!B146=\"Nej\",IF(ISBLANK(Insatser!D146),\"\",Insatser!D146),\"\")","v":""}]
[null,{"$f":"IF(Insatser!B147=\"Nej\",Insatser!A147,\"\")","v":""},{"$f":"IF(Insatser!B147=\"Nej\",Insatser!C147,\"\")","v":""},{"$f":"IF(Insatser!B147=\"Nej\",IF(ISBLANK(Insatser!D147),\"\",Insatser!D147),\"\")","v":""}]
[null,{"$f":"IF(Insatser!B148=\"Nej\",Insatser!A148,\"\")","v":""},{"$f":"IF(Insatser!B148=\"Nej\",Insatser!C148,\"\")","v":""},{"$f":"IF(Insatser!B148=\"Nej\",IF(ISBLANK(Insatser!D148),\"\",Insatser!D148),\"\")","v":""}]
[null,{"$f":"IF(Insatser!B149=\"Nej\",Insatser!A149,\"\")","v":""},{"$f":"IF(Insatser!B149=\"Nej\",Insatser!C149,\"\")","v":""},{"$f":"IF(Insatser!B149=\"Nej\",IF(ISBLANK(Insatser!D149),\"\",Insatser!D149),\"\")","v":""}]
[null,{"$f":"IF(Insatser!B150=\"Nej\",Insatser!A150,\"\")","v":""},{"$f":"IF(Insatser!B150=\"Nej\",Insatser!C150,\"\")","v":""},{"$f":"IF(Insatser!B150=\"Nej\",IF(ISBLANK(Insatser!D150),\"\",Insatser!D150),\"\")","v":""}]
[null,{"$f":"IF(Insatser!B151=\"Nej\",Insatser!A151,\"\")","v":""},{"$f":"IF(Insatser!B151=\"Nej\",Insatser!C151,\"\")","v":""},{"$f":"IF(Insatser!B151=\"Nej\",IF(ISBLANK(Insatser!D151),\"\",Insatser!D151),\"\")","v":""}]
[null,{"$f":"IF(Insatser!B152=\"Nej\",Insatser!A152,\"\")","v":""},{"$f":"IF(Insatser!B152=\"Nej\",Insatser!C152,\"\")","v":""},{"$f":"IF(Insatser!B152=\"Nej\",IF(ISBLANK(Insatser!D152),\"\",Insatser!D152),\"\")","v":""}]
[null,{"$f":"IF(Insatser!B153=\"Nej\",Insatser!A153,\"\")","v":""},{"$f":"IF(Insatser!B153=\"Nej\",Insatser!C153,\"\")","v":""},{"$f":"IF(Insatser!B153=\"Nej\",IF(ISBLANK(Insatser!D153),\"\",Insatser!D153),\"\")","v":""}]
[null,{"$f":"IF(Insatser!B154=\"Nej\",Insatser!A154,\"\")","v":""},{"$f":"IF(Insatser!B154=\"Nej\",Insatser!C154,\"\")","v":""},{"$f":"IF(Insatser!B154=\"Nej\",IF(ISBLANK(Insatser!D154),\"\",Insatser!D154),\"\")","v":""}]
[null,{"$f":"IF(Insatser!B155=\"Nej\",Insatser!A155,\"\")","v":""},{"$f":"IF(Insatser!B155=\"Nej\",Insatser!C155,\"\")","v":""},{"$f":"IF(Insatser!B155=\"Nej\",IF(ISBLANK(Insatser!D155),\"\",Insatser!D155),\"\")","v":""}]
[null,{"$f":"IF(Insatser!B156=\"Nej\",Insatser!A156,\"\")","v":""},{"$f":"IF(Insatser!B156=\"Nej\",Insatser!C156,\"\")","v":""},{"$f":"IF(Insatser!B156=\"Nej\",IF(ISBLANK(Insatser!D156),\"\",Insatser!D156),\"\")","v":""}]
[null,"MER OMFATTANDE FÖRÄNDRINGSARBETE BEHÖVS","KOMMENTAR ","LÄSHÄNVISNINGAR "]
[null,{"$f":"IF('Styrning och kompetens'!B4=\"Mer omfattande förändringsarbete behövs\",'Styrning och kompetens'!A4,\"\")","v":""},{"$f":"IF('Styrning och kompetens'!B4=\"Mer omfattande förändringsarbete behövs\",'Styrning och kompetens'!C4,\"\")","v":""},{"$f":"IF('Styrning och kompetens'!B4=\"Mer omfattande förändringsarbete behövs\",IF(ISBLANK('Styrning och kompetens'!D4),\"\",'Styrning och kompetens'!D4),\"\")","v":""}]
[null,{"$f":"IF('Styrning och kompetens'!B5=\"Mer omfattande förändringsarbete behövs\",'Styrning och kompetens'!A5,\"\")","v":""},{"$f":"IF('Styrning och kompetens'!B5=\"Mer omfattande förändringsarbete behövs\",'Styrning och kompetens'!C5,\"\")","v":""},{"$f":"IF('Styrning och kompetens'!B5=\"Mer omfattande förändringsarbete behövs\",IF(ISBLANK('Styrning och kompetens'!D5),\"\",'Styrning och kompetens'!D5),\"\")","v":""}]
[null,{"$f":"IF('Styrning och kompetens'!B6=\"Mer omfattande förändringsarbete behövs\",'Styrning och kompetens'!A6,\"\")","v":""},{"$f":"IF('Styrning och kompetens'!B6=\"Mer omfattande förändringsarbete behövs\",'Styrning och kompetens'!C6,\"\")","v":""},{"$f":"IF('Styrning och kompetens'!B6=\"Mer omfattande förändringsarbete behövs\",IF(ISBLANK('Styrning och kompetens'!D6),\"\",'Styrning och kompetens'!D6),\"\")","v":""}]
[null,{"$f":"IF('Styrning och kompetens'!B7=\"Mer omfattande förändringsarbete behövs\",'Styrning och kompetens'!A7,\"\")","v":""},{"$f":"IF('Styrning och kompetens'!B7=\"Mer omfattande förändringsarbete behövs\",'Styrning och kompetens'!C7,\"\")","v":""},{"$f":"IF('Styrning och kompetens'!B7=\"Mer omfattande förändringsarbete behövs\",IF(ISBLANK('Styrning och kompetens'!D7),\"\",'Styrning och kompetens'!D7),\"\")","v":""}]
[null,{"$f":"IF('Styrning och kompetens'!B8=\"Mer omfattande förändringsarbete behövs\",'Styrning och kompetens'!A8,\"\")","v":""},{"$f":"IF('Styrning och kompetens'!B8=\"Mer omfattande förändringsarbete behövs\",'Styrning och kompetens'!C8,\"\")","v":""},{"$f":"IF('Styrning och kompetens'!B8=\"Mer omfattande förändringsarbete behövs\",IF(ISBLANK('Styrning och kompetens'!D8),\"\",'Styrning och kompetens'!D8),\"\")","v":""}]
[null,{"$f":"IF('Styrning och kompetens'!B9=\"Mer omfattande förändringsarbete behövs\",'Styrning och kompetens'!A9,\"\")","v":""},{"$f":"IF('Styrning och kompetens'!B9=\"Mer omfattande förändringsarbete behövs\",'Styrning och kompetens'!C9,\"\")","v":""},{"$f":"IF('Styrning och kompetens'!B9=\"Mer omfattande förändringsarbete behövs\",IF(ISBLANK('Styrning och kompetens'!D9),\"\",'Styrning och kompetens'!D9),\"\")","v":""}]
[null,{"$f":"IF('Styrning och kompetens'!B10=\"Mer omfattande förändringsarbete behövs\",'Styrning och kompetens'!A10,\"\")","v":""},{"$f":"IF('Styrning och kompetens'!B10=\"Mer omfattande förändringsarbete behövs\",'Styrning och kompetens'!C10,\"\")","v":""},{"$f":"IF('Styrning och kompetens'!B10=\"Mer omfattande förändringsarbete behövs\",IF(ISBLANK('Styrning och kompetens'!D10),\"\",'Styrning och kompetens'!D10),\"\")","v":""}]
[null,{"$f":"IF('Styrning och kompetens'!B11=\"Mer omfattande förändringsarbete behövs\",'Styrning och kompetens'!A11,\"\")","v":""},{"$f":"IF('Styrning och kompetens'!B11=\"Mer omfattande förändringsarbete behövs\",'Styrning och kompetens'!C11,\"\")","v":""},{"$f":"IF('Styrning och kompetens'!B11=\"Mer omfattande förändringsarbete behövs\",IF(ISBLANK('Styrning och kompetens'!D11),\"\",'Styrning och kompetens'!D11),\"\")","v":""}]
[null,{"$f":"IF('Styrning och kompetens'!B12=\"Mer omfattande förändringsarbete behövs\",'Styrning och kompetens'!A12,\"\")","v":""},{"$f":"IF('Styrning och kompetens'!B12=\"Mer omfattande förändringsarbete behövs\",'Styrning och kompetens'!C12,\"\")","v":""},{"$f":"IF('Styrning och kompetens'!B12=\"Mer omfattande förändringsarbete behövs\",IF(ISBLANK('Styrning och kompetens'!D12),\"\",'Styrning och kompetens'!D12),\"\")","v":""}]
[null,{"$f":"IF('Styrning och kompetens'!B13=\"Mer omfattande förändringsarbete behövs\",'Styrning och kompetens'!A13,\"\")","v":""},{"$f":"IF('Styrning och kompetens'!B13=\"Mer omfattande förändringsarbete behövs\",'Styrning och kompetens'!C13,\"\")","v":""},{"$f":"IF('Styrning och kompetens'!B13=\"Mer omfattande förändringsarbete behövs\",IF(ISBLANK('Styrning och kompetens'!D13),\"\",'Styrning och kompetens'!D13),\"\")","v":""}]
[null,{"$f":"IF('Styrning och kompetens'!B14=\"Mer omfattande förändringsarbete behövs\",'Styrning och kompetens'!A14,\"\")","v":""},{"$f":"IF('Styrning och kompetens'!B14=\"Mer omfattande förändringsarbete behövs\",'Styrning och kompetens'!C14,\"\")","v":""},{"$f":"IF('Styrning och kompetens'!B14=\"Mer omfattande förändringsarbete behövs\",IF(ISBLANK('Styrning och kompetens'!D14),\"\",'Styrning och kompetens'!D14),\"\")","v":""}]
[null,{"$f":"IF('Styrning och kompetens'!B15=\"Mer omfattande förändringsarbete behövs\",'Styrning och kompetens'!A15,\"\")","v":""},{"$f":"IF('Styrning och kompetens'!B15=\"Mer omfattande förändringsarbete behövs\",'Styrning och kompetens'!C15,\"\")","v":""},{"$f":"IF('Styrning och kompetens'!B15=\"Mer omfattande förändringsarbete behövs\",IF(ISBLANK('Styrning och kompetens'!D15),\"\",'Styrning och kompetens'!D15),\"\")","v":""}]
[null,{"$f":"IF('Styrning och kompetens'!B16=\"Mer omfattande förändringsarbete behövs\",'Styrning och kompetens'!A16,\"\")","v":""},{"$f":"IF('Styrning och kompetens'!B16=\"Mer omfattande förändringsarbete behövs\",'Styrning och kompetens'!C16,\"\")","v":""},{"$f":"IF('Styrning och kompetens'!B16=\"Mer omfattande förändringsarbete behövs\",IF(ISBLANK('Styrning och kompetens'!D16),\"\",'Styrning och kompetens'!D16),\"\")","v":""}]
[null,{"$f":"IF('Styrning och kompetens'!B17=\"Mer omfattande förändringsarbete behövs\",'Styrning och kompetens'!A17,\"\")","v":""},{"$f":"IF('Styrning och kompetens'!B17=\"Mer omfattande förändringsarbete behövs\",'Styrning och kompetens'!C17,\"\")","v":""},{"$f":"IF('Styrning och kompetens'!B17=\"Mer omfattande förändringsarbete behövs\",IF(ISBLANK('Styrning och kompetens'!D17),\"\",'Styrning och kompetens'!D17),\"\")","v":""}]
[null,{"$f":"IF('Styrning och kompetens'!B18=\"Mer omfattande förändringsarbete behövs\",'Styrning och kompetens'!A18,\"\")","v":""},{"$f":"IF('Styrning och kompetens'!B18=\"Mer omfattande förändringsarbete behövs\",'Styrning och kompetens'!C18,\"\")","v":""},{"$f":"IF('Styrning och kompetens'!B18=\"Mer omfattande förändringsarbete behövs\",IF(ISBLANK('Styrning och kompetens'!D18),\"\",'Styrning och kompetens'!D18),\"\")","v":""}]
[null,{"$f":"IF('Styrning och kompetens'!B19=\"Mer omfattande förändringsarbete behövs\",'Styrning och kompetens'!A19,\"\")","v":""},{"$f":"IF('Styrning och kompetens'!B19=\"Mer omfattande förändringsarbete behövs\",'Styrning och kompetens'!C19,\"\")","v":""},{"$f":"IF('Styrning och kompetens'!B19=\"Mer omfattande förändringsarbete behövs\",IF(ISBLANK('Styrning och kompetens'!D19),\"\",'Styrning och kompetens'!D19),\"\")","v":""}]
[null,{"$f":"IF('Styrning och kompetens'!B20=\"Mer omfattande förändringsarbete behövs\",'Styrning och kompetens'!A20,\"\")","v":""},{"$f":"IF('Styrning och kompetens'!B20=\"Mer omfattande förändringsarbete behövs\",'Styrning och kompetens'!C20,\"\")","v":""},{"$f":"IF('Styrning och kompetens'!B20=\"Mer omfattande förändringsarbete behövs\",IF(ISBLANK('Styrning och kompetens'!D20),\"\",'Styrning och kompetens'!D20),\"\")","v":""}]
[null,{"$f":"IF('Styrning och kompetens'!B21=\"Mer omfattande förändringsarbete behövs\",'Styrning och kompetens'!A21,\"\")","v":""},{"$f":"IF('Styrning och kompetens'!B21=\"Mer omfattande förändringsarbete behövs\",'Styrning och kompetens'!C21,\"\")","v":""},{"$f":"IF('Styrning och kompetens'!B21=\"Mer omfattande förändringsarbete behövs\",IF(ISBLANK('Styrning och kompetens'!D21),\"\",'Styrning och kompetens'!D21),\"\")","v":""}]
[null,{"$f":"IF('Styrning och kompetens'!B22=\"Mer omfattande förändringsarbete behövs\",'Styrning och kompetens'!A22,\"\")","v":""},{"$f":"IF('Styrning och kompetens'!B22=\"Mer omfattande förändringsarbete behövs\",'Styrning och kompetens'!C22,\"\")","v":""},{"$f":"IF('Styrning och kompetens'!B22=\"Mer omfattande förändringsarbete behövs\",IF(ISBLANK('Styrning och kompetens'!D22),\"\",'Styrning och kompetens'!D22),\"\")","v":""}]
[null,{"$f":"IF('Styrning och kompetens'!B23=\"Mer omfattande förändringsarbete behövs\",'Styrning och kompetens'!A23,\"\")","v":""},{"$f":"IF('Styrning och kompetens'!B23=\"Mer omfattande förändringsarbete behövs\",'Styrning och kompetens'!C23,\"\")","v":""},{"$f":"IF('Styrning och kompetens'!B23=\"Mer omfattande förändringsarbete behövs\",IF(ISBLANK('Styrning och kompetens'!D23),\"\",'Styrning och kompetens'!D23),\"\")","v":""}]
[null,{"$f":"IF('Styrning och kompetens'!B24=\"Mer omfattande förändringsarbete behövs\",'Styrning och kompetens'!A24,\"\")","v":""},{"$f":"IF('Styrning och kompetens'!B24=\"Mer omfattande förändringsarbete behövs\",'Styrning och kompetens'!C24,\"\")","v":""},{"$f":"IF('Styrning och kompetens'!B24=\"Mer omfattande förändringsarbete behövs\",IF(ISBLANK('Styrning och kompetens'!D24),\"\",'Styrning och kompetens'!D24),\"\")","v":""}]
[null,{"$f":"IF('Styrning och kompetens'!B25=\"Mer omfattande förändringsarbete behövs\",'Styrning och kompetens'!A25,\"\")","v":""},{"$f":"IF('Styrning och kompetens'!B25=\"Mer omfattande förändringsarbete behövs\",'Styrning och kompetens'!C25,\"\")","v":""},{"$f":"IF('Styrning och kompetens'!B25=\"Mer omfattande förändringsarbete behövs\",IF(ISBLANK('Styrning och kompetens'!D25),\"\",'Styrning och kompetens'!D25),\"\")","v":""}]
[null,{"$f":"IF('Styrning och kompetens'!B26=\"Mer omfattande förändringsarbete behövs\",'Styrning och kompetens'!A26,\"\")","v":""},{"$f":"IF('Styrning och kompetens'!B26=\"Mer omfattande förändringsarbete behövs\",'Styrning och kompetens'!C26,\"\")","v":""},{"$f":"IF('Styrning och kompetens'!B26=\"Mer omfattande förändringsarbete behövs\",IF(ISBLANK('Styrning och kompetens'!D26),\"\",'Styrning och kompetens'!D26),\"\")","v":""}]
[null,{"$f":"IF('Styrning och kompetens'!B27=\"Mer omfattande förändringsarbete behövs\",'Styrning och kompetens'!A27,\"\")","v":""},{"$f":"IF('Styrning och kompetens'!B27=\"Mer omfattande förändringsarbete behövs\",'Styrning och kompetens'!C27,\"\")","v":""},{"$f":"IF('Styrning och kompetens'!B27=\"Mer omfattande förändringsarbete behövs\",IF(ISBLANK('Styrning och kompetens'!D27),\"\",'Styrning och kompetens'!D27),\"\")","v":""}]
[null,{"$f":"IF('Styrning och kompetens'!B28=\"Mer omfattande förändringsarbete behövs\",'Styrning och kompetens'!A28,\"\")","v":""},{"$f":"IF('Styrning och kompetens'!B28=\"Mer omfattande förändringsarbete behövs\",'Styrning och kompetens'!C28,\"\")","v":""},{"$f":"IF('Styrning och kompetens'!B28=\"Mer omfattande förändringsarbete behövs\",IF(ISBLANK('Styrning och kompetens'!D28),\"\",'Styrning och kompetens'!D28),\"\")","v":""}]
[null,{"$f":"IF('Styrning och kompetens'!B29=\"Mer omfattande förändringsarbete behövs\",'Styrning och kompetens'!A29,\"\")","v":""},{"$f":"IF('Styrning och kompetens'!B29=\"Mer omfattande förändringsarbete behövs\",'Styrning och kompetens'!C29,\"\")","v":""},{"$f":"IF('Styrning och kompetens'!B29=\"Mer omfattande förändringsarbete behövs\",IF(ISBLANK('Styrning och kompetens'!D29),\"\",'Styrning och kompetens'!D29),\"\")","v":""}]
[null,{"$f":"IF('Styrning och kompetens'!B30=\"Mer omfattande förändringsarbete behövs\",'Styrning och kompetens'!A30,\"\")","v":""},{"$f":"IF('Styrning och kompetens'!B30=\"Mer omfattande förändringsarbete behövs\",'Styrning och kompetens'!C30,\"\")","v":""},{"$f":"IF('Styrning och kompetens'!B30=\"Mer omfattande förändringsarbete behövs\",IF(ISBLANK('Styrning och kompetens'!D30),\"\",'Styrning och kompetens'!D30),\"\")","v":""}]
[null,{"$f":"IF('Styrning och kompetens'!B31=\"Mer omfattande förändringsarbete behövs\",'Styrning och kompetens'!A31,\"\")","v":""},{"$f":"IF('Styrning och kompetens'!B31=\"Mer omfattande förändringsarbete behövs\",'Styrning och kompetens'!C31,\"\")","v":""},{"$f":"IF('Styrning och kompetens'!B31=\"Mer omfattande förändringsarbete behövs\",IF(ISBLANK('Styrning och kompetens'!D31),\"\",'Styrning och kompetens'!D31),\"\")","v":""}]
[null,{"$f":"IF('Styrning och kompetens'!B32=\"Mer omfattande förändringsarbete behövs\",'Styrning och kompetens'!A32,\"\")","v":""},{"$f":"IF('Styrning och kompetens'!B32=\"Mer omfattande förändringsarbete behövs\",'Styrning och kompetens'!C32,\"\")","v":""},{"$f":"IF('Styrning och kompetens'!B32=\"Mer omfattande förändringsarbete behövs\",IF(ISBLANK('Styrning och kompetens'!D32),\"\",'Styrning och kompetens'!D32),\"\")","v":""}]
[null,{"$f":"IF('Styrning och kompetens'!B33=\"Mer omfattande förändringsarbete behövs\",'Styrning och kompetens'!A33,\"\")","v":""},{"$f":"IF('Styrning och kompetens'!B33=\"Mer omfattande förändringsarbete behövs\",'Styrning och kompetens'!C33,\"\")","v":""},{"$f":"IF('Styrning och kompetens'!B33=\"Mer omfattande förändringsarbete behövs\",IF(ISBLANK('Styrning och kompetens'!D33),\"\",'Styrning och kompetens'!D33),\"\")","v":""}]
[null,{"$f":"IF('Styrning och kompetens'!B34=\"Mer omfattande förändringsarbete behövs\",'Styrning och kompetens'!A34,\"\")","v":""},{"$f":"IF('Styrning och kompetens'!B34=\"Mer omfattande förändringsarbete behövs\",'Styrning och kompetens'!C34,\"\")","v":""},{"$f":"IF('Styrning och kompetens'!B34=\"Mer omfattande förändringsarbete behövs\",IF(ISBLANK('Styrning och kompetens'!D34),\"\",'Styrning och kompetens'!D34),\"\")","v":""}]
[null,{"$f":"IF('Styrning och kompetens'!B35=\"Mer omfattande förändringsarbete behövs\",'Styrning och kompetens'!A35,\"\")","v":""},{"$f":"IF('Styrning och kompetens'!B35=\"Mer omfattande förändringsarbete behövs\",'Styrning och kompetens'!C35,\"\")","v":""},{"$f":"IF('Styrning och kompetens'!B35=\"Mer omfattande förändringsarbete behövs\",IF(ISBLANK('Styrning och kompetens'!D35),\"\",'Styrning och kompetens'!D35),\"\")","v":""}]
[null,{"$f":"IF('Styrning och kompetens'!B36=\"Mer omfattande förändringsarbete behövs\",'Styrning och kompetens'!A36,\"\")","v":""},{"$f":"IF('Styrning och kompetens'!B36=\"Mer omfattande förändringsarbete behövs\",'Styrning och kompetens'!C36,\"\")","v":""},{"$f":"IF('Styrning och kompetens'!B36=\"Mer omfattande förändringsarbete behövs\",IF(ISBLANK('Styrning och kompetens'!D36),\"\",'Styrning och kompetens'!D36),\"\")","v":""}]
[null,{"$f":"IF('Styrning och kompetens'!B37=\"Mer omfattande förändringsarbete behövs\",'Styrning och kompetens'!A37,\"\")","v":""},{"$f":"IF('Styrning och kompetens'!B37=\"Mer omfattande förändringsarbete behövs\",'Styrning och kompetens'!C37,\"\")","v":""},{"$f":"IF('Styrning och kompetens'!B37=\"Mer omfattande förändringsarbete behövs\",IF(ISBLANK('Styrning och kompetens'!D37),\"\",'Styrning och kompetens'!D37),\"\")","v":""}]
[null,{"$f":"IF('Styrning och kompetens'!B38=\"Mer omfattande förändringsarbete behövs\",'Styrning och kompetens'!A38,\"\")","v":""},{"$f":"IF('Styrning och kompetens'!B38=\"Mer omfattande förändringsarbete behövs\",'Styrning och kompetens'!C38,\"\")","v":""},{"$f":"IF('Styrning och kompetens'!B38=\"Mer omfattande förändringsarbete behövs\",IF(ISBLANK('Styrning och kompetens'!D38),\"\",'Styrning och kompetens'!D38),\"\")","v":""}]
[null,{"$f":"IF('Styrning och kompetens'!B39=\"Mer omfattande förändringsarbete behövs\",'Styrning och kompetens'!A39,\"\")","v":""},{"$f":"IF('Styrning och kompetens'!B39=\"Mer omfattande förändringsarbete behövs\",'Styrning och kompetens'!C39,\"\")","v":""},{"$f":"IF('Styrning och kompetens'!B39=\"Mer omfattande förändringsarbete behövs\",IF(ISBLANK('Styrning och kompetens'!D39),\"\",'Styrning och kompetens'!D39),\"\")","v":""}]
[null,{"$f":"IF('Styrning och kompetens'!B40=\"Mer omfattande förändringsarbete behövs\",'Styrning och kompetens'!A40,\"\")","v":""},{"$f":"IF('Styrning och kompetens'!B40=\"Mer omfattande förändringsarbete behövs\",'Styrning och kompetens'!C40,\"\")","v":""},{"$f":"IF('Styrning och kompetens'!B40=\"Mer omfattande förändringsarbete behövs\",IF(ISBLANK('Styrning och kompetens'!D40),\"\",'Styrning och kompetens'!D40),\"\")","v":""}]
[null,{"$f":"IF('Styrning och kompetens'!B41=\"Mer omfattande förändringsarbete behövs\",'Styrning och kompetens'!A41,\"\")","v":""},{"$f":"IF('Styrning och kompetens'!B41=\"Mer omfattande förändringsarbete behövs\",'Styrning och kompetens'!C41,\"\")","v":""},{"$f":"IF('Styrning och kompetens'!B41=\"Mer omfattande förändringsarbete behövs\",IF(ISBLANK('Styrning och kompetens'!D41),\"\",'Styrning och kompetens'!D41),\"\")","v":""}]
[null,{"$f":"IF('Styrning och kompetens'!B42=\"Mer omfattande förändringsarbete behövs\",'Styrning och kompetens'!A42,\"\")","v":""},{"$f":"IF('Styrning och kompetens'!B42=\"Mer omfattande förändringsarbete behövs\",'Styrning och kompetens'!C42,\"\")","v":""},{"$f":"IF('Styrning och kompetens'!B42=\"Mer omfattande förändringsarbete behövs\",IF(ISBLANK('Styrning och kompetens'!D42),\"\",'Styrning och kompetens'!D42),\"\")","v":""}]
[null,{"$f":"IF('Styrning och kompetens'!B43=\"Mer omfattande förändringsarbete behövs\",'Styrning och kompetens'!A43,\"\")","v":""},{"$f":"IF('Styrning och kompetens'!B43=\"Mer omfattande förändringsarbete behövs\",'Styrning och kompetens'!C43,\"\")","v":""},{"$f":"IF('Styrning och kompetens'!B43=\"Mer omfattande förändringsarbete behövs\",IF(ISBLANK('Styrning och kompetens'!D43),\"\",'Styrning och kompetens'!D43),\"\")","v":""}]
[null,{"$f":"IF('Styrning och kompetens'!B44=\"Mer omfattande förändringsarbete behövs\",'Styrning och kompetens'!A44,\"\")","v":""},{"$f":"IF('Styrning och kompetens'!B44=\"Mer omfattande förändringsarbete behövs\",'Styrning och kompetens'!C44,\"\")","v":""},{"$f":"IF('Styrning och kompetens'!B44=\"Mer omfattande förändringsarbete behövs\",IF(ISBLANK('Styrning och kompetens'!D44),\"\",'Styrning och kompetens'!D44),\"\")","v":""}]
[null,{"$f":"IF('Styrning och kompetens'!B45=\"Mer omfattande förändringsarbete behövs\",'Styrning och kompetens'!A45,\"\")","v":""},{"$f":"IF('Styrning och kompetens'!B45=\"Mer omfattande förändringsarbete behövs\",'Styrning och kompetens'!C45,\"\")","v":""},{"$f":"IF('Styrning och kompetens'!B45=\"Mer omfattande förändringsarbete behövs\",IF(ISBLANK('Styrning och kompetens'!D45),\"\",'Styrning och kompetens'!D45),\"\")","v":""}]
[null,{"$f":"IF('Styrning och kompetens'!B46=\"Mer omfattande förändringsarbete behövs\",'Styrning och kompetens'!A46,\"\")","v":""},{"$f":"IF('Styrning och kompetens'!B46=\"Mer omfattande förändringsarbete behövs\",'Styrning och kompetens'!C46,\"\")","v":""},{"$f":"IF('Styrning och kompetens'!B46=\"Mer omfattande förändringsarbete behövs\",IF(ISBLANK('Styrning och kompetens'!D46),\"\",'Styrning och kompetens'!D46),\"\")","v":""}]
[null,{"$f":"IF('Styrning och kompetens'!B47=\"Mer omfattande förändringsarbete behövs\",'Styrning och kompetens'!A47,\"\")","v":""},{"$f":"IF('Styrning och kompetens'!B47=\"Mer omfattande förändringsarbete behövs\",'Styrning och kompetens'!C47,\"\")","v":""},{"$f":"IF('Styrning och kompetens'!B47=\"Mer omfattande förändringsarbete behövs\",IF(ISBLANK('Styrning och kompetens'!D47),\"\",'Styrning och kompetens'!D47),\"\")","v":""}]
[null,{"$f":"IF('Styrning och kompetens'!B48=\"Mer omfattande förändringsarbete behövs\",'Styrning och kompetens'!A48,\"\")","v":""},{"$f":"IF('Styrning och kompetens'!B48=\"Mer omfattande förändringsarbete behövs\",'Styrning och kompetens'!C48,\"\")","v":""},{"$f":"IF('Styrning och kompetens'!B48=\"Mer omfattande förändringsarbete behövs\",IF(ISBLANK('Styrning och kompetens'!D48),\"\",'Styrning och kompetens'!D48),\"\")","v":""}]
[null,{"$f":"IF('Styrning och kompetens'!B49=\"Mer omfattande förändringsarbete behövs\",'Styrning och kompetens'!A49,\"\")","v":""},{"$f":"IF('Styrning och kompetens'!B49=\"Mer omfattande förändringsarbete behövs\",'Styrning och kompetens'!C49,\"\")","v":""},{"$f":"IF('Styrning och kompetens'!B49=\"Mer omfattande förändringsarbete behövs\",IF(ISBLANK('Styrning och kompetens'!D49),\"\",'Styrning och kompetens'!D49),\"\")","v":""}]
[null,{"$f":"IF('Styrning och kompetens'!B50=\"Mer omfattande förändringsarbete behövs\",'Styrning och kompetens'!A50,\"\")","v":""},{"$f":"IF('Styrning och kompetens'!B50=\"Mer omfattande förändringsarbete behövs\",'Styrning och kompetens'!C50,\"\")","v":""},{"$f":"IF('Styrning och kompetens'!B50=\"Mer omfattande förändringsarbete behövs\",IF(ISBLANK('Styrning och kompetens'!D50),\"\",'Styrning och kompetens'!D50),\"\")","v":""}]
[null,{"$f":"IF('Styrning och kompetens'!B51=\"Mer omfattande förändringsarbete behövs\",'Styrning och kompetens'!A51,\"\")","v":""},{"$f":"IF('Styrning och kompetens'!B51=\"Mer omfattande förändringsarbete behövs\",'Styrning och kompetens'!C51,\"\")","v":""},{"$f":"IF('Styrning och kompetens'!B51=\"Mer omfattande förändringsarbete behövs\",IF(ISBLANK('Styrning och kompetens'!D51),\"\",'Styrning och kompetens'!D51),\"\")","v":""}]
[null,{"$f":"IF('Styrning och kompetens'!B52=\"Mer omfattande förändringsarbete behövs\",'Styrning och kompetens'!A52,\"\")","v":""},{"$f":"IF('Styrning och kompetens'!B52=\"Mer omfattande förändringsarbete behövs\",'Styrning och kompetens'!C52,\"\")","v":""},{"$f":"IF('Styrning och kompetens'!B52=\"Mer omfattande förändringsarbete behövs\",IF(ISBLANK('Styrning och kompetens'!D52),\"\",'Styrning och kompetens'!D52),\"\")","v":""}]
[null,{"$f":"IF('Styrning och kompetens'!B53=\"Mer omfattande förändringsarbete behövs\",'Styrning och kompetens'!A53,\"\")","v":""},{"$f":"IF('Styrning och kompetens'!B53=\"Mer omfattande förändringsarbete behövs\",'Styrning och kompetens'!C53,\"\")","v":""},{"$f":"IF('Styrning och kompetens'!B53=\"Mer omfattande förändringsarbete behövs\",IF(ISBLANK('Styrning och kompetens'!D53),\"\",'Styrning och kompetens'!D53),\"\")","v":""}]
[null,{"$f":"IF('Styrning och kompetens'!B54=\"Mer omfattande förändringsarbete behövs\",'Styrning och kompetens'!A54,\"\")","v":""},{"$f":"IF('Styrning och kompetens'!B54=\"Mer omfattande förändringsarbete behövs\",'Styrning och kompetens'!C54,\"\")","v":""},{"$f":"IF('Styrning och kompetens'!B54=\"Mer omfattande förändringsarbete behövs\",IF(ISBLANK('Styrning och kompetens'!D54),\"\",'Styrning och kompetens'!D54),\"\")","v":""}]
[null,{"$f":"IF('Styrning och kompetens'!B55=\"Mer omfattande förändringsarbete behövs\",'Styrning och kompetens'!A55,\"\")","v":""},{"$f":"IF('Styrning och kompetens'!B55=\"Mer omfattande förändringsarbete behövs\",'Styrning och kompetens'!C55,\"\")","v":""},{"$f":"IF('Styrning och kompetens'!B55=\"Mer omfattande förändringsarbete behövs\",IF(ISBLANK('Styrning och kompetens'!D55),\"\",'Styrning och kompetens'!D55),\"\")","v":""}]
[null,{"$f":"IF('Styrning och kompetens'!B56=\"Mer omfattande förändringsarbete behövs\",'Styrning och kompetens'!A56,\"\")","v":""},{"$f":"IF('Styrning och kompetens'!B56=\"Mer omfattande förändringsarbete behövs\",'Styrning och kompetens'!C56,\"\")","v":""},{"$f":"IF('Styrning och kompetens'!B56=\"Mer omfattande förändringsarbete behövs\",IF(ISBLANK('Styrning och kompetens'!D56),\"\",'Styrning och kompetens'!D56),\"\")","v":""}]
[null,{"$f":"IF('Styrning och kompetens'!B57=\"Mer omfattande förändringsarbete behövs\",'Styrning och kompetens'!A57,\"\")","v":""},{"$f":"IF('Styrning och kompetens'!B57=\"Mer omfattande förändringsarbete behövs\",'Styrning och kompetens'!C57,\"\")","v":""},{"$f":"IF('Styrning och kompetens'!B57=\"Mer omfattande förändringsarbete behövs\",IF(ISBLANK('Styrning och kompetens'!D57),\"\",'Styrning och kompetens'!D57),\"\")","v":""}]
[null,{"$f":"IF('Styrning och kompetens'!B58=\"Mer omfattande förändringsarbete behövs\",'Styrning och kompetens'!A58,\"\")","v":""},{"$f":"IF('Styrning och kompetens'!B58=\"Mer omfattande förändringsarbete behövs\",'Styrning och kompetens'!C58,\"\")","v":""},{"$f":"IF('Styrning och kompetens'!B58=\"Mer omfattande förändringsarbete behövs\",IF(ISBLANK('Styrning och kompetens'!D58),\"\",'Styrning och kompetens'!D58),\"\")","v":""}]
[null,{"$f":"IF('Styrning och kompetens'!B59=\"Mer omfattande förändringsarbete behövs\",'Styrning och kompetens'!A59,\"\")","v":""},{"$f":"IF('Styrning och kompetens'!B59=\"Mer omfattande förändringsarbete behövs\",'Styrning och kompetens'!C59,\"\")","v":""},{"$f":"IF('Styrning och kompetens'!B59=\"Mer omfattande förändringsarbete behövs\",IF(ISBLANK('Styrning och kompetens'!D59),\"\",'Styrning och kompetens'!D59),\"\")","v":""}]
[null,{"$f":"IF('Styrning och kompetens'!B60=\"Mer omfattande förändringsarbete behövs\",'Styrning och kompetens'!A60,\"\")","v":""},{"$f":"IF('Styrning och kompetens'!B60=\"Mer omfattande förändringsarbete behövs\",'Styrning och kompetens'!C60,\"\")","v":""},{"$f":"IF('Styrning och kompetens'!B60=\"Mer omfattande förändringsarbete behövs\",IF(ISBLANK('Styrning och kompetens'!D60),\"\",'Styrning och kompetens'!D60),\"\")","v":""}]
[null,{"$f":"IF('Styrning och kompetens'!B61=\"Mer omfattande förändringsarbete behövs\",'Styrning och kompetens'!A61,\"\")","v":""},{"$f":"IF('Styrning och kompetens'!B61=\"Mer omfattande förändringsarbete behövs\",'Styrning och kompetens'!C61,\"\")","v":""},{"$f":"IF('Styrning och kompetens'!B61=\"Mer omfattande förändringsarbete behövs\",IF(ISBLANK('Styrning och kompetens'!D61),\"\",'Styrning och kompetens'!D61),\"\")","v":""}]
[null,{"$f":"IF('Styrning och kompetens'!B62=\"Mer omfattande förändringsarbete behövs\",'Styrning och kompetens'!A62,\"\")","v":""},{"$f":"IF('Styrning och kompetens'!B62=\"Mer omfattande förändringsarbete behövs\",'Styrning och kompetens'!C62,\"\")","v":""},{"$f":"IF('Styrning och kompetens'!B62=\"Mer omfattande förändringsarbete behövs\",IF(ISBLANK('Styrning och kompetens'!D62),\"\",'Styrning och kompetens'!D62),\"\")","v":""}]
[null,{"$f":"IF('Styrning och kompetens'!B63=\"Mer omfattande förändringsarbete behövs\",'Styrning och kompetens'!A63,\"\")","v":""},{"$f":"IF('Styrning och kompetens'!B63=\"Mer omfattande förändringsarbete behövs\",'Styrning och kompetens'!C63,\"\")","v":""},{"$f":"IF('Styrning och kompetens'!B63=\"Mer omfattande förändringsarbete behövs\",IF(ISBLANK('Styrning och kompetens'!D63),\"\",'Styrning och kompetens'!D63),\"\")","v":""}]
[null,{"$f":"IF('Styrning och kompetens'!B64=\"Mer omfattande förändringsarbete behövs\",'Styrning och kompetens'!A64,\"\")","v":""},{"$f":"IF('Styrning och kompetens'!B64=\"Mer omfattande förändringsarbete behövs\",'Styrning och kompetens'!C64,\"\")","v":""},{"$f":"IF('Styrning och kompetens'!B64=\"Mer omfattande förändringsarbete behövs\",IF(ISBLANK('Styrning och kompetens'!D64),\"\",'Styrning och kompetens'!D64),\"\")","v":""}]
[null,{"$f":"IF('Styrning och kompetens'!B65=\"Mer omfattande förändringsarbete behövs\",'Styrning och kompetens'!A65,\"\")","v":""},{"$f":"IF('Styrning och kompetens'!B65=\"Mer omfattande förändringsarbete behövs\",'Styrning och kompetens'!C65,\"\")","v":""},{"$f":"IF('Styrning och kompetens'!B65=\"Mer omfattande förändringsarbete behövs\",IF(ISBLANK('Styrning och kompetens'!D65),\"\",'Styrning och kompetens'!D65),\"\")","v":""}]
[null,{"$f":"IF('Styrning och kompetens'!B66=\"Mer omfattande förändringsarbete behövs\",'Styrning och kompetens'!A66,\"\")","v":""},{"$f":"IF('Styrning och kompetens'!B66=\"Mer omfattande förändringsarbete behövs\",'Styrning och kompetens'!C66,\"\")","v":""},{"$f":"IF('Styrning och kompetens'!B66=\"Mer omfattande förändringsarbete behövs\",IF(ISBLANK('Styrning och kompetens'!D66),\"\",'Styrning och kompetens'!D66),\"\")","v":""}]
[null,{"$f":"IF('Styrning och kompetens'!B67=\"Mer omfattande förändringsarbete behövs\",'Styrning och kompetens'!A67,\"\")","v":""},{"$f":"IF('Styrning och kompetens'!B67=\"Mer omfattande förändringsarbete behövs\",'Styrning och kompetens'!C67,\"\")","v":""},{"$f":"IF('Styrning och kompetens'!B67=\"Mer omfattande förändringsarbete behövs\",IF(ISBLANK('Styrning och kompetens'!D67),\"\",'Styrning och kompetens'!D67),\"\")","v":""}]
[null,{"$f":"IF('Styrning och kompetens'!B68=\"Mer omfattande förändringsarbete behövs\",'Styrning och kompetens'!A68,\"\")","v":""},{"$f":"IF('Styrning och kompetens'!B68=\"Mer omfattande förändringsarbete behövs\",'Styrning och kompetens'!C68,\"\")","v":""},{"$f":"IF('Styrning och kompetens'!B68=\"Mer omfattande förändringsarbete behövs\",IF(ISBLANK('Styrning och kompetens'!D68),\"\",'Styrning och kompetens'!D68),\"\")","v":""}]
[null,{"$f":"IF('Styrning och kompetens'!B69=\"Mer omfattande förändringsarbete behövs\",'Styrning och kompetens'!A69,\"\")","v":""},{"$f":"IF('Styrning och kompetens'!B69=\"Mer omfattande förändringsarbete behövs\",'Styrning och kompetens'!C69,\"\")","v":""},{"$f":"IF('Styrning och kompetens'!B69=\"Mer omfattande förändringsarbete behövs\",IF(ISBLANK('Styrning och kompetens'!D69),\"\",'Styrning och kompetens'!D69),\"\")","v":""}]
[null,{"$f":"IF('Styrning och kompetens'!B70=\"Mer omfattande förändringsarbete behövs\",'Styrning och kompetens'!A70,\"\")","v":""},{"$f":"IF('Styrning och kompetens'!B70=\"Mer omfattande förändringsarbete behövs\",'Styrning och kompetens'!C70,\"\")","v":""},{"$f":"IF('Styrning och kompetens'!B70=\"Mer omfattande förändringsarbete behövs\",IF(ISBLANK('Styrning och kompetens'!D70),\"\",'Styrning och kompetens'!D70),\"\")","v":""}]
[null,{"$f":"IF('Styrning och kompetens'!B71=\"Mer omfattande förändringsarbete behövs\",'Styrning och kompetens'!A71,\"\")","v":""},{"$f":"IF('Styrning och kompetens'!B71=\"Mer omfattande förändringsarbete behövs\",'Styrning och kompetens'!C71,\"\")","v":""},{"$f":"IF('Styrning och kompetens'!B71=\"Mer omfattande förändringsarbete behövs\",IF(ISBLANK('Styrning och kompetens'!D71),\"\",'Styrning och kompetens'!D71),\"\")","v":""}]
[null,{"$f":"IF('Styrning och kompetens'!B72=\"Mer omfattande förändringsarbete behövs\",'Styrning och kompetens'!A72,\"\")","v":""},{"$f":"IF('Styrning och kompetens'!B72=\"Mer omfattande förändringsarbete behövs\",'Styrning och kompetens'!C72,\"\")","v":""},{"$f":"IF('Styrning och kompetens'!B72=\"Mer omfattande förändringsarbete behövs\",IF(ISBLANK('Styrning och kompetens'!D72),\"\",'Styrning och kompetens'!D72),\"\")","v":""}]
[null,{"$f":"IF('Styrning och kompetens'!B73=\"Mer omfattande förändringsarbete behövs\",'Styrning och kompetens'!A73,\"\")","v":""},{"$f":"IF('Styrning och kompetens'!B73=\"Mer omfattande förändringsarbete behövs\",'Styrning och kompetens'!C73,\"\")","v":""},{"$f":"IF('Styrning och kompetens'!B73=\"Mer omfattande förändringsarbete behövs\",IF(ISBLANK('Styrning och kompetens'!D73),\"\",'Styrning och kompetens'!D73),\"\")","v":""}]
[null,{"$f":"IF('Styrning och kompetens'!B74=\"Mer omfattande förändringsarbete behövs\",'Styrning och kompetens'!A74,\"\")","v":""},{"$f":"IF('Styrning och kompetens'!B74=\"Mer omfattande förändringsarbete behövs\",'Styrning och kompetens'!C74,\"\")","v":""},{"$f":"IF('Styrning och kompetens'!B74=\"Mer omfattande förändringsarbete behövs\",IF(ISBLANK('Styrning och kompetens'!D74),\"\",'Styrning och kompetens'!D74),\"\")","v":""}]
[null,{"$f":"IF('Styrning och kompetens'!B75=\"Mer omfattande förändringsarbete behövs\",'Styrning och kompetens'!A75,\"\")","v":""},{"$f":"IF('Styrning och kompetens'!B75=\"Mer omfattande förändringsarbete behövs\",'Styrning och kompetens'!C75,\"\")","v":""},{"$f":"IF('Styrning och kompetens'!B75=\"Mer omfattande förändringsarbete behövs\",IF(ISBLANK('Styrning och kompetens'!D75),\"\",'Styrning och kompetens'!D75),\"\")","v":""}]
[null,{"$f":"IF('Styrning och kompetens'!B76=\"Mer omfattande förändringsarbete behövs\",'Styrning och kompetens'!A76,\"\")","v":""},{"$f":"IF('Styrning och kompetens'!B76=\"Mer omfattande förändringsarbete behövs\",'Styrning och kompetens'!C76,\"\")","v":""},{"$f":"IF('Styrning och kompetens'!B76=\"Mer omfattande förändringsarbete behövs\",IF(ISBLANK('Styrning och kompetens'!D76),\"\",'Styrning och kompetens'!D76),\"\")","v":""}]
[null,{"$f":"IF('Styrning och kompetens'!B77=\"Mer omfattande förändringsarbete behövs\",'Styrning och kompetens'!A77,\"\")","v":""},{"$f":"IF('Styrning och kompetens'!B77=\"Mer omfattande förändringsarbete behövs\",'Styrning och kompetens'!C77,\"\")","v":""},{"$f":"IF('Styrning och kompetens'!B77=\"Mer omfattande förändringsarbete behövs\",IF(ISBLANK('Styrning och kompetens'!D77),\"\",'Styrning och kompetens'!D77),\"\")","v":""}]
[null,{"$f":"IF('Styrning och kompetens'!B78=\"Mer omfattande förändringsarbete behövs\",'Styrning och kompetens'!A78,\"\")","v":""},{"$f":"IF('Styrning och kompetens'!B78=\"Mer omfattande förändringsarbete behövs\",'Styrning och kompetens'!C78,\"\")","v":""},{"$f":"IF('Styrning och kompetens'!B78=\"Mer omfattande förändringsarbete behövs\",IF(ISBLANK('Styrning och kompetens'!D78),\"\",'Styrning och kompetens'!D78),\"\")","v":""}]
[null,{"$f":"IF('Styrning och kompetens'!B79=\"Mer omfattande förändringsarbete behövs\",'Styrning och kompetens'!A79,\"\")","v":""},{"$f":"IF('Styrning och kompetens'!B79=\"Mer omfattande förändringsarbete behövs\",'Styrning och kompetens'!C79,\"\")","v":""},{"$f":"IF('Styrning och kompetens'!B79=\"Mer omfattande förändringsarbete behövs\",IF(ISBLANK('Styrning och kompetens'!D79),\"\",'Styrning och kompetens'!D79),\"\")","v":""}]
[null,{"$f":"IF('Styrning och kompetens'!B80=\"Mer omfattande förändringsarbete behövs\",'Styrning och kompetens'!A80,\"\")","v":""},{"$f":"IF('Styrning och kompetens'!B80=\"Mer omfattande förändringsarbete behövs\",'Styrning och kompetens'!C80,\"\")","v":""},{"$f":"IF('Styrning och kompetens'!B80=\"Mer omfattande förändringsarbete behövs\",IF(ISBLANK('Styrning och kompetens'!D80),\"\",'Styrning och kompetens'!D80),\"\")","v":""}]
[null,{"$f":"IF('Styrning och kompetens'!B81=\"Mer omfattande förändringsarbete behövs\",'Styrning och kompetens'!A81,\"\")","v":""},{"$f":"IF('Styrning och kompetens'!B81=\"Mer omfattande förändringsarbete behövs\",'Styrning och kompetens'!C81,\"\")","v":""},{"$f":"IF('Styrning och kompetens'!B81=\"Mer omfattande förändringsarbete behövs\",IF(ISBLANK('Styrning och kompetens'!D81),\"\",'Styrning och kompetens'!D81),\"\")","v":""}]
[null,{"$f":"IF('Styrning och kompetens'!B82=\"Mer omfattande förändringsarbete behövs\",'Styrning och kompetens'!A82,\"\")","v":""},{"$f":"IF('Styrning och kompetens'!B82=\"Mer omfattande förändringsarbete behövs\",'Styrning och kompetens'!C82,\"\")","v":""},{"$f":"IF('Styrning och kompetens'!B82=\"Mer omfattande förändringsarbete behövs\",IF(ISBLANK('Styrning och kompetens'!D82),\"\",'Styrning och kompetens'!D82),\"\")","v":""}]
[null,{"$f":"IF('Styrning och kompetens'!B83=\"Mer omfattande förändringsarbete behövs\",'Styrning och kompetens'!A83,\"\")","v":""},{"$f":"IF('Styrning och kompetens'!B83=\"Mer omfattande förändringsarbete behövs\",'Styrning och kompetens'!C83,\"\")","v":""},{"$f":"IF('Styrning och kompetens'!B83=\"Mer omfattande förändringsarbete behövs\",IF(ISBLANK('Styrning och kompetens'!D83),\"\",'Styrning och kompetens'!D83),\"\")","v":""}]
[null,{"$f":"IF('Styrning och kompetens'!B84=\"Mer omfattande förändringsarbete behövs\",'Styrning och kompetens'!A84,\"\")","v":""},{"$f":"IF('Styrning och kompetens'!B84=\"Mer omfattande förändringsarbete behövs\",'Styrning och kompetens'!C84,\"\")","v":""},{"$f":"IF('Styrning och kompetens'!B84=\"Mer omfattande förändringsarbete behövs\",IF(ISBLANK('Styrning och kompetens'!D84),\"\",'Styrning och kompetens'!D84),\"\")","v":""}]
[null,{"$f":"IF('Styrning och kompetens'!B85=\"Mer omfattande förändringsarbete behövs\",'Styrning och kompetens'!A85,\"\")","v":""},{"$f":"IF('Styrning och kompetens'!B85=\"Mer omfattande förändringsarbete behövs\",'Styrning och kompetens'!C85,\"\")","v":""},{"$f":"IF('Styrning och kompetens'!B85=\"Mer omfattande förändringsarbete behövs\",IF(ISBLANK('Styrning och kompetens'!D85),\"\",'Styrning och kompetens'!D85),\"\")","v":""}]
[null,{"$f":"IF('Styrning och kompetens'!B86=\"Mer omfattande förändringsarbete behövs\",'Styrning och kompetens'!A86,\"\")","v":""},{"$f":"IF('Styrning och kompetens'!B86=\"Mer omfattande förändringsarbete behövs\",'Styrning och kompetens'!C86,\"\")","v":""},{"$f":"IF('Styrning och kompetens'!B86=\"Mer omfattande förändringsarbete behövs\",IF(ISBLANK('Styrning och kompetens'!D86),\"\",'Styrning och kompetens'!D86),\"\")","v":""}]
[null,{"$f":"IF('Styrning och kompetens'!B87=\"Mer omfattande förändringsarbete behövs\",'Styrning och kompetens'!A87,\"\")","v":""},{"$f":"IF('Styrning och kompetens'!B87=\"Mer omfattande förändringsarbete behövs\",'Styrning och kompetens'!C87,\"\")","v":""},{"$f":"IF('Styrning och kompetens'!B87=\"Mer omfattande förändringsarbete behövs\",IF(ISBLANK('Styrning och kompetens'!D87),\"\",'Styrning och kompetens'!D87),\"\")","v":""}]
[null,{"$f":"IF('Styrning och kompetens'!B88=\"Mer omfattande förändringsarbete behövs\",'Styrning och kompetens'!A88,\"\")","v":""},{"$f":"IF('Styrning och kompetens'!B88=\"Mer omfattande förändringsarbete behövs\",'Styrning och kompetens'!C88,\"\")","v":""},{"$f":"IF('Styrning och kompetens'!B88=\"Mer omfattande förändringsarbete behövs\",IF(ISBLANK('Styrning och kompetens'!D88),\"\",'Styrning och kompetens'!D88),\"\")","v":""}]
[null,{"$f":"IF('Styrning och kompetens'!B89=\"Mer omfattande förändringsarbete behövs\",'Styrning och kompetens'!A89,\"\")","v":""},{"$f":"IF('Styrning och kompetens'!B89=\"Mer omfattande förändringsarbete behövs\",'Styrning och kompetens'!C89,\"\")","v":""},{"$f":"IF('Styrning och kompetens'!B89=\"Mer omfattande förändringsarbete behövs\",IF(ISBLANK('Styrning och kompetens'!D89),\"\",'Styrning och kompetens'!D89),\"\")","v":""}]
[null,{"$f":"IF('Styrning och kompetens'!B90=\"Mer omfattande förändringsarbete behövs\",'Styrning och kompetens'!A90,\"\")","v":""},{"$f":"IF('Styrning och kompetens'!B90=\"Mer omfattande förändringsarbete behövs\",'Styrning och kompetens'!C90,\"\")","v":""},{"$f":"IF('Styrning och kompetens'!B90=\"Mer omfattande förändringsarbete behövs\",IF(ISBLANK('Styrning och kompetens'!D90),\"\",'Styrning och kompetens'!D90),\"\")","v":""}]
[null,{"$f":"IF('Styrning och kompetens'!B91=\"Mer omfattande förändringsarbete behövs\",'Styrning och kompetens'!A91,\"\")","v":""},{"$f":"IF('Styrning och kompetens'!B91=\"Mer omfattande förändringsarbete behövs\",'Styrning och kompetens'!C91,\"\")","v":""},{"$f":"IF('Styrning och kompetens'!B91=\"Mer omfattande förändringsarbete behövs\",IF(ISBLANK('Styrning och kompetens'!D91),\"\",'Styrning och kompetens'!D91),\"\")","v":""}]
[null,{"$f":"IF('Styrning och kompetens'!B92=\"Mer omfattande förändringsarbete behövs\",'Styrning och kompetens'!A92,\"\")","v":""},{"$f":"IF('Styrning och kompetens'!B92=\"Mer omfattande förändringsarbete behövs\",'Styrning och kompetens'!C92,\"\")","v":""},{"$f":"IF('Styrning och kompetens'!B92=\"Mer omfattande förändringsarbete behövs\",IF(ISBLANK('Styrning och kompetens'!D92),\"\",'Styrning och kompetens'!D92),\"\")","v":""}]
[null,{"$f":"IF('Styrning och kompetens'!B93=\"Mer omfattande förändringsarbete behövs\",'Styrning och kompetens'!A93,\"\")","v":""},{"$f":"IF('Styrning och kompetens'!B93=\"Mer omfattande förändringsarbete behövs\",'Styrning och kompetens'!C93,\"\")","v":""},{"$f":"IF('Styrning och kompetens'!B93=\"Mer omfattande förändringsarbete behövs\",IF(ISBLANK('Styrning och kompetens'!D93),\"\",'Styrning och kompetens'!D93),\"\")","v":""}]
[null,{"$f":"IF('Styrning och kompetens'!B94=\"Mer omfattande förändringsarbete behövs\",'Styrning och kompetens'!A94,\"\")","v":""},{"$f":"IF('Styrning och kompetens'!B94=\"Mer omfattande förändringsarbete behövs\",'Styrning och kompetens'!C94,\"\")","v":""},{"$f":"IF('Styrning och kompetens'!B94=\"Mer omfattande förändringsarbete behövs\",IF(ISBLANK('Styrning och kompetens'!D94),\"\",'Styrning och kompetens'!D94),\"\")","v":""}]
[null,{"$f":"IF('Styrning och kompetens'!B95=\"Mer omfattande förändringsarbete behövs\",'Styrning och kompetens'!A95,\"\")","v":""},{"$f":"IF('Styrning och kompetens'!B95=\"Mer omfattande förändringsarbete behövs\",'Styrning och kompetens'!C95,\"\")","v":""},{"$f":"IF('Styrning och kompetens'!B95=\"Mer omfattande förändringsarbete behövs\",IF(ISBLANK('Styrning och kompetens'!D95),\"\",'Styrning och kompetens'!D95),\"\")","v":""}]
[null,{"$f":"IF('Styrning och kompetens'!B96=\"Mer omfattande förändringsarbete behövs\",'Styrning och kompetens'!A96,\"\")","v":""},{"$f":"IF('Styrning och kompetens'!B96=\"Mer omfattande förändringsarbete behövs\",'Styrning och kompetens'!C96,\"\")","v":""},{"$f":"IF('Styrning och kompetens'!B96=\"Mer omfattande förändringsarbete behövs\",IF(ISBLANK('Styrning och kompetens'!D96),\"\",'Styrning och kompetens'!D96),\"\")","v":""}]
[null,{"$f":"IF('Styrning och kompetens'!B97=\"Mer omfattande förändringsarbete behövs\",'Styrning och kompetens'!A97,\"\")","v":""},{"$f":"IF('Styrning och kompetens'!B97=\"Mer omfattande förändringsarbete behövs\",'Styrning och kompetens'!C97,\"\")","v":""},{"$f":"IF('Styrning och kompetens'!B97=\"Mer omfattande förändringsarbete behövs\",IF(ISBLANK('Styrning och kompetens'!D97),\"\",'Styrning och kompetens'!D97),\"\")","v":""}]
[null,{"$f":"IF('Styrning och kompetens'!B98=\"Mer omfattande förändringsarbete behövs\",'Styrning och kompetens'!A98,\"\")","v":""},{"$f":"IF('Styrning och kompetens'!B98=\"Mer omfattande förändringsarbete behövs\",'Styrning och kompetens'!C98,\"\")","v":""},{"$f":"IF('Styrning och kompetens'!B98=\"Mer omfattande förändringsarbete behövs\",IF(ISBLANK('Styrning och kompetens'!D98),\"\",'Styrning och kompetens'!D98),\"\")","v":""}]
[null,{"$f":"IF('Styrning och kompetens'!B99=\"Mer omfattande förändringsarbete behövs\",'Styrning och kompetens'!A99,\"\")","v":""},{"$f":"IF('Styrning och kompetens'!B99=\"Mer omfattande förändringsarbete behövs\",'Styrning och kompetens'!C99,\"\")","v":""},{"$f":"IF('Styrning och kompetens'!B99=\"Mer omfattande förändringsarbete behövs\",IF(ISBLANK('Styrning och kompetens'!D99),\"\",'Styrning och kompetens'!D99),\"\")","v":""}]
[null,{"$f":"IF('Styrning och kompetens'!B100=\"Mer omfattande förändringsarbete behövs\",'Styrning och kompetens'!A100,\"\")","v":""},{"$f":"IF('Styrning och kompetens'!B100=\"Mer omfattande förändringsarbete behövs\",'Styrning och kompetens'!C100,\"\")","v":""},{"$f":"IF('Styrning och kompetens'!B100=\"Mer omfattande förändringsarbete behövs\",IF(ISBLANK('Styrning och kompetens'!D100),\"\",'Styrning och kompetens'!D100),\"\")","v":""}]
[null,{"$f":"IF('Styrning och kompetens'!B101=\"Mer omfattande förändringsarbete behövs\",'Styrning och kompetens'!A101,\"\")","v":""},{"$f":"IF('Styrning och kompetens'!B101=\"Mer omfattande förändringsarbete behövs\",'Styrning och kompetens'!C101,\"\")","v":""},{"$f":"IF('Styrning och kompetens'!B101=\"Mer omfattande förändringsarbete behövs\",IF(ISBLANK('Styrning och kompetens'!D101),\"\",'Styrning och kompetens'!D101),\"\")","v":""}]
[null,{"$f":"IF('Styrning och kompetens'!B102=\"Mer omfattande förändringsarbete behövs\",'Styrning och kompetens'!A102,\"\")","v":""},{"$f":"IF('Styrning och kompetens'!B102=\"Mer omfattande förändringsarbete behövs\",'Styrning och kompetens'!C102,\"\")","v":""},{"$f":"IF('Styrning och kompetens'!B102=\"Mer omfattande förändringsarbete behövs\",IF(ISBLANK('Styrning och kompetens'!D102),\"\",'Styrning och kompetens'!D102),\"\")","v":""}]
[null,{"$f":"IF('Styrning och kompetens'!B103=\"Mer omfattande förändringsarbete behövs\",'Styrning och kompetens'!A103,\"\")","v":""},{"$f":"IF('Styrning och kompetens'!B103=\"Mer omfattande förändringsarbete behövs\",'Styrning och kompetens'!C103,\"\")","v":""},{"$f":"IF('Styrning och kompetens'!B103=\"Mer omfattande förändringsarbete behövs\",IF(ISBLANK('Styrning och kompetens'!D103),\"\",'Styrning och kompetens'!D103),\"\")","v":""}]
[null,{"$f":"IF('Styrning och kompetens'!B104=\"Mer omfattande förändringsarbete behövs\",'Styrning och kompetens'!A104,\"\")","v":""},{"$f":"IF('Styrning och kompetens'!B104=\"Mer omfattande förändringsarbete behövs\",'Styrning och kompetens'!C104,\"\")","v":""},{"$f":"IF('Styrning och kompetens'!B104=\"Mer omfattande förändringsarbete behövs\",IF(ISBLANK('Styrning och kompetens'!D104),\"\",'Styrning och kompetens'!D104),\"\")","v":""}]
[null,{"$f":"IF('Styrning och kompetens'!B105=\"Mer omfattande förändringsarbete behövs\",'Styrning och kompetens'!A105,\"\")","v":""},{"$f":"IF('Styrning och kompetens'!B105=\"Mer omfattande förändringsarbete behövs\",'Styrning och kompetens'!C105,\"\")","v":""},{"$f":"IF('Styrning och kompetens'!B105=\"Mer omfattande förändringsarbete behövs\",IF(ISBLANK('Styrning och kompetens'!D105),\"\",'Styrning och kompetens'!D105),\"\")","v":""}]
[null,{"$f":"IF('Styrning och kompetens'!B106=\"Mer omfattande förändringsarbete behövs\",'Styrning och kompetens'!A106,\"\")","v":""},{"$f":"IF('Styrning och kompetens'!B106=\"Mer omfattande förändringsarbete behövs\",'Styrning och kompetens'!C106,\"\")","v":""},{"$f":"IF('Styrning och kompetens'!B106=\"Mer omfattande förändringsarbete behövs\",IF(ISBLANK('Styrning och kompetens'!D106),\"\",'Styrning och kompetens'!D106),\"\")","v":""}]
[null,{"$f":"IF('Styrning och kompetens'!B107=\"Mer omfattande förändringsarbete behövs\",'Styrning och kompetens'!A107,\"\")","v":""},{"$f":"IF('Styrning och kompetens'!B107=\"Mer omfattande förändringsarbete behövs\",'Styrning och kompetens'!C107,\"\")","v":""},{"$f":"IF('Styrning och kompetens'!B107=\"Mer omfattande förändringsarbete behövs\",IF(ISBLANK('Styrning och kompetens'!D107),\"\",'Styrning och kompetens'!D107),\"\")","v":""}]
[null,{"$f":"IF('Styrning och kompetens'!B108=\"Mer omfattande förändringsarbete behövs\",'Styrning och kompetens'!A108,\"\")","v":""},{"$f":"IF('Styrning och kompetens'!B108=\"Mer omfattande förändringsarbete behövs\",'Styrning och kompetens'!C108,\"\")","v":""},{"$f":"IF('Styrning och kompetens'!B108=\"Mer omfattande förändringsarbete behövs\",IF(ISBLANK('Styrning och kompetens'!D108),\"\",'Styrning och kompetens'!D108),\"\")","v":""}]
[null,{"$f":"IF('Styrning och kompetens'!B109=\"Mer omfattande förändringsarbete behövs\",'Styrning och kompetens'!A109,\"\")","v":""},{"$f":"IF('Styrning och kompetens'!B109=\"Mer omfattande förändringsarbete behövs\",'Styrning och kompetens'!C109,\"\")","v":""},{"$f":"IF('Styrning och kompetens'!B109=\"Mer omfattande förändringsarbete behövs\",IF(ISBLANK('Styrning och kompetens'!D109),\"\",'Styrning och kompetens'!D109),\"\")","v":""}]
[null,{"$f":"IF('Styrning och kompetens'!B110=\"Mer omfattande förändringsarbete behövs\",'Styrning och kompetens'!A110,\"\")","v":""},{"$f":"IF('Styrning och kompetens'!B110=\"Mer omfattande förändringsarbete behövs\",'Styrning och kompetens'!C110,\"\")","v":""},{"$f":"IF('Styrning och kompetens'!B110=\"Mer omfattande förändringsarbete behövs\",IF(ISBLANK('Styrning och kompetens'!D110),\"\",'Styrning och kompetens'!D110),\"\")","v":""}]
[null,{"$f":"IF('Styrning och kompetens'!B111=\"Mer omfattande förändringsarbete behövs\",'Styrning och kompetens'!A111,\"\")","v":""},{"$f":"IF('Styrning och kompetens'!B111=\"Mer omfattande förändringsarbete behövs\",'Styrning och kompetens'!C111,\"\")","v":""},{"$f":"IF('Styrning och kompetens'!B111=\"Mer omfattande förändringsarbete behövs\",IF(ISBLANK('Styrning och kompetens'!D111),\"\",'Styrning och kompetens'!D111),\"\")","v":""}]
[null,{"$f":"IF('Styrning och kompetens'!B112=\"Mer omfattande förändringsarbete behövs\",'Styrning och kompetens'!A112,\"\")","v":""},{"$f":"IF('Styrning och kompetens'!B112=\"Mer omfattande förändringsarbete behövs\",'Styrning och kompetens'!C112,\"\")","v":""},{"$f":"IF('Styrning och kompetens'!B112=\"Mer omfattande förändringsarbete behövs\",IF(ISBLANK('Styrning och kompetens'!D112),\"\",'Styrning och kompetens'!D112),\"\")","v":""}]
[null,{"$f":"IF('Styrning och kompetens'!B113=\"Mer omfattande förändringsarbete behövs\",'Styrning och kompetens'!A113,\"\")","v":""},{"$f":"IF('Styrning och kompetens'!B113=\"Mer omfattande förändringsarbete behövs\",'Styrning och kompetens'!C113,\"\")","v":""},{"$f":"IF('Styrning och kompetens'!B113=\"Mer omfattande förändringsarbete behövs\",IF(ISBLANK('Styrning och kompetens'!D113),\"\",'Styrning och kompetens'!D113),\"\")","v":""}]
[null,{"$f":"IF('Styrning och kompetens'!B114=\"Mer omfattande förändringsarbete behövs\",'Styrning och kompetens'!A114,\"\")","v":""},{"$f":"IF('Styrning och kompetens'!B114=\"Mer omfattande förändringsarbete behövs\",'Styrning och kompetens'!C114,\"\")","v":""},{"$f":"IF('Styrning och kompetens'!B114=\"Mer omfattande förändringsarbete behövs\",IF(ISBLANK('Styrning och kompetens'!D114),\"\",'Styrning och kompetens'!D114),\"\")","v":""}]
[null,{"$f":"IF('Styrning och kompetens'!B115=\"Mer omfattande förändringsarbete behövs\",'Styrning och kompetens'!A115,\"\")","v":""},{"$f":"IF('Styrning och kompetens'!B115=\"Mer omfattande förändringsarbete behövs\",'Styrning och kompetens'!C115,\"\")","v":""},{"$f":"IF('Styrning och kompetens'!B115=\"Mer omfattande förändringsarbete behövs\",IF(ISBLANK('Styrning och kompetens'!D115),\"\",'Styrning och kompetens'!D115),\"\")","v":""}]
[null,{"$f":"IF('Styrning och kompetens'!B116=\"Mer omfattande förändringsarbete behövs\",'Styrning och kompetens'!A116,\"\")","v":""},{"$f":"IF('Styrning och kompetens'!B116=\"Mer omfattande förändringsarbete behövs\",'Styrning och kompetens'!C116,\"\")","v":""},{"$f":"IF('Styrning och kompetens'!B116=\"Mer omfattande förändringsarbete behövs\",IF(ISBLANK('Styrning och kompetens'!D116),\"\",'Styrning och kompetens'!D116),\"\")","v":""}]
[null,{"$f":"IF('Styrning och kompetens'!B117=\"Mer omfattande förändringsarbete behövs\",'Styrning och kompetens'!A117,\"\")","v":""},{"$f":"IF('Styrning och kompetens'!B117=\"Mer omfattande förändringsarbete behövs\",'Styrning och kompetens'!C117,\"\")","v":""},{"$f":"IF('Styrning och kompetens'!B117=\"Mer omfattande förändringsarbete behövs\",IF(ISBLANK('Styrning och kompetens'!D117),\"\",'Styrning och kompetens'!D117),\"\")","v":""}]
[null,{"$f":"IF('Styrning och kompetens'!B118=\"Mer omfattande förändringsarbete behövs\",'Styrning och kompetens'!A118,\"\")","v":""},{"$f":"IF('Styrning och kompetens'!B118=\"Mer omfattande förändringsarbete behövs\",'Styrning och kompetens'!C118,\"\")","v":""},{"$f":"IF('Styrning och kompetens'!B118=\"Mer omfattande förändringsarbete behövs\",IF(ISBLANK('Styrning och kompetens'!D118),\"\",'Styrning och kompetens'!D118),\"\")","v":""}]
[null,{"$f":"IF('Styrning och kompetens'!B119=\"Mer omfattande förändringsarbete behövs\",'Styrning och kompetens'!A119,\"\")","v":""},{"$f":"IF('Styrning och kompetens'!B119=\"Mer omfattande förändringsarbete behövs\",'Styrning och kompetens'!C119,\"\")","v":""},{"$f":"IF('Styrning och kompetens'!B119=\"Mer omfattande förändringsarbete behövs\",IF(ISBLANK('Styrning och kompetens'!D119),\"\",'Styrning och kompetens'!D119),\"\")","v":""}]
[null,{"$f":"IF('Styrning och kompetens'!B120=\"Mer omfattande förändringsarbete behövs\",'Styrning och kompetens'!A120,\"\")","v":""},{"$f":"IF('Styrning och kompetens'!B120=\"Mer omfattande förändringsarbete behövs\",'Styrning och kompetens'!C120,\"\")","v":""},{"$f":"IF('Styrning och kompetens'!B120=\"Mer omfattande förändringsarbete behövs\",IF(ISBLANK('Styrning och kompetens'!D120),\"\",'Styrning och kompetens'!D120),\"\")","v":""}]
[null,{"$f":"IF('Styrning och kompetens'!B121=\"Mer omfattande förändringsarbete behövs\",'Styrning och kompetens'!A121,\"\")","v":""},{"$f":"IF('Styrning och kompetens'!B121=\"Mer omfattande förändringsarbete behövs\",'Styrning och kompetens'!C121,\"\")","v":""},{"$f":"IF('Styrning och kompetens'!B121=\"Mer omfattande förändringsarbete behövs\",IF(ISBLANK('Styrning och kompetens'!D121),\"\",'Styrning och kompetens'!D121),\"\")","v":""}]
[null,{"$f":"IF('Styrning och kompetens'!B122=\"Mer omfattande förändringsarbete behövs\",'Styrning och kompetens'!A122,\"\")","v":""},{"$f":"IF('Styrning och kompetens'!B122=\"Mer omfattande förändringsarbete behövs\",'Styrning och kompetens'!C122,\"\")","v":""},{"$f":"IF('Styrning och kompetens'!B122=\"Mer omfattande förändringsarbete behövs\",IF(ISBLANK('Styrning och kompetens'!D122),\"\",'Styrning och kompetens'!D122),\"\")","v":""}]
[null,{"$f":"IF('Styrning och kompetens'!B123=\"Mer omfattande förändringsarbete behövs\",'Styrning och kompetens'!A123,\"\")","v":""},{"$f":"IF('Styrning och kompetens'!B123=\"Mer omfattande förändringsarbete behövs\",'Styrning och kompetens'!C123,\"\")","v":""},{"$f":"IF('Styrning och kompetens'!B123=\"Mer omfattande förändringsarbete behövs\",IF(ISBLANK('Styrning och kompetens'!D123),\"\",'Styrning och kompetens'!D123),\"\")","v":""}]
[null,{"$f":"IF('Styrning och kompetens'!B124=\"Mer omfattande förändringsarbete behövs\",'Styrning och kompetens'!A124,\"\")","v":""},{"$f":"IF('Styrning och kompetens'!B124=\"Mer omfattande förändringsarbete behövs\",'Styrning och kompetens'!C124,\"\")","v":""},{"$f":"IF('Styrning och kompetens'!B124=\"Mer omfattande förändringsarbete behövs\",IF(ISBLANK('Styrning och kompetens'!D124),\"\",'Styrning och kompetens'!D124),\"\")","v":""}]
[null,{"$f":"IF('Styrning och kompetens'!B125=\"Mer omfattande förändringsarbete behövs\",'Styrning och kompetens'!A125,\"\")","v":""},{"$f":"IF('Styrning och kompetens'!B125=\"Mer omfattande förändringsarbete behövs\",'Styrning och kompetens'!C125,\"\")","v":""},{"$f":"IF('Styrning och kompetens'!B125=\"Mer omfattande förändringsarbete behövs\",IF(ISBLANK('Styrning och kompetens'!D125),\"\",'Styrning och kompetens'!D125),\"\")","v":""}]
[null,{"$f":"IF('Styrning och kompetens'!B126=\"Mer omfattande förändringsarbete behövs\",'Styrning och kompetens'!A126,\"\")","v":""},{"$f":"IF('Styrning och kompetens'!B126=\"Mer omfattande förändringsarbete behövs\",'Styrning och kompetens'!C126,\"\")","v":""},{"$f":"IF('Styrning och kompetens'!B126=\"Mer omfattande förändringsarbete behövs\",IF(ISBLANK('Styrning och kompetens'!D126),\"\",'Styrning och kompetens'!D126),\"\")","v":""}]
[null,{"$f":"IF('Styrning och kompetens'!B127=\"Mer omfattande förändringsarbete behövs\",'Styrning och kompetens'!A127,\"\")","v":""},{"$f":"IF('Styrning och kompetens'!B127=\"Mer omfattande förändringsarbete behövs\",'Styrning och kompetens'!C127,\"\")","v":""},{"$f":"IF('Styrning och kompetens'!B127=\"Mer omfattande förändringsarbete behövs\",IF(ISBLANK('Styrning och kompetens'!D127),\"\",'Styrning och kompetens'!D127),\"\")","v":""}]
[null,{"$f":"IF('Styrning och kompetens'!B128=\"Mer omfattande förändringsarbete behövs\",'Styrning och kompetens'!A128,\"\")","v":""},{"$f":"IF('Styrning och kompetens'!B128=\"Mer omfattande förändringsarbete behövs\",'Styrning och kompetens'!C128,\"\")","v":""},{"$f":"IF('Styrning och kompetens'!B128=\"Mer omfattande förändringsarbete behövs\",IF(ISBLANK('Styrning och kompetens'!D128),\"\",'Styrning och kompetens'!D128),\"\")","v":""}]
[null,{"$f":"IF('Styrning och kompetens'!B129=\"Mer omfattande förändringsarbete behövs\",'Styrning och kompetens'!A129,\"\")","v":""},{"$f":"IF('Styrning och kompetens'!B129=\"Mer omfattande förändringsarbete behövs\",'Styrning och kompetens'!C129,\"\")","v":""},{"$f":"IF('Styrning och kompetens'!B129=\"Mer omfattande förändringsarbete behövs\",IF(ISBLANK('Styrning och kompetens'!D129),\"\",'Styrning och kompetens'!D129),\"\")","v":""}]
[null,{"$f":"IF('Styrning och kompetens'!B130=\"Mer omfattande förändringsarbete behövs\",'Styrning och kompetens'!A130,\"\")","v":""},{"$f":"IF('Styrning och kompetens'!B130=\"Mer omfattande förändringsarbete behövs\",'Styrning och kompetens'!C130,\"\")","v":""},{"$f":"IF('Styrning och kompetens'!B130=\"Mer omfattande förändringsarbete behövs\",IF(ISBLANK('Styrning och kompetens'!D130),\"\",'Styrning och kompetens'!D130),\"\")","v":""}]
[null,{"$f":"IF('Styrning och kompetens'!B131=\"Mer omfattande förändringsarbete behövs\",'Styrning och kompetens'!A131,\"\")","v":""},{"$f":"IF('Styrning och kompetens'!B131=\"Mer omfattande förändringsarbete behövs\",'Styrning och kompetens'!C131,\"\")","v":""},{"$f":"IF('Styrning och kompetens'!B131=\"Mer omfattande förändringsarbete behövs\",IF(ISBLANK('Styrning och kompetens'!D131),\"\",'Styrning och kompetens'!D131),\"\")","v":""}]
[null,{"$f":"IF('Styrning och kompetens'!B132=\"Mer omfattande förändringsarbete behövs\",'Styrning och kompetens'!A132,\"\")","v":""},{"$f":"IF('Styrning och kompetens'!B132=\"Mer omfattande förändringsarbete behövs\",'Styrning och kompetens'!C132,\"\")","v":""},{"$f":"IF('Styrning och kompetens'!B132=\"Mer omfattande förändringsarbete behövs\",IF(ISBLANK('Styrning och kompetens'!D132),\"\",'Styrning och kompetens'!D132),\"\")","v":""}]
[null,{"$f":"IF('Styrning och kompetens'!B133=\"Mer omfattande förändringsarbete behövs\",'Styrning och kompetens'!A133,\"\")","v":""},{"$f":"IF('Styrning och kompetens'!B133=\"Mer omfattande förändringsarbete behövs\",'Styrning och kompetens'!C133,\"\")","v":""},{"$f":"IF('Styrning och kompetens'!B133=\"Mer omfattande förändringsarbete behövs\",IF(ISBLANK('Styrning och kompetens'!D133),\"\",'Styrning och kompetens'!D133),\"\")","v":""}]
[null,{"$f":"IF('Styrning och kompetens'!B134=\"Mer omfattande förändringsarbete behövs\",'Styrning och kompetens'!A134,\"\")","v":""},{"$f":"IF('Styrning och kompetens'!B134=\"Mer omfattande förändringsarbete behövs\",'Styrning och kompetens'!C134,\"\")","v":""},{"$f":"IF('Styrning och kompetens'!B134=\"Mer omfattande förändringsarbete behövs\",IF(ISBLANK('Styrning och kompetens'!D134),\"\",'Styrning och kompetens'!D134),\"\")","v":""}]
[null,{"$f":"IF('Styrning och kompetens'!B135=\"Mer omfattande förändringsarbete behövs\",'Styrning och kompetens'!A135,\"\")","v":""},{"$f":"IF('Styrning och kompetens'!B135=\"Mer omfattande förändringsarbete behövs\",'Styrning och kompetens'!C135,\"\")","v":""},{"$f":"IF('Styrning och kompetens'!B135=\"Mer omfattande förändringsarbete behövs\",IF(ISBLANK('Styrning och kompetens'!D135),\"\",'Styrning och kompetens'!D135),\"\")","v":""}]
[null,{"$f":"IF('Styrning och kompetens'!B136=\"Mer omfattande förändringsarbete behövs\",'Styrning och kompetens'!A136,\"\")","v":""},{"$f":"IF('Styrning och kompetens'!B136=\"Mer omfattande förändringsarbete behövs\",'Styrning och kompetens'!C136,\"\")","v":""},{"$f":"IF('Styrning och kompetens'!B136=\"Mer omfattande förändringsarbete behövs\",IF(ISBLANK('Styrning och kompetens'!D136),\"\",'Styrning och kompetens'!D136),\"\")","v":""}]
[null,{"$f":"IF('Styrning och kompetens'!B137=\"Mer omfattande förändringsarbete behövs\",'Styrning och kompetens'!A137,\"\")","v":""},{"$f":"IF('Styrning och kompetens'!B137=\"Mer omfattande förändringsarbete behövs\",'Styrning och kompetens'!C137,\"\")","v":""},{"$f":"IF('Styrning och kompetens'!B137=\"Mer omfattande förändringsarbete behövs\",IF(ISBLANK('Styrning och kompetens'!D137),\"\",'Styrning och kompetens'!D137),\"\")","v":""}]
[null,{"$f":"IF('Styrning och kompetens'!B138=\"Mer omfattande förändringsarbete behövs\",'Styrning och kompetens'!A138,\"\")","v":""},{"$f":"IF('Styrning och kompetens'!B138=\"Mer omfattande förändringsarbete behövs\",'Styrning och kompetens'!C138,\"\")","v":""},{"$f":"IF('Styrning och kompetens'!B138=\"Mer omfattande förändringsarbete behövs\",IF(ISBLANK('Styrning och kompetens'!D138),\"\",'Styrning och kompetens'!D138),\"\")","v":""}]
[null,{"$f":"IF('Styrning och kompetens'!B139=\"Mer omfattande förändringsarbete behövs\",'Styrning och kompetens'!A139,\"\")","v":""},{"$f":"IF('Styrning och kompetens'!B139=\"Mer omfattande förändringsarbete behövs\",'Styrning och kompetens'!C139,\"\")","v":""},{"$f":"IF('Styrning och kompetens'!B139=\"Mer omfattande förändringsarbete behövs\",IF(ISBLANK('Styrning och kompetens'!D139),\"\",'Styrning och kompetens'!D139),\"\")","v":""}]
[null,{"$f":"IF('Styrning och kompetens'!B140=\"Mer omfattande förändringsarbete behövs\",'Styrning och kompetens'!A140,\"\")","v":""},{"$f":"IF('Styrning och kompetens'!B140=\"Mer omfattande förändringsarbete behövs\",'Styrning och kompetens'!C140,\"\")","v":""},{"$f":"IF('Styrning och kompetens'!B140=\"Mer omfattande förändringsarbete behövs\",IF(ISBLANK('Styrning och kompetens'!D140),\"\",'Styrning och kompetens'!D140),\"\")","v":""}]
[null,{"$f":"IF('Styrning och kompetens'!B141=\"Mer omfattande förändringsarbete behövs\",'Styrning och kompetens'!A141,\"\")","v":""},{"$f":"IF('Styrning och kompetens'!B141=\"Mer omfattande förändringsarbete behövs\",'Styrning och kompetens'!C141,\"\")","v":""},{"$f":"IF('Styrning och kompetens'!B141=\"Mer omfattande förändringsarbete behövs\",IF(ISBLANK('Styrning och kompetens'!D141),\"\",'Styrning och kompetens'!D141),\"\")","v":""}]
[null,{"$f":"IF('Styrning och kompetens'!B142=\"Mer omfattande förändringsarbete behövs\",'Styrning och kompetens'!A142,\"\")","v":""},{"$f":"IF('Styrning och kompetens'!B142=\"Mer omfattande förändringsarbete behövs\",'Styrning och kompetens'!C142,\"\")","v":""},{"$f":"IF('Styrning och kompetens'!B142=\"Mer omfattande förändringsarbete behövs\",IF(ISBLANK('Styrning och kompetens'!D142),\"\",'Styrning och kompetens'!D142),\"\")","v":""}]
[null,{"$f":"IF('Styrning och kompetens'!B143=\"Mer omfattande förändringsarbete behövs\",'Styrning och kompetens'!A143,\"\")","v":""},{"$f":"IF('Styrning och kompetens'!B143=\"Mer omfattande förändringsarbete behövs\",'Styrning och kompetens'!C143,\"\")","v":""},{"$f":"IF('Styrning och kompetens'!B143=\"Mer omfattande förändringsarbete behövs\",IF(ISBLANK('Styrning och kompetens'!D143),\"\",'Styrning och kompetens'!D143),\"\")","v":""}]
[null,{"$f":"IF('Styrning och kompetens'!B144=\"Mer omfattande förändringsarbete behövs\",'Styrning och kompetens'!A144,\"\")","v":""},{"$f":"IF('Styrning och kompetens'!B144=\"Mer omfattande förändringsarbete behövs\",'Styrning och kompetens'!C144,\"\")","v":""},{"$f":"IF('Styrning och kompetens'!B144=\"Mer omfattande förändringsarbete behövs\",IF(ISBLANK('Styrning och kompetens'!D144),\"\",'Styrning och kompetens'!D144),\"\")","v":""}]
[null,{"$f":"IF('Styrning och kompetens'!B145=\"Mer omfattande förändringsarbete behövs\",'Styrning och kompetens'!A145,\"\")","v":""},{"$f":"IF('Styrning och kompetens'!B145=\"Mer omfattande förändringsarbete behövs\",'Styrning och kompetens'!C145,\"\")","v":""},{"$f":"IF('Styrning och kompetens'!B145=\"Mer omfattande förändringsarbete behövs\",IF(ISBLANK('Styrning och kompetens'!D145),\"\",'Styrning och kompetens'!D145),\"\")","v":""}]
[null,{"$f":"IF('Styrning och kompetens'!B146=\"Mer omfattande förändringsarbete behövs\",'Styrning och kompetens'!A146,\"\")","v":""},{"$f":"IF('Styrning och kompetens'!B146=\"Mer omfattande förändringsarbete behövs\",'Styrning och kompetens'!C146,\"\")","v":""},{"$f":"IF('Styrning och kompetens'!B146=\"Mer omfattande förändringsarbete behövs\",IF(ISBLANK('Styrning och kompetens'!D146),\"\",'Styrning och kompetens'!D146),\"\")","v":""}]
[null,{"$f":"IF('Styrning och kompetens'!B147=\"Mer omfattande förändringsarbete behövs\",'Styrning och kompetens'!A147,\"\")","v":""},{"$f":"IF('Styrning och kompetens'!B147=\"Mer omfattande förändringsarbete behövs\",'Styrning och kompetens'!C147,\"\")","v":""},{"$f":"IF('Styrning och kompetens'!B147=\"Mer omfattande förändringsarbete behövs\",IF(ISBLANK('Styrning och kompetens'!D147),\"\",'Styrning och kompetens'!D147),\"\")","v":""}]
[null,{"$f":"IF('Styrning och kompetens'!B148=\"Mer omfattande förändringsarbete behövs\",'Styrning och kompetens'!A148,\"\")","v":""},{"$f":"IF('Styrning och kompetens'!B148=\"Mer omfattande förändringsarbete behövs\",'Styrning och kompetens'!C148,\"\")","v":""},{"$f":"IF('Styrning och kompetens'!B148=\"Mer omfattande förändringsarbete behövs\",IF(ISBLANK('Styrning och kompetens'!D148),\"\",'Styrning och kompetens'!D148),\"\")","v":""}]
[null,{"$f":"IF('Styrning och kompetens'!B149=\"Mer omfattande förändringsarbete behövs\",'Styrning och kompetens'!A149,\"\")","v":""},{"$f":"IF('Styrning och kompetens'!B149=\"Mer omfattande förändringsarbete behövs\",'Styrning och kompetens'!C149,\"\")","v":""},{"$f":"IF('Styrning och kompetens'!B149=\"Mer omfattande förändringsarbete behövs\",IF(ISBLANK('Styrning och kompetens'!D149),\"\",'Styrning och kompetens'!D149),\"\")","v":""}]
[null,{"$f":"IF('Styrning och kompetens'!B150=\"Mer omfattande förändringsarbete behövs\",'Styrning och kompetens'!A150,\"\")","v":""},{"$f":"IF('Styrning och kompetens'!B150=\"Mer omfattande förändringsarbete behövs\",'Styrning och kompetens'!C150,\"\")","v":""},{"$f":"IF('Styrning och kompetens'!B150=\"Mer omfattande förändringsarbete behövs\",IF(ISBLANK('Styrning och kompetens'!D150),\"\",'Styrning och kompetens'!D150),\"\")","v":""}]
[null,{"$f":"IF('Styrning och kompetens'!B151=\"Mer omfattande förändringsarbete behövs\",'Styrning och kompetens'!A151,\"\")","v":""},{"$f":"IF('Styrning och kompetens'!B151=\"Mer omfattande förändringsarbete behövs\",'Styrning och kompetens'!C151,\"\")","v":""},{"$f":"IF('Styrning och kompetens'!B151=\"Mer omfattande förändringsarbete behövs\",IF(ISBLANK('Styrning och kompetens'!D151),\"\",'Styrning och kompetens'!D151),\"\")","v":""}]
[null,{"$f":"IF('Styrning och kompetens'!B152=\"Mer omfattande förändringsarbete behövs\",'Styrning och kompetens'!A152,\"\")","v":""},{"$f":"IF('Styrning och kompetens'!B152=\"Mer omfattande förändringsarbete behövs\",'Styrning och kompetens'!C152,\"\")","v":""},{"$f":"IF('Styrning och kompetens'!B152=\"Mer omfattande förändringsarbete behövs\",IF(ISBLANK('Styrning och kompetens'!D152),\"\",'Styrning och kompetens'!D152),\"\")","v":""}]
[null,{"$f":"IF('Styrning och kompetens'!B153=\"Mer omfattande förändringsarbete behövs\",'Styrning och kompetens'!A153,\"\")","v":""},{"$f":"IF('Styrning och kompetens'!B153=\"Mer omfattande förändringsarbete behövs\",'Styrning och kompetens'!C153,\"\")","v":""},{"$f":"IF('Styrning och kompetens'!B153=\"Mer omfattande förändringsarbete behövs\",IF(ISBLANK('Styrning och kompetens'!D153),\"\",'Styrning och kompetens'!D153),\"\")","v":""}]
[null,{"$f":"IF('Styrning och kompetens'!B154=\"Mer omfattande förändringsarbete behövs\",'Styrning och kompetens'!A154,\"\")","v":""},{"$f":"IF('Styrning och kompetens'!B154=\"Mer omfattande förändringsarbete behövs\",'Styrning och kompetens'!C154,\"\")","v":""},{"$f":"IF('Styrning och kompetens'!B154=\"Mer omfattande förändringsarbete behövs\",IF(ISBLANK('Styrning och kompetens'!D154),\"\",'Styrning och kompetens'!D154),\"\")","v":""}]
[null,{"$f":"IF('Styrning och kompetens'!B155=\"Mer omfattande förändringsarbete behövs\",'Styrning och kompetens'!A155,\"\")","v":""},{"$f":"IF('Styrning och kompetens'!B155=\"Mer omfattande förändringsarbete behövs\",'Styrning och kompetens'!C155,\"\")","v":""},{"$f":"IF('Styrning och kompetens'!B155=\"Mer omfattande förändringsarbete behövs\",IF(ISBLANK('Styrning och kompetens'!D155),\"\",'Styrning och kompetens'!D155),\"\")","v":""}]
[null,{"$f":"IF('Styrning och kompetens'!B156=\"Mer omfattande förändringsarbete behövs\",'Styrning och kompetens'!A156,\"\")","v":""},{"$f":"IF('Styrning och kompetens'!B156=\"Mer omfattande förändringsarbete behövs\",'Styrning och kompetens'!C156,\"\")","v":""},{"$f":"IF('Styrning och kompetens'!B156=\"Mer omfattande förändringsarbete behövs\",IF(ISBLANK('Styrning och kompetens'!D156),\"\",'Styrning och kompetens'!D156),\"\")","v":""}]
[null,{"$f":"IF('Styrning och kompetens'!B157=\"Mer omfattande förändringsarbete behövs\",'Styrning och kompetens'!A157,\"\")","v":""},{"$f":"IF('Styrning och kompetens'!B157=\"Mer omfattande förändringsarbete behövs\",'Styrning och kompetens'!C157,\"\")","v":""},{"$f":"IF('Styrning och kompetens'!B157=\"Mer omfattande förändringsarbete behövs\",IF(ISBLANK('Styrning och kompetens'!D157),\"\",'Styrning och kompetens'!D157),\"\")","v":""}]
[null,{"$f":"IF('Styrning och kompetens'!B158=\"Mer omfattande förändringsarbete behövs\",'Styrning och kompetens'!A158,\"\")","v":""},{"$f":"IF('Styrning och kompetens'!B158=\"Mer omfattande förändringsarbete behövs\",'Styrning och kompetens'!C158,\"\")","v":""},{"$f":"IF('Styrning och kompetens'!B158=\"Mer omfattande förändringsarbete behövs\",IF(ISBLANK('Styrning och kompetens'!D158),\"\",'Styrning och kompetens'!D158),\"\")","v":""}]
[null,{"$f":"IF('Styrning och kompetens'!B159=\"Mer omfattande förändringsarbete behövs\",'Styrning och kompetens'!A159,\"\")","v":""},{"$f":"IF('Styrning och kompetens'!B159=\"Mer omfattande förändringsarbete behövs\",'Styrning och kompetens'!C159,\"\")","v":""},{"$f":"IF('Styrning och kompetens'!B159=\"Mer omfattande förändringsarbete behövs\",IF(ISBLANK('Styrning och kompetens'!D159),\"\",'Styrning och kompetens'!D159),\"\")","v":""}]
[null,{"$f":"IF('Styrning och kompetens'!B160=\"Mer omfattande förändringsarbete behövs\",'Styrning och kompetens'!A160,\"\")","v":""},{"$f":"IF('Styrning och kompetens'!B160=\"Mer omfattande förändringsarbete behövs\",'Styrning och kompetens'!C160,\"\")","v":""},{"$f":"IF('Styrning och kompetens'!B160=\"Mer omfattande förändringsarbete behövs\",IF(ISBLANK('Styrning och kompetens'!D160),\"\",'Styrning och kompetens'!D160),\"\")","v":""}]
[null,{"$f":"IF('Styrning och kompetens'!B161=\"Mer omfattande förändringsarbete behövs\",'Styrning och kompetens'!A161,\"\")","v":""},{"$f":"IF('Styrning och kompetens'!B161=\"Mer omfattande förändringsarbete behövs\",'Styrning och kompetens'!C161,\"\")","v":""},{"$f":"IF('Styrning och kompetens'!B161=\"Mer omfattande förändringsarbete behövs\",IF(ISBLANK('Styrning och kompetens'!D161),\"\",'Styrning och kompetens'!D161),\"\")","v":""}]
[null,{"$f":"IF('Styrning och kompetens'!B162=\"Mer omfattande förändringsarbete behövs\",'Styrning och kompetens'!A162,\"\")","v":""},{"$f":"IF('Styrning och kompetens'!B162=\"Mer omfattande förändringsarbete behövs\",'Styrning och kompetens'!C162,\"\")","v":""},{"$f":"IF('Styrning och kompetens'!B162=\"Mer omfattande förändringsarbete behövs\",IF(ISBLANK('Styrning och kompetens'!D162),\"\",'Styrning och kompetens'!D162),\"\")","v":""}]
[null,{"$f":"IF('Styrning och kompetens'!B163=\"Mer omfattande förändringsarbete behövs\",'Styrning och kompetens'!A163,\"\")","v":""},{"$f":"IF('Styrning och kompetens'!B163=\"Mer omfattande förändringsarbete behövs\",'Styrning och kompetens'!C163,\"\")","v":""},{"$f":"IF('Styrning och kompetens'!B163=\"Mer omfattande förändringsarbete behövs\",IF(ISBLANK('Styrning och kompetens'!D163),\"\",'Styrning och kompetens'!D163),\"\")","v":""}]
[null,{"$f":"IF('Styrning och kompetens'!B164=\"Mer omfattande förändringsarbete behövs\",'Styrning och kompetens'!A164,\"\")","v":""},{"$f":"IF('Styrning och kompetens'!B164=\"Mer omfattande förändringsarbete behövs\",'Styrning och kompetens'!C164,\"\")","v":""},{"$f":"IF('Styrning och kompetens'!B164=\"Mer omfattande förändringsarbete behövs\",IF(ISBLANK('Styrning och kompetens'!D164),\"\",'Styrning och kompetens'!D164),\"\")","v":""}]
[null,{"$f":"IF('Styrning och kompetens'!B165=\"Mer omfattande förändringsarbete behövs\",'Styrning och kompetens'!A165,\"\")","v":""},{"$f":"IF('Styrning och kompetens'!B165=\"Mer omfattande förändringsarbete behövs\",'Styrning och kompetens'!C165,\"\")","v":""},{"$f":"IF('Styrning och kompetens'!B165=\"Mer omfattande förändringsarbete behövs\",IF(ISBLANK('Styrning och kompetens'!D165),\"\",'Styrning och kompetens'!D165),\"\")","v":""}]
[null,{"$f":"IF('Styrning och kompetens'!B166=\"Mer omfattande förändringsarbete behövs\",'Styrning och kompetens'!A166,\"\")","v":""},{"$f":"IF('Styrning och kompetens'!B166=\"Mer omfattande förändringsarbete behövs\",'Styrning och kompetens'!C166,\"\")","v":""},{"$f":"IF('Styrning och kompetens'!B166=\"Mer omfattande förändringsarbete behövs\",IF(ISBLANK('Styrning och kompetens'!D166),\"\",'Styrning och kompetens'!D166),\"\")","v":""}]
[null,{"$f":"IF('Styrning och kompetens'!B167=\"Mer omfattande förändringsarbete behövs\",'Styrning och kompetens'!A167,\"\")","v":""},{"$f":"IF('Styrning och kompetens'!B167=\"Mer omfattande förändringsarbete behövs\",'Styrning och kompetens'!C167,\"\")","v":""},{"$f":"IF('Styrning och kompetens'!B167=\"Mer omfattande förändringsarbete behövs\",IF(ISBLANK('Styrning och kompetens'!D167),\"\",'Styrning och kompetens'!D167),\"\")","v":""}]
[null,{"$f":"IF('Styrning och kompetens'!B168=\"Mer omfattande förändringsarbete behövs\",'Styrning och kompetens'!A168,\"\")","v":""},{"$f":"IF('Styrning och kompetens'!B168=\"Mer omfattande förändringsarbete behövs\",'Styrning och kompetens'!C168,\"\")","v":""},{"$f":"IF('Styrning och kompetens'!B168=\"Mer omfattande förändringsarbete behövs\",IF(ISBLANK('Styrning och kompetens'!D168),\"\",'Styrning och kompetens'!D168),\"\")","v":""}]
[null,{"$f":"IF('Styrning och kompetens'!B169=\"Mer omfattande förändringsarbete behövs\",'Styrning och kompetens'!A169,\"\")","v":""},{"$f":"IF('Styrning och kompetens'!B169=\"Mer omfattande förändringsarbete behövs\",'Styrning och kompetens'!C169,\"\")","v":""},{"$f":"IF('Styrning och kompetens'!B169=\"Mer omfattande förändringsarbete behövs\",IF(ISBLANK('Styrning och kompetens'!D169),\"\",'Styrning och kompetens'!D169),\"\")","v":""}]
[null,{"$f":"IF('Styrning och kompetens'!B170=\"Mer omfattande förändringsarbete behövs\",'Styrning och kompetens'!A170,\"\")","v":""},{"$f":"IF('Styrning och kompetens'!B170=\"Mer omfattande förändringsarbete behövs\",'Styrning och kompetens'!C170,\"\")","v":""},{"$f":"IF('Styrning och kompetens'!B170=\"Mer omfattande förändringsarbete behövs\",IF(ISBLANK('Styrning och kompetens'!D170),\"\",'Styrning och kompetens'!D170),\"\")","v":""}]
[null,{"$f":"IF('Styrning och kompetens'!B171=\"Mer omfattande förändringsarbete behövs\",'Styrning och kompetens'!A171,\"\")","v":""},{"$f":"IF('Styrning och kompetens'!B171=\"Mer omfattande förändringsarbete behövs\",'Styrning och kompetens'!C171,\"\")","v":""},{"$f":"IF('Styrning och kompetens'!B171=\"Mer omfattande förändringsarbete behövs\",IF(ISBLANK('Styrning och kompetens'!D171),\"\",'Styrning och kompetens'!D171),\"\")","v":""}]
[null,{"$f":"IF('Styrning och kompetens'!B172=\"Mer omfattande förändringsarbete behövs\",'Styrning och kompetens'!A172,\"\")","v":""},{"$f":"IF('Styrning och kompetens'!B172=\"Mer omfattande förändringsarbete behövs\",'Styrning och kompetens'!C172,\"\")","v":""},{"$f":"IF('Styrning och kompetens'!B172=\"Mer omfattande förändringsarbete behövs\",IF(ISBLANK('Styrning och kompetens'!D172),\"\",'Styrning och kompetens'!D172),\"\")","v":""}]
[null,{"$f":"IF('Styrning och kompetens'!B173=\"Mer omfattande förändringsarbete behövs\",'Styrning och kompetens'!A173,\"\")","v":""},{"$f":"IF('Styrning och kompetens'!B173=\"Mer omfattande förändringsarbete behövs\",'Styrning och kompetens'!C173,\"\")","v":""},{"$f":"IF('Styrning och kompetens'!B173=\"Mer omfattande förändringsarbete behövs\",IF(ISBLANK('Styrning och kompetens'!D173),\"\",'Styrning och kompetens'!D173),\"\")","v":""}]
[null,{"$f":"IF('Styrning och kompetens'!B174=\"Mer omfattande förändringsarbete behövs\",'Styrning och kompetens'!A174,\"\")","v":""},{"$f":"IF('Styrning och kompetens'!B174=\"Mer omfattande förändringsarbete behövs\",'Styrning och kompetens'!C174,\"\")","v":""},{"$f":"IF('Styrning och kompetens'!B174=\"Mer omfattande förändringsarbete behövs\",IF(ISBLANK('Styrning och kompetens'!D174),\"\",'Styrning och kompetens'!D174),\"\")","v":""}]
[null,{"$f":"IF('Styrning och kompetens'!B175=\"Mer omfattande förändringsarbete behövs\",'Styrning och kompetens'!A175,\"\")","v":""},{"$f":"IF('Styrning och kompetens'!B175=\"Mer omfattande förändringsarbete behövs\",'Styrning och kompetens'!C175,\"\")","v":""},{"$f":"IF('Styrning och kompetens'!B175=\"Mer omfattande förändringsarbete behövs\",IF(ISBLANK('Styrning och kompetens'!D175),\"\",'Styrning och kompetens'!D175),\"\")","v":""}]
[null,{"$f":"IF('Styrning och kompetens'!B176=\"Mer omfattande förändringsarbete behövs\",'Styrning och kompetens'!A176,\"\")","v":""},{"$f":"IF('Styrning och kompetens'!B176=\"Mer omfattande förändringsarbete behövs\",'Styrning och kompetens'!C176,\"\")","v":""},{"$f":"IF('Styrning och kompetens'!B176=\"Mer omfattande förändringsarbete behövs\",IF(ISBLANK('Styrning och kompetens'!D176),\"\",'Styrning och kompetens'!D176),\"\")","v":""}]
[null,{"$f":"IF('Styrning och kompetens'!B177=\"Mer omfattande förändringsarbete behövs\",'Styrning och kompetens'!A177,\"\")","v":""},{"$f":"IF('Styrning och kompetens'!B177=\"Mer omfattande förändringsarbete behövs\",'Styrning och kompetens'!C177,\"\")","v":""},{"$f":"IF('Styrning och kompetens'!B177=\"Mer omfattande förändringsarbete behövs\",IF(ISBLANK('Styrning och kompetens'!D177),\"\",'Styrning och kompetens'!D177),\"\")","v":""}]
[null,{"$f":"IF('Styrning och kompetens'!B178=\"Mer omfattande förändringsarbete behövs\",'Styrning och kompetens'!A178,\"\")","v":""},{"$f":"IF('Styrning och kompetens'!B178=\"Mer omfattande förändringsarbete behövs\",'Styrning och kompetens'!C178,\"\")","v":""},{"$f":"IF('Styrning och kompetens'!B178=\"Mer omfattande förändringsarbete behövs\",IF(ISBLANK('Styrning och kompetens'!D178),\"\",'Styrning och kompetens'!D178),\"\")","v":""}]
[null,{"$f":"IF('Styrning och kompetens'!B179=\"Mer omfattande förändringsarbete behövs\",'Styrning och kompetens'!A179,\"\")","v":""},{"$f":"IF('Styrning och kompetens'!B179=\"Mer omfattande förändringsarbete behövs\",'Styrning och kompetens'!C179,\"\")","v":""},{"$f":"IF('Styrning och kompetens'!B179=\"Mer omfattande förändringsarbete behövs\",IF(ISBLANK('Styrning och kompetens'!D179),\"\",'Styrning och kompetens'!D179),\"\")","v":""}]
[null,{"$f":"IF('Styrning och kompetens'!B180=\"Mer omfattande förändringsarbete behövs\",'Styrning och kompetens'!A180,\"\")","v":""},{"$f":"IF('Styrning och kompetens'!B180=\"Mer omfattande förändringsarbete behövs\",'Styrning och kompetens'!C180,\"\")","v":""},{"$f":"IF('Styrning och kompetens'!B180=\"Mer omfattande förändringsarbete behövs\",IF(ISBLANK('Styrning och kompetens'!D180),\"\",'Styrning och kompetens'!D180),\"\")","v":""}]
[null,{"$f":"IF('Styrning och kompetens'!B181=\"Mer omfattande förändringsarbete behövs\",'Styrning och kompetens'!A181,\"\")","v":""},{"$f":"IF('Styrning och kompetens'!B181=\"Mer omfattande förändringsarbete behövs\",'Styrning och kompetens'!C181,\"\")","v":""},{"$f":"IF('Styrning och kompetens'!B181=\"Mer omfattande förändringsarbete behövs\",IF(ISBLANK('Styrning och kompetens'!D181),\"\",'Styrning och kompetens'!D181),\"\")","v":""}]
[null,{"$f":"IF('Styrning och kompetens'!B182=\"Mer omfattande förändringsarbete behövs\",'Styrning och kompetens'!A182,\"\")","v":""},{"$f":"IF('Styrning och kompetens'!B182=\"Mer omfattande förändringsarbete behövs\",'Styrning och kompetens'!C182,\"\")","v":""},{"$f":"IF('Styrning och kompetens'!B182=\"Mer omfattande förändringsarbete behövs\",IF(ISBLANK('Styrning och kompetens'!D182),\"\",'Styrning och kompetens'!D182),\"\")","v":""}]
[null,{"$f":"IF('Styrning och kompetens'!B183=\"Mer omfattande förändringsarbete behövs\",'Styrning och kompetens'!A183,\"\")","v":""},{"$f":"IF('Styrning och kompetens'!B183=\"Mer omfattande förändringsarbete behövs\",'Styrning och kompetens'!C183,\"\")","v":""},{"$f":"IF('Styrning och kompetens'!B183=\"Mer omfattande förändringsarbete behövs\",IF(ISBLANK('Styrning och kompetens'!D183),\"\",'Styrning och kompetens'!D183),\"\")","v":""}]
[null,{"$f":"IF('Styrning och kompetens'!B184=\"Mer omfattande förändringsarbete behövs\",'Styrning och kompetens'!A184,\"\")","v":""},{"$f":"IF('Styrning och kompetens'!B184=\"Mer omfattande förändringsarbete behövs\",'Styrning och kompetens'!C184,\"\")","v":""},{"$f":"IF('Styrning och kompetens'!B184=\"Mer omfattande förändringsarbete behövs\",IF(ISBLANK('Styrning och kompetens'!D184),\"\",'Styrning och kompetens'!D184),\"\")","v":""}]
[null,{"$f":"IF('Styrning och kompetens'!B185=\"Mer omfattande förändringsarbete behövs\",'Styrning och kompetens'!A185,\"\")","v":""},{"$f":"IF('Styrning och kompetens'!B185=\"Mer omfattande förändringsarbete behövs\",'Styrning och kompetens'!C185,\"\")","v":""},{"$f":"IF('Styrning och kompetens'!B185=\"Mer omfattande förändringsarbete behövs\",IF(ISBLANK('Styrning och kompetens'!D185),\"\",'Styrning och kompetens'!D185),\"\")","v":""}]
[null,{"$f":"IF('Styrning och kompetens'!B186=\"Mer omfattande förändringsarbete behövs\",'Styrning och kompetens'!A186,\"\")","v":""},{"$f":"IF('Styrning och kompetens'!B186=\"Mer omfattande förändringsarbete behövs\",'Styrning och kompetens'!C186,\"\")","v":""},{"$f":"IF('Styrning och kompetens'!B186=\"Mer omfattande förändringsarbete behövs\",IF(ISBLANK('Styrning och kompetens'!D186),\"\",'Styrning och kompetens'!D186),\"\")","v":""}]
[null,{"$f":"IF('Styrning och kompetens'!B187=\"Mer omfattande förändringsarbete behövs\",'Styrning och kompetens'!A187,\"\")","v":""},{"$f":"IF('Styrning och kompetens'!B187=\"Mer omfattande förändringsarbete behövs\",'Styrning och kompetens'!C187,\"\")","v":""},{"$f":"IF('Styrning och kompetens'!B187=\"Mer omfattande förändringsarbete behövs\",IF(ISBLANK('Styrning och kompetens'!D187),\"\",'Styrning och kompetens'!D187),\"\")","v":""}]
[null,{"$f":"IF('Styrning och kompetens'!B188=\"Mer omfattande förändringsarbete behövs\",'Styrning och kompetens'!A188,\"\")","v":""},{"$f":"IF('Styrning och kompetens'!B188=\"Mer omfattande förändringsarbete behövs\",'Styrning och kompetens'!C188,\"\")","v":""},{"$f":"IF('Styrning och kompetens'!B188=\"Mer omfattande förändringsarbete behövs\",IF(ISBLANK('Styrning och kompetens'!D188),\"\",'Styrning och kompetens'!D188),\"\")","v":""}]
[null,{"$f":"IF('Styrning och kompetens'!B189=\"Mer omfattande förändringsarbete behövs\",'Styrning och kompetens'!A189,\"\")","v":""},{"$f":"IF('Styrning och kompetens'!B189=\"Mer omfattande förändringsarbete behövs\",'Styrning och kompetens'!C189,\"\")","v":""},{"$f":"IF('Styrning och kompetens'!B189=\"Mer omfattande förändringsarbete behövs\",IF(ISBLANK('Styrning och kompetens'!D189),\"\",'Styrning och kompetens'!D189),\"\")","v":""}]
[null,{"$f":"IF('Styrning och kompetens'!B190=\"Mer omfattande förändringsarbete behövs\",'Styrning och kompetens'!A190,\"\")","v":""},{"$f":"IF('Styrning och kompetens'!B190=\"Mer omfattande förändringsarbete behövs\",'Styrning och kompetens'!C190,\"\")","v":""},{"$f":"IF('Styrning och kompetens'!B190=\"Mer omfattande förändringsarbete behövs\",IF(ISBLANK('Styrning och kompetens'!D190),\"\",'Styrning och kompetens'!D190),\"\")","v":""}]
[null,{"$f":"IF('Styrning och kompetens'!B191=\"Mer omfattande förändringsarbete behövs\",'Styrning och kompetens'!A191,\"\")","v":""},{"$f":"IF('Styrning och kompetens'!B191=\"Mer omfattande förändringsarbete behövs\",'Styrning och kompetens'!C191,\"\")","v":""},{"$f":"IF('Styrning och kompetens'!B191=\"Mer omfattande förändringsarbete behövs\",IF(ISBLANK('Styrning och kompetens'!D191),\"\",'Styrning och kompetens'!D191),\"\")","v":""}]
[null,{"$f":"IF('Styrning och kompetens'!B192=\"Mer omfattande förändringsarbete behövs\",'Styrning och kompetens'!A192,\"\")","v":""},{"$f":"IF('Styrning och kompetens'!B192=\"Mer omfattande förändringsarbete behövs\",'Styrning och kompetens'!C192,\"\")","v":""},{"$f":"IF('Styrning och kompetens'!B192=\"Mer omfattande förändringsarbete behövs\",IF(ISBLANK('Styrning och kompetens'!D192),\"\",'Styrning och kompetens'!D192),\"\")","v":""}]
[null,{"$f":"IF('Styrning och kompetens'!B193=\"Mer omfattande förändringsarbete behövs\",'Styrning och kompetens'!A193,\"\")","v":""},{"$f":"IF('Styrning och kompetens'!B193=\"Mer omfattande förändringsarbete behövs\",'Styrning och kompetens'!C193,\"\")","v":""},{"$f":"IF('Styrning och kompetens'!B193=\"Mer omfattande förändringsarbete behövs\",IF(ISBLANK('Styrning och kompetens'!D193),\"\",'Styrning och kompetens'!D193),\"\")","v":""}]
[null,{"$f":"IF('Styrning och kompetens'!B194=\"Mer omfattande förändringsarbete behövs\",'Styrning och kompetens'!A194,\"\")","v":""},{"$f":"IF('Styrning och kompetens'!B194=\"Mer omfattande förändringsarbete behövs\",'Styrning och kompetens'!C194,\"\")","v":""},{"$f":"IF('Styrning och kompetens'!B194=\"Mer omfattande förändringsarbete behövs\",IF(ISBLANK('Styrning och kompetens'!D194),\"\",'Styrning och kompetens'!D194),\"\")","v":""}]
[null,{"$f":"IF('Styrning och kompetens'!B195=\"Mer omfattande förändringsarbete behövs\",'Styrning och kompetens'!A195,\"\")","v":""},{"$f":"IF('Styrning och kompetens'!B195=\"Mer omfattande förändringsarbete behövs\",'Styrning och kompetens'!C195,\"\")","v":""},{"$f":"IF('Styrning och kompetens'!B195=\"Mer omfattande förändringsarbete behövs\",IF(ISBLANK('Styrning och kompetens'!D195),\"\",'Styrning och kompetens'!D195),\"\")","v":""}]
[null,{"$f":"IF('Styrning och kompetens'!B196=\"Mer omfattande förändringsarbete behövs\",'Styrning och kompetens'!A196,\"\")","v":""},{"$f":"IF('Styrning och kompetens'!B196=\"Mer omfattande förändringsarbete behövs\",'Styrning och kompetens'!C196,\"\")","v":""},{"$f":"IF('Styrning och kompetens'!B196=\"Mer omfattande förändringsarbete behövs\",IF(ISBLANK('Styrning och kompetens'!D196),\"\",'Styrning och kompetens'!D196),\"\")","v":""}]
[null,{"$f":"IF('Styrning och kompetens'!B197=\"Mer omfattande förändringsarbete behövs\",'Styrning och kompetens'!A197,\"\")","v":""},{"$f":"IF('Styrning och kompetens'!B197=\"Mer omfattande förändringsarbete behövs\",'Styrning och kompetens'!C197,\"\")","v":""},{"$f":"IF('Styrning och kompetens'!B197=\"Mer omfattande förändringsarbete behövs\",IF(ISBLANK('Styrning och kompetens'!D197),\"\",'Styrning och kompetens'!D197),\"\")","v":""}]
[null,{"$f":"IF('Styrning och kompetens'!B198=\"Mer omfattande förändringsarbete behövs\",'Styrning och kompetens'!A198,\"\")","v":""},{"$f":"IF('Styrning och kompetens'!B198=\"Mer omfattande förändringsarbete behövs\",'Styrning och kompetens'!C198,\"\")","v":""},{"$f":"IF('Styrning och kompetens'!B198=\"Mer omfattande förändringsarbete behövs\",IF(ISBLANK('Styrning och kompetens'!D198),\"\",'Styrning och kompetens'!D198),\"\")","v":""}]
[null,{"$f":"IF('Styrning och kompetens'!B199=\"Mer omfattande förändringsarbete behövs\",'Styrning och kompetens'!A199,\"\")","v":""},{"$f":"IF('Styrning och kompetens'!B199=\"Mer omfattande förändringsarbete behövs\",'Styrning och kompetens'!C199,\"\")","v":""},{"$f":"IF('Styrning och kompetens'!B199=\"Mer omfattande förändringsarbete behövs\",IF(ISBLANK('Styrning och kompetens'!D199),\"\",'Styrning och kompetens'!D199),\"\")","v":""}]
[null,{"$f":"IF('Styrning och kompetens'!B200=\"Mer omfattande förändringsarbete behövs\",'Styrning och kompetens'!A200,\"\")","v":""},{"$f":"IF('Styrning och kompetens'!B200=\"Mer omfattande förändringsarbete behövs\",'Styrning och kompetens'!C200,\"\")","v":""},{"$f":"IF('Styrning och kompetens'!B200=\"Mer omfattande förändringsarbete behövs\",IF(ISBLANK('Styrning och kompetens'!D200),\"\",'Styrning och kompetens'!D200),\"\")","v":""}]
[null,{"$f":"IF('Styrning och kompetens'!B201=\"Mer omfattande förändringsarbete behövs\",'Styrning och kompetens'!A201,\"\")","v":""},{"$f":"IF('Styrning och kompetens'!B201=\"Mer omfattande förändringsarbete behövs\",'Styrning och kompetens'!C201,\"\")","v":""},{"$f":"IF('Styrning och kompetens'!B201=\"Mer omfattande förändringsarbete behövs\",IF(ISBLANK('Styrning och kompetens'!D201),\"\",'Styrning och kompetens'!D201),\"\")","v":""}]
[null,{"$f":"IF('Styrning och kompetens'!B202=\"Mer omfattande förändringsarbete behövs\",'Styrning och kompetens'!A202,\"\")","v":""},{"$f":"IF('Styrning och kompetens'!B202=\"Mer omfattande förändringsarbete behövs\",'Styrning och kompetens'!C202,\"\")","v":""},{"$f":"IF('Styrning och kompetens'!B202=\"Mer omfattande förändringsarbete behövs\",IF(ISBLANK('Styrning och kompetens'!D202),\"\",'Styrning och kompetens'!D202),\"\")","v":""}]
[null,{"$f":"IF('Styrning och kompetens'!B203=\"Mer omfattande förändringsarbete behövs\",'Styrning och kompetens'!A203,\"\")","v":""},{"$f":"IF('Styrning och kompetens'!B203=\"Mer omfattande förändringsarbete behövs\",'Styrning och kompetens'!C203,\"\")","v":""},{"$f":"IF('Styrning och kompetens'!B203=\"Mer omfattande förändringsarbete behövs\",IF(ISBLANK('Styrning och kompetens'!D203),\"\",'Styrning och kompetens'!D203),\"\")","v":""}]
[null,{"$f":"IF('Styrning och kompetens'!B204=\"Mer omfattande förändringsarbete behövs\",'Styrning och kompetens'!A204,\"\")","v":""},{"$f":"IF('Styrning och kompetens'!B204=\"Mer omfattande förändringsarbete behövs\",'Styrning och kompetens'!C204,\"\")","v":""},{"$f":"IF('Styrning och kompetens'!B204=\"Mer omfattande förändringsarbete behövs\",IF(ISBLANK('Styrning och kompetens'!D204),\"\",'Styrning och kompetens'!D204),\"\")","v":""}]
[null,{"$f":"IF('Styrning och kompetens'!B205=\"Mer omfattande förändringsarbete behövs\",'Styrning och kompetens'!A205,\"\")","v":""},{"$f":"IF('Styrning och kompetens'!B205=\"Mer omfattande förändringsarbete behövs\",'Styrning och kompetens'!C205,\"\")","v":""},{"$f":"IF('Styrning och kompetens'!B205=\"Mer omfattande förändringsarbete behövs\",IF(ISBLANK('Styrning och kompetens'!D205),\"\",'Styrning och kompetens'!D205),\"\")","v":""}]
[null,{"$f":"IF('Styrning och kompetens'!B206=\"Mer omfattande förändringsarbete behövs\",'Styrning och kompetens'!A206,\"\")","v":""},{"$f":"IF('Styrning och kompetens'!B206=\"Mer omfattande förändringsarbete behövs\",'Styrning och kompetens'!C206,\"\")","v":""},{"$f":"IF('Styrning och kompetens'!B206=\"Mer omfattande förändringsarbete behövs\",IF(ISBLANK('Styrning och kompetens'!D206),\"\",'Styrning och kompetens'!D206),\"\")","v":""}]
[null,{"$f":"IF('Styrning och kompetens'!B207=\"Mer omfattande förändringsarbete behövs\",'Styrning och kompetens'!A207,\"\")","v":""},{"$f":"IF('Styrning och kompetens'!B207=\"Mer omfattande förändringsarbete behövs\",'Styrning och kompetens'!C207,\"\")","v":""},{"$f":"IF('Styrning och kompetens'!B207=\"Mer omfattande förändringsarbete behövs\",IF(ISBLANK('Styrning och kompetens'!D207),\"\",'Styrning och kompetens'!D207),\"\")","v":""}]
[null,{"$f":"IF('Styrning och kompetens'!B208=\"Mer omfattande förändringsarbete behövs\",'Styrning och kompetens'!A208,\"\")","v":""},{"$f":"IF('Styrning och kompetens'!B208=\"Mer omfattande förändringsarbete behövs\",'Styrning och kompetens'!C208,\"\")","v":""},{"$f":"IF('Styrning och kompetens'!B208=\"Mer omfattande förändringsarbete behövs\",IF(ISBLANK('Styrning och kompetens'!D208),\"\",'Styrning och kompetens'!D208),\"\")","v":""}]
[null,{"$f":"IF('Handläggning och uppföljning'!B4=\"Mer omfattande förändringsarbete behövs\",'Handläggning och uppföljning'!A4,\"\")","v":""},{"$f":"IF('Handläggning och uppföljning'!B4=\"Mer omfattande förändringsarbete behövs\",'Handläggning och uppföljning'!C4,\"\")","v":""},{"$f":"IF('Handläggning och uppföljning'!B4=\"Mer omfattande förändringsarbete behövs\",IF(ISBLANK('Handläggning och uppföljning'!D4),\"\",'Handläggning och uppföljning'!D4),\"\")","v":""}]
[null,{"$f":"IF('Handläggning och uppföljning'!B5=\"Mer omfattande förändringsarbete behövs\",'Handläggning och uppföljning'!A5,\"\")","v":""},{"$f":"IF('Handläggning och uppföljning'!B5=\"Mer omfattande förändringsarbete behövs\",'Handläggning och uppföljning'!C5,\"\")","v":""},{"$f":"IF('Handläggning och uppföljning'!B5=\"Mer omfattande förändringsarbete behövs\",IF(ISBLANK('Handläggning och uppföljning'!D5),\"\",'Handläggning och uppföljning'!D5),\"\")","v":""}]
[null,{"$f":"IF('Handläggning och uppföljning'!B6=\"Mer omfattande förändringsarbete behövs\",'Handläggning och uppföljning'!A6,\"\")","v":""},{"$f":"IF('Handläggning och uppföljning'!B6=\"Mer omfattande förändringsarbete behövs\",'Handläggning och uppföljning'!C6,\"\")","v":""},{"$f":"IF('Handläggning och uppföljning'!B6=\"Mer omfattande förändringsarbete behövs\",IF(ISBLANK('Handläggning och uppföljning'!D6),\"\",'Handläggning och uppföljning'!D6),\"\")","v":""}]
[null,{"$f":"IF('Handläggning och uppföljning'!B7=\"Mer omfattande förändringsarbete behövs\",'Handläggning och uppföljning'!A7,\"\")","v":""},{"$f":"IF('Handläggning och uppföljning'!B7=\"Mer omfattande förändringsarbete behövs\",'Handläggning och uppföljning'!C7,\"\")","v":""},{"$f":"IF('Handläggning och uppföljning'!B7=\"Mer omfattande förändringsarbete behövs\",IF(ISBLANK('Handläggning och uppföljning'!D7),\"\",'Handläggning och uppföljning'!D7),\"\")","v":""}]
[null,{"$f":"IF('Handläggning och uppföljning'!B8=\"Mer omfattande förändringsarbete behövs\",'Handläggning och uppföljning'!A8,\"\")","v":""},{"$f":"IF('Handläggning och uppföljning'!B8=\"Mer omfattande förändringsarbete behövs\",'Handläggning och uppföljning'!C8,\"\")","v":""},{"$f":"IF('Handläggning och uppföljning'!B8=\"Mer omfattande förändringsarbete behövs\",IF(ISBLANK('Handläggning och uppföljning'!D8),\"\",'Handläggning och uppföljning'!D8),\"\")","v":""}]
[null,{"$f":"IF('Handläggning och uppföljning'!B9=\"Mer omfattande förändringsarbete behövs\",'Handläggning och uppföljning'!A9,\"\")","v":""},{"$f":"IF('Handläggning och uppföljning'!B9=\"Mer omfattande förändringsarbete behövs\",'Handläggning och uppföljning'!C9,\"\")","v":""},{"$f":"IF('Handläggning och uppföljning'!B9=\"Mer omfattande förändringsarbete behövs\",IF(ISBLANK('Handläggning och uppföljning'!D9),\"\",'Handläggning och uppföljning'!D9),\"\")","v":""}]
[null,{"$f":"IF('Handläggning och uppföljning'!B10=\"Mer omfattande förändringsarbete behövs\",'Handläggning och uppföljning'!A10,\"\")","v":""},{"$f":"IF('Handläggning och uppföljning'!B10=\"Mer omfattande förändringsarbete behövs\",'Handläggning och uppföljning'!C10,\"\")","v":""},{"$f":"IF('Handläggning och uppföljning'!B10=\"Mer omfattande förändringsarbete behövs\",IF(ISBLANK('Handläggning och uppföljning'!D10),\"\",'Handläggning och uppföljning'!D10),\"\")","v":""}]
[null,{"$f":"IF('Handläggning och uppföljning'!B11=\"Mer omfattande förändringsarbete behövs\",'Handläggning och uppföljning'!A11,\"\")","v":""},{"$f":"IF('Handläggning och uppföljning'!B11=\"Mer omfattande förändringsarbete behövs\",'Handläggning och uppföljning'!C11,\"\")","v":""},{"$f":"IF('Handläggning och uppföljning'!B11=\"Mer omfattande förändringsarbete behövs\",IF(ISBLANK('Handläggning och uppföljning'!D11),\"\",'Handläggning och uppföljning'!D11),\"\")","v":""}]
[null,{"$f":"IF('Handläggning och uppföljning'!B12=\"Mer omfattande förändringsarbete behövs\",'Handläggning och uppföljning'!A12,\"\")","v":""},{"$f":"IF('Handläggning och uppföljning'!B12=\"Mer omfattande förändringsarbete behövs\",'Handläggning och uppföljning'!C12,\"\")","v":""},{"$f":"IF('Handläggning och uppföljning'!B12=\"Mer omfattande förändringsarbete behövs\",IF(ISBLANK('Handläggning och uppföljning'!D12),\"\",'Handläggning och uppföljning'!D12),\"\")","v":""}]
[null,{"$f":"IF('Handläggning och uppföljning'!B13=\"Mer omfattande förändringsarbete behövs\",'Handläggning och uppföljning'!A13,\"\")","v":""},{"$f":"IF('Handläggning och uppföljning'!B13=\"Mer omfattande förändringsarbete behövs\",'Handläggning och uppföljning'!C13,\"\")","v":""},{"$f":"IF('Handläggning och uppföljning'!B13=\"Mer omfattande förändringsarbete behövs\",IF(ISBLANK('Handläggning och uppföljning'!D13),\"\",'Handläggning och uppföljning'!D13),\"\")","v":""}]
[null,{"$f":"IF('Handläggning och uppföljning'!B14=\"Mer omfattande förändringsarbete behövs\",'Handläggning och uppföljning'!A14,\"\")","v":""},{"$f":"IF('Handläggning och uppföljning'!B14=\"Mer omfattande förändringsarbete behövs\",'Handläggning och uppföljning'!C14,\"\")","v":""},{"$f":"IF('Handläggning och uppföljning'!B14=\"Mer omfattande förändringsarbete behövs\",IF(ISBLANK('Handläggning och uppföljning'!D14),\"\",'Handläggning och uppföljning'!D14),\"\")","v":""}]
[null,{"$f":"IF('Handläggning och uppföljning'!B15=\"Mer omfattande förändringsarbete behövs\",'Handläggning och uppföljning'!A15,\"\")","v":""},{"$f":"IF('Handläggning och uppföljning'!B15=\"Mer omfattande förändringsarbete behövs\",'Handläggning och uppföljning'!C15,\"\")","v":""},{"$f":"IF('Handläggning och uppföljning'!B15=\"Mer omfattande förändringsarbete behövs\",IF(ISBLANK('Handläggning och uppföljning'!D15),\"\",'Handläggning och uppföljning'!D15),\"\")","v":""}]
[null,{"$f":"IF('Handläggning och uppföljning'!B16=\"Mer omfattande förändringsarbete behövs\",'Handläggning och uppföljning'!A16,\"\")","v":""},{"$f":"IF('Handläggning och uppföljning'!B16=\"Mer omfattande förändringsarbete behövs\",'Handläggning och uppföljning'!C16,\"\")","v":""},{"$f":"IF('Handläggning och uppföljning'!B16=\"Mer omfattande förändringsarbete behövs\",IF(ISBLANK('Handläggning och uppföljning'!D16),\"\",'Handläggning och uppföljning'!D16),\"\")","v":""}]
[null,{"$f":"IF('Handläggning och uppföljning'!B17=\"Mer omfattande förändringsarbete behövs\",'Handläggning och uppföljning'!A17,\"\")","v":""},{"$f":"IF('Handläggning och uppföljning'!B17=\"Mer omfattande förändringsarbete behövs\",'Handläggning och uppföljning'!C17,\"\")","v":""},{"$f":"IF('Handläggning och uppföljning'!B17=\"Mer omfattande förändringsarbete behövs\",IF(ISBLANK('Handläggning och uppföljning'!D17),\"\",'Handläggning och uppföljning'!D17),\"\")","v":""}]
[null,{"$f":"IF('Handläggning och uppföljning'!B18=\"Mer omfattande förändringsarbete behövs\",'Handläggning och uppföljning'!A18,\"\")","v":""},{"$f":"IF('Handläggning och uppföljning'!B18=\"Mer omfattande förändringsarbete behövs\",'Handläggning och uppföljning'!C18,\"\")","v":""},{"$f":"IF('Handläggning och uppföljning'!B18=\"Mer omfattande förändringsarbete behövs\",IF(ISBLANK('Handläggning och uppföljning'!D18),\"\",'Handläggning och uppföljning'!D18),\"\")","v":""}]
[null,{"$f":"IF('Handläggning och uppföljning'!B19=\"Mer omfattande förändringsarbete behövs\",'Handläggning och uppföljning'!A19,\"\")","v":""},{"$f":"IF('Handläggning och uppföljning'!B19=\"Mer omfattande förändringsarbete behövs\",'Handläggning och uppföljning'!C19,\"\")","v":""},{"$f":"IF('Handläggning och uppföljning'!B19=\"Mer omfattande förändringsarbete behövs\",IF(ISBLANK('Handläggning och uppföljning'!D19),\"\",'Handläggning och uppföljning'!D19),\"\")","v":""}]
[null,{"$f":"IF('Handläggning och uppföljning'!B20=\"Mer omfattande förändringsarbete behövs\",'Handläggning och uppföljning'!A20,\"\")","v":""},{"$f":"IF('Handläggning och uppföljning'!B20=\"Mer omfattande förändringsarbete behövs\",'Handläggning och uppföljning'!C20,\"\")","v":""},{"$f":"IF('Handläggning och uppföljning'!B20=\"Mer omfattande förändringsarbete behövs\",IF(ISBLANK('Handläggning och uppföljning'!D20),\"\",'Handläggning och uppföljning'!D20),\"\")","v":""}]
[null,{"$f":"IF('Handläggning och uppföljning'!B21=\"Mer omfattande förändringsarbete behövs\",'Handläggning och uppföljning'!A21,\"\")","v":""},{"$f":"IF('Handläggning och uppföljning'!B21=\"Mer omfattande förändringsarbete behövs\",'Handläggning och uppföljning'!C21,\"\")","v":""},{"$f":"IF('Handläggning och uppföljning'!B21=\"Mer omfattande förändringsarbete behövs\",IF(ISBLANK('Handläggning och uppföljning'!D21),\"\",'Handläggning och uppföljning'!D21),\"\")","v":""}]
[null,{"$f":"IF('Handläggning och uppföljning'!B22=\"Mer omfattande förändringsarbete behövs\",'Handläggning och uppföljning'!A22,\"\")","v":""},{"$f":"IF('Handläggning och uppföljning'!B22=\"Mer omfattande förändringsarbete behövs\",'Handläggning och uppföljning'!C22,\"\")","v":""},{"$f":"IF('Handläggning och uppföljning'!B22=\"Mer omfattande förändringsarbete behövs\",IF(ISBLANK('Handläggning och uppföljning'!D22),\"\",'Handläggning och uppföljning'!D22),\"\")","v":""}]
[null,{"$f":"IF('Handläggning och uppföljning'!B23=\"Mer omfattande förändringsarbete behövs\",'Handläggning och uppföljning'!A23,\"\")","v":""},{"$f":"IF('Handläggning och uppföljning'!B23=\"Mer omfattande förändringsarbete behövs\",'Handläggning och uppföljning'!C23,\"\")","v":""},{"$f":"IF('Handläggning och uppföljning'!B23=\"Mer omfattande förändringsarbete behövs\",IF(ISBLANK('Handläggning och uppföljning'!D23),\"\",'Handläggning och uppföljning'!D23),\"\")","v":""}]
[null,{"$f":"IF('Handläggning och uppföljning'!B24=\"Mer omfattande förändringsarbete behövs\",'Handläggning och uppföljning'!A24,\"\")","v":""},{"$f":"IF('Handläggning och uppföljning'!B24=\"Mer omfattande förändringsarbete behövs\",'Handläggning och uppföljning'!C24,\"\")","v":""},{"$f":"IF('Handläggning och uppföljning'!B24=\"Mer omfattande förändringsarbete behövs\",IF(ISBLANK('Handläggning och uppföljning'!D24),\"\",'Handläggning och uppföljning'!D24),\"\")","v":""}]
[null,{"$f":"IF('Handläggning och uppföljning'!B25=\"Mer omfattande förändringsarbete behövs\",'Handläggning och uppföljning'!A25,\"\")","v":""},{"$f":"IF('Handläggning och uppföljning'!B25=\"Mer omfattande förändringsarbete behövs\",'Handläggning och uppföljning'!C25,\"\")","v":""},{"$f":"IF('Handläggning och uppföljning'!B25=\"Mer omfattande förändringsarbete behövs\",IF(ISBLANK('Handläggning och uppföljning'!D25),\"\",'Handläggning och uppföljning'!D25),\"\")","v":""}]
[null,{"$f":"IF('Handläggning och uppföljning'!B26=\"Mer omfattande förändringsarbete behövs\",'Handläggning och uppföljning'!A26,\"\")","v":""},{"$f":"IF('Handläggning och uppföljning'!B26=\"Mer omfattande förändringsarbete behövs\",'Handläggning och uppföljning'!C26,\"\")","v":""},{"$f":"IF('Handläggning och uppföljning'!B26=\"Mer omfattande förändringsarbete behövs\",IF(ISBLANK('Handläggning och uppföljning'!D26),\"\",'Handläggning och uppföljning'!D26),\"\")","v":""}]
[null,{"$f":"IF('Handläggning och uppföljning'!B27=\"Mer omfattande förändringsarbete behövs\",'Handläggning och uppföljning'!A27,\"\")","v":""},{"$f":"IF('Handläggning och uppföljning'!B27=\"Mer omfattande förändringsarbete behövs\",'Handläggning och uppföljning'!C27,\"\")","v":""},{"$f":"IF('Handläggning och uppföljning'!B27=\"Mer omfattande förändringsarbete behövs\",IF(ISBLANK('Handläggning och uppföljning'!D27),\"\",'Handläggning och uppföljning'!D27),\"\")","v":""}]
[null,{"$f":"IF('Handläggning och uppföljning'!B28=\"Mer omfattande förändringsarbete behövs\",'Handläggning och uppföljning'!A28,\"\")","v":""},{"$f":"IF('Handläggning och uppföljning'!B28=\"Mer omfattande förändringsarbete behövs\",'Handläggning och uppföljning'!C28,\"\")","v":""},{"$f":"IF('Handläggning och uppföljning'!B28=\"Mer omfattande förändringsarbete behövs\",IF(ISBLANK('Handläggning och uppföljning'!D28),\"\",'Handläggning och uppföljning'!D28),\"\")","v":""}]
[null,{"$f":"IF('Handläggning och uppföljning'!B29=\"Mer omfattande förändringsarbete behövs\",'Handläggning och uppföljning'!A29,\"\")","v":""},{"$f":"IF('Handläggning och uppföljning'!B29=\"Mer omfattande förändringsarbete behövs\",'Handläggning och uppföljning'!C29,\"\")","v":""},{"$f":"IF('Handläggning och uppföljning'!B29=\"Mer omfattande förändringsarbete behövs\",IF(ISBLANK('Handläggning och uppföljning'!D29),\"\",'Handläggning och uppföljning'!D29),\"\")","v":""}]
[null,{"$f":"IF('Handläggning och uppföljning'!B30=\"Mer omfattande förändringsarbete behövs\",'Handläggning och uppföljning'!A30,\"\")","v":""},{"$f":"IF('Handläggning och uppföljning'!B30=\"Mer omfattande förändringsarbete behövs\",'Handläggning och uppföljning'!C30,\"\")","v":""},{"$f":"IF('Handläggning och uppföljning'!B30=\"Mer omfattande förändringsarbete behövs\",IF(ISBLANK('Handläggning och uppföljning'!D30),\"\",'Handläggning och uppföljning'!D30),\"\")","v":""}]
[null,{"$f":"IF('Handläggning och uppföljning'!B31=\"Mer omfattande förändringsarbete behövs\",'Handläggning och uppföljning'!A31,\"\")","v":""},{"$f":"IF('Handläggning och uppföljning'!B31=\"Mer omfattande förändringsarbete behövs\",'Handläggning och uppföljning'!C31,\"\")","v":""},{"$f":"IF('Handläggning och uppföljning'!B31=\"Mer omfattande förändringsarbete behövs\",IF(ISBLANK('Handläggning och uppföljning'!D31),\"\",'Handläggning och uppföljning'!D31),\"\")","v":""}]
[null,{"$f":"IF('Handläggning och uppföljning'!B32=\"Mer omfattande förändringsarbete behövs\",'Handläggning och uppföljning'!A32,\"\")","v":""},{"$f":"IF('Handläggning och uppföljning'!B32=\"Mer omfattande förändringsarbete behövs\",'Handläggning och uppföljning'!C32,\"\")","v":""},{"$f":"IF('Handläggning och uppföljning'!B32=\"Mer omfattande förändringsarbete behövs\",IF(ISBLANK('Handläggning och uppföljning'!D32),\"\",'Handläggning och uppföljning'!D32),\"\")","v":""}]
[null,{"$f":"IF('Handläggning och uppföljning'!B33=\"Mer omfattande förändringsarbete behövs\",'Handläggning och uppföljning'!A33,\"\")","v":""},{"$f":"IF('Handläggning och uppföljning'!B33=\"Mer omfattande förändringsarbete behövs\",'Handläggning och uppföljning'!C33,\"\")","v":""},{"$f":"IF('Handläggning och uppföljning'!B33=\"Mer omfattande förändringsarbete behövs\",IF(ISBLANK('Handläggning och uppföljning'!D33),\"\",'Handläggning och uppföljning'!D33),\"\")","v":""}]
[null,{"$f":"IF('Handläggning och uppföljning'!B34=\"Mer omfattande förändringsarbete behövs\",'Handläggning och uppföljning'!A34,\"\")","v":""},{"$f":"IF('Handläggning och uppföljning'!B34=\"Mer omfattande förändringsarbete behövs\",'Handläggning och uppföljning'!C34,\"\")","v":""},{"$f":"IF('Handläggning och uppföljning'!B34=\"Mer omfattande förändringsarbete behövs\",IF(ISBLANK('Handläggning och uppföljning'!D34),\"\",'Handläggning och uppföljning'!D34),\"\")","v":""}]
[null,{"$f":"IF('Handläggning och uppföljning'!B35=\"Mer omfattande förändringsarbete behövs\",'Handläggning och uppföljning'!A35,\"\")","v":""},{"$f":"IF('Handläggning och uppföljning'!B35=\"Mer omfattande förändringsarbete behövs\",'Handläggning och uppföljning'!C35,\"\")","v":""},{"$f":"IF('Handläggning och uppföljning'!B35=\"Mer omfattande förändringsarbete behövs\",IF(ISBLANK('Handläggning och uppföljning'!D35),\"\",'Handläggning och uppföljning'!D35),\"\")","v":""}]
[null,{"$f":"IF('Handläggning och uppföljning'!B36=\"Mer omfattande förändringsarbete behövs\",'Handläggning och uppföljning'!A36,\"\")","v":""},{"$f":"IF('Handläggning och uppföljning'!B36=\"Mer omfattande förändringsarbete behövs\",'Handläggning och uppföljning'!C36,\"\")","v":""},{"$f":"IF('Handläggning och uppföljning'!B36=\"Mer omfattande förändringsarbete behövs\",IF(ISBLANK('Handläggning och uppföljning'!D36),\"\",'Handläggning och uppföljning'!D36),\"\")","v":""}]
[null,{"$f":"IF('Handläggning och uppföljning'!B37=\"Mer omfattande förändringsarbete behövs\",'Handläggning och uppföljning'!A37,\"\")","v":""},{"$f":"IF('Handläggning och uppföljning'!B37=\"Mer omfattande förändringsarbete behövs\",'Handläggning och uppföljning'!C37,\"\")","v":""},{"$f":"IF('Handläggning och uppföljning'!B37=\"Mer omfattande förändringsarbete behövs\",IF(ISBLANK('Handläggning och uppföljning'!D37),\"\",'Handläggning och uppföljning'!D37),\"\")","v":""}]
[null,{"$f":"IF('Handläggning och uppföljning'!B38=\"Mer omfattande förändringsarbete behövs\",'Handläggning och uppföljning'!A38,\"\")","v":""},{"$f":"IF('Handläggning och uppföljning'!B38=\"Mer omfattande förändringsarbete behövs\",'Handläggning och uppföljning'!C38,\"\")","v":""},{"$f":"IF('Handläggning och uppföljning'!B38=\"Mer omfattande förändringsarbete behövs\",IF(ISBLANK('Handläggning och uppföljning'!D38),\"\",'Handläggning och uppföljning'!D38),\"\")","v":""}]
[null,{"$f":"IF('Handläggning och uppföljning'!B39=\"Mer omfattande förändringsarbete behövs\",'Handläggning och uppföljning'!A39,\"\")","v":""},{"$f":"IF('Handläggning och uppföljning'!B39=\"Mer omfattande förändringsarbete behövs\",'Handläggning och uppföljning'!C39,\"\")","v":""},{"$f":"IF('Handläggning och uppföljning'!B39=\"Mer omfattande förändringsarbete behövs\",IF(ISBLANK('Handläggning och uppföljning'!D39),\"\",'Handläggning och uppföljning'!D39),\"\")","v":""}]
[null,{"$f":"IF('Handläggning och uppföljning'!B40=\"Mer omfattande förändringsarbete behövs\",'Handläggning och uppföljning'!A40,\"\")","v":""},{"$f":"IF('Handläggning och uppföljning'!B40=\"Mer omfattande förändringsarbete behövs\",'Handläggning och uppföljning'!C40,\"\")","v":""},{"$f":"IF('Handläggning och uppföljning'!B40=\"Mer omfattande förändringsarbete behövs\",IF(ISBLANK('Handläggning och uppföljning'!D40),\"\",'Handläggning och uppföljning'!D40),\"\")","v":""}]
[null,{"$f":"IF('Handläggning och uppföljning'!B41=\"Mer omfattande förändringsarbete behövs\",'Handläggning och uppföljning'!A41,\"\")","v":""},{"$f":"IF('Handläggning och uppföljning'!B41=\"Mer omfattande förändringsarbete behövs\",'Handläggning och uppföljning'!C41,\"\")","v":""},{"$f":"IF('Handläggning och uppföljning'!B41=\"Mer omfattande förändringsarbete behövs\",IF(ISBLANK('Handläggning och uppföljning'!D41),\"\",'Handläggning och uppföljning'!D41),\"\")","v":""}]
[null,{"$f":"IF('Handläggning och uppföljning'!B42=\"Mer omfattande förändringsarbete behövs\",'Handläggning och uppföljning'!A42,\"\")","v":""},{"$f":"IF('Handläggning och uppföljning'!B42=\"Mer omfattande förändringsarbete behövs\",'Handläggning och uppföljning'!C42,\"\")","v":""},{"$f":"IF('Handläggning och uppföljning'!B42=\"Mer omfattande förändringsarbete behövs\",IF(ISBLANK('Handläggning och uppföljning'!D42),\"\",'Handläggning och uppföljning'!D42),\"\")","v":""}]
[null,{"$f":"IF('Handläggning och uppföljning'!B43=\"Mer omfattande förändringsarbete behövs\",'Handläggning och uppföljning'!A43,\"\")","v":""},{"$f":"IF('Handläggning och uppföljning'!B43=\"Mer omfattande förändringsarbete behövs\",'Handläggning och uppföljning'!C43,\"\")","v":""},{"$f":"IF('Handläggning och uppföljning'!B43=\"Mer omfattande förändringsarbete behövs\",IF(ISBLANK('Handläggning och uppföljning'!D43),\"\",'Handläggning och uppföljning'!D43),\"\")","v":""}]
[null,{"$f":"IF('Handläggning och uppföljning'!B44=\"Mer omfattande förändringsarbete behövs\",'Handläggning och uppföljning'!A44,\"\")","v":""},{"$f":"IF('Handläggning och uppföljning'!B44=\"Mer omfattande förändringsarbete behövs\",'Handläggning och uppföljning'!C44,\"\")","v":""},{"$f":"IF('Handläggning och uppföljning'!B44=\"Mer omfattande förändringsarbete behövs\",IF(ISBLANK('Handläggning och uppföljning'!D44),\"\",'Handläggning och uppföljning'!D44),\"\")","v":""}]
[null,{"$f":"IF('Handläggning och uppföljning'!B45=\"Mer omfattande förändringsarbete behövs\",'Handläggning och uppföljning'!A45,\"\")","v":""},{"$f":"IF('Handläggning och uppföljning'!B45=\"Mer omfattande förändringsarbete behövs\",'Handläggning och uppföljning'!C45,\"\")","v":""},{"$f":"IF('Handläggning och uppföljning'!B45=\"Mer omfattande förändringsarbete behövs\",IF(ISBLANK('Handläggning och uppföljning'!D45),\"\",'Handläggning och uppföljning'!D45),\"\")","v":""}]
[null,{"$f":"IF('Handläggning och uppföljning'!B46=\"Mer omfattande förändringsarbete behövs\",'Handläggning och uppföljning'!A46,\"\")","v":""},{"$f":"IF('Handläggning och uppföljning'!B46=\"Mer omfattande förändringsarbete behövs\",'Handläggning och uppföljning'!C46,\"\")","v":""},{"$f":"IF('Handläggning och uppföljning'!B46=\"Mer omfattande förändringsarbete behövs\",IF(ISBLANK('Handläggning och uppföljning'!D46),\"\",'Handläggning och uppföljning'!D46),\"\")","v":""}]
[null,{"$f":"IF('Handläggning och uppföljning'!B47=\"Mer omfattande förändringsarbete behövs\",'Handläggning och uppföljning'!A47,\"\")","v":""},{"$f":"IF('Handläggning och uppföljning'!B47=\"Mer omfattande förändringsarbete behövs\",'Handläggning och uppföljning'!C47,\"\")","v":""},{"$f":"IF('Handläggning och uppföljning'!B47=\"Mer omfattande förändringsarbete behövs\",IF(ISBLANK('Handläggning och uppföljning'!D47),\"\",'Handläggning och uppföljning'!D47),\"\")","v":""}]
[null,{"$f":"IF('Handläggning och uppföljning'!B48=\"Mer omfattande förändringsarbete behövs\",'Handläggning och uppföljning'!A48,\"\")","v":""},{"$f":"IF('Handläggning och uppföljning'!B48=\"Mer omfattande förändringsarbete behövs\",'Handläggning och uppföljning'!C48,\"\")","v":""},{"$f":"IF('Handläggning och uppföljning'!B48=\"Mer omfattande förändringsarbete behövs\",IF(ISBLANK('Handläggning och uppföljning'!D48),\"\",'Handläggning och uppföljning'!D48),\"\")","v":""}]
[null,{"$f":"IF('Handläggning och uppföljning'!B49=\"Mer omfattande förändringsarbete behövs\",'Handläggning och uppföljning'!A49,\"\")","v":""},{"$f":"IF('Handläggning och uppföljning'!B49=\"Mer omfattande förändringsarbete behövs\",'Handläggning och uppföljning'!C49,\"\")","v":""},{"$f":"IF('Handläggning och uppföljning'!B49=\"Mer omfattande förändringsarbete behövs\",IF(ISBLANK('Handläggning och uppföljning'!D49),\"\",'Handläggning och uppföljning'!D49),\"\")","v":""}]
[null,{"$f":"IF('Handläggning och uppföljning'!B50=\"Mer omfattande förändringsarbete behövs\",'Handläggning och uppföljning'!A50,\"\")","v":""},{"$f":"IF('Handläggning och uppföljning'!B50=\"Mer omfattande förändringsarbete behövs\",'Handläggning och uppföljning'!C50,\"\")","v":""},{"$f":"IF('Handläggning och uppföljning'!B50=\"Mer omfattande förändringsarbete behövs\",IF(ISBLANK('Handläggning och uppföljning'!D50),\"\",'Handläggning och uppföljning'!D50),\"\")","v":""}]
[null,{"$f":"IF('Handläggning och uppföljning'!B51=\"Mer omfattande förändringsarbete behövs\",'Handläggning och uppföljning'!A51,\"\")","v":""},{"$f":"IF('Handläggning och uppföljning'!B51=\"Mer omfattande förändringsarbete behövs\",'Handläggning och uppföljning'!C51,\"\")","v":""},{"$f":"IF('Handläggning och uppföljning'!B51=\"Mer omfattande förändringsarbete behövs\",IF(ISBLANK('Handläggning och uppföljning'!D51),\"\",'Handläggning och uppföljning'!D51),\"\")","v":""}]
[null,{"$f":"IF('Handläggning och uppföljning'!B52=\"Mer omfattande förändringsarbete behövs\",'Handläggning och uppföljning'!A52,\"\")","v":""},{"$f":"IF('Handläggning och uppföljning'!B52=\"Mer omfattande förändringsarbete behövs\",'Handläggning och uppföljning'!C52,\"\")","v":""},{"$f":"IF('Handläggning och uppföljning'!B52=\"Mer omfattande förändringsarbete behövs\",IF(ISBLANK('Handläggning och uppföljning'!D52),\"\",'Handläggning och uppföljning'!D52),\"\")","v":""}]
[null,{"$f":"IF('Handläggning och uppföljning'!B53=\"Mer omfattande förändringsarbete behövs\",'Handläggning och uppföljning'!A53,\"\")","v":""},{"$f":"IF('Handläggning och uppföljning'!B53=\"Mer omfattande förändringsarbete behövs\",'Handläggning och uppföljning'!C53,\"\")","v":""},{"$f":"IF('Handläggning och uppföljning'!B53=\"Mer omfattande förändringsarbete behövs\",IF(ISBLANK('Handläggning och uppföljning'!D53),\"\",'Handläggning och uppföljning'!D53),\"\")","v":""}]
[null,{"$f":"IF('Handläggning och uppföljning'!B54=\"Mer omfattande förändringsarbete behövs\",'Handläggning och uppföljning'!A54,\"\")","v":""},{"$f":"IF('Handläggning och uppföljning'!B54=\"Mer omfattande förändringsarbete behövs\",'Handläggning och uppföljning'!C54,\"\")","v":""},{"$f":"IF('Handläggning och uppföljning'!B54=\"Mer omfattande förändringsarbete behövs\",IF(ISBLANK('Handläggning och uppföljning'!D54),\"\",'Handläggning och uppföljning'!D54),\"\")","v":""}]
[null,{"$f":"IF('Handläggning och uppföljning'!B55=\"Mer omfattande förändringsarbete behövs\",'Handläggning och uppföljning'!A55,\"\")","v":""},{"$f":"IF('Handläggning och uppföljning'!B55=\"Mer omfattande förändringsarbete behövs\",'Handläggning och uppföljning'!C55,\"\")","v":""},{"$f":"IF('Handläggning och uppföljning'!B55=\"Mer omfattande förändringsarbete behövs\",IF(ISBLANK('Handläggning och uppföljning'!D55),\"\",'Handläggning och uppföljning'!D55),\"\")","v":""}]
[null,{"$f":"IF('Handläggning och uppföljning'!B56=\"Mer omfattande förändringsarbete behövs\",'Handläggning och uppföljning'!A56,\"\")","v":""},{"$f":"IF('Handläggning och uppföljning'!B56=\"Mer omfattande förändringsarbete behövs\",'Handläggning och uppföljning'!C56,\"\")","v":""},{"$f":"IF('Handläggning och uppföljning'!B56=\"Mer omfattande förändringsarbete behövs\",IF(ISBLANK('Handläggning och uppföljning'!D56),\"\",'Handläggning och uppföljning'!D56),\"\")","v":""}]
[null,{"$f":"IF('Handläggning och uppföljning'!B57=\"Mer omfattande förändringsarbete behövs\",'Handläggning och uppföljning'!A57,\"\")","v":""},{"$f":"IF('Handläggning och uppföljning'!B57=\"Mer omfattande förändringsarbete behövs\",'Handläggning och uppföljning'!C57,\"\")","v":""},{"$f":"IF('Handläggning och uppföljning'!B57=\"Mer omfattande förändringsarbete behövs\",IF(ISBLANK('Handläggning och uppföljning'!D57),\"\",'Handläggning och uppföljning'!D57),\"\")","v":""}]
[null,{"$f":"IF('Handläggning och uppföljning'!B58=\"Mer omfattande förändringsarbete behövs\",'Handläggning och uppföljning'!A58,\"\")","v":""},{"$f":"IF('Handläggning och uppföljning'!B58=\"Mer omfattande förändringsarbete behövs\",'Handläggning och uppföljning'!C58,\"\")","v":""},{"$f":"IF('Handläggning och uppföljning'!B58=\"Mer omfattande förändringsarbete behövs\",IF(ISBLANK('Handläggning och uppföljning'!D58),\"\",'Handläggning och uppföljning'!D58),\"\")","v":""}]
[null,{"$f":"IF('Handläggning och uppföljning'!B59=\"Mer omfattande förändringsarbete behövs\",'Handläggning och uppföljning'!A59,\"\")","v":""},{"$f":"IF('Handläggning och uppföljning'!B59=\"Mer omfattande förändringsarbete behövs\",'Handläggning och uppföljning'!C59,\"\")","v":""},{"$f":"IF('Handläggning och uppföljning'!B59=\"Mer omfattande förändringsarbete behövs\",IF(ISBLANK('Handläggning och uppföljning'!D59),\"\",'Handläggning och uppföljning'!D59),\"\")","v":""}]
[null,{"$f":"IF('Handläggning och uppföljning'!B60=\"Mer omfattande förändringsarbete behövs\",'Handläggning och uppföljning'!A60,\"\")","v":""},{"$f":"IF('Handläggning och uppföljning'!B60=\"Mer omfattande förändringsarbete behövs\",'Handläggning och uppföljning'!C60,\"\")","v":""},{"$f":"IF('Handläggning och uppföljning'!B60=\"Mer omfattande förändringsarbete behövs\",IF(ISBLANK('Handläggning och uppföljning'!D60),\"\",'Handläggning och uppföljning'!D60),\"\")","v":""}]
[null,{"$f":"IF('Handläggning och uppföljning'!B61=\"Mer omfattande förändringsarbete behövs\",'Handläggning och uppföljning'!A61,\"\")","v":""},{"$f":"IF('Handläggning och uppföljning'!B61=\"Mer omfattande förändringsarbete behövs\",'Handläggning och uppföljning'!C61,\"\")","v":""},{"$f":"IF('Handläggning och uppföljning'!B61=\"Mer omfattande förändringsarbete behövs\",IF(ISBLANK('Handläggning och uppföljning'!D61),\"\",'Handläggning och uppföljning'!D61),\"\")","v":""}]
[null,{"$f":"IF('Handläggning och uppföljning'!B62=\"Mer omfattande förändringsarbete behövs\",'Handläggning och uppföljning'!A62,\"\")","v":""},{"$f":"IF('Handläggning och uppföljning'!B62=\"Mer omfattande förändringsarbete behövs\",'Handläggning och uppföljning'!C62,\"\")","v":""},{"$f":"IF('Handläggning och uppföljning'!B62=\"Mer omfattande förändringsarbete behövs\",IF(ISBLANK('Handläggning och uppföljning'!D62),\"\",'Handläggning och uppföljning'!D62),\"\")","v":""}]
[null,{"$f":"IF('Handläggning och uppföljning'!B63=\"Mer omfattande förändringsarbete behövs\",'Handläggning och uppföljning'!A63,\"\")","v":""},{"$f":"IF('Handläggning och uppföljning'!B63=\"Mer omfattande förändringsarbete behövs\",'Handläggning och uppföljning'!C63,\"\")","v":""},{"$f":"IF('Handläggning och uppföljning'!B63=\"Mer omfattande förändringsarbete behövs\",IF(ISBLANK('Handläggning och uppföljning'!D63),\"\",'Handläggning och uppföljning'!D63),\"\")","v":""}]
[null,{"$f":"IF('Handläggning och uppföljning'!B64=\"Mer omfattande förändringsarbete behövs\",'Handläggning och uppföljning'!A64,\"\")","v":""},{"$f":"IF('Handläggning och uppföljning'!B64=\"Mer omfattande förändringsarbete behövs\",'Handläggning och uppföljning'!C64,\"\")","v":""},{"$f":"IF('Handläggning och uppföljning'!B64=\"Mer omfattande förändringsarbete behövs\",IF(ISBLANK('Handläggning och uppföljning'!D64),\"\",'Handläggning och uppföljning'!D64),\"\")","v":""}]
[null,{"$f":"IF('Handläggning och uppföljning'!B65=\"Mer omfattande förändringsarbete behövs\",'Handläggning och uppföljning'!A65,\"\")","v":""},{"$f":"IF('Handläggning och uppföljning'!B65=\"Mer omfattande förändringsarbete behövs\",'Handläggning och uppföljning'!C65,\"\")","v":""},{"$f":"IF('Handläggning och uppföljning'!B65=\"Mer omfattande förändringsarbete behövs\",IF(ISBLANK('Handläggning och uppföljning'!D65),\"\",'Handläggning och uppföljning'!D65),\"\")","v":""}]
[null,{"$f":"IF('Handläggning och uppföljning'!B66=\"Mer omfattande förändringsarbete behövs\",'Handläggning och uppföljning'!A66,\"\")","v":""},{"$f":"IF('Handläggning och uppföljning'!B66=\"Mer omfattande förändringsarbete behövs\",'Handläggning och uppföljning'!C66,\"\")","v":""},{"$f":"IF('Handläggning och uppföljning'!B66=\"Mer omfattande förändringsarbete behövs\",IF(ISBLANK('Handläggning och uppföljning'!D66),\"\",'Handläggning och uppföljning'!D66),\"\")","v":""}]
[null,{"$f":"IF('Handläggning och uppföljning'!B67=\"Mer omfattande förändringsarbete behövs\",'Handläggning och uppföljning'!A67,\"\")","v":""},{"$f":"IF('Handläggning och uppföljning'!B67=\"Mer omfattande förändringsarbete behövs\",'Handläggning och uppföljning'!C67,\"\")","v":""},{"$f":"IF('Handläggning och uppföljning'!B67=\"Mer omfattande förändringsarbete behövs\",IF(ISBLANK('Handläggning och uppföljning'!D67),\"\",'Handläggning och uppföljning'!D67),\"\")","v":""}]
[null,{"$f":"IF('Handläggning och uppföljning'!B68=\"Mer omfattande förändringsarbete behövs\",'Handläggning och uppföljning'!A68,\"\")","v":""},{"$f":"IF('Handläggning och uppföljning'!B68=\"Mer omfattande förändringsarbete behövs\",'Handläggning och uppföljning'!C68,\"\")","v":""},{"$f":"IF('Handläggning och uppföljning'!B68=\"Mer omfattande förändringsarbete behövs\",IF(ISBLANK('Handläggning och uppföljning'!D68),\"\",'Handläggning och uppföljning'!D68),\"\")","v":""}]
[null,{"$f":"IF('Handläggning och uppföljning'!B69=\"Mer omfattande förändringsarbete behövs\",'Handläggning och uppföljning'!A69,\"\")","v":""},{"$f":"IF('Handläggning och uppföljning'!B69=\"Mer omfattande förändringsarbete behövs\",'Handläggning och uppföljning'!C69,\"\")","v":""},{"$f":"IF('Handläggning och uppföljning'!B69=\"Mer omfattande förändringsarbete behövs\",IF(ISBLANK('Handläggning och uppföljning'!D69),\"\",'Handläggning och uppföljning'!D69),\"\")","v":""}]
[null,{"$f":"IF('Handläggning och uppföljning'!B70=\"Mer omfattande förändringsarbete behövs\",'Handläggning och uppföljning'!A70,\"\")","v":""},{"$f":"IF('Handläggning och uppföljning'!B70=\"Mer omfattande förändringsarbete behövs\",'Handläggning och uppföljning'!C70,\"\")","v":""},{"$f":"IF('Handläggning och uppföljning'!B70=\"Mer omfattande förändringsarbete behövs\",IF(ISBLANK('Handläggning och uppföljning'!D70),\"\",'Handläggning och uppföljning'!D70),\"\")","v":""}]
[null,{"$f":"IF('Handläggning och uppföljning'!B71=\"Mer omfattande förändringsarbete behövs\",'Handläggning och uppföljning'!A71,\"\")","v":""},{"$f":"IF('Handläggning och uppföljning'!B71=\"Mer omfattande förändringsarbete behövs\",'Handläggning och uppföljning'!C71,\"\")","v":""},{"$f":"IF('Handläggning och uppföljning'!B71=\"Mer omfattande förändringsarbete behövs\",IF(ISBLANK('Handläggning och uppföljning'!D71),\"\",'Handläggning och uppföljning'!D71),\"\")","v":""}]
[null,{"$f":"IF('Handläggning och uppföljning'!B72=\"Mer omfattande förändringsarbete behövs\",'Handläggning och uppföljning'!A72,\"\")","v":""},{"$f":"IF('Handläggning och uppföljning'!B72=\"Mer omfattande förändringsarbete behövs\",'Handläggning och uppföljning'!C72,\"\")","v":""},{"$f":"IF('Handläggning och uppföljning'!B72=\"Mer omfattande förändringsarbete behövs\",IF(ISBLANK('Handläggning och uppföljning'!D72),\"\",'Handläggning och uppföljning'!D72),\"\")","v":""}]
[null,{"$f":"IF('Handläggning och uppföljning'!B73=\"Mer omfattande förändringsarbete behövs\",'Handläggning och uppföljning'!A73,\"\")","v":""},{"$f":"IF('Handläggning och uppföljning'!B73=\"Mer omfattande förändringsarbete behövs\",'Handläggning och uppföljning'!C73,\"\")","v":""},{"$f":"IF('Handläggning och uppföljning'!B73=\"Mer omfattande förändringsarbete behövs\",IF(ISBLANK('Handläggning och uppföljning'!D73),\"\",'Handläggning och uppföljning'!D73),\"\")","v":""}]
[null,{"$f":"IF('Handläggning och uppföljning'!B74=\"Mer omfattande förändringsarbete behövs\",'Handläggning och uppföljning'!A74,\"\")","v":""},{"$f":"IF('Handläggning och uppföljning'!B74=\"Mer omfattande förändringsarbete behövs\",'Handläggning och uppföljning'!C74,\"\")","v":""},{"$f":"IF('Handläggning och uppföljning'!B74=\"Mer omfattande förändringsarbete behövs\",IF(ISBLANK('Handläggning och uppföljning'!D74),\"\",'Handläggning och uppföljning'!D74),\"\")","v":""}]
[null,{"$f":"IF('Handläggning och uppföljning'!B75=\"Mer omfattande förändringsarbete behövs\",'Handläggning och uppföljning'!A75,\"\")","v":""},{"$f":"IF('Handläggning och uppföljning'!B75=\"Mer omfattande förändringsarbete behövs\",'Handläggning och uppföljning'!C75,\"\")","v":""},{"$f":"IF('Handläggning och uppföljning'!B75=\"Mer omfattande förändringsarbete behövs\",IF(ISBLANK('Handläggning och uppföljning'!D75),\"\",'Handläggning och uppföljning'!D75),\"\")","v":""}]
[null,{"$f":"IF('Handläggning och uppföljning'!B76=\"Mer omfattande förändringsarbete behövs\",'Handläggning och uppföljning'!A76,\"\")","v":""},{"$f":"IF('Handläggning och uppföljning'!B76=\"Mer omfattande förändringsarbete behövs\",'Handläggning och uppföljning'!C76,\"\")","v":""},{"$f":"IF('Handläggning och uppföljning'!B76=\"Mer omfattande förändringsarbete behövs\",IF(ISBLANK('Handläggning och uppföljning'!D76),\"\",'Handläggning och uppföljning'!D76),\"\")","v":""}]
[null,{"$f":"IF('Handläggning och uppföljning'!B77=\"Mer omfattande förändringsarbete behövs\",'Handläggning och uppföljning'!A77,\"\")","v":""},{"$f":"IF('Handläggning och uppföljning'!B77=\"Mer omfattande förändringsarbete behövs\",'Handläggning och uppföljning'!C77,\"\")","v":""},{"$f":"IF('Handläggning och uppföljning'!B77=\"Mer omfattande förändringsarbete behövs\",IF(ISBLANK('Handläggning och uppföljning'!D77),\"\",'Handläggning och uppföljning'!D77),\"\")","v":""}]
[null,{"$f":"IF('Handläggning och uppföljning'!B78=\"Mer omfattande förändringsarbete behövs\",'Handläggning och uppföljning'!A78,\"\")","v":""},{"$f":"IF('Handläggning och uppföljning'!B78=\"Mer omfattande förändringsarbete behövs\",'Handläggning och uppföljning'!C78,\"\")","v":""},{"$f":"IF('Handläggning och uppföljning'!B78=\"Mer omfattande förändringsarbete behövs\",IF(ISBLANK('Handläggning och uppföljning'!D78),\"\",'Handläggning och uppföljning'!D78),\"\")","v":""}]
[null,{"$f":"IF('Handläggning och uppföljning'!B79=\"Mer omfattande förändringsarbete behövs\",'Handläggning och uppföljning'!A79,\"\")","v":""},{"$f":"IF('Handläggning och uppföljning'!B79=\"Mer omfattande förändringsarbete behövs\",'Handläggning och uppföljning'!C79,\"\")","v":""},{"$f":"IF('Handläggning och uppföljning'!B79=\"Mer omfattande förändringsarbete behövs\",IF(ISBLANK('Handläggning och uppföljning'!D79),\"\",'Handläggning och uppföljning'!D79),\"\")","v":""}]
[null,{"$f":"IF('Handläggning och uppföljning'!B80=\"Mer omfattande förändringsarbete behövs\",'Handläggning och uppföljning'!A80,\"\")","v":""},{"$f":"IF('Handläggning och uppföljning'!B80=\"Mer omfattande förändringsarbete behövs\",'Handläggning och uppföljning'!C80,\"\")","v":""},{"$f":"IF('Handläggning och uppföljning'!B80=\"Mer omfattande förändringsarbete behövs\",IF(ISBLANK('Handläggning och uppföljning'!D80),\"\",'Handläggning och uppföljning'!D80),\"\")","v":""}]
[null,{"$f":"IF('Handläggning och uppföljning'!B81=\"Mer omfattande förändringsarbete behövs\",'Handläggning och uppföljning'!A81,\"\")","v":""},{"$f":"IF('Handläggning och uppföljning'!B81=\"Mer omfattande förändringsarbete behövs\",'Handläggning och uppföljning'!C81,\"\")","v":""},{"$f":"IF('Handläggning och uppföljning'!B81=\"Mer omfattande förändringsarbete behövs\",IF(ISBLANK('Handläggning och uppföljning'!D81),\"\",'Handläggning och uppföljning'!D81),\"\")","v":""}]
[null,{"$f":"IF('Handläggning och uppföljning'!B82=\"Mer omfattande förändringsarbete behövs\",'Handläggning och uppföljning'!A82,\"\")","v":""},{"$f":"IF('Handläggning och uppföljning'!B82=\"Mer omfattande förändringsarbete behövs\",'Handläggning och uppföljning'!C82,\"\")","v":""},{"$f":"IF('Handläggning och uppföljning'!B82=\"Mer omfattande förändringsarbete behövs\",IF(ISBLANK('Handläggning och uppföljning'!D82),\"\",'Handläggning och uppföljning'!D82),\"\")","v":""}]
[null,{"$f":"IF('Handläggning och uppföljning'!B83=\"Mer omfattande förändringsarbete behövs\",'Handläggning och uppföljning'!A83,\"\")","v":""},{"$f":"IF('Handläggning och uppföljning'!B83=\"Mer omfattande förändringsarbete behövs\",'Handläggning och uppföljning'!C83,\"\")","v":""},{"$f":"IF('Handläggning och uppföljning'!B83=\"Mer omfattande förändringsarbete behövs\",IF(ISBLANK('Handläggning och uppföljning'!D83),\"\",'Handläggning och uppföljning'!D83),\"\")","v":""}]
[null,{"$f":"IF('Handläggning och uppföljning'!B84=\"Mer omfattande förändringsarbete behövs\",'Handläggning och uppföljning'!A84,\"\")","v":""},{"$f":"IF('Handläggning och uppföljning'!B84=\"Mer omfattande förändringsarbete behövs\",'Handläggning och uppföljning'!C84,\"\")","v":""},{"$f":"IF('Handläggning och uppföljning'!B84=\"Mer omfattande förändringsarbete behövs\",IF(ISBLANK('Handläggning och uppföljning'!D84),\"\",'Handläggning och uppföljning'!D84),\"\")","v":""}]
[null,{"$f":"IF('Handläggning och uppföljning'!B85=\"Mer omfattande förändringsarbete behövs\",'Handläggning och uppföljning'!A85,\"\")","v":""},{"$f":"IF('Handläggning och uppföljning'!B85=\"Mer omfattande förändringsarbete behövs\",'Handläggning och uppföljning'!C85,\"\")","v":""},{"$f":"IF('Handläggning och uppföljning'!B85=\"Mer omfattande förändringsarbete behövs\",IF(ISBLANK('Handläggning och uppföljning'!D85),\"\",'Handläggning och uppföljning'!D85),\"\")","v":""}]
[null,{"$f":"IF('Handläggning och uppföljning'!B86=\"Mer omfattande förändringsarbete behövs\",'Handläggning och uppföljning'!A86,\"\")","v":""},{"$f":"IF('Handläggning och uppföljning'!B86=\"Mer omfattande förändringsarbete behövs\",'Handläggning och uppföljning'!C86,\"\")","v":""},{"$f":"IF('Handläggning och uppföljning'!B86=\"Mer omfattande förändringsarbete behövs\",IF(ISBLANK('Handläggning och uppföljning'!D86),\"\",'Handläggning och uppföljning'!D86),\"\")","v":""}]
[null,{"$f":"IF('Handläggning och uppföljning'!B87=\"Mer omfattande förändringsarbete behövs\",'Handläggning och uppföljning'!A87,\"\")","v":""},{"$f":"IF('Handläggning och uppföljning'!B87=\"Mer omfattande förändringsarbete behövs\",'Handläggning och uppföljning'!C87,\"\")","v":""},{"$f":"IF('Handläggning och uppföljning'!B87=\"Mer omfattande förändringsarbete behövs\",IF(ISBLANK('Handläggning och uppföljning'!D87),\"\",'Handläggning och uppföljning'!D87),\"\")","v":""}]
[null,{"$f":"IF('Handläggning och uppföljning'!B88=\"Mer omfattande förändringsarbete behövs\",'Handläggning och uppföljning'!A88,\"\")","v":""},{"$f":"IF('Handläggning och uppföljning'!B88=\"Mer omfattande förändringsarbete behövs\",'Handläggning och uppföljning'!C88,\"\")","v":""},{"$f":"IF('Handläggning och uppföljning'!B88=\"Mer omfattande förändringsarbete behövs\",IF(ISBLANK('Handläggning och uppföljning'!D88),\"\",'Handläggning och uppföljning'!D88),\"\")","v":""}]
[null,{"$f":"IF('Handläggning och uppföljning'!B89=\"Mer omfattande förändringsarbete behövs\",'Handläggning och uppföljning'!A89,\"\")","v":""},{"$f":"IF('Handläggning och uppföljning'!B89=\"Mer omfattande förändringsarbete behövs\",'Handläggning och uppföljning'!C89,\"\")","v":""},{"$f":"IF('Handläggning och uppföljning'!B89=\"Mer omfattande förändringsarbete behövs\",IF(ISBLANK('Handläggning och uppföljning'!D89),\"\",'Handläggning och uppföljning'!D89),\"\")","v":""}]
[null,{"$f":"IF('Handläggning och uppföljning'!B90=\"Mer omfattande förändringsarbete behövs\",'Handläggning och uppföljning'!A90,\"\")","v":""},{"$f":"IF('Handläggning och uppföljning'!B90=\"Mer omfattande förändringsarbete behövs\",'Handläggning och uppföljning'!C90,\"\")","v":""},{"$f":"IF('Handläggning och uppföljning'!B90=\"Mer omfattande förändringsarbete behövs\",IF(ISBLANK('Handläggning och uppföljning'!D90),\"\",'Handläggning och uppföljning'!D90),\"\")","v":""}]
[null,{"$f":"IF('Handläggning och uppföljning'!B91=\"Mer omfattande förändringsarbete behövs\",'Handläggning och uppföljning'!A91,\"\")","v":""},{"$f":"IF('Handläggning och uppföljning'!B91=\"Mer omfattande förändringsarbete behövs\",'Handläggning och uppföljning'!C91,\"\")","v":""},{"$f":"IF('Handläggning och uppföljning'!B91=\"Mer omfattande förändringsarbete behövs\",IF(ISBLANK('Handläggning och uppföljning'!D91),\"\",'Handläggning och uppföljning'!D91),\"\")","v":""}]
[null,{"$f":"IF('Handläggning och uppföljning'!B92=\"Mer omfattande förändringsarbete behövs\",'Handläggning och uppföljning'!A92,\"\")","v":""},{"$f":"IF('Handläggning och uppföljning'!B92=\"Mer omfattande förändringsarbete behövs\",'Handläggning och uppföljning'!C92,\"\")","v":""},{"$f":"IF('Handläggning och uppföljning'!B92=\"Mer omfattande förändringsarbete behövs\",IF(ISBLANK('Handläggning och uppföljning'!D92),\"\",'Handläggning och uppföljning'!D92),\"\")","v":""}]
[null,{"$f":"IF('Handläggning och uppföljning'!B93=\"Mer omfattande förändringsarbete behövs\",'Handläggning och uppföljning'!A93,\"\")","v":""},{"$f":"IF('Handläggning och uppföljning'!B93=\"Mer omfattande förändringsarbete behövs\",'Handläggning och uppföljning'!C93,\"\")","v":""},{"$f":"IF('Handläggning och uppföljning'!B93=\"Mer omfattande förändringsarbete behövs\",IF(ISBLANK('Handläggning och uppföljning'!D93),\"\",'Handläggning och uppföljning'!D93),\"\")","v":""}]
[null,{"$f":"IF('Handläggning och uppföljning'!B94=\"Mer omfattande förändringsarbete behövs\",'Handläggning och uppföljning'!A94,\"\")","v":""},{"$f":"IF('Handläggning och uppföljning'!B94=\"Mer omfattande förändringsarbete behövs\",'Handläggning och uppföljning'!C94,\"\")","v":""},{"$f":"IF('Handläggning och uppföljning'!B94=\"Mer omfattande förändringsarbete behövs\",IF(ISBLANK('Handläggning och uppföljning'!D94),\"\",'Handläggning och uppföljning'!D94),\"\")","v":""}]
[null,{"$f":"IF('Handläggning och uppföljning'!B95=\"Mer omfattande förändringsarbete behövs\",'Handläggning och uppföljning'!A95,\"\")","v":""},{"$f":"IF('Handläggning och uppföljning'!B95=\"Mer omfattande förändringsarbete behövs\",'Handläggning och uppföljning'!C95,\"\")","v":""},{"$f":"IF('Handläggning och uppföljning'!B95=\"Mer omfattande förändringsarbete behövs\",IF(ISBLANK('Handläggning och uppföljning'!D95),\"\",'Handläggning och uppföljning'!D95),\"\")","v":""}]
[null,{"$f":"IF('Handläggning och uppföljning'!B96=\"Mer omfattande förändringsarbete behövs\",'Handläggning och uppföljning'!A96,\"\")","v":""},{"$f":"IF('Handläggning och uppföljning'!B96=\"Mer omfattande förändringsarbete behövs\",'Handläggning och uppföljning'!C96,\"\")","v":""},{"$f":"IF('Handläggning och uppföljning'!B96=\"Mer omfattande förändringsarbete behövs\",IF(ISBLANK('Handläggning och uppföljning'!D96),\"\",'Handläggning och uppföljning'!D96),\"\")","v":""}]
[null,{"$f":"IF('Handläggning och uppföljning'!B97=\"Mer omfattande förändringsarbete behövs\",'Handläggning och uppföljning'!A97,\"\")","v":""},{"$f":"IF('Handläggning och uppföljning'!B97=\"Mer omfattande förändringsarbete behövs\",'Handläggning och uppföljning'!C97,\"\")","v":""},{"$f":"IF('Handläggning och uppföljning'!B97=\"Mer omfattande förändringsarbete behövs\",IF(ISBLANK('Handläggning och uppföljning'!D97),\"\",'Handläggning och uppföljning'!D97),\"\")","v":""}]
[null,{"$f":"IF('Handläggning och uppföljning'!B98=\"Mer omfattande förändringsarbete behövs\",'Handläggning och uppföljning'!A98,\"\")","v":""},{"$f":"IF('Handläggning och uppföljning'!B98=\"Mer omfattande förändringsarbete behövs\",'Handläggning och uppföljning'!C98,\"\")","v":""},{"$f":"IF('Handläggning och uppföljning'!B98=\"Mer omfattande förändringsarbete behövs\",IF(ISBLANK('Handläggning och uppföljning'!D98),\"\",'Handläggning och uppföljning'!D98),\"\")","v":""}]
[null,{"$f":"IF('Handläggning och uppföljning'!B99=\"Mer omfattande förändringsarbete behövs\",'Handläggning och uppföljning'!A99,\"\")","v":""},{"$f":"IF('Handläggning och uppföljning'!B99=\"Mer omfattande förändringsarbete behövs\",'Handläggning och uppföljning'!C99,\"\")","v":""},{"$f":"IF('Handläggning och uppföljning'!B99=\"Mer omfattande förändringsarbete behövs\",IF(ISBLANK('Handläggning och uppföljning'!D99),\"\",'Handläggning och uppföljning'!D99),\"\")","v":""}]
[null,{"$f":"IF('Handläggning och uppföljning'!B100=\"Mer omfattande förändringsarbete behövs\",'Handläggning och uppföljning'!A100,\"\")","v":""},{"$f":"IF('Handläggning och uppföljning'!B100=\"Mer omfattande förändringsarbete behövs\",'Handläggning och uppföljning'!C100,\"\")","v":""},{"$f":"IF('Handläggning och uppföljning'!B100=\"Mer omfattande förändringsarbete behövs\",IF(ISBLANK('Handläggning och uppföljning'!D100),\"\",'Handläggning och uppföljning'!D100),\"\")","v":""}]
[null,{"$f":"IF('Handläggning och uppföljning'!B101=\"Mer omfattande förändringsarbete behövs\",'Handläggning och uppföljning'!A101,\"\")","v":""},{"$f":"IF('Handläggning och uppföljning'!B101=\"Mer omfattande förändringsarbete behövs\",'Handläggning och uppföljning'!C101,\"\")","v":""},{"$f":"IF('Handläggning och uppföljning'!B101=\"Mer omfattande förändringsarbete behövs\",IF(ISBLANK('Handläggning och uppföljning'!D101),\"\",'Handläggning och uppföljning'!D101),\"\")","v":""}]
[null,{"$f":"IF('Handläggning och uppföljning'!B102=\"Mer omfattande förändringsarbete behövs\",'Handläggning och uppföljning'!A102,\"\")","v":""},{"$f":"IF('Handläggning och uppföljning'!B102=\"Mer omfattande förändringsarbete behövs\",'Handläggning och uppföljning'!C102,\"\")","v":""},{"$f":"IF('Handläggning och uppföljning'!B102=\"Mer omfattande förändringsarbete behövs\",IF(ISBLANK('Handläggning och uppföljning'!D102),\"\",'Handläggning och uppföljning'!D102),\"\")","v":""}]
[null,{"$f":"IF('Handläggning och uppföljning'!B103=\"Mer omfattande förändringsarbete behövs\",'Handläggning och uppföljning'!A103,\"\")","v":""},{"$f":"IF('Handläggning och uppföljning'!B103=\"Mer omfattande förändringsarbete behövs\",'Handläggning och uppföljning'!C103,\"\")","v":""},{"$f":"IF('Handläggning och uppföljning'!B103=\"Mer omfattande förändringsarbete behövs\",IF(ISBLANK('Handläggning och uppföljning'!D103),\"\",'Handläggning och uppföljning'!D103),\"\")","v":""}]
[null,{"$f":"IF('Handläggning och uppföljning'!B104=\"Mer omfattande förändringsarbete behövs\",'Handläggning och uppföljning'!A104,\"\")","v":""},{"$f":"IF('Handläggning och uppföljning'!B104=\"Mer omfattande förändringsarbete behövs\",'Handläggning och uppföljning'!C104,\"\")","v":""},{"$f":"IF('Handläggning och uppföljning'!B104=\"Mer omfattande förändringsarbete behövs\",IF(ISBLANK('Handläggning och uppföljning'!D104),\"\",'Handläggning och uppföljning'!D104),\"\")","v":""}]
[null,{"$f":"IF('Handläggning och uppföljning'!B105=\"Mer omfattande förändringsarbete behövs\",'Handläggning och uppföljning'!A105,\"\")","v":""},{"$f":"IF('Handläggning och uppföljning'!B105=\"Mer omfattande förändringsarbete behövs\",'Handläggning och uppföljning'!C105,\"\")","v":""},{"$f":"IF('Handläggning och uppföljning'!B105=\"Mer omfattande förändringsarbete behövs\",IF(ISBLANK('Handläggning och uppföljning'!D105),\"\",'Handläggning och uppföljning'!D105),\"\")","v":""}]
[null,{"$f":"IF('Handläggning och uppföljning'!B106=\"Mer omfattande förändringsarbete behövs\",'Handläggning och uppföljning'!A106,\"\")","v":""},{"$f":"IF('Handläggning och uppföljning'!B106=\"Mer omfattande förändringsarbete behövs\",'Handläggning och uppföljning'!C106,\"\")","v":""},{"$f":"IF('Handläggning och uppföljning'!B106=\"Mer omfattande förändringsarbete behövs\",IF(ISBLANK('Handläggning och uppföljning'!D106),\"\",'Handläggning och uppföljning'!D106),\"\")","v":""}]
[null,{"$f":"IF('Handläggning och uppföljning'!B107=\"Mer omfattande förändringsarbete behövs\",'Handläggning och uppföljning'!A107,\"\")","v":""},{"$f":"IF('Handläggning och uppföljning'!B107=\"Mer omfattande förändringsarbete behövs\",'Handläggning och uppföljning'!C107,\"\")","v":""},{"$f":"IF('Handläggning och uppföljning'!B107=\"Mer omfattande förändringsarbete behövs\",IF(ISBLANK('Handläggning och uppföljning'!D107),\"\",'Handläggning och uppföljning'!D107),\"\")","v":""}]
[null,{"$f":"IF('Handläggning och uppföljning'!B108=\"Mer omfattande förändringsarbete behövs\",'Handläggning och uppföljning'!A108,\"\")","v":""},{"$f":"IF('Handläggning och uppföljning'!B108=\"Mer omfattande förändringsarbete behövs\",'Handläggning och uppföljning'!C108,\"\")","v":""},{"$f":"IF('Handläggning och uppföljning'!B108=\"Mer omfattande förändringsarbete behövs\",IF(ISBLANK('Handläggning och uppföljning'!D108),\"\",'Handläggning och uppföljning'!D108),\"\")","v":""}]
[null,{"$f":"IF('Handläggning och uppföljning'!B109=\"Mer omfattande förändringsarbete behövs\",'Handläggning och uppföljning'!A109,\"\")","v":""},{"$f":"IF('Handläggning och uppföljning'!B109=\"Mer omfattande förändringsarbete behövs\",'Handläggning och uppföljning'!C109,\"\")","v":""},{"$f":"IF('Handläggning och uppföljning'!B109=\"Mer omfattande förändringsarbete behövs\",IF(ISBLANK('Handläggning och uppföljning'!D109),\"\",'Handläggning och uppföljning'!D109),\"\")","v":""}]
[null,{"$f":"IF('Handläggning och uppföljning'!B110=\"Mer omfattande förändringsarbete behövs\",'Handläggning och uppföljning'!A110,\"\")","v":""},{"$f":"IF('Handläggning och uppföljning'!B110=\"Mer omfattande förändringsarbete behövs\",'Handläggning och uppföljning'!C110,\"\")","v":""},{"$f":"IF('Handläggning och uppföljning'!B110=\"Mer omfattande förändringsarbete behövs\",IF(ISBLANK('Handläggning och uppföljning'!D110),\"\",'Handläggning och uppföljning'!D110),\"\")","v":""}]
[null,{"$f":"IF('Handläggning och uppföljning'!B111=\"Mer omfattande förändringsarbete behövs\",'Handläggning och uppföljning'!A111,\"\")","v":""},{"$f":"IF('Handläggning och uppföljning'!B111=\"Mer omfattande förändringsarbete behövs\",'Handläggning och uppföljning'!C111,\"\")","v":""},{"$f":"IF('Handläggning och uppföljning'!B111=\"Mer omfattande förändringsarbete behövs\",IF(ISBLANK('Handläggning och uppföljning'!D111),\"\",'Handläggning och uppföljning'!D111),\"\")","v":""}]
[null,{"$f":"IF('Handläggning och uppföljning'!B112=\"Mer omfattande förändringsarbete behövs\",'Handläggning och uppföljning'!A112,\"\")","v":""},{"$f":"IF('Handläggning och uppföljning'!B112=\"Mer omfattande förändringsarbete behövs\",'Handläggning och uppföljning'!C112,\"\")","v":""},{"$f":"IF('Handläggning och uppföljning'!B112=\"Mer omfattande förändringsarbete behövs\",IF(ISBLANK('Handläggning och uppföljning'!D112),\"\",'Handläggning och uppföljning'!D112),\"\")","v":""}]
[null,{"$f":"IF('Handläggning och uppföljning'!B113=\"Mer omfattande förändringsarbete behövs\",'Handläggning och uppföljning'!A113,\"\")","v":""},{"$f":"IF('Handläggning och uppföljning'!B113=\"Mer omfattande förändringsarbete behövs\",'Handläggning och uppföljning'!C113,\"\")","v":""},{"$f":"IF('Handläggning och uppföljning'!B113=\"Mer omfattande förändringsarbete behövs\",IF(ISBLANK('Handläggning och uppföljning'!D113),\"\",'Handläggning och uppföljning'!D113),\"\")","v":""}]
[null,{"$f":"IF('Handläggning och uppföljning'!B114=\"Mer omfattande förändringsarbete behövs\",'Handläggning och uppföljning'!A114,\"\")","v":""},{"$f":"IF('Handläggning och uppföljning'!B114=\"Mer omfattande förändringsarbete behövs\",'Handläggning och uppföljning'!C114,\"\")","v":""},{"$f":"IF('Handläggning och uppföljning'!B114=\"Mer omfattande förändringsarbete behövs\",IF(ISBLANK('Handläggning och uppföljning'!D114),\"\",'Handläggning och uppföljning'!D114),\"\")","v":""}]
[null,{"$f":"IF('Handläggning och uppföljning'!B115=\"Mer omfattande förändringsarbete behövs\",'Handläggning och uppföljning'!A115,\"\")","v":""},{"$f":"IF('Handläggning och uppföljning'!B115=\"Mer omfattande förändringsarbete behövs\",'Handläggning och uppföljning'!C115,\"\")","v":""},{"$f":"IF('Handläggning och uppföljning'!B115=\"Mer omfattande förändringsarbete behövs\",IF(ISBLANK('Handläggning och uppföljning'!D115),\"\",'Handläggning och uppföljning'!D115),\"\")","v":""}]
[null,{"$f":"IF('Handläggning och uppföljning'!B116=\"Mer omfattande förändringsarbete behövs\",'Handläggning och uppföljning'!A116,\"\")","v":""},{"$f":"IF('Handläggning och uppföljning'!B116=\"Mer omfattande förändringsarbete behövs\",'Handläggning och uppföljning'!C116,\"\")","v":""},{"$f":"IF('Handläggning och uppföljning'!B116=\"Mer omfattande förändringsarbete behövs\",IF(ISBLANK('Handläggning och uppföljning'!D116),\"\",'Handläggning och uppföljning'!D116),\"\")","v":""}]
[null,{"$f":"IF('Handläggning och uppföljning'!B117=\"Mer omfattande förändringsarbete behövs\",'Handläggning och uppföljning'!A117,\"\")","v":""},{"$f":"IF('Handläggning och uppföljning'!B117=\"Mer omfattande förändringsarbete behövs\",'Handläggning och uppföljning'!C117,\"\")","v":""},{"$f":"IF('Handläggning och uppföljning'!B117=\"Mer omfattande förändringsarbete behövs\",IF(ISBLANK('Handläggning och uppföljning'!D117),\"\",'Handläggning och uppföljning'!D117),\"\")","v":""}]
[null,{"$f":"IF('Handläggning och uppföljning'!B118=\"Mer omfattande förändringsarbete behövs\",'Handläggning och uppföljning'!A118,\"\")","v":""},{"$f":"IF('Handläggning och uppföljning'!B118=\"Mer omfattande förändringsarbete behövs\",'Handläggning och uppföljning'!C118,\"\")","v":""},{"$f":"IF('Handläggning och uppföljning'!B118=\"Mer omfattande förändringsarbete behövs\",IF(ISBLANK('Handläggning och uppföljning'!D118),\"\",'Handläggning och uppföljning'!D118),\"\")","v":""}]
[null,{"$f":"IF('Handläggning och uppföljning'!B119=\"Mer omfattande förändringsarbete behövs\",'Handläggning och uppföljning'!A119,\"\")","v":""},{"$f":"IF('Handläggning och uppföljning'!B119=\"Mer omfattande förändringsarbete behövs\",'Handläggning och uppföljning'!C119,\"\")","v":""},{"$f":"IF('Handläggning och uppföljning'!B119=\"Mer omfattande förändringsarbete behövs\",IF(ISBLANK('Handläggning och uppföljning'!D119),\"\",'Handläggning och uppföljning'!D119),\"\")","v":""}]
[null,{"$f":"IF('Handläggning och uppföljning'!B120=\"Mer omfattande förändringsarbete behövs\",'Handläggning och uppföljning'!A120,\"\")","v":""},{"$f":"IF('Handläggning och uppföljning'!B120=\"Mer omfattande förändringsarbete behövs\",'Handläggning och uppföljning'!C120,\"\")","v":""},{"$f":"IF('Handläggning och uppföljning'!B120=\"Mer omfattande förändringsarbete behövs\",IF(ISBLANK('Handläggning och uppföljning'!D120),\"\",'Handläggning och uppföljning'!D120),\"\")","v":""}]
[null,{"$f":"IF('Handläggning och uppföljning'!B121=\"Mer omfattande förändringsarbete behövs\",'Handläggning och uppföljning'!A121,\"\")","v":""},{"$f":"IF('Handläggning och uppföljning'!B121=\"Mer omfattande förändringsarbete behövs\",'Handläggning och uppföljning'!C121,\"\")","v":""},{"$f":"IF('Handläggning och uppföljning'!B121=\"Mer omfattande förändringsarbete behövs\",IF(ISBLANK('Handläggning och uppföljning'!D121),\"\",'Handläggning och uppföljning'!D121),\"\")","v":""}]
[null,{"$f":"IF('Handläggning och uppföljning'!B122=\"Mer omfattande förändringsarbete behövs\",'Handläggning och uppföljning'!A122,\"\")","v":""},{"$f":"IF('Handläggning och uppföljning'!B122=\"Mer omfattande förändringsarbete behövs\",'Handläggning och uppföljning'!C122,\"\")","v":""},{"$f":"IF('Handläggning och uppföljning'!B122=\"Mer omfattande förändringsarbete behövs\",IF(ISBLANK('Handläggning och uppföljning'!D122),\"\",'Handläggning och uppföljning'!D122),\"\")","v":""}]
[null,{"$f":"IF('Handläggning och uppföljning'!B123=\"Mer omfattande förändringsarbete behövs\",'Handläggning och uppföljning'!A123,\"\")","v":""},{"$f":"IF('Handläggning och uppföljning'!B123=\"Mer omfattande förändringsarbete behövs\",'Handläggning och uppföljning'!C123,\"\")","v":""},{"$f":"IF('Handläggning och uppföljning'!B123=\"Mer omfattande förändringsarbete behövs\",IF(ISBLANK('Handläggning och uppföljning'!D123),\"\",'Handläggning och uppföljning'!D123),\"\")","v":""}]
[null,{"$f":"IF('Handläggning och uppföljning'!B124=\"Mer omfattande förändringsarbete behövs\",'Handläggning och uppföljning'!A124,\"\")","v":""},{"$f":"IF('Handläggning och uppföljning'!B124=\"Mer omfattande förändringsarbete behövs\",'Handläggning och uppföljning'!C124,\"\")","v":""},{"$f":"IF('Handläggning och uppföljning'!B124=\"Mer omfattande förändringsarbete behövs\",IF(ISBLANK('Handläggning och uppföljning'!D124),\"\",'Handläggning och uppföljning'!D124),\"\")","v":""}]
[null,{"$f":"IF('Handläggning och uppföljning'!B125=\"Mer omfattande förändringsarbete behövs\",'Handläggning och uppföljning'!A125,\"\")","v":""},{"$f":"IF('Handläggning och uppföljning'!B125=\"Mer omfattande förändringsarbete behövs\",'Handläggning och uppföljning'!C125,\"\")","v":""},{"$f":"IF('Handläggning och uppföljning'!B125=\"Mer omfattande förändringsarbete behövs\",IF(ISBLANK('Handläggning och uppföljning'!D125),\"\",'Handläggning och uppföljning'!D125),\"\")","v":""}]
[null,{"$f":"IF('Handläggning och uppföljning'!B126=\"Mer omfattande förändringsarbete behövs\",'Handläggning och uppföljning'!A126,\"\")","v":""},{"$f":"IF('Handläggning och uppföljning'!B126=\"Mer omfattande förändringsarbete behövs\",'Handläggning och uppföljning'!C126,\"\")","v":""},{"$f":"IF('Handläggning och uppföljning'!B126=\"Mer omfattande förändringsarbete behövs\",IF(ISBLANK('Handläggning och uppföljning'!D126),\"\",'Handläggning och uppföljning'!D126),\"\")","v":""}]
[null,{"$f":"IF('Handläggning och uppföljning'!B127=\"Mer omfattande förändringsarbete behövs\",'Handläggning och uppföljning'!A127,\"\")","v":""},{"$f":"IF('Handläggning och uppföljning'!B127=\"Mer omfattande förändringsarbete behövs\",'Handläggning och uppföljning'!C127,\"\")","v":""},{"$f":"IF('Handläggning och uppföljning'!B127=\"Mer omfattande förändringsarbete behövs\",IF(ISBLANK('Handläggning och uppföljning'!D127),\"\",'Handläggning och uppföljning'!D127),\"\")","v":""}]
[null,{"$f":"IF('Handläggning och uppföljning'!B128=\"Mer omfattande förändringsarbete behövs\",'Handläggning och uppföljning'!A128,\"\")","v":""},{"$f":"IF('Handläggning och uppföljning'!B128=\"Mer omfattande förändringsarbete behövs\",'Handläggning och uppföljning'!C128,\"\")","v":""},{"$f":"IF('Handläggning och uppföljning'!B128=\"Mer omfattande förändringsarbete behövs\",IF(ISBLANK('Handläggning och uppföljning'!D128),\"\",'Handläggning och uppföljning'!D128),\"\")","v":""}]
[null,{"$f":"IF('Handläggning och uppföljning'!B129=\"Mer omfattande förändringsarbete behövs\",'Handläggning och uppföljning'!A129,\"\")","v":""},{"$f":"IF('Handläggning och uppföljning'!B129=\"Mer omfattande förändringsarbete behövs\",'Handläggning och uppföljning'!C129,\"\")","v":""},{"$f":"IF('Handläggning och uppföljning'!B129=\"Mer omfattande förändringsarbete behövs\",IF(ISBLANK('Handläggning och uppföljning'!D129),\"\",'Handläggning och uppföljning'!D129),\"\")","v":""}]
[null,{"$f":"IF('Handläggning och uppföljning'!B130=\"Mer omfattande förändringsarbete behövs\",'Handläggning och uppföljning'!A130,\"\")","v":""},{"$f":"IF('Handläggning och uppföljning'!B130=\"Mer omfattande förändringsarbete behövs\",'Handläggning och uppföljning'!C130,\"\")","v":""},{"$f":"IF('Handläggning och uppföljning'!B130=\"Mer omfattande förändringsarbete behövs\",IF(ISBLANK('Handläggning och uppföljning'!D130),\"\",'Handläggning och uppföljning'!D130),\"\")","v":""}]
[null,{"$f":"IF('Handläggning och uppföljning'!B131=\"Mer omfattande förändringsarbete behövs\",'Handläggning och uppföljning'!A131,\"\")","v":""},{"$f":"IF('Handläggning och uppföljning'!B131=\"Mer omfattande förändringsarbete behövs\",'Handläggning och uppföljning'!C131,\"\")","v":""},{"$f":"IF('Handläggning och uppföljning'!B131=\"Mer omfattande förändringsarbete behövs\",IF(ISBLANK('Handläggning och uppföljning'!D131),\"\",'Handläggning och uppföljning'!D131),\"\")","v":""}]
[null,{"$f":"IF('Handläggning och uppföljning'!B132=\"Mer omfattande förändringsarbete behövs\",'Handläggning och uppföljning'!A132,\"\")","v":""},{"$f":"IF('Handläggning och uppföljning'!B132=\"Mer omfattande förändringsarbete behövs\",'Handläggning och uppföljning'!C132,\"\")","v":""},{"$f":"IF('Handläggning och uppföljning'!B132=\"Mer omfattande förändringsarbete behövs\",IF(ISBLANK('Handläggning och uppföljning'!D132),\"\",'Handläggning och uppföljning'!D132),\"\")","v":""}]
[null,{"$f":"IF('Handläggning och uppföljning'!B133=\"Mer omfattande förändringsarbete behövs\",'Handläggning och uppföljning'!A133,\"\")","v":""},{"$f":"IF('Handläggning och uppföljning'!B133=\"Mer omfattande förändringsarbete behövs\",'Handläggning och uppföljning'!C133,\"\")","v":""},{"$f":"IF('Handläggning och uppföljning'!B133=\"Mer omfattande förändringsarbete behövs\",IF(ISBLANK('Handläggning och uppföljning'!D133),\"\",'Handläggning och uppföljning'!D133),\"\")","v":""}]
[null,{"$f":"IF('Handläggning och uppföljning'!B134=\"Mer omfattande förändringsarbete behövs\",'Handläggning och uppföljning'!A134,\"\")","v":""},{"$f":"IF('Handläggning och uppföljning'!B134=\"Mer omfattande förändringsarbete behövs\",'Handläggning och uppföljning'!C134,\"\")","v":""},{"$f":"IF('Handläggning och uppföljning'!B134=\"Mer omfattande förändringsarbete behövs\",IF(ISBLANK('Handläggning och uppföljning'!D134),\"\",'Handläggning och uppföljning'!D134),\"\")","v":""}]
[null,{"$f":"IF('Handläggning och uppföljning'!B135=\"Mer omfattande förändringsarbete behövs\",'Handläggning och uppföljning'!A135,\"\")","v":""},{"$f":"IF('Handläggning och uppföljning'!B135=\"Mer omfattande förändringsarbete behövs\",'Handläggning och uppföljning'!C135,\"\")","v":""},{"$f":"IF('Handläggning och uppföljning'!B135=\"Mer omfattande förändringsarbete behövs\",IF(ISBLANK('Handläggning och uppföljning'!D135),\"\",'Handläggning och uppföljning'!D135),\"\")","v":""}]
[null,{"$f":"IF('Handläggning och uppföljning'!B136=\"Mer omfattande förändringsarbete behövs\",'Handläggning och uppföljning'!A136,\"\")","v":""},{"$f":"IF('Handläggning och uppföljning'!B136=\"Mer omfattande förändringsarbete behövs\",'Handläggning och uppföljning'!C136,\"\")","v":""},{"$f":"IF('Handläggning och uppföljning'!B136=\"Mer omfattande förändringsarbete behövs\",IF(ISBLANK('Handläggning och uppföljning'!D136),\"\",'Handläggning och uppföljning'!D136),\"\")","v":""}]
[null,{"$f":"IF('Handläggning och uppföljning'!B137=\"Mer omfattande förändringsarbete behövs\",'Handläggning och uppföljning'!A137,\"\")","v":""},{"$f":"IF('Handläggning och uppföljning'!B137=\"Mer omfattande förändringsarbete behövs\",'Handläggning och uppföljning'!C137,\"\")","v":""},{"$f":"IF('Handläggning och uppföljning'!B137=\"Mer omfattande förändringsarbete behövs\",IF(ISBLANK('Handläggning och uppföljning'!D137),\"\",'Handläggning och uppföljning'!D137),\"\")","v":""}]
[null,{"$f":"IF('Handläggning och uppföljning'!B138=\"Mer omfattande förändringsarbete behövs\",'Handläggning och uppföljning'!A138,\"\")","v":""},{"$f":"IF('Handläggning och uppföljning'!B138=\"Mer omfattande förändringsarbete behövs\",'Handläggning och uppföljning'!C138,\"\")","v":""},{"$f":"IF('Handläggning och uppföljning'!B138=\"Mer omfattande förändringsarbete behövs\",IF(ISBLANK('Handläggning och uppföljning'!D138),\"\",'Handläggning och uppföljning'!D138),\"\")","v":""}]
[null,{"$f":"IF('Handläggning och uppföljning'!B139=\"Mer omfattande förändringsarbete behövs\",'Handläggning och uppföljning'!A139,\"\")","v":""},{"$f":"IF('Handläggning och uppföljning'!B139=\"Mer omfattande förändringsarbete behövs\",'Handläggning och uppföljning'!C139,\"\")","v":""},{"$f":"IF('Handläggning och uppföljning'!B139=\"Mer omfattande förändringsarbete behövs\",IF(ISBLANK('Handläggning och uppföljning'!D139),\"\",'Handläggning och uppföljning'!D139),\"\")","v":""}]
[null,{"$f":"IF('Handläggning och uppföljning'!B140=\"Mer omfattande förändringsarbete behövs\",'Handläggning och uppföljning'!A140,\"\")","v":""},{"$f":"IF('Handläggning och uppföljning'!B140=\"Mer omfattande förändringsarbete behövs\",'Handläggning och uppföljning'!C140,\"\")","v":""},{"$f":"IF('Handläggning och uppföljning'!B140=\"Mer omfattande förändringsarbete behövs\",IF(ISBLANK('Handläggning och uppföljning'!D140),\"\",'Handläggning och uppföljning'!D140),\"\")","v":""}]
[null,{"$f":"IF('Handläggning och uppföljning'!B141=\"Mer omfattande förändringsarbete behövs\",'Handläggning och uppföljning'!A141,\"\")","v":""},{"$f":"IF('Handläggning och uppföljning'!B141=\"Mer omfattande förändringsarbete behövs\",'Handläggning och uppföljning'!C141,\"\")","v":""},{"$f":"IF('Handläggning och uppföljning'!B141=\"Mer omfattande förändringsarbete behövs\",IF(ISBLANK('Handläggning och uppföljning'!D141),\"\",'Handläggning och uppföljning'!D141),\"\")","v":""}]
[null,{"$f":"IF('Handläggning och uppföljning'!B142=\"Mer omfattande förändringsarbete behövs\",'Handläggning och uppföljning'!A142,\"\")","v":""},{"$f":"IF('Handläggning och uppföljning'!B142=\"Mer omfattande förändringsarbete behövs\",'Handläggning och uppföljning'!C142,\"\")","v":""},{"$f":"IF('Handläggning och uppföljning'!B142=\"Mer omfattande förändringsarbete behövs\",IF(ISBLANK('Handläggning och uppföljning'!D142),\"\",'Handläggning och uppföljning'!D142),\"\")","v":""}]
[null,{"$f":"IF('Handläggning och uppföljning'!B143=\"Mer omfattande förändringsarbete behövs\",'Handläggning och uppföljning'!A143,\"\")","v":""},{"$f":"IF('Handläggning och uppföljning'!B143=\"Mer omfattande förändringsarbete behövs\",'Handläggning och uppföljning'!C143,\"\")","v":""},{"$f":"IF('Handläggning och uppföljning'!B143=\"Mer omfattande förändringsarbete behövs\",IF(ISBLANK('Handläggning och uppföljning'!D143),\"\",'Handläggning och uppföljning'!D143),\"\")","v":""}]
[null,{"$f":"IF('Handläggning och uppföljning'!B144=\"Mer omfattande förändringsarbete behövs\",'Handläggning och uppföljning'!A144,\"\")","v":""},{"$f":"IF('Handläggning och uppföljning'!B144=\"Mer omfattande förändringsarbete behövs\",'Handläggning och uppföljning'!C144,\"\")","v":""},{"$f":"IF('Handläggning och uppföljning'!B144=\"Mer omfattande förändringsarbete behövs\",IF(ISBLANK('Handläggning och uppföljning'!D144),\"\",'Handläggning och uppföljning'!D144),\"\")","v":""}]
[null,{"$f":"IF('Handläggning och uppföljning'!B145=\"Mer omfattande förändringsarbete behövs\",'Handläggning och uppföljning'!A145,\"\")","v":""},{"$f":"IF('Handläggning och uppföljning'!B145=\"Mer omfattande förändringsarbete behövs\",'Handläggning och uppföljning'!C145,\"\")","v":""},{"$f":"IF('Handläggning och uppföljning'!B145=\"Mer omfattande förändringsarbete behövs\",IF(ISBLANK('Handläggning och uppföljning'!D145),\"\",'Handläggning och uppföljning'!D145),\"\")","v":""}]
[null,{"$f":"IF('Handläggning och uppföljning'!B146=\"Mer omfattande förändringsarbete behövs\",'Handläggning och uppföljning'!A146,\"\")","v":""},{"$f":"IF('Handläggning och uppföljning'!B146=\"Mer omfattande förändringsarbete behövs\",'Handläggning och uppföljning'!C146,\"\")","v":""},{"$f":"IF('Handläggning och uppföljning'!B146=\"Mer omfattande förändringsarbete behövs\",IF(ISBLANK('Handläggning och uppföljning'!D146),\"\",'Handläggning och uppföljning'!D146),\"\")","v":""}]
[null,{"$f":"IF('Handläggning och uppföljning'!B147=\"Mer omfattande förändringsarbete behövs\",'Handläggning och uppföljning'!A147,\"\")","v":""},{"$f":"IF('Handläggning och uppföljning'!B147=\"Mer omfattande förändringsarbete behövs\",'Handläggning och uppföljning'!C147,\"\")","v":""},{"$f":"IF('Handläggning och uppföljning'!B147=\"Mer omfattande förändringsarbete behövs\",IF(ISBLANK('Handläggning och uppföljning'!D147),\"\",'Handläggning och uppföljning'!D147),\"\")","v":""}]
[null,{"$f":"IF('Handläggning och uppföljning'!B148=\"Mer omfattande förändringsarbete behövs\",'Handläggning och uppföljning'!A148,\"\")","v":""},{"$f":"IF('Handläggning och uppföljning'!B148=\"Mer omfattande förändringsarbete behövs\",'Handläggning och uppföljning'!C148,\"\")","v":""},{"$f":"IF('Handläggning och uppföljning'!B148=\"Mer omfattande förändringsarbete behövs\",IF(ISBLANK('Handläggning och uppföljning'!D148),\"\",'Handläggning och uppföljning'!D148),\"\")","v":""}]
[null,{"$f":"IF('Handläggning och uppföljning'!B149=\"Mer omfattande förändringsarbete behövs\",'Handläggning och uppföljning'!A149,\"\")","v":""},{"$f":"IF('Handläggning och uppföljning'!B149=\"Mer omfattande förändringsarbete behövs\",'Handläggning och uppföljning'!C149,\"\")","v":""},{"$f":"IF('Handläggning och uppföljning'!B149=\"Mer omfattande förändringsarbete behövs\",IF(ISBLANK('Handläggning och uppföljning'!D149),\"\",'Handläggning och uppföljning'!D149),\"\")","v":""}]
[null,{"$f":"IF('Handläggning och uppföljning'!B150=\"Mer omfattande förändringsarbete behövs\",'Handläggning och uppföljning'!A150,\"\")","v":""},{"$f":"IF('Handläggning och uppföljning'!B150=\"Mer omfattande förändringsarbete behövs\",'Handläggning och uppföljning'!C150,\"\")","v":""},{"$f":"IF('Handläggning och uppföljning'!B150=\"Mer omfattande förändringsarbete behövs\",IF(ISBLANK('Handläggning och uppföljning'!D150),\"\",'Handläggning och uppföljning'!D150),\"\")","v":""}]
[null,{"$f":"IF('Handläggning och uppföljning'!B151=\"Mer omfattande förändringsarbete behövs\",'Handläggning och uppföljning'!A151,\"\")","v":""},{"$f":"IF('Handläggning och uppföljning'!B151=\"Mer omfattande förändringsarbete behövs\",'Handläggning och uppföljning'!C151,\"\")","v":""},{"$f":"IF('Handläggning och uppföljning'!B151=\"Mer omfattande förändringsarbete behövs\",IF(ISBLANK('Handläggning och uppföljning'!D151),\"\",'Handläggning och uppföljning'!D151),\"\")","v":""}]
[null,{"$f":"IF('Handläggning och uppföljning'!B152=\"Mer omfattande förändringsarbete behövs\",'Handläggning och uppföljning'!A152,\"\")","v":""},{"$f":"IF('Handläggning och uppföljning'!B152=\"Mer omfattande förändringsarbete behövs\",'Handläggning och uppföljning'!C152,\"\")","v":""},{"$f":"IF('Handläggning och uppföljning'!B152=\"Mer omfattande förändringsarbete behövs\",IF(ISBLANK('Handläggning och uppföljning'!D152),\"\",'Handläggning och uppföljning'!D152),\"\")","v":""}]
[null,{"$f":"IF('Handläggning och uppföljning'!B153=\"Mer omfattande förändringsarbete behövs\",'Handläggning och uppföljning'!A153,\"\")","v":""},{"$f":"IF('Handläggning och uppföljning'!B153=\"Mer omfattande förändringsarbete behövs\",'Handläggning och uppföljning'!C153,\"\")","v":""},{"$f":"IF('Handläggning och uppföljning'!B153=\"Mer omfattande förändringsarbete behövs\",IF(ISBLANK('Handläggning och uppföljning'!D153),\"\",'Handläggning och uppföljning'!D153),\"\")","v":""}]
[null,{"$f":"IF('Handläggning och uppföljning'!B154=\"Mer omfattande förändringsarbete behövs\",'Handläggning och uppföljning'!A154,\"\")","v":""},{"$f":"IF('Handläggning och uppföljning'!B154=\"Mer omfattande förändringsarbete behövs\",'Handläggning och uppföljning'!C154,\"\")","v":""},{"$f":"IF('Handläggning och uppföljning'!B154=\"Mer omfattande förändringsarbete behövs\",IF(ISBLANK('Handläggning och uppföljning'!D154),\"\",'Handläggning och uppföljning'!D154),\"\")","v":""}]
[null,{"$f":"IF('Handläggning och uppföljning'!B155=\"Mer omfattande förändringsarbete behövs\",'Handläggning och uppföljning'!A155,\"\")","v":""},{"$f":"IF('Handläggning och uppföljning'!B155=\"Mer omfattande förändringsarbete behövs\",'Handläggning och uppföljning'!C155,\"\")","v":""},{"$f":"IF('Handläggning och uppföljning'!B155=\"Mer omfattande förändringsarbete behövs\",IF(ISBLANK('Handläggning och uppföljning'!D155),\"\",'Handläggning och uppföljning'!D155),\"\")","v":""}]
[null,{"$f":"IF('Handläggning och uppföljning'!B156=\"Mer omfattande förändringsarbete behövs\",'Handläggning och uppföljning'!A156,\"\")","v":""},{"$f":"IF('Handläggning och uppföljning'!B156=\"Mer omfattande förändringsarbete behövs\",'Handläggning och uppföljning'!C156,\"\")","v":""},{"$f":"IF('Handläggning och uppföljning'!B156=\"Mer omfattande förändringsarbete behövs\",IF(ISBLANK('Handläggning och uppföljning'!D156),\"\",'Handläggning och uppföljning'!D156),\"\")","v":""}]
[null,{"$f":"IF('Handläggning och uppföljning'!B157=\"Mer omfattande förändringsarbete behövs\",'Handläggning och uppföljning'!A157,\"\")","v":""},{"$f":"IF('Handläggning och uppföljning'!B157=\"Mer omfattande förändringsarbete behövs\",'Handläggning och uppföljning'!C157,\"\")","v":""},{"$f":"IF('Handläggning och uppföljning'!B157=\"Mer omfattande förändringsarbete behövs\",IF(ISBLANK('Handläggning och uppföljning'!D157),\"\",'Handläggning och uppföljning'!D157),\"\")","v":""}]
[null,{"$f":"IF('Handläggning och uppföljning'!B158=\"Mer omfattande förändringsarbete behövs\",'Handläggning och uppföljning'!A158,\"\")","v":""},{"$f":"IF('Handläggning och uppföljning'!B158=\"Mer omfattande förändringsarbete behövs\",'Handläggning och uppföljning'!C158,\"\")","v":""},{"$f":"IF('Handläggning och uppföljning'!B158=\"Mer omfattande förändringsarbete behövs\",IF(ISBLANK('Handläggning och uppföljning'!D158),\"\",'Handläggning och uppföljning'!D158),\"\")","v":""}]
[null,{"$f":"IF('Handläggning och uppföljning'!B159=\"Mer omfattande förändringsarbete behövs\",'Handläggning och uppföljning'!A159,\"\")","v":""},{"$f":"IF('Handläggning och uppföljning'!B159=\"Mer omfattande förändringsarbete behövs\",'Handläggning och uppföljning'!C159,\"\")","v":""},{"$f":"IF('Handläggning och uppföljning'!B159=\"Mer omfattande förändringsarbete behövs\",IF(ISBLANK('Handläggning och uppföljning'!D159),\"\",'Handläggning och uppföljning'!D159),\"\")","v":""}]
[null,{"$f":"IF('Handläggning och uppföljning'!B160=\"Mer omfattande förändringsarbete behövs\",'Handläggning och uppföljning'!A160,\"\")","v":""},{"$f":"IF('Handläggning och uppföljning'!B160=\"Mer omfattande förändringsarbete behövs\",'Handläggning och uppföljning'!C160,\"\")","v":""},{"$f":"IF('Handläggning och uppföljning'!B160=\"Mer omfattande förändringsarbete behövs\",IF(ISBLANK('Handläggning och uppföljning'!D160),\"\",'Handläggning och uppföljning'!D160),\"\")","v":""}]
[null,{"$f":"IF('Handläggning och uppföljning'!B161=\"Mer omfattande förändringsarbete behövs\",'Handläggning och uppföljning'!A161,\"\")","v":""},{"$f":"IF('Handläggning och uppföljning'!B161=\"Mer omfattande förändringsarbete behövs\",'Handläggning och uppföljning'!C161,\"\")","v":""},{"$f":"IF('Handläggning och uppföljning'!B161=\"Mer omfattande förändringsarbete behövs\",IF(ISBLANK('Handläggning och uppföljning'!D161),\"\",'Handläggning och uppföljning'!D161),\"\")","v":""}]
[null,{"$f":"IF('Handläggning och uppföljning'!B162=\"Mer omfattande förändringsarbete behövs\",'Handläggning och uppföljning'!A162,\"\")","v":""},{"$f":"IF('Handläggning och uppföljning'!B162=\"Mer omfattande förändringsarbete behövs\",'Handläggning och uppföljning'!C162,\"\")","v":""},{"$f":"IF('Handläggning och uppföljning'!B162=\"Mer omfattande förändringsarbete behövs\",IF(ISBLANK('Handläggning och uppföljning'!D162),\"\",'Handläggning och uppföljning'!D162),\"\")","v":""}]
[null,{"$f":"IF('Handläggning och uppföljning'!B163=\"Mer omfattande förändringsarbete behövs\",'Handläggning och uppföljning'!A163,\"\")","v":""},{"$f":"IF('Handläggning och uppföljning'!B163=\"Mer omfattande förändringsarbete behövs\",'Handläggning och uppföljning'!C163,\"\")","v":""},{"$f":"IF('Handläggning och uppföljning'!B163=\"Mer omfattande förändringsarbete behövs\",IF(ISBLANK('Handläggning och uppföljning'!D163),\"\",'Handläggning och uppföljning'!D163),\"\")","v":""}]
[null,{"$f":"IF('Handläggning och uppföljning'!B164=\"Mer omfattande förändringsarbete behövs\",'Handläggning och uppföljning'!A164,\"\")","v":""},{"$f":"IF('Handläggning och uppföljning'!B164=\"Mer omfattande förändringsarbete behövs\",'Handläggning och uppföljning'!C164,\"\")","v":""},{"$f":"IF('Handläggning och uppföljning'!B164=\"Mer omfattande förändringsarbete behövs\",IF(ISBLANK('Handläggning och uppföljning'!D164),\"\",'Handläggning och uppföljning'!D164),\"\")","v":""}]
[null,{"$f":"IF('Handläggning och uppföljning'!B165=\"Mer omfattande förändringsarbete behövs\",'Handläggning och uppföljning'!A165,\"\")","v":""},{"$f":"IF('Handläggning och uppföljning'!B165=\"Mer omfattande förändringsarbete behövs\",'Handläggning och uppföljning'!C165,\"\")","v":""},{"$f":"IF('Handläggning och uppföljning'!B165=\"Mer omfattande förändringsarbete behövs\",IF(ISBLANK('Handläggning och uppföljning'!D165),\"\",'Handläggning och uppföljning'!D165),\"\")","v":""}]
[null,{"$f":"IF('Handläggning och uppföljning'!B166=\"Mer omfattande förändringsarbete behövs\",'Handläggning och uppföljning'!A166,\"\")","v":""},{"$f":"IF('Handläggning och uppföljning'!B166=\"Mer omfattande förändringsarbete behövs\",'Handläggning och uppföljning'!C166,\"\")","v":""},{"$f":"IF('Handläggning och uppföljning'!B166=\"Mer omfattande förändringsarbete behövs\",IF(ISBLANK('Handläggning och uppföljning'!D166),\"\",'Handläggning och uppföljning'!D166),\"\")","v":""}]
[null,{"$f":"IF('Handläggning och uppföljning'!B167=\"Mer omfattande förändringsarbete behövs\",'Handläggning och uppföljning'!A167,\"\")","v":""},{"$f":"IF('Handläggning och uppföljning'!B167=\"Mer omfattande förändringsarbete behövs\",'Handläggning och uppföljning'!C167,\"\")","v":""},{"$f":"IF('Handläggning och uppföljning'!B167=\"Mer omfattande förändringsarbete behövs\",IF(ISBLANK('Handläggning och uppföljning'!D167),\"\",'Handläggning och uppföljning'!D167),\"\")","v":""}]
[null,{"$f":"IF('Handläggning och uppföljning'!B168=\"Mer omfattande förändringsarbete behövs\",'Handläggning och uppföljning'!A168,\"\")","v":""},{"$f":"IF('Handläggning och uppföljning'!B168=\"Mer omfattande förändringsarbete behövs\",'Handläggning och uppföljning'!C168,\"\")","v":""},{"$f":"IF('Handläggning och uppföljning'!B168=\"Mer omfattande förändringsarbete behövs\",IF(ISBLANK('Handläggning och uppföljning'!D168),\"\",'Handläggning och uppföljning'!D168),\"\")","v":""}]
[null,{"$f":"IF('Handläggning och uppföljning'!B169=\"Mer omfattande förändringsarbete behövs\",'Handläggning och uppföljning'!A169,\"\")","v":""},{"$f":"IF('Handläggning och uppföljning'!B169=\"Mer omfattande förändringsarbete behövs\",'Handläggning och uppföljning'!C169,\"\")","v":""},{"$f":"IF('Handläggning och uppföljning'!B169=\"Mer omfattande förändringsarbete behövs\",IF(ISBLANK('Handläggning och uppföljning'!D169),\"\",'Handläggning och uppföljning'!D169),\"\")","v":""}]
[null,{"$f":"IF('Handläggning och uppföljning'!B170=\"Mer omfattande förändringsarbete behövs\",'Handläggning och uppföljning'!A170,\"\")","v":""},{"$f":"IF('Handläggning och uppföljning'!B170=\"Mer omfattande förändringsarbete behövs\",'Handläggning och uppföljning'!C170,\"\")","v":""},{"$f":"IF('Handläggning och uppföljning'!B170=\"Mer omfattande förändringsarbete behövs\",IF(ISBLANK('Handläggning och uppföljning'!D170),\"\",'Handläggning och uppföljning'!D170),\"\")","v":""}]
[null,{"$f":"IF('Handläggning och uppföljning'!B171=\"Mer omfattande förändringsarbete behövs\",'Handläggning och uppföljning'!A171,\"\")","v":""},{"$f":"IF('Handläggning och uppföljning'!B171=\"Mer omfattande förändringsarbete behövs\",'Handläggning och uppföljning'!C171,\"\")","v":""},{"$f":"IF('Handläggning och uppföljning'!B171=\"Mer omfattande förändringsarbete behövs\",IF(ISBLANK('Handläggning och uppföljning'!D171),\"\",'Handläggning och uppföljning'!D171),\"\")","v":""}]
[null,{"$f":"IF('Handläggning och uppföljning'!B172=\"Mer omfattande förändringsarbete behövs\",'Handläggning och uppföljning'!A172,\"\")","v":""},{"$f":"IF('Handläggning och uppföljning'!B172=\"Mer omfattande förändringsarbete behövs\",'Handläggning och uppföljning'!C172,\"\")","v":""},{"$f":"IF('Handläggning och uppföljning'!B172=\"Mer omfattande förändringsarbete behövs\",IF(ISBLANK('Handläggning och uppföljning'!D172),\"\",'Handläggning och uppföljning'!D172),\"\")","v":""}]
[null,{"$f":"IF('Handläggning och uppföljning'!B173=\"Mer omfattande förändringsarbete behövs\",'Handläggning och uppföljning'!A173,\"\")","v":""},{"$f":"IF('Handläggning och uppföljning'!B173=\"Mer omfattande förändringsarbete behövs\",'Handläggning och uppföljning'!C173,\"\")","v":""},{"$f":"IF('Handläggning och uppföljning'!B173=\"Mer omfattande förändringsarbete behövs\",IF(ISBLANK('Handläggning och uppföljning'!D173),\"\",'Handläggning och uppföljning'!D173),\"\")","v":""}]
[null,{"$f":"IF('Handläggning och uppföljning'!B174=\"Mer omfattande förändringsarbete behövs\",'Handläggning och uppföljning'!A174,\"\")","v":""},{"$f":"IF('Handläggning och uppföljning'!B174=\"Mer omfattande förändringsarbete behövs\",'Handläggning och uppföljning'!C174,\"\")","v":""},{"$f":"IF('Handläggning och uppföljning'!B174=\"Mer omfattande förändringsarbete behövs\",IF(ISBLANK('Handläggning och uppföljning'!D174),\"\",'Handläggning och uppföljning'!D174),\"\")","v":""}]
[null,{"$f":"IF('Handläggning och uppföljning'!B175=\"Mer omfattande förändringsarbete behövs\",'Handläggning och uppföljning'!A175,\"\")","v":""},{"$f":"IF('Handläggning och uppföljning'!B175=\"Mer omfattande förändringsarbete behövs\",'Handläggning och uppföljning'!C175,\"\")","v":""},{"$f":"IF('Handläggning och uppföljning'!B175=\"Mer omfattande förändringsarbete behövs\",IF(ISBLANK('Handläggning och uppföljning'!D175),\"\",'Handläggning och uppföljning'!D175),\"\")","v":""}]
[null,{"$f":"IF('Handläggning och uppföljning'!B176=\"Mer omfattande förändringsarbete behövs\",'Handläggning och uppföljning'!A176,\"\")","v":""},{"$f":"IF('Handläggning och uppföljning'!B176=\"Mer omfattande förändringsarbete behövs\",'Handläggning och uppföljning'!C176,\"\")","v":""},{"$f":"IF('Handläggning och uppföljning'!B176=\"Mer omfattande förändringsarbete behövs\",IF(ISBLANK('Handläggning och uppföljning'!D176),\"\",'Handläggning och uppföljning'!D176),\"\")","v":""}]
[null,{"$f":"IF('Handläggning och uppföljning'!B177=\"Mer omfattande förändringsarbete behövs\",'Handläggning och uppföljning'!A177,\"\")","v":""},{"$f":"IF('Handläggning och uppföljning'!B177=\"Mer omfattande förändringsarbete behövs\",'Handläggning och uppföljning'!C177,\"\")","v":""},{"$f":"IF('Handläggning och uppföljning'!B177=\"Mer omfattande förändringsarbete behövs\",IF(ISBLANK('Handläggning och uppföljning'!D177),\"\",'Handläggning och uppföljning'!D177),\"\")","v":""}]
[null,{"$f":"IF('Handläggning och uppföljning'!B178=\"Mer omfattande förändringsarbete behövs\",'Handläggning och uppföljning'!A178,\"\")","v":""},{"$f":"IF('Handläggning och uppföljning'!B178=\"Mer omfattande förändringsarbete behövs\",'Handläggning och uppföljning'!C178,\"\")","v":""},{"$f":"IF('Handläggning och uppföljning'!B178=\"Mer omfattande förändringsarbete behövs\",IF(ISBLANK('Handläggning och uppföljning'!D178),\"\",'Handläggning och uppföljning'!D178),\"\")","v":""}]
[null,{"$f":"IF('Handläggning och uppföljning'!B179=\"Mer omfattande förändringsarbete behövs\",'Handläggning och uppföljning'!A179,\"\")","v":""},{"$f":"IF('Handläggning och uppföljning'!B179=\"Mer omfattande förändringsarbete behövs\",'Handläggning och uppföljning'!C179,\"\")","v":""},{"$f":"IF('Handläggning och uppföljning'!B179=\"Mer omfattande förändringsarbete behövs\",IF(ISBLANK('Handläggning och uppföljning'!D179),\"\",'Handläggning och uppföljning'!D179),\"\")","v":""}]
[null,{"$f":"IF('Handläggning och uppföljning'!B180=\"Mer omfattande förändringsarbete behövs\",'Handläggning och uppföljning'!A180,\"\")","v":""},{"$f":"IF('Handläggning och uppföljning'!B180=\"Mer omfattande förändringsarbete behövs\",'Handläggning och uppföljning'!C180,\"\")","v":""},{"$f":"IF('Handläggning och uppföljning'!B180=\"Mer omfattande förändringsarbete behövs\",IF(ISBLANK('Handläggning och uppföljning'!D180),\"\",'Handläggning och uppföljning'!D180),\"\")","v":""}]
[null,{"$f":"IF('Handläggning och uppföljning'!B181=\"Mer omfattande förändringsarbete behövs\",'Handläggning och uppföljning'!A181,\"\")","v":""},{"$f":"IF('Handläggning och uppföljning'!B181=\"Mer omfattande förändringsarbete behövs\",'Handläggning och uppföljning'!C181,\"\")","v":""},{"$f":"IF('Handläggning och uppföljning'!B181=\"Mer omfattande förändringsarbete behövs\",IF(ISBLANK('Handläggning och uppföljning'!D181),\"\",'Handläggning och uppföljning'!D181),\"\")","v":""}]
[null,{"$f":"IF('Handläggning och uppföljning'!B182=\"Mer omfattande förändringsarbete behövs\",'Handläggning och uppföljning'!A182,\"\")","v":""},{"$f":"IF('Handläggning och uppföljning'!B182=\"Mer omfattande förändringsarbete behövs\",'Handläggning och uppföljning'!C182,\"\")","v":""},{"$f":"IF('Handläggning och uppföljning'!B182=\"Mer omfattande förändringsarbete behövs\",IF(ISBLANK('Handläggning och uppföljning'!D182),\"\",'Handläggning och uppföljning'!D182),\"\")","v":""}]
[null,{"$f":"IF('Handläggning och uppföljning'!B183=\"Mer omfattande förändringsarbete behövs\",'Handläggning och uppföljning'!A183,\"\")","v":""},{"$f":"IF('Handläggning och uppföljning'!B183=\"Mer omfattande förändringsarbete behövs\",'Handläggning och uppföljning'!C183,\"\")","v":""},{"$f":"IF('Handläggning och uppföljning'!B183=\"Mer omfattande förändringsarbete behövs\",IF(ISBLANK('Handläggning och uppföljning'!D183),\"\",'Handläggning och uppföljning'!D183),\"\")","v":""}]
[null,{"$f":"IF('Handläggning och uppföljning'!B184=\"Mer omfattande förändringsarbete behövs\",'Handläggning och uppföljning'!A184,\"\")","v":""},{"$f":"IF('Handläggning och uppföljning'!B184=\"Mer omfattande förändringsarbete behövs\",'Handläggning och uppföljning'!C184,\"\")","v":""},{"$f":"IF('Handläggning och uppföljning'!B184=\"Mer omfattande förändringsarbete behövs\",IF(ISBLANK('Handläggning och uppföljning'!D184),\"\",'Handläggning och uppföljning'!D184),\"\")","v":""}]
[null,{"$f":"IF('Handläggning och uppföljning'!B185=\"Mer omfattande förändringsarbete behövs\",'Handläggning och uppföljning'!A185,\"\")","v":""},{"$f":"IF('Handläggning och uppföljning'!B185=\"Mer omfattande förändringsarbete behövs\",'Handläggning och uppföljning'!C185,\"\")","v":""},{"$f":"IF('Handläggning och uppföljning'!B185=\"Mer omfattande förändringsarbete behövs\",IF(ISBLANK('Handläggning och uppföljning'!D185),\"\",'Handläggning och uppföljning'!D185),\"\")","v":""}]
[null,{"$f":"IF('Handläggning och uppföljning'!B186=\"Mer omfattande förändringsarbete behövs\",'Handläggning och uppföljning'!A186,\"\")","v":""},{"$f":"IF('Handläggning och uppföljning'!B186=\"Mer omfattande förändringsarbete behövs\",'Handläggning och uppföljning'!C186,\"\")","v":""},{"$f":"IF('Handläggning och uppföljning'!B186=\"Mer omfattande förändringsarbete behövs\",IF(ISBLANK('Handläggning och uppföljning'!D186),\"\",'Handläggning och uppföljning'!D186),\"\")","v":""}]
[null,{"$f":"IF('Handläggning och uppföljning'!B187=\"Mer omfattande förändringsarbete behövs\",'Handläggning och uppföljning'!A187,\"\")","v":""},{"$f":"IF('Handläggning och uppföljning'!B187=\"Mer omfattande förändringsarbete behövs\",'Handläggning och uppföljning'!C187,\"\")","v":""},{"$f":"IF('Handläggning och uppföljning'!B187=\"Mer omfattande förändringsarbete behövs\",IF(ISBLANK('Handläggning och uppföljning'!D187),\"\",'Handläggning och uppföljning'!D187),\"\")","v":""}]
[null,{"$f":"IF('Handläggning och uppföljning'!B188=\"Mer omfattande förändringsarbete behövs\",'Handläggning och uppföljning'!A188,\"\")","v":""},{"$f":"IF('Handläggning och uppföljning'!B188=\"Mer omfattande förändringsarbete behövs\",'Handläggning och uppföljning'!C188,\"\")","v":""},{"$f":"IF('Handläggning och uppföljning'!B188=\"Mer omfattande förändringsarbete behövs\",IF(ISBLANK('Handläggning och uppföljning'!D188),\"\",'Handläggning och uppföljning'!D188),\"\")","v":""}]
[null,{"$f":"IF('Handläggning och uppföljning'!B189=\"Mer omfattande förändringsarbete behövs\",'Handläggning och uppföljning'!A189,\"\")","v":""},{"$f":"IF('Handläggning och uppföljning'!B189=\"Mer omfattande förändringsarbete behövs\",'Handläggning och uppföljning'!C189,\"\")","v":""},{"$f":"IF('Handläggning och uppföljning'!B189=\"Mer omfattande förändringsarbete behövs\",IF(ISBLANK('Handläggning och uppföljning'!D189),\"\",'Handläggning och uppföljning'!D189),\"\")","v":""}]
[null,{"$f":"IF('Handläggning och uppföljning'!B190=\"Mer omfattande förändringsarbete behövs\",'Handläggning och uppföljning'!A190,\"\")","v":""},{"$f":"IF('Handläggning och uppföljning'!B190=\"Mer omfattande förändringsarbete behövs\",'Handläggning och uppföljning'!C190,\"\")","v":""},{"$f":"IF('Handläggning och uppföljning'!B190=\"Mer omfattande förändringsarbete behövs\",IF(ISBLANK('Handläggning och uppföljning'!D190),\"\",'Handläggning och uppföljning'!D190),\"\")","v":""}]
[null,{"$f":"IF('Handläggning och uppföljning'!B191=\"Mer omfattande förändringsarbete behövs\",'Handläggning och uppföljning'!A191,\"\")","v":""},{"$f":"IF('Handläggning och uppföljning'!B191=\"Mer omfattande förändringsarbete behövs\",'Handläggning och uppföljning'!C191,\"\")","v":""},{"$f":"IF('Handläggning och uppföljning'!B191=\"Mer omfattande förändringsarbete behövs\",IF(ISBLANK('Handläggning och uppföljning'!D191),\"\",'Handläggning och uppföljning'!D191),\"\")","v":""}]
[null,{"$f":"IF('Handläggning och uppföljning'!B192=\"Mer omfattande förändringsarbete behövs\",'Handläggning och uppföljning'!A192,\"\")","v":""},{"$f":"IF('Handläggning och uppföljning'!B192=\"Mer omfattande förändringsarbete behövs\",'Handläggning och uppföljning'!C192,\"\")","v":""},{"$f":"IF('Handläggning och uppföljning'!B192=\"Mer omfattande förändringsarbete behövs\",IF(ISBLANK('Handläggning och uppföljning'!D192),\"\",'Handläggning och uppföljning'!D192),\"\")","v":""}]
[null,{"$f":"IF('Handläggning och uppföljning'!B193=\"Mer omfattande förändringsarbete behövs\",'Handläggning och uppföljning'!A193,\"\")","v":""},{"$f":"IF('Handläggning och uppföljning'!B193=\"Mer omfattande förändringsarbete behövs\",'Handläggning och uppföljning'!C193,\"\")","v":""},{"$f":"IF('Handläggning och uppföljning'!B193=\"Mer omfattande förändringsarbete behövs\",IF(ISBLANK('Handläggning och uppföljning'!D193),\"\",'Handläggning och uppföljning'!D193),\"\")","v":""}]
[null,{"$f":"IF('Handläggning och uppföljning'!B194=\"Mer omfattande förändringsarbete behövs\",'Handläggning och uppföljning'!A194,\"\")","v":""},{"$f":"IF('Handläggning och uppföljning'!B194=\"Mer omfattande förändringsarbete behövs\",'Handläggning och uppföljning'!C194,\"\")","v":""},{"$f":"IF('Handläggning och uppföljning'!B194=\"Mer omfattande förändringsarbete behövs\",IF(ISBLANK('Handläggning och uppföljning'!D194),\"\",'Handläggning och uppföljning'!D194),\"\")","v":""}]
[null,{"$f":"IF('Handläggning och uppföljning'!B195=\"Mer omfattande förändringsarbete behövs\",'Handläggning och uppföljning'!A195,\"\")","v":""},{"$f":"IF('Handläggning och uppföljning'!B195=\"Mer omfattande förändringsarbete behövs\",'Handläggning och uppföljning'!C195,\"\")","v":""},{"$f":"IF('Handläggning och uppföljning'!B195=\"Mer omfattande förändringsarbete behövs\",IF(ISBLANK('Handläggning och uppföljning'!D195),\"\",'Handläggning och uppföljning'!D195),\"\")","v":""}]
[null,{"$f":"IF('Handläggning och uppföljning'!B196=\"Mer omfattande förändringsarbete behövs\",'Handläggning och uppföljning'!A196,\"\")","v":""},{"$f":"IF('Handläggning och uppföljning'!B196=\"Mer omfattande förändringsarbete behövs\",'Handläggning och uppföljning'!C196,\"\")","v":""},{"$f":"IF('Handläggning och uppföljning'!B196=\"Mer omfattande förändringsarbete behövs\",IF(ISBLANK('Handläggning och uppföljning'!D196),\"\",'Handläggning och uppföljning'!D196),\"\")","v":""}]
[null,{"$f":"IF('Handläggning och uppföljning'!B197=\"Mer omfattande förändringsarbete behövs\",'Handläggning och uppföljning'!A197,\"\")","v":""},{"$f":"IF('Handläggning och uppföljning'!B197=\"Mer omfattande förändringsarbete behövs\",'Handläggning och uppföljning'!C197,\"\")","v":""},{"$f":"IF('Handläggning och uppföljning'!B197=\"Mer omfattande förändringsarbete behövs\",IF(ISBLANK('Handläggning och uppföljning'!D197),\"\",'Handläggning och uppföljning'!D197),\"\")","v":""}]
[null,{"$f":"IF('Handläggning och uppföljning'!B198=\"Mer omfattande förändringsarbete behövs\",'Handläggning och uppföljning'!A198,\"\")","v":""},{"$f":"IF('Handläggning och uppföljning'!B198=\"Mer omfattande förändringsarbete behövs\",'Handläggning och uppföljning'!C198,\"\")","v":""},{"$f":"IF('Handläggning och uppföljning'!B198=\"Mer omfattande förändringsarbete behövs\",IF(ISBLANK('Handläggning och uppföljning'!D198),\"\",'Handläggning och uppföljning'!D198),\"\")","v":""}]
[null,{"$f":"IF('Handläggning och uppföljning'!B199=\"Mer omfattande förändringsarbete behövs\",'Handläggning och uppföljning'!A199,\"\")","v":""},{"$f":"IF('Handläggning och uppföljning'!B199=\"Mer omfattande förändringsarbete behövs\",'Handläggning och uppföljning'!C199,\"\")","v":""},{"$f":"IF('Handläggning och uppföljning'!B199=\"Mer omfattande förändringsarbete behövs\",IF(ISBLANK('Handläggning och uppföljning'!D199),\"\",'Handläggning och uppföljning'!D199),\"\")","v":""}]
[null,{"$f":"IF('Handläggning och uppföljning'!B200=\"Mer omfattande förändringsarbete behövs\",'Handläggning och uppföljning'!A200,\"\")","v":""},{"$f":"IF('Handläggning och uppföljning'!B200=\"Mer omfattande förändringsarbete behövs\",'Handläggning och uppföljning'!C200,\"\")","v":""},{"$f":"IF('Handläggning och uppföljning'!B200=\"Mer omfattande förändringsarbete behövs\",IF(ISBLANK('Handläggning och uppföljning'!D200),\"\",'Handläggning och uppföljning'!D200),\"\")","v":""}]
[null,{"$f":"IF('Handläggning och uppföljning'!B201=\"Mer omfattande förändringsarbete behövs\",'Handläggning och uppföljning'!A201,\"\")","v":""},{"$f":"IF('Handläggning och uppföljning'!B201=\"Mer omfattande förändringsarbete behövs\",'Handläggning och uppföljning'!C201,\"\")","v":""},{"$f":"IF('Handläggning och uppföljning'!B201=\"Mer omfattande förändringsarbete behövs\",IF(ISBLANK('Handläggning och uppföljning'!D201),\"\",'Handläggning och uppföljning'!D201),\"\")","v":""}]
[null,{"$f":"IF('Handläggning och uppföljning'!B202=\"Mer omfattande förändringsarbete behövs\",'Handläggning och uppföljning'!A202,\"\")","v":""},{"$f":"IF('Handläggning och uppföljning'!B202=\"Mer omfattande förändringsarbete behövs\",'Handläggning och uppföljning'!C202,\"\")","v":""},{"$f":"IF('Handläggning och uppföljning'!B202=\"Mer omfattande förändringsarbete behövs\",IF(ISBLANK('Handläggning och uppföljning'!D202),\"\",'Handläggning och uppföljning'!D202),\"\")","v":""}]
[null,{"$f":"IF('Handläggning och uppföljning'!B203=\"Mer omfattande förändringsarbete behövs\",'Handläggning och uppföljning'!A203,\"\")","v":""},{"$f":"IF('Handläggning och uppföljning'!B203=\"Mer omfattande förändringsarbete behövs\",'Handläggning och uppföljning'!C203,\"\")","v":""},{"$f":"IF('Handläggning och uppföljning'!B203=\"Mer omfattande förändringsarbete behövs\",IF(ISBLANK('Handläggning och uppföljning'!D203),\"\",'Handläggning och uppföljning'!D203),\"\")","v":""}]
[null,{"$f":"IF('Handläggning och uppföljning'!B204=\"Mer omfattande förändringsarbete behövs\",'Handläggning och uppföljning'!A204,\"\")","v":""},{"$f":"IF('Handläggning och uppföljning'!B204=\"Mer omfattande förändringsarbete behövs\",'Handläggning och uppföljning'!C204,\"\")","v":""},{"$f":"IF('Handläggning och uppföljning'!B204=\"Mer omfattande förändringsarbete behövs\",IF(ISBLANK('Handläggning och uppföljning'!D204),\"\",'Handläggning och uppföljning'!D204),\"\")","v":""}]
[null,{"$f":"IF('Handläggning och uppföljning'!B205=\"Mer omfattande förändringsarbete behövs\",'Handläggning och uppföljning'!A205,\"\")","v":""},{"$f":"IF('Handläggning och uppföljning'!B205=\"Mer omfattande förändringsarbete behövs\",'Handläggning och uppföljning'!C205,\"\")","v":""},{"$f":"IF('Handläggning och uppföljning'!B205=\"Mer omfattande förändringsarbete behövs\",IF(ISBLANK('Handläggning och uppföljning'!D205),\"\",'Handläggning och uppföljning'!D205),\"\")","v":""}]
[null,{"$f":"IF('Handläggning och uppföljning'!B206=\"Mer omfattande förändringsarbete behövs\",'Handläggning och uppföljning'!A206,\"\")","v":""},{"$f":"IF('Handläggning och uppföljning'!B206=\"Mer omfattande förändringsarbete behövs\",'Handläggning och uppföljning'!C206,\"\")","v":""},{"$f":"IF('Handläggning och uppföljning'!B206=\"Mer omfattande förändringsarbete behövs\",IF(ISBLANK('Handläggning och uppföljning'!D206),\"\",'Handläggning och uppföljning'!D206),\"\")","v":""}]
[null,{"$f":"IF('Handläggning och uppföljning'!B207=\"Mer omfattande förändringsarbete behövs\",'Handläggning och uppföljning'!A207,\"\")","v":""},{"$f":"IF('Handläggning och uppföljning'!B207=\"Mer omfattande förändringsarbete behövs\",'Handläggning och uppföljning'!C207,\"\")","v":""},{"$f":"IF('Handläggning och uppföljning'!B207=\"Mer omfattande förändringsarbete behövs\",IF(ISBLANK('Handläggning och uppföljning'!D207),\"\",'Handläggning och uppföljning'!D207),\"\")","v":""}]
[null,{"$f":"IF(Insatser!B4=\"Mer omfattande förändringsarbete behövs\",Insatser!A4,\"\")","v":""},{"$f":"IF(Insatser!B4=\"Mer omfattande förändringsarbete behövs\",Insatser!C4,\"\")","v":""},{"$f":"IF(Insatser!B4=\"Mer omfattande förändringsarbete behövs\",IF(ISBLANK(Insatser!D4),\"\",Insatser!D4),\"\")","v":""}]
[null,{"$f":"IF(Insatser!B5=\"Mer omfattande förändringsarbete behövs\",Insatser!A5,\"\")","v":""},{"$f":"IF(Insatser!B5=\"Mer omfattande förändringsarbete behövs\",Insatser!C5,\"\")","v":""},{"$f":"IF(Insatser!B5=\"Mer omfattande förändringsarbete behövs\",IF(ISBLANK(Insatser!D5),\"\",Insatser!D5),\"\")","v":""}]
[null,{"$f":"IF(Insatser!B6=\"Mer omfattande förändringsarbete behövs\",Insatser!A6,\"\")","v":""},{"$f":"IF(Insatser!B6=\"Mer omfattande förändringsarbete behövs\",Insatser!C6,\"\")","v":""},{"$f":"IF(Insatser!B6=\"Mer omfattande förändringsarbete behövs\",IF(ISBLANK(Insatser!D6),\"\",Insatser!D6),\"\")","v":""}]
[null,{"$f":"IF(Insatser!B7=\"Mer omfattande förändringsarbete behövs\",Insatser!A7,\"\")","v":""},{"$f":"IF(Insatser!B7=\"Mer omfattande förändringsarbete behövs\",Insatser!C7,\"\")","v":""},{"$f":"IF(Insatser!B7=\"Mer omfattande förändringsarbete behövs\",IF(ISBLANK(Insatser!D7),\"\",Insatser!D7),\"\")","v":""}]
[null,{"$f":"IF(Insatser!B8=\"Mer omfattande förändringsarbete behövs\",Insatser!A8,\"\")","v":""},{"$f":"IF(Insatser!B8=\"Mer omfattande förändringsarbete behövs\",Insatser!C8,\"\")","v":""},{"$f":"IF(Insatser!B8=\"Mer omfattande förändringsarbete behövs\",IF(ISBLANK(Insatser!D8),\"\",Insatser!D8),\"\")","v":""}]
[null,{"$f":"IF(Insatser!B9=\"Mer omfattande förändringsarbete behövs\",Insatser!A9,\"\")","v":""},{"$f":"IF(Insatser!B9=\"Mer omfattande förändringsarbete behövs\",Insatser!C9,\"\")","v":""},{"$f":"IF(Insatser!B9=\"Mer omfattande förändringsarbete behövs\",IF(ISBLANK(Insatser!D9),\"\",Insatser!D9),\"\")","v":""}]
[null,{"$f":"IF(Insatser!B10=\"Mer omfattande förändringsarbete behövs\",Insatser!A10,\"\")","v":""},{"$f":"IF(Insatser!B10=\"Mer omfattande förändringsarbete behövs\",Insatser!C10,\"\")","v":""},{"$f":"IF(Insatser!B10=\"Mer omfattande förändringsarbete behövs\",IF(ISBLANK(Insatser!D10),\"\",Insatser!D10),\"\")","v":""}]
[null,{"$f":"IF(Insatser!B11=\"Mer omfattande förändringsarbete behövs\",Insatser!A11,\"\")","v":""},{"$f":"IF(Insatser!B11=\"Mer omfattande förändringsarbete behövs\",Insatser!C11,\"\")","v":""},{"$f":"IF(Insatser!B11=\"Mer omfattande förändringsarbete behövs\",IF(ISBLANK(Insatser!D11),\"\",Insatser!D11),\"\")","v":""}]
[null,{"$f":"IF(Insatser!B12=\"Mer omfattande förändringsarbete behövs\",Insatser!A12,\"\")","v":""},{"$f":"IF(Insatser!B12=\"Mer omfattande förändringsarbete behövs\",Insatser!C12,\"\")","v":""},{"$f":"IF(Insatser!B12=\"Mer omfattande förändringsarbete behövs\",IF(ISBLANK(Insatser!D12),\"\",Insatser!D12),\"\")","v":""}]
[null,{"$f":"IF(Insatser!B13=\"Mer omfattande förändringsarbete behövs\",Insatser!A13,\"\")","v":""},{"$f":"IF(Insatser!B13=\"Mer omfattande förändringsarbete behövs\",Insatser!C13,\"\")","v":""},{"$f":"IF(Insatser!B13=\"Mer omfattande förändringsarbete behövs\",IF(ISBLANK(Insatser!D13),\"\",Insatser!D13),\"\")","v":""}]
[null,{"$f":"IF(Insatser!B14=\"Mer omfattande förändringsarbete behövs\",Insatser!A14,\"\")","v":""},{"$f":"IF(Insatser!B14=\"Mer omfattande förändringsarbete behövs\",Insatser!C14,\"\")","v":""},{"$f":"IF(Insatser!B14=\"Mer omfattande förändringsarbete behövs\",IF(ISBLANK(Insatser!D14),\"\",Insatser!D14),\"\")","v":""}]
[null,{"$f":"IF(Insatser!B15=\"Mer omfattande förändringsarbete behövs\",Insatser!A15,\"\")","v":""},{"$f":"IF(Insatser!B15=\"Mer omfattande förändringsarbete behövs\",Insatser!C15,\"\")","v":""},{"$f":"IF(Insatser!B15=\"Mer omfattande förändringsarbete behövs\",IF(ISBLANK(Insatser!D15),\"\",Insatser!D15),\"\")","v":""}]
[null,{"$f":"IF(Insatser!B16=\"Mer omfattande förändringsarbete behövs\",Insatser!A16,\"\")","v":""},{"$f":"IF(Insatser!B16=\"Mer omfattande förändringsarbete behövs\",Insatser!C16,\"\")","v":""},{"$f":"IF(Insatser!B16=\"Mer omfattande förändringsarbete behövs\",IF(ISBLANK(Insatser!D16),\"\",Insatser!D16),\"\")","v":""}]
[null,{"$f":"IF(Insatser!B17=\"Mer omfattande förändringsarbete behövs\",Insatser!A17,\"\")","v":""},{"$f":"IF(Insatser!B17=\"Mer omfattande förändringsarbete behövs\",Insatser!C17,\"\")","v":""},{"$f":"IF(Insatser!B17=\"Mer omfattande förändringsarbete behövs\",IF(ISBLANK(Insatser!D17),\"\",Insatser!D17),\"\")","v":""}]
[null,{"$f":"IF(Insatser!B18=\"Mer omfattande förändringsarbete behövs\",Insatser!A18,\"\")","v":""},{"$f":"IF(Insatser!B18=\"Mer omfattande förändringsarbete behövs\",Insatser!C18,\"\")","v":""},{"$f":"IF(Insatser!B18=\"Mer omfattande förändringsarbete behövs\",IF(ISBLANK(Insatser!D18),\"\",Insatser!D18),\"\")","v":""}]
[null,{"$f":"IF(Insatser!B19=\"Mer omfattande förändringsarbete behövs\",Insatser!A19,\"\")","v":""},{"$f":"IF(Insatser!B19=\"Mer omfattande förändringsarbete behövs\",Insatser!C19,\"\")","v":""},{"$f":"IF(Insatser!B19=\"Mer omfattande förändringsarbete behövs\",IF(ISBLANK(Insatser!D19),\"\",Insatser!D19),\"\")","v":""}]
[null,{"$f":"IF(Insatser!B20=\"Mer omfattande förändringsarbete behövs\",Insatser!A20,\"\")","v":""},{"$f":"IF(Insatser!B20=\"Mer omfattande förändringsarbete behövs\",Insatser!C20,\"\")","v":""},{"$f":"IF(Insatser!B20=\"Mer omfattande förändringsarbete behövs\",IF(ISBLANK(Insatser!D20),\"\",Insatser!D20),\"\")","v":""}]
[null,{"$f":"IF(Insatser!B21=\"Mer omfattande förändringsarbete behövs\",Insatser!A21,\"\")","v":""},{"$f":"IF(Insatser!B21=\"Mer omfattande förändringsarbete behövs\",Insatser!C21,\"\")","v":""},{"$f":"IF(Insatser!B21=\"Mer omfattande förändringsarbete behövs\",IF(ISBLANK(Insatser!D21),\"\",Insatser!D21),\"\")","v":""}]
[null,{"$f":"IF(Insatser!B22=\"Mer omfattande förändringsarbete behövs\",Insatser!A22,\"\")","v":""},{"$f":"IF(Insatser!B22=\"Mer omfattande förändringsarbete behövs\",Insatser!C22,\"\")","v":""},{"$f":"IF(Insatser!B22=\"Mer omfattande förändringsarbete behövs\",IF(ISBLANK(Insatser!D22),\"\",Insatser!D22),\"\")","v":""}]
[null,{"$f":"IF(Insatser!B23=\"Mer omfattande förändringsarbete behövs\",Insatser!A23,\"\")","v":""},{"$f":"IF(Insatser!B23=\"Mer omfattande förändringsarbete behövs\",Insatser!C23,\"\")","v":""},{"$f":"IF(Insatser!B23=\"Mer omfattande förändringsarbete behövs\",IF(ISBLANK(Insatser!D23),\"\",Insatser!D23),\"\")","v":""}]
[null,{"$f":"IF(Insatser!B24=\"Mer omfattande förändringsarbete behövs\",Insatser!A24,\"\")","v":""},{"$f":"IF(Insatser!B24=\"Mer omfattande förändringsarbete behövs\",Insatser!C24,\"\")","v":""},{"$f":"IF(Insatser!B24=\"Mer omfattande förändringsarbete behövs\",IF(ISBLANK(Insatser!D24),\"\",Insatser!D24),\"\")","v":""}]
[null,{"$f":"IF(Insatser!B25=\"Mer omfattande förändringsarbete behövs\",Insatser!A25,\"\")","v":""},{"$f":"IF(Insatser!B25=\"Mer omfattande förändringsarbete behövs\",Insatser!C25,\"\")","v":""},{"$f":"IF(Insatser!B25=\"Mer omfattande förändringsarbete behövs\",IF(ISBLANK(Insatser!D25),\"\",Insatser!D25),\"\")","v":""}]
[null,{"$f":"IF(Insatser!B26=\"Mer omfattande förändringsarbete behövs\",Insatser!A26,\"\")","v":""},{"$f":"IF(Insatser!B26=\"Mer omfattande förändringsarbete behövs\",Insatser!C26,\"\")","v":""},{"$f":"IF(Insatser!B26=\"Mer omfattande förändringsarbete behövs\",IF(ISBLANK(Insatser!D26),\"\",Insatser!D26),\"\")","v":""}]
[null,{"$f":"IF(Insatser!B27=\"Mer omfattande förändringsarbete behövs\",Insatser!A27,\"\")","v":""},{"$f":"IF(Insatser!B27=\"Mer omfattande förändringsarbete behövs\",Insatser!C27,\"\")","v":""},{"$f":"IF(Insatser!B27=\"Mer omfattande förändringsarbete behövs\",IF(ISBLANK(Insatser!D27),\"\",Insatser!D27),\"\")","v":""}]
[null,{"$f":"IF(Insatser!B28=\"Mer omfattande förändringsarbete behövs\",Insatser!A28,\"\")","v":""},{"$f":"IF(Insatser!B28=\"Mer omfattande förändringsarbete behövs\",Insatser!C28,\"\")","v":""},{"$f":"IF(Insatser!B28=\"Mer omfattande förändringsarbete behövs\",IF(ISBLANK(Insatser!D28),\"\",Insatser!D28),\"\")","v":""}]
[null,{"$f":"IF(Insatser!B29=\"Mer omfattande förändringsarbete behövs\",Insatser!A29,\"\")","v":""},{"$f":"IF(Insatser!B29=\"Mer omfattande förändringsarbete behövs\",Insatser!C29,\"\")","v":""},{"$f":"IF(Insatser!B29=\"Mer omfattande förändringsarbete behövs\",IF(ISBLANK(Insatser!D29),\"\",Insatser!D29),\"\")","v":""}]
[null,{"$f":"IF(Insatser!B30=\"Mer omfattande förändringsarbete behövs\",Insatser!A30,\"\")","v":""},{"$f":"IF(Insatser!B30=\"Mer omfattande förändringsarbete behövs\",Insatser!C30,\"\")","v":""},{"$f":"IF(Insatser!B30=\"Mer omfattande förändringsarbete behövs\",IF(ISBLANK(Insatser!D30),\"\",Insatser!D30),\"\")","v":""}]
[null,{"$f":"IF(Insatser!B31=\"Mer omfattande förändringsarbete behövs\",Insatser!A31,\"\")","v":""},{"$f":"IF(Insatser!B31=\"Mer omfattande förändringsarbete behövs\",Insatser!C31,\"\")","v":""},{"$f":"IF(Insatser!B31=\"Mer omfattande förändringsarbete behövs\",IF(ISBLANK(Insatser!D31),\"\",Insatser!D31),\"\")","v":""}]
[null,{"$f":"IF(Insatser!B32=\"Mer omfattande förändringsarbete behövs\",Insatser!A32,\"\")","v":""},{"$f":"IF(Insatser!B32=\"Mer omfattande förändringsarbete behövs\",Insatser!C32,\"\")","v":""},{"$f":"IF(Insatser!B32=\"Mer omfattande förändringsarbete behövs\",IF(ISBLANK(Insatser!D32),\"\",Insatser!D32),\"\")","v":""}]
[null,{"$f":"IF(Insatser!B33=\"Mer omfattande förändringsarbete behövs\",Insatser!A33,\"\")","v":""},{"$f":"IF(Insatser!B33=\"Mer omfattande förändringsarbete behövs\",Insatser!C33,\"\")","v":""},{"$f":"IF(Insatser!B33=\"Mer omfattande förändringsarbete behövs\",IF(ISBLANK(Insatser!D33),\"\",Insatser!D33),\"\")","v":""}]
[null,{"$f":"IF(Insatser!B34=\"Mer omfattande förändringsarbete behövs\",Insatser!A34,\"\")","v":""},{"$f":"IF(Insatser!B34=\"Mer omfattande förändringsarbete behövs\",Insatser!C34,\"\")","v":""},{"$f":"IF(Insatser!B34=\"Mer omfattande förändringsarbete behövs\",IF(ISBLANK(Insatser!D34),\"\",Insatser!D34),\"\")","v":""}]
[null,{"$f":"IF(Insatser!B35=\"Mer omfattande förändringsarbete behövs\",Insatser!A35,\"\")","v":""},{"$f":"IF(Insatser!B35=\"Mer omfattande förändringsarbete behövs\",Insatser!C35,\"\")","v":""},{"$f":"IF(Insatser!B35=\"Mer omfattande förändringsarbete behövs\",IF(ISBLANK(Insatser!D35),\"\",Insatser!D35),\"\")","v":""}]
[null,{"$f":"IF(Insatser!B36=\"Mer omfattande förändringsarbete behövs\",Insatser!A36,\"\")","v":""},{"$f":"IF(Insatser!B36=\"Mer omfattande förändringsarbete behövs\",Insatser!C36,\"\")","v":""},{"$f":"IF(Insatser!B36=\"Mer omfattande förändringsarbete behövs\",IF(ISBLANK(Insatser!D36),\"\",Insatser!D36),\"\")","v":""}]
[null,{"$f":"IF(Insatser!B37=\"Mer omfattande förändringsarbete behövs\",Insatser!A37,\"\")","v":""},{"$f":"IF(Insatser!B37=\"Mer omfattande förändringsarbete behövs\",Insatser!C37,\"\")","v":""},{"$f":"IF(Insatser!B37=\"Mer omfattande förändringsarbete behövs\",IF(ISBLANK(Insatser!D37),\"\",Insatser!D37),\"\")","v":""}]
[null,{"$f":"IF(Insatser!B38=\"Mer omfattande förändringsarbete behövs\",Insatser!A38,\"\")","v":""},{"$f":"IF(Insatser!B38=\"Mer omfattande förändringsarbete behövs\",Insatser!C38,\"\")","v":""},{"$f":"IF(Insatser!B38=\"Mer omfattande förändringsarbete behövs\",IF(ISBLANK(Insatser!D38),\"\",Insatser!D38),\"\")","v":""}]
[null,{"$f":"IF(Insatser!B39=\"Mer omfattande förändringsarbete behövs\",Insatser!A39,\"\")","v":""},{"$f":"IF(Insatser!B39=\"Mer omfattande förändringsarbete behövs\",Insatser!C39,\"\")","v":""},{"$f":"IF(Insatser!B39=\"Mer omfattande förändringsarbete behövs\",IF(ISBLANK(Insatser!D39),\"\",Insatser!D39),\"\")","v":""}]
[null,{"$f":"IF(Insatser!B40=\"Mer omfattande förändringsarbete behövs\",Insatser!A40,\"\")","v":""},{"$f":"IF(Insatser!B40=\"Mer omfattande förändringsarbete behövs\",Insatser!C40,\"\")","v":""},{"$f":"IF(Insatser!B40=\"Mer omfattande förändringsarbete behövs\",IF(ISBLANK(Insatser!D40),\"\",Insatser!D40),\"\")","v":""}]
[null,{"$f":"IF(Insatser!B41=\"Mer omfattande förändringsarbete behövs\",Insatser!A41,\"\")","v":""},{"$f":"IF(Insatser!B41=\"Mer omfattande förändringsarbete behövs\",Insatser!C41,\"\")","v":""},{"$f":"IF(Insatser!B41=\"Mer omfattande förändringsarbete behövs\",IF(ISBLANK(Insatser!D41),\"\",Insatser!D41),\"\")","v":""}]
[null,{"$f":"IF(Insatser!B42=\"Mer omfattande förändringsarbete behövs\",Insatser!A42,\"\")","v":""},{"$f":"IF(Insatser!B42=\"Mer omfattande förändringsarbete behövs\",Insatser!C42,\"\")","v":""},{"$f":"IF(Insatser!B42=\"Mer omfattande förändringsarbete behövs\",IF(ISBLANK(Insatser!D42),\"\",Insatser!D42),\"\")","v":""}]
[null,{"$f":"IF(Insatser!B43=\"Mer omfattande förändringsarbete behövs\",Insatser!A43,\"\")","v":""},{"$f":"IF(Insatser!B43=\"Mer omfattande förändringsarbete behövs\",Insatser!C43,\"\")","v":""},{"$f":"IF(Insatser!B43=\"Mer omfattande förändringsarbete behövs\",IF(ISBLANK(Insatser!D43),\"\",Insatser!D43),\"\")","v":""}]
[null,{"$f":"IF(Insatser!B44=\"Mer omfattande förändringsarbete behövs\",Insatser!A44,\"\")","v":""},{"$f":"IF(Insatser!B44=\"Mer omfattande förändringsarbete behövs\",Insatser!C44,\"\")","v":""},{"$f":"IF(Insatser!B44=\"Mer omfattande förändringsarbete behövs\",IF(ISBLANK(Insatser!D44),\"\",Insatser!D44),\"\")","v":""}]
[null,{"$f":"IF(Insatser!B45=\"Mer omfattande förändringsarbete behövs\",Insatser!A45,\"\")","v":""},{"$f":"IF(Insatser!B45=\"Mer omfattande förändringsarbete behövs\",Insatser!C45,\"\")","v":""},{"$f":"IF(Insatser!B45=\"Mer omfattande förändringsarbete behövs\",IF(ISBLANK(Insatser!D45),\"\",Insatser!D45),\"\")","v":""}]
[null,{"$f":"IF(Insatser!B46=\"Mer omfattande förändringsarbete behövs\",Insatser!A46,\"\")","v":""},{"$f":"IF(Insatser!B46=\"Mer omfattande förändringsarbete behövs\",Insatser!C46,\"\")","v":""},{"$f":"IF(Insatser!B46=\"Mer omfattande förändringsarbete behövs\",IF(ISBLANK(Insatser!D46),\"\",Insatser!D46),\"\")","v":""}]
[null,{"$f":"IF(Insatser!B47=\"Mer omfattande förändringsarbete behövs\",Insatser!A47,\"\")","v":""},{"$f":"IF(Insatser!B47=\"Mer omfattande förändringsarbete behövs\",Insatser!C47,\"\")","v":""},{"$f":"IF(Insatser!B47=\"Mer omfattande förändringsarbete behövs\",IF(ISBLANK(Insatser!D47),\"\",Insatser!D47),\"\")","v":""}]
[null,{"$f":"IF(Insatser!B48=\"Mer omfattande förändringsarbete behövs\",Insatser!A48,\"\")","v":""},{"$f":"IF(Insatser!B48=\"Mer omfattande förändringsarbete behövs\",Insatser!C48,\"\")","v":""},{"$f":"IF(Insatser!B48=\"Mer omfattande förändringsarbete behövs\",IF(ISBLANK(Insatser!D48),\"\",Insatser!D48),\"\")","v":""}]
[null,{"$f":"IF(Insatser!B49=\"Mer omfattande förändringsarbete behövs\",Insatser!A49,\"\")","v":""},{"$f":"IF(Insatser!B49=\"Mer omfattande förändringsarbete behövs\",Insatser!C49,\"\")","v":""},{"$f":"IF(Insatser!B49=\"Mer omfattande förändringsarbete behövs\",IF(ISBLANK(Insatser!D49),\"\",Insatser!D49),\"\")","v":""}]
[null,{"$f":"IF(Insatser!B50=\"Mer omfattande förändringsarbete behövs\",Insatser!A50,\"\")","v":""},{"$f":"IF(Insatser!B50=\"Mer omfattande förändringsarbete behövs\",Insatser!C50,\"\")","v":""},{"$f":"IF(Insatser!B50=\"Mer omfattande förändringsarbete behövs\",IF(ISBLANK(Insatser!D50),\"\",Insatser!D50),\"\")","v":""}]
[null,{"$f":"IF(Insatser!B51=\"Mer omfattande förändringsarbete behövs\",Insatser!A51,\"\")","v":""},{"$f":"IF(Insatser!B51=\"Mer omfattande förändringsarbete behövs\",Insatser!C51,\"\")","v":""},{"$f":"IF(Insatser!B51=\"Mer omfattande förändringsarbete behövs\",IF(ISBLANK(Insatser!D51),\"\",Insatser!D51),\"\")","v":""}]
[null,{"$f":"IF(Insatser!B52=\"Mer omfattande förändringsarbete behövs\",Insatser!A52,\"\")","v":""},{"$f":"IF(Insatser!B52=\"Mer omfattande förändringsarbete behövs\",Insatser!C52,\"\")","v":""},{"$f":"IF(Insatser!B52=\"Mer omfattande förändringsarbete behövs\",IF(ISBLANK(Insatser!D52),\"\",Insatser!D52),\"\")","v":""}]
[null,{"$f":"IF(Insatser!B53=\"Mer omfattande förändringsarbete behövs\",Insatser!A53,\"\")","v":""},{"$f":"IF(Insatser!B53=\"Mer omfattande förändringsarbete behövs\",Insatser!C53,\"\")","v":""},{"$f":"IF(Insatser!B53=\"Mer omfattande förändringsarbete behövs\",IF(ISBLANK(Insatser!D53),\"\",Insatser!D53),\"\")","v":""}]
[null,{"$f":"IF(Insatser!B54=\"Mer omfattande förändringsarbete behövs\",Insatser!A54,\"\")","v":""},{"$f":"IF(Insatser!B54=\"Mer omfattande förändringsarbete behövs\",Insatser!C54,\"\")","v":""},{"$f":"IF(Insatser!B54=\"Mer omfattande förändringsarbete behövs\",IF(ISBLANK(Insatser!D54),\"\",Insatser!D54),\"\")","v":""}]
[null,{"$f":"IF(Insatser!B55=\"Mer omfattande förändringsarbete behövs\",Insatser!A55,\"\")","v":""},{"$f":"IF(Insatser!B55=\"Mer omfattande förändringsarbete behövs\",Insatser!C55,\"\")","v":""},{"$f":"IF(Insatser!B55=\"Mer omfattande förändringsarbete behövs\",IF(ISBLANK(Insatser!D55),\"\",Insatser!D55),\"\")","v":""}]
[null,{"$f":"IF(Insatser!B56=\"Mer omfattande förändringsarbete behövs\",Insatser!A56,\"\")","v":""},{"$f":"IF(Insatser!B56=\"Mer omfattande förändringsarbete behövs\",Insatser!C56,\"\")","v":""},{"$f":"IF(Insatser!B56=\"Mer omfattande förändringsarbete behövs\",IF(ISBLANK(Insatser!D56),\"\",Insatser!D56),\"\")","v":""}]
[null,{"$f":"IF(Insatser!B57=\"Mer omfattande förändringsarbete behövs\",Insatser!A57,\"\")","v":""},{"$f":"IF(Insatser!B57=\"Mer omfattande förändringsarbete behövs\",Insatser!C57,\"\")","v":""},{"$f":"IF(Insatser!B57=\"Mer omfattande förändringsarbete behövs\",IF(ISBLANK(Insatser!D57),\"\",Insatser!D57),\"\")","v":""}]
[null,{"$f":"IF(Insatser!B58=\"Mer omfattande förändringsarbete behövs\",Insatser!A58,\"\")","v":""},{"$f":"IF(Insatser!B58=\"Mer omfattande förändringsarbete behövs\",Insatser!C58,\"\")","v":""},{"$f":"IF(Insatser!B58=\"Mer omfattande förändringsarbete behövs\",IF(ISBLANK(Insatser!D58),\"\",Insatser!D58),\"\")","v":""}]
[null,{"$f":"IF(Insatser!B59=\"Mer omfattande förändringsarbete behövs\",Insatser!A59,\"\")","v":""},{"$f":"IF(Insatser!B59=\"Mer omfattande förändringsarbete behövs\",Insatser!C59,\"\")","v":""},{"$f":"IF(Insatser!B59=\"Mer omfattande förändringsarbete behövs\",IF(ISBLANK(Insatser!D59),\"\",Insatser!D59),\"\")","v":""}]
[null,{"$f":"IF(Insatser!B60=\"Mer omfattande förändringsarbete behövs\",Insatser!A60,\"\")","v":""},{"$f":"IF(Insatser!B60=\"Mer omfattande förändringsarbete behövs\",Insatser!C60,\"\")","v":""},{"$f":"IF(Insatser!B60=\"Mer omfattande förändringsarbete behövs\",IF(ISBLANK(Insatser!D60),\"\",Insatser!D60),\"\")","v":""}]
[null,{"$f":"IF(Insatser!B61=\"Mer omfattande förändringsarbete behövs\",Insatser!A61,\"\")","v":""},{"$f":"IF(Insatser!B61=\"Mer omfattande förändringsarbete behövs\",Insatser!C61,\"\")","v":""},{"$f":"IF(Insatser!B61=\"Mer omfattande förändringsarbete behövs\",IF(ISBLANK(Insatser!D61),\"\",Insatser!D61),\"\")","v":""}]
[null,{"$f":"IF(Insatser!B62=\"Mer omfattande förändringsarbete behövs\",Insatser!A62,\"\")","v":""},{"$f":"IF(Insatser!B62=\"Mer omfattande förändringsarbete behövs\",Insatser!C62,\"\")","v":""},{"$f":"IF(Insatser!B62=\"Mer omfattande förändringsarbete behövs\",IF(ISBLANK(Insatser!D62),\"\",Insatser!D62),\"\")","v":""}]
[null,{"$f":"IF(Insatser!B63=\"Mer omfattande förändringsarbete behövs\",Insatser!A63,\"\")","v":""},{"$f":"IF(Insatser!B63=\"Mer omfattande förändringsarbete behövs\",Insatser!C63,\"\")","v":""},{"$f":"IF(Insatser!B63=\"Mer omfattande förändringsarbete behövs\",IF(ISBLANK(Insatser!D63),\"\",Insatser!D63),\"\")","v":""}]
[null,{"$f":"IF(Insatser!B64=\"Mer omfattande förändringsarbete behövs\",Insatser!A64,\"\")","v":""},{"$f":"IF(Insatser!B64=\"Mer omfattande förändringsarbete behövs\",Insatser!C64,\"\")","v":""},{"$f":"IF(Insatser!B64=\"Mer omfattande förändringsarbete behövs\",IF(ISBLANK(Insatser!D64),\"\",Insatser!D64),\"\")","v":""}]
[null,{"$f":"IF(Insatser!B65=\"Mer omfattande förändringsarbete behövs\",Insatser!A65,\"\")","v":""},{"$f":"IF(Insatser!B65=\"Mer omfattande förändringsarbete behövs\",Insatser!C65,\"\")","v":""},{"$f":"IF(Insatser!B65=\"Mer omfattande förändringsarbete behövs\",IF(ISBLANK(Insatser!D65),\"\",Insatser!D65),\"\")","v":""}]
[null,{"$f":"IF(Insatser!B66=\"Mer omfattande förändringsarbete behövs\",Insatser!A66,\"\")","v":""},{"$f":"IF(Insatser!B66=\"Mer omfattande förändringsarbete behövs\",Insatser!C66,\"\")","v":""},{"$f":"IF(Insatser!B66=\"Mer omfattande förändringsarbete behövs\",IF(ISBLANK(Insatser!D66),\"\",Insatser!D66),\"\")","v":""}]
[null,{"$f":"IF(Insatser!B67=\"Mer omfattande förändringsarbete behövs\",Insatser!A67,\"\")","v":""},{"$f":"IF(Insatser!B67=\"Mer omfattande förändringsarbete behövs\",Insatser!C67,\"\")","v":""},{"$f":"IF(Insatser!B67=\"Mer omfattande förändringsarbete behövs\",IF(ISBLANK(Insatser!D67),\"\",Insatser!D67),\"\")","v":""}]
[null,{"$f":"IF(Insatser!B68=\"Mer omfattande förändringsarbete behövs\",Insatser!A68,\"\")","v":""},{"$f":"IF(Insatser!B68=\"Mer omfattande förändringsarbete behövs\",Insatser!C68,\"\")","v":""},{"$f":"IF(Insatser!B68=\"Mer omfattande förändringsarbete behövs\",IF(ISBLANK(Insatser!D68),\"\",Insatser!D68),\"\")","v":""}]
[null,{"$f":"IF(Insatser!B69=\"Mer omfattande förändringsarbete behövs\",Insatser!A69,\"\")","v":""},{"$f":"IF(Insatser!B69=\"Mer omfattande förändringsarbete behövs\",Insatser!C69,\"\")","v":""},{"$f":"IF(Insatser!B69=\"Mer omfattande förändringsarbete behövs\",IF(ISBLANK(Insatser!D69),\"\",Insatser!D69),\"\")","v":""}]
[null,{"$f":"IF(Insatser!B70=\"Mer omfattande förändringsarbete behövs\",Insatser!A70,\"\")","v":""},{"$f":"IF(Insatser!B70=\"Mer omfattande förändringsarbete behövs\",Insatser!C70,\"\")","v":""},{"$f":"IF(Insatser!B70=\"Mer omfattande förändringsarbete behövs\",IF(ISBLANK(Insatser!D70),\"\",Insatser!D70),\"\")","v":""}]
[null,{"$f":"IF(Insatser!B71=\"Mer omfattande förändringsarbete behövs\",Insatser!A71,\"\")","v":""},{"$f":"IF(Insatser!B71=\"Mer omfattande förändringsarbete behövs\",Insatser!C71,\"\")","v":""},{"$f":"IF(Insatser!B71=\"Mer omfattande förändringsarbete behövs\",IF(ISBLANK(Insatser!D71),\"\",Insatser!D71),\"\")","v":""}]
[null,{"$f":"IF(Insatser!B72=\"Mer omfattande förändringsarbete behövs\",Insatser!A72,\"\")","v":""},{"$f":"IF(Insatser!B72=\"Mer omfattande förändringsarbete behövs\",Insatser!C72,\"\")","v":""},{"$f":"IF(Insatser!B72=\"Mer omfattande förändringsarbete behövs\",IF(ISBLANK(Insatser!D72),\"\",Insatser!D72),\"\")","v":""}]
[null,{"$f":"IF(Insatser!B73=\"Mer omfattande förändringsarbete behövs\",Insatser!A73,\"\")","v":""},{"$f":"IF(Insatser!B73=\"Mer omfattande förändringsarbete behövs\",Insatser!C73,\"\")","v":""},{"$f":"IF(Insatser!B73=\"Mer omfattande förändringsarbete behövs\",IF(ISBLANK(Insatser!D73),\"\",Insatser!D73),\"\")","v":""}]
[null,{"$f":"IF(Insatser!B74=\"Mer omfattande förändringsarbete behövs\",Insatser!A74,\"\")","v":""},{"$f":"IF(Insatser!B74=\"Mer omfattande förändringsarbete behövs\",Insatser!C74,\"\")","v":""},{"$f":"IF(Insatser!B74=\"Mer omfattande förändringsarbete behövs\",IF(ISBLANK(Insatser!D74),\"\",Insatser!D74),\"\")","v":""}]
[null,{"$f":"IF(Insatser!B75=\"Mer omfattande förändringsarbete behövs\",Insatser!A75,\"\")","v":""},{"$f":"IF(Insatser!B75=\"Mer omfattande förändringsarbete behövs\",Insatser!C75,\"\")","v":""},{"$f":"IF(Insatser!B75=\"Mer omfattande förändringsarbete behövs\",IF(ISBLANK(Insatser!D75),\"\",Insatser!D75),\"\")","v":""}]
[null,{"$f":"IF(Insatser!B76=\"Mer omfattande förändringsarbete behövs\",Insatser!A76,\"\")","v":""},{"$f":"IF(Insatser!B76=\"Mer omfattande förändringsarbete behövs\",Insatser!C76,\"\")","v":""},{"$f":"IF(Insatser!B76=\"Mer omfattande förändringsarbete behövs\",IF(ISBLANK(Insatser!D76),\"\",Insatser!D76),\"\")","v":""}]
[null,{"$f":"IF(Insatser!B77=\"Mer omfattande förändringsarbete behövs\",Insatser!A77,\"\")","v":""},{"$f":"IF(Insatser!B77=\"Mer omfattande förändringsarbete behövs\",Insatser!C77,\"\")","v":""},{"$f":"IF(Insatser!B77=\"Mer omfattande förändringsarbete behövs\",IF(ISBLANK(Insatser!D77),\"\",Insatser!D77),\"\")","v":""}]
[null,{"$f":"IF(Insatser!B78=\"Mer omfattande förändringsarbete behövs\",Insatser!A78,\"\")","v":""},{"$f":"IF(Insatser!B78=\"Mer omfattande förändringsarbete behövs\",Insatser!C78,\"\")","v":""},{"$f":"IF(Insatser!B78=\"Mer omfattande förändringsarbete behövs\",IF(ISBLANK(Insatser!D78),\"\",Insatser!D78),\"\")","v":""}]
[null,{"$f":"IF(Insatser!B79=\"Mer omfattande förändringsarbete behövs\",Insatser!A79,\"\")","v":""},{"$f":"IF(Insatser!B79=\"Mer omfattande förändringsarbete behövs\",Insatser!C79,\"\")","v":""},{"$f":"IF(Insatser!B79=\"Mer omfattande förändringsarbete behövs\",IF(ISBLANK(Insatser!D79),\"\",Insatser!D79),\"\")","v":""}]
[null,{"$f":"IF(Insatser!B80=\"Mer omfattande förändringsarbete behövs\",Insatser!A80,\"\")","v":""},{"$f":"IF(Insatser!B80=\"Mer omfattande förändringsarbete behövs\",Insatser!C80,\"\")","v":""},{"$f":"IF(Insatser!B80=\"Mer omfattande förändringsarbete behövs\",IF(ISBLANK(Insatser!D80),\"\",Insatser!D80),\"\")","v":""}]
[null,{"$f":"IF(Insatser!B81=\"Mer omfattande förändringsarbete behövs\",Insatser!A81,\"\")","v":""},{"$f":"IF(Insatser!B81=\"Mer omfattande förändringsarbete behövs\",Insatser!C81,\"\")","v":""},{"$f":"IF(Insatser!B81=\"Mer omfattande förändringsarbete behövs\",IF(ISBLANK(Insatser!D81),\"\",Insatser!D81),\"\")","v":""}]
[null,{"$f":"IF(Insatser!B82=\"Mer omfattande förändringsarbete behövs\",Insatser!A82,\"\")","v":""},{"$f":"IF(Insatser!B82=\"Mer omfattande förändringsarbete behövs\",Insatser!C82,\"\")","v":""},{"$f":"IF(Insatser!B82=\"Mer omfattande förändringsarbete behövs\",IF(ISBLANK(Insatser!D82),\"\",Insatser!D82),\"\")","v":""}]
[null,{"$f":"IF(Insatser!B83=\"Mer omfattande förändringsarbete behövs\",Insatser!A83,\"\")","v":""},{"$f":"IF(Insatser!B83=\"Mer omfattande förändringsarbete behövs\",Insatser!C83,\"\")","v":""},{"$f":"IF(Insatser!B83=\"Mer omfattande förändringsarbete behövs\",IF(ISBLANK(Insatser!D83),\"\",Insatser!D83),\"\")","v":""}]
[null,{"$f":"IF(Insatser!B84=\"Mer omfattande förändringsarbete behövs\",Insatser!A84,\"\")","v":""},{"$f":"IF(Insatser!B84=\"Mer omfattande förändringsarbete behövs\",Insatser!C84,\"\")","v":""},{"$f":"IF(Insatser!B84=\"Mer omfattande förändringsarbete behövs\",IF(ISBLANK(Insatser!D84),\"\",Insatser!D84),\"\")","v":""}]
[null,{"$f":"IF(Insatser!B85=\"Mer omfattande förändringsarbete behövs\",Insatser!A85,\"\")","v":""},{"$f":"IF(Insatser!B85=\"Mer omfattande förändringsarbete behövs\",Insatser!C85,\"\")","v":""},{"$f":"IF(Insatser!B85=\"Mer omfattande förändringsarbete behövs\",IF(ISBLANK(Insatser!D85),\"\",Insatser!D85),\"\")","v":""}]
[null,{"$f":"IF(Insatser!B86=\"Mer omfattande förändringsarbete behövs\",Insatser!A86,\"\")","v":""},{"$f":"IF(Insatser!B86=\"Mer omfattande förändringsarbete behövs\",Insatser!C86,\"\")","v":""},{"$f":"IF(Insatser!B86=\"Mer omfattande förändringsarbete behövs\",IF(ISBLANK(Insatser!D86),\"\",Insatser!D86),\"\")","v":""}]
[null,{"$f":"IF(Insatser!B87=\"Mer omfattande förändringsarbete behövs\",Insatser!A87,\"\")","v":""},{"$f":"IF(Insatser!B87=\"Mer omfattande förändringsarbete behövs\",Insatser!C87,\"\")","v":""},{"$f":"IF(Insatser!B87=\"Mer omfattande förändringsarbete behövs\",IF(ISBLANK(Insatser!D87),\"\",Insatser!D87),\"\")","v":""}]
[null,{"$f":"IF(Insatser!B88=\"Mer omfattande förändringsarbete behövs\",Insatser!A88,\"\")","v":""},{"$f":"IF(Insatser!B88=\"Mer omfattande förändringsarbete behövs\",Insatser!C88,\"\")","v":""},{"$f":"IF(Insatser!B88=\"Mer omfattande förändringsarbete behövs\",IF(ISBLANK(Insatser!D88),\"\",Insatser!D88),\"\")","v":""}]
[null,{"$f":"IF(Insatser!B89=\"Mer omfattande förändringsarbete behövs\",Insatser!A89,\"\")","v":""},{"$f":"IF(Insatser!B89=\"Mer omfattande förändringsarbete behövs\",Insatser!C89,\"\")","v":""},{"$f":"IF(Insatser!B89=\"Mer omfattande förändringsarbete behövs\",IF(ISBLANK(Insatser!D89),\"\",Insatser!D89),\"\")","v":""}]
[null,{"$f":"IF(Insatser!B90=\"Mer omfattande förändringsarbete behövs\",Insatser!A90,\"\")","v":""},{"$f":"IF(Insatser!B90=\"Mer omfattande förändringsarbete behövs\",Insatser!C90,\"\")","v":""},{"$f":"IF(Insatser!B90=\"Mer omfattande förändringsarbete behövs\",IF(ISBLANK(Insatser!D90),\"\",Insatser!D90),\"\")","v":""}]
[null,{"$f":"IF(Insatser!B91=\"Mer omfattande förändringsarbete behövs\",Insatser!A91,\"\")","v":""},{"$f":"IF(Insatser!B91=\"Mer omfattande förändringsarbete behövs\",Insatser!C91,\"\")","v":""},{"$f":"IF(Insatser!B91=\"Mer omfattande förändringsarbete behövs\",IF(ISBLANK(Insatser!D91),\"\",Insatser!D91),\"\")","v":""}]
[null,{"$f":"IF(Insatser!B92=\"Mer omfattande förändringsarbete behövs\",Insatser!A92,\"\")","v":""},{"$f":"IF(Insatser!B92=\"Mer omfattande förändringsarbete behövs\",Insatser!C92,\"\")","v":""},{"$f":"IF(Insatser!B92=\"Mer omfattande förändringsarbete behövs\",IF(ISBLANK(Insatser!D92),\"\",Insatser!D92),\"\")","v":""}]
[null,{"$f":"IF(Insatser!B93=\"Mer omfattande förändringsarbete behövs\",Insatser!A93,\"\")","v":""},{"$f":"IF(Insatser!B93=\"Mer omfattande förändringsarbete behövs\",Insatser!C93,\"\")","v":""},{"$f":"IF(Insatser!B93=\"Mer omfattande förändringsarbete behövs\",IF(ISBLANK(Insatser!D93),\"\",Insatser!D93),\"\")","v":""}]
[null,{"$f":"IF(Insatser!B94=\"Mer omfattande förändringsarbete behövs\",Insatser!A94,\"\")","v":""},{"$f":"IF(Insatser!B94=\"Mer omfattande förändringsarbete behövs\",Insatser!C94,\"\")","v":""},{"$f":"IF(Insatser!B94=\"Mer omfattande förändringsarbete behövs\",IF(ISBLANK(Insatser!D94),\"\",Insatser!D94),\"\")","v":""}]
[null,{"$f":"IF(Insatser!B95=\"Mer omfattande förändringsarbete behövs\",Insatser!A95,\"\")","v":""},{"$f":"IF(Insatser!B95=\"Mer omfattande förändringsarbete behövs\",Insatser!C95,\"\")","v":""},{"$f":"IF(Insatser!B95=\"Mer omfattande förändringsarbete behövs\",IF(ISBLANK(Insatser!D95),\"\",Insatser!D95),\"\")","v":""}]
[null,{"$f":"IF(Insatser!B96=\"Mer omfattande förändringsarbete behövs\",Insatser!A96,\"\")","v":""},{"$f":"IF(Insatser!B96=\"Mer omfattande förändringsarbete behövs\",Insatser!C96,\"\")","v":""},{"$f":"IF(Insatser!B96=\"Mer omfattande förändringsarbete behövs\",IF(ISBLANK(Insatser!D96),\"\",Insatser!D96),\"\")","v":""}]
[null,{"$f":"IF(Insatser!B97=\"Mer omfattande förändringsarbete behövs\",Insatser!A97,\"\")","v":""},{"$f":"IF(Insatser!B97=\"Mer omfattande förändringsarbete behövs\",Insatser!C97,\"\")","v":""},{"$f":"IF(Insatser!B97=\"Mer omfattande förändringsarbete behövs\",IF(ISBLANK(Insatser!D97),\"\",Insatser!D97),\"\")","v":""}]
[null,{"$f":"IF(Insatser!B98=\"Mer omfattande förändringsarbete behövs\",Insatser!A98,\"\")","v":""},{"$f":"IF(Insatser!B98=\"Mer omfattande förändringsarbete behövs\",Insatser!C98,\"\")","v":""},{"$f":"IF(Insatser!B98=\"Mer omfattande förändringsarbete behövs\",IF(ISBLANK(Insatser!D98),\"\",Insatser!D98),\"\")","v":""}]
[null,{"$f":"IF(Insatser!B99=\"Mer omfattande förändringsarbete behövs\",Insatser!A99,\"\")","v":""},{"$f":"IF(Insatser!B99=\"Mer omfattande förändringsarbete behövs\",Insatser!C99,\"\")","v":""},{"$f":"IF(Insatser!B99=\"Mer omfattande förändringsarbete behövs\",IF(ISBLANK(Insatser!D99),\"\",Insatser!D99),\"\")","v":""}]
[null,{"$f":"IF(Insatser!B100=\"Mer omfattande förändringsarbete behövs\",Insatser!A100,\"\")","v":""},{"$f":"IF(Insatser!B100=\"Mer omfattande förändringsarbete behövs\",Insatser!C100,\"\")","v":""},{"$f":"IF(Insatser!B100=\"Mer omfattande förändringsarbete behövs\",IF(ISBLANK(Insatser!D100),\"\",Insatser!D100),\"\")","v":""}]
[null,{"$f":"IF(Insatser!B101=\"Mer omfattande förändringsarbete behövs\",Insatser!A101,\"\")","v":""},{"$f":"IF(Insatser!B101=\"Mer omfattande förändringsarbete behövs\",Insatser!C101,\"\")","v":""},{"$f":"IF(Insatser!B101=\"Mer omfattande förändringsarbete behövs\",IF(ISBLANK(Insatser!D101),\"\",Insatser!D101),\"\")","v":""}]
[null,{"$f":"IF(Insatser!B102=\"Mer omfattande förändringsarbete behövs\",Insatser!A102,\"\")","v":""},{"$f":"IF(Insatser!B102=\"Mer omfattande förändringsarbete behövs\",Insatser!C102,\"\")","v":""},{"$f":"IF(Insatser!B102=\"Mer omfattande förändringsarbete behövs\",IF(ISBLANK(Insatser!D102),\"\",Insatser!D102),\"\")","v":""}]
[null,{"$f":"IF(Insatser!B103=\"Mer omfattande förändringsarbete behövs\",Insatser!A103,\"\")","v":""},{"$f":"IF(Insatser!B103=\"Mer omfattande förändringsarbete behövs\",Insatser!C103,\"\")","v":""},{"$f":"IF(Insatser!B103=\"Mer omfattande förändringsarbete behövs\",IF(ISBLANK(Insatser!D103),\"\",Insatser!D103),\"\")","v":""}]
[null,{"$f":"IF(Insatser!B104=\"Mer omfattande förändringsarbete behövs\",Insatser!A104,\"\")","v":""},{"$f":"IF(Insatser!B104=\"Mer omfattande förändringsarbete behövs\",Insatser!C104,\"\")","v":""},{"$f":"IF(Insatser!B104=\"Mer omfattande förändringsarbete behövs\",IF(ISBLANK(Insatser!D104),\"\",Insatser!D104),\"\")","v":""}]
[null,{"$f":"IF(Insatser!B105=\"Mer omfattande förändringsarbete behövs\",Insatser!A105,\"\")","v":""},{"$f":"IF(Insatser!B105=\"Mer omfattande förändringsarbete behövs\",Insatser!C105,\"\")","v":""},{"$f":"IF(Insatser!B105=\"Mer omfattande förändringsarbete behövs\",IF(ISBLANK(Insatser!D105),\"\",Insatser!D105),\"\")","v":""}]
[null,{"$f":"IF(Insatser!B106=\"Mer omfattande förändringsarbete behövs\",Insatser!A106,\"\")","v":""},{"$f":"IF(Insatser!B106=\"Mer omfattande förändringsarbete behövs\",Insatser!C106,\"\")","v":""},{"$f":"IF(Insatser!B106=\"Mer omfattande förändringsarbete behövs\",IF(ISBLANK(Insatser!D106),\"\",Insatser!D106),\"\")","v":""}]
[null,{"$f":"IF(Insatser!B107=\"Mer omfattande förändringsarbete behövs\",Insatser!A107,\"\")","v":""},{"$f":"IF(Insatser!B107=\"Mer omfattande förändringsarbete behövs\",Insatser!C107,\"\")","v":""},{"$f":"IF(Insatser!B107=\"Mer omfattande förändringsarbete behövs\",IF(ISBLANK(Insatser!D107),\"\",Insatser!D107),\"\")","v":""}]
[null,{"$f":"IF(Insatser!B108=\"Mer omfattande förändringsarbete behövs\",Insatser!A108,\"\")","v":""},{"$f":"IF(Insatser!B108=\"Mer omfattande förändringsarbete behövs\",Insatser!C108,\"\")","v":""},{"$f":"IF(Insatser!B108=\"Mer omfattande förändringsarbete behövs\",IF(ISBLANK(Insatser!D108),\"\",Insatser!D108),\"\")","v":""}]
[null,{"$f":"IF(Insatser!B109=\"Mer omfattande förändringsarbete behövs\",Insatser!A109,\"\")","v":""},{"$f":"IF(Insatser!B109=\"Mer omfattande förändringsarbete behövs\",Insatser!C109,\"\")","v":""},{"$f":"IF(Insatser!B109=\"Mer omfattande förändringsarbete behövs\",IF(ISBLANK(Insatser!D109),\"\",Insatser!D109),\"\")","v":""}]
[null,{"$f":"IF(Insatser!B110=\"Mer omfattande förändringsarbete behövs\",Insatser!A110,\"\")","v":""},{"$f":"IF(Insatser!B110=\"Mer omfattande förändringsarbete behövs\",Insatser!C110,\"\")","v":""},{"$f":"IF(Insatser!B110=\"Mer omfattande förändringsarbete behövs\",IF(ISBLANK(Insatser!D110),\"\",Insatser!D110),\"\")","v":""}]
[null,{"$f":"IF(Insatser!B111=\"Mer omfattande förändringsarbete behövs\",Insatser!A111,\"\")","v":""},{"$f":"IF(Insatser!B111=\"Mer omfattande förändringsarbete behövs\",Insatser!C111,\"\")","v":""},{"$f":"IF(Insatser!B111=\"Mer omfattande förändringsarbete behövs\",IF(ISBLANK(Insatser!D111),\"\",Insatser!D111),\"\")","v":""}]
[null,{"$f":"IF(Insatser!B112=\"Mer omfattande förändringsarbete behövs\",Insatser!A112,\"\")","v":""},{"$f":"IF(Insatser!B112=\"Mer omfattande förändringsarbete behövs\",Insatser!C112,\"\")","v":""},{"$f":"IF(Insatser!B112=\"Mer omfattande förändringsarbete behövs\",IF(ISBLANK(Insatser!D112),\"\",Insatser!D112),\"\")","v":""}]
[null,{"$f":"IF(Insatser!B113=\"Mer omfattande förändringsarbete behövs\",Insatser!A113,\"\")","v":""},{"$f":"IF(Insatser!B113=\"Mer omfattande förändringsarbete behövs\",Insatser!C113,\"\")","v":""},{"$f":"IF(Insatser!B113=\"Mer omfattande förändringsarbete behövs\",IF(ISBLANK(Insatser!D113),\"\",Insatser!D113),\"\")","v":""}]
[null,{"$f":"IF(Insatser!B114=\"Mer omfattande förändringsarbete behövs\",Insatser!A114,\"\")","v":""},{"$f":"IF(Insatser!B114=\"Mer omfattande förändringsarbete behövs\",Insatser!C114,\"\")","v":""},{"$f":"IF(Insatser!B114=\"Mer omfattande förändringsarbete behövs\",IF(ISBLANK(Insatser!D114),\"\",Insatser!D114),\"\")","v":""}]
[null,{"$f":"IF(Insatser!B115=\"Mer omfattande förändringsarbete behövs\",Insatser!A115,\"\")","v":""},{"$f":"IF(Insatser!B115=\"Mer omfattande förändringsarbete behövs\",Insatser!C115,\"\")","v":""},{"$f":"IF(Insatser!B115=\"Mer omfattande förändringsarbete behövs\",IF(ISBLANK(Insatser!D115),\"\",Insatser!D115),\"\")","v":""}]
[null,{"$f":"IF(Insatser!B116=\"Mer omfattande förändringsarbete behövs\",Insatser!A116,\"\")","v":""},{"$f":"IF(Insatser!B116=\"Mer omfattande förändringsarbete behövs\",Insatser!C116,\"\")","v":""},{"$f":"IF(Insatser!B116=\"Mer omfattande förändringsarbete behövs\",IF(ISBLANK(Insatser!D116),\"\",Insatser!D116),\"\")","v":""}]
[null,{"$f":"IF(Insatser!B117=\"Mer omfattande förändringsarbete behövs\",Insatser!A117,\"\")","v":""},{"$f":"IF(Insatser!B117=\"Mer omfattande förändringsarbete behövs\",Insatser!C117,\"\")","v":""},{"$f":"IF(Insatser!B117=\"Mer omfattande förändringsarbete behövs\",IF(ISBLANK(Insatser!D117),\"\",Insatser!D117),\"\")","v":""}]
[null,{"$f":"IF(Insatser!B118=\"Mer omfattande förändringsarbete behövs\",Insatser!A118,\"\")","v":""},{"$f":"IF(Insatser!B118=\"Mer omfattande förändringsarbete behövs\",Insatser!C118,\"\")","v":""},{"$f":"IF(Insatser!B118=\"Mer omfattande förändringsarbete behövs\",IF(ISBLANK(Insatser!D118),\"\",Insatser!D118),\"\")","v":""}]
[null,{"$f":"IF(Insatser!B119=\"Mer omfattande förändringsarbete behövs\",Insatser!A119,\"\")","v":""},{"$f":"IF(Insatser!B119=\"Mer omfattande förändringsarbete behövs\",Insatser!C119,\"\")","v":""},{"$f":"IF(Insatser!B119=\"Mer omfattande förändringsarbete behövs\",IF(ISBLANK(Insatser!D119),\"\",Insatser!D119),\"\")","v":""}]
[null,{"$f":"IF(Insatser!B120=\"Mer omfattande förändringsarbete behövs\",Insatser!A120,\"\")","v":""},{"$f":"IF(Insatser!B120=\"Mer omfattande förändringsarbete behövs\",Insatser!C120,\"\")","v":""},{"$f":"IF(Insatser!B120=\"Mer omfattande förändringsarbete behövs\",IF(ISBLANK(Insatser!D120),\"\",Insatser!D120),\"\")","v":""}]
[null,{"$f":"IF(Insatser!B121=\"Mer omfattande förändringsarbete behövs\",Insatser!A121,\"\")","v":""},{"$f":"IF(Insatser!B121=\"Mer omfattande förändringsarbete behövs\",Insatser!C121,\"\")","v":""},{"$f":"IF(Insatser!B121=\"Mer omfattande förändringsarbete behövs\",IF(ISBLANK(Insatser!D121),\"\",Insatser!D121),\"\")","v":""}]
[null,{"$f":"IF(Insatser!B122=\"Mer omfattande förändringsarbete behövs\",Insatser!A122,\"\")","v":""},{"$f":"IF(Insatser!B122=\"Mer omfattande förändringsarbete behövs\",Insatser!C122,\"\")","v":""},{"$f":"IF(Insatser!B122=\"Mer omfattande förändringsarbete behövs\",IF(ISBLANK(Insatser!D122),\"\",Insatser!D122),\"\")","v":""}]
[null,{"$f":"IF(Insatser!B123=\"Mer omfattande förändringsarbete behövs\",Insatser!A123,\"\")","v":""},{"$f":"IF(Insatser!B123=\"Mer omfattande förändringsarbete behövs\",Insatser!C123,\"\")","v":""},{"$f":"IF(Insatser!B123=\"Mer omfattande förändringsarbete behövs\",IF(ISBLANK(Insatser!D123),\"\",Insatser!D123),\"\")","v":""}]
[null,{"$f":"IF(Insatser!B124=\"Mer omfattande förändringsarbete behövs\",Insatser!A124,\"\")","v":""},{"$f":"IF(Insatser!B124=\"Mer omfattande förändringsarbete behövs\",Insatser!C124,\"\")","v":""},{"$f":"IF(Insatser!B124=\"Mer omfattande förändringsarbete behövs\",IF(ISBLANK(Insatser!D124),\"\",Insatser!D124),\"\")","v":""}]
[null,{"$f":"IF(Insatser!B125=\"Mer omfattande förändringsarbete behövs\",Insatser!A125,\"\")","v":""},{"$f":"IF(Insatser!B125=\"Mer omfattande förändringsarbete behövs\",Insatser!C125,\"\")","v":""},{"$f":"IF(Insatser!B125=\"Mer omfattande förändringsarbete behövs\",IF(ISBLANK(Insatser!D125),\"\",Insatser!D125),\"\")","v":""}]
[null,{"$f":"IF(Insatser!B126=\"Mer omfattande förändringsarbete behövs\",Insatser!A126,\"\")","v":""},{"$f":"IF(Insatser!B126=\"Mer omfattande förändringsarbete behövs\",Insatser!C126,\"\")","v":""},{"$f":"IF(Insatser!B126=\"Mer omfattande förändringsarbete behövs\",IF(ISBLANK(Insatser!D126),\"\",Insatser!D126),\"\")","v":""}]
[null,{"$f":"IF(Insatser!B127=\"Mer omfattande förändringsarbete behövs\",Insatser!A127,\"\")","v":""},{"$f":"IF(Insatser!B127=\"Mer omfattande förändringsarbete behövs\",Insatser!C127,\"\")","v":""},{"$f":"IF(Insatser!B127=\"Mer omfattande förändringsarbete behövs\",IF(ISBLANK(Insatser!D127),\"\",Insatser!D127),\"\")","v":""}]
[null,{"$f":"IF(Insatser!B128=\"Mer omfattande förändringsarbete behövs\",Insatser!A128,\"\")","v":""},{"$f":"IF(Insatser!B128=\"Mer omfattande förändringsarbete behövs\",Insatser!C128,\"\")","v":""},{"$f":"IF(Insatser!B128=\"Mer omfattande förändringsarbete behövs\",IF(ISBLANK(Insatser!D128),\"\",Insatser!D128),\"\")","v":""}]
[null,{"$f":"IF(Insatser!B129=\"Mer omfattande förändringsarbete behövs\",Insatser!A129,\"\")","v":""},{"$f":"IF(Insatser!B129=\"Mer omfattande förändringsarbete behövs\",Insatser!C129,\"\")","v":""},{"$f":"IF(Insatser!B129=\"Mer omfattande förändringsarbete behövs\",IF(ISBLANK(Insatser!D129),\"\",Insatser!D129),\"\")","v":""}]
[null,{"$f":"IF(Insatser!B130=\"Mer omfattande förändringsarbete behövs\",Insatser!A130,\"\")","v":""},{"$f":"IF(Insatser!B130=\"Mer omfattande förändringsarbete behövs\",Insatser!C130,\"\")","v":""},{"$f":"IF(Insatser!B130=\"Mer omfattande förändringsarbete behövs\",IF(ISBLANK(Insatser!D130),\"\",Insatser!D130),\"\")","v":""}]
[null,{"$f":"IF(Insatser!B131=\"Mer omfattande förändringsarbete behövs\",Insatser!A131,\"\")","v":""},{"$f":"IF(Insatser!B131=\"Mer omfattande förändringsarbete behövs\",Insatser!C131,\"\")","v":""},{"$f":"IF(Insatser!B131=\"Mer omfattande förändringsarbete behövs\",IF(ISBLANK(Insatser!D131),\"\",Insatser!D131),\"\")","v":""}]
[null,{"$f":"IF(Insatser!B132=\"Mer omfattande förändringsarbete behövs\",Insatser!A132,\"\")","v":""},{"$f":"IF(Insatser!B132=\"Mer omfattande förändringsarbete behövs\",Insatser!C132,\"\")","v":""},{"$f":"IF(Insatser!B132=\"Mer omfattande förändringsarbete behövs\",IF(ISBLANK(Insatser!D132),\"\",Insatser!D132),\"\")","v":""}]
[null,{"$f":"IF(Insatser!B133=\"Mer omfattande förändringsarbete behövs\",Insatser!A133,\"\")","v":""},{"$f":"IF(Insatser!B133=\"Mer omfattande förändringsarbete behövs\",Insatser!C133,\"\")","v":""},{"$f":"IF(Insatser!B133=\"Mer omfattande förändringsarbete behövs\",IF(ISBLANK(Insatser!D133),\"\",Insatser!D133),\"\")","v":""}]
[null,{"$f":"IF(Insatser!B134=\"Mer omfattande förändringsarbete behövs\",Insatser!A134,\"\")","v":""},{"$f":"IF(Insatser!B134=\"Mer omfattande förändringsarbete behövs\",Insatser!C134,\"\")","v":""},{"$f":"IF(Insatser!B134=\"Mer omfattande förändringsarbete behövs\",IF(ISBLANK(Insatser!D134),\"\",Insatser!D134),\"\")","v":""}]
[null,{"$f":"IF(Insatser!B135=\"Mer omfattande förändringsarbete behövs\",Insatser!A135,\"\")","v":""},{"$f":"IF(Insatser!B135=\"Mer omfattande förändringsarbete behövs\",Insatser!C135,\"\")","v":""},{"$f":"IF(Insatser!B135=\"Mer omfattande förändringsarbete behövs\",IF(ISBLANK(Insatser!D135),\"\",Insatser!D135),\"\")","v":""}]
[null,{"$f":"IF(Insatser!B136=\"Mer omfattande förändringsarbete behövs\",Insatser!A136,\"\")","v":""},{"$f":"IF(Insatser!B136=\"Mer omfattande förändringsarbete behövs\",Insatser!C136,\"\")","v":""},{"$f":"IF(Insatser!B136=\"Mer omfattande förändringsarbete behövs\",IF(ISBLANK(Insatser!D136),\"\",Insatser!D136),\"\")","v":""}]
[null,{"$f":"IF(Insatser!B137=\"Mer omfattande förändringsarbete behövs\",Insatser!A137,\"\")","v":""},{"$f":"IF(Insatser!B137=\"Mer omfattande förändringsarbete behövs\",Insatser!C137,\"\")","v":""},{"$f":"IF(Insatser!B137=\"Mer omfattande förändringsarbete behövs\",IF(ISBLANK(Insatser!D137),\"\",Insatser!D137),\"\")","v":""}]
[null,{"$f":"IF(Insatser!B138=\"Mer omfattande förändringsarbete behövs\",Insatser!A138,\"\")","v":""},{"$f":"IF(Insatser!B138=\"Mer omfattande förändringsarbete behövs\",Insatser!C138,\"\")","v":""},{"$f":"IF(Insatser!B138=\"Mer omfattande förändringsarbete behövs\",IF(ISBLANK(Insatser!D138),\"\",Insatser!D138),\"\")","v":""}]
[null,{"$f":"IF(Insatser!B139=\"Mer omfattande förändringsarbete behövs\",Insatser!A139,\"\")","v":""},{"$f":"IF(Insatser!B139=\"Mer omfattande förändringsarbete behövs\",Insatser!C139,\"\")","v":""},{"$f":"IF(Insatser!B139=\"Mer omfattande förändringsarbete behövs\",IF(ISBLANK(Insatser!D139),\"\",Insatser!D139),\"\")","v":""}]
[null,{"$f":"IF(Insatser!B140=\"Mer omfattande förändringsarbete behövs\",Insatser!A140,\"\")","v":""},{"$f":"IF(Insatser!B140=\"Mer omfattande förändringsarbete behövs\",Insatser!C140,\"\")","v":""},{"$f":"IF(Insatser!B140=\"Mer omfattande förändringsarbete behövs\",IF(ISBLANK(Insatser!D140),\"\",Insatser!D140),\"\")","v":""}]
[null,{"$f":"IF(Insatser!B141=\"Mer omfattande förändringsarbete behövs\",Insatser!A141,\"\")","v":""},{"$f":"IF(Insatser!B141=\"Mer omfattande förändringsarbete behövs\",Insatser!C141,\"\")","v":""},{"$f":"IF(Insatser!B141=\"Mer omfattande förändringsarbete behövs\",IF(ISBLANK(Insatser!D141),\"\",Insatser!D141),\"\")","v":""}]
[null,{"$f":"IF(Insatser!B142=\"Mer omfattande förändringsarbete behövs\",Insatser!A142,\"\")","v":""},{"$f":"IF(Insatser!B142=\"Mer omfattande förändringsarbete behövs\",Insatser!C142,\"\")","v":""},{"$f":"IF(Insatser!B142=\"Mer omfattande förändringsarbete behövs\",IF(ISBLANK(Insatser!D142),\"\",Insatser!D142),\"\")","v":""}]
[null,{"$f":"IF(Insatser!B143=\"Mer omfattande förändringsarbete behövs\",Insatser!A143,\"\")","v":""},{"$f":"IF(Insatser!B143=\"Mer omfattande förändringsarbete behövs\",Insatser!C143,\"\")","v":""},{"$f":"IF(Insatser!B143=\"Mer omfattande förändringsarbete behövs\",IF(ISBLANK(Insatser!D143),\"\",Insatser!D143),\"\")","v":""}]
[null,{"$f":"IF(Insatser!B144=\"Mer omfattande förändringsarbete behövs\",Insatser!A144,\"\")","v":""},{"$f":"IF(Insatser!B144=\"Mer omfattande förändringsarbete behövs\",Insatser!C144,\"\")","v":""},{"$f":"IF(Insatser!B144=\"Mer omfattande förändringsarbete behövs\",IF(ISBLANK(Insatser!D144),\"\",Insatser!D144),\"\")","v":""}]
[null,{"$f":"IF(Insatser!B145=\"Mer omfattande förändringsarbete behövs\",Insatser!A145,\"\")","v":""},{"$f":"IF(Insatser!B145=\"Mer omfattande förändringsarbete behövs\",Insatser!C145,\"\")","v":""},{"$f":"IF(Insatser!B145=\"Mer omfattande förändringsarbete behövs\",IF(ISBLANK(Insatser!D145),\"\",Insatser!D145),\"\")","v":""}]
[null,{"$f":"IF(Insatser!B146=\"Mer omfattande förändringsarbete behövs\",Insatser!A146,\"\")","v":""},{"$f":"IF(Insatser!B146=\"Mer omfattande förändringsarbete behövs\",Insatser!C146,\"\")","v":""},{"$f":"IF(Insatser!B146=\"Mer omfattande förändringsarbete behövs\",IF(ISBLANK(Insatser!D146),\"\",Insatser!D146),\"\")","v":""}]
[null,{"$f":"IF(Insatser!B147=\"Mer omfattande förändringsarbete behövs\",Insatser!A147,\"\")","v":""},{"$f":"IF(Insatser!B147=\"Mer omfattande förändringsarbete behövs\",Insatser!C147,\"\")","v":""},{"$f":"IF(Insatser!B147=\"Mer omfattande förändringsarbete behövs\",IF(ISBLANK(Insatser!D147),\"\",Insatser!D147),\"\")","v":""}]
[null,{"$f":"IF(Insatser!B148=\"Mer omfattande förändringsarbete behövs\",Insatser!A148,\"\")","v":""},{"$f":"IF(Insatser!B148=\"Mer omfattande förändringsarbete behövs\",Insatser!C148,\"\")","v":""},{"$f":"IF(Insatser!B148=\"Mer omfattande förändringsarbete behövs\",IF(ISBLANK(Insatser!D148),\"\",Insatser!D148),\"\")","v":""}]
[null,{"$f":"IF(Insatser!B149=\"Mer omfattande förändringsarbete behövs\",Insatser!A149,\"\")","v":""},{"$f":"IF(Insatser!B149=\"Mer omfattande förändringsarbete behövs\",Insatser!C149,\"\")","v":""},{"$f":"IF(Insatser!B149=\"Mer omfattande förändringsarbete behövs\",IF(ISBLANK(Insatser!D149),\"\",Insatser!D149),\"\")","v":""}]
[null,{"$f":"IF(Insatser!B150=\"Mer omfattande förändringsarbete behövs\",Insatser!A150,\"\")","v":""},{"$f":"IF(Insatser!B150=\"Mer omfattande förändringsarbete behövs\",Insatser!C150,\"\")","v":""},{"$f":"IF(Insatser!B150=\"Mer omfattande förändringsarbete behövs\",IF(ISBLANK(Insatser!D150),\"\",Insatser!D150),\"\")","v":""}]
[null,{"$f":"IF(Insatser!B151=\"Mer omfattande förändringsarbete behövs\",Insatser!A151,\"\")","v":""},{"$f":"IF(Insatser!B151=\"Mer omfattande förändringsarbete behövs\",Insatser!C151,\"\")","v":""},{"$f":"IF(Insatser!B151=\"Mer omfattande förändringsarbete behövs\",IF(ISBLANK(Insatser!D151),\"\",Insatser!D151),\"\")","v":""}]
[null,{"$f":"IF(Insatser!B152=\"Mer omfattande förändringsarbete behövs\",Insatser!A152,\"\")","v":""},{"$f":"IF(Insatser!B152=\"Mer omfattande förändringsarbete behövs\",Insatser!C152,\"\")","v":""},{"$f":"IF(Insatser!B152=\"Mer omfattande förändringsarbete behövs\",IF(ISBLANK(Insatser!D152),\"\",Insatser!D152),\"\")","v":""}]
[null,{"$f":"IF(Insatser!B153=\"Mer omfattande förändringsarbete behövs\",Insatser!A153,\"\")","v":""},{"$f":"IF(Insatser!B153=\"Mer omfattande förändringsarbete behövs\",Insatser!C153,\"\")","v":""},{"$f":"IF(Insatser!B153=\"Mer omfattande förändringsarbete behövs\",IF(ISBLANK(Insatser!D153),\"\",Insatser!D153),\"\")","v":""}]
[null,{"$f":"IF(Insatser!B154=\"Mer omfattande förändringsarbete behövs\",Insatser!A154,\"\")","v":""},{"$f":"IF(Insatser!B154=\"Mer omfattande förändringsarbete behövs\",Insatser!C154,\"\")","v":""},{"$f":"IF(Insatser!B154=\"Mer omfattande förändringsarbete behövs\",IF(ISBLANK(Insatser!D154),\"\",Insatser!D154),\"\")","v":""}]
[null,{"$f":"IF(Insatser!B155=\"Mer omfattande förändringsarbete behövs\",Insatser!A155,\"\")","v":""},{"$f":"IF(Insatser!B155=\"Mer omfattande förändringsarbete behövs\",Insatser!C155,\"\")","v":""},{"$f":"IF(Insatser!B155=\"Mer omfattande förändringsarbete behövs\",IF(ISBLANK(Insatser!D155),\"\",Insatser!D155),\"\")","v":""}]
[null,{"$f":"IF(Insatser!B156=\"Mer omfattande förändringsarbete behövs\",Insatser!A156,\"\")","v":""},{"$f":"IF(Insatser!B156=\"Mer omfattande förändringsarbete behövs\",Insatser!C156,\"\")","v":""},{"$f":"IF(Insatser!B156=\"Mer omfattande förändringsarbete behövs\",IF(ISBLANK(Insatser!D156),\"\",Insatser!D156),\"\")","v":""}]
[null,{"$f":"IF(Insatser!B157=\"Mer omfattande förändringsarbete behövs\",Insatser!A157,\"\")","v":""},{"$f":"IF(Insatser!B157=\"Mer omfattande förändringsarbete behövs\",Insatser!C157,\"\")","v":""},{"$f":"IF(Insatser!B157=\"Mer omfattande förändringsarbete behövs\",IF(ISBLANK(Insatser!D157),\"\",Insatser!D157),\"\")","v":""}]
[null,{"$f":"IF(Insatser!B158=\"Mer omfattande förändringsarbete behövs\",Insatser!A158,\"\")","v":""},{"$f":"IF(Insatser!B158=\"Mer omfattande förändringsarbete behövs\",Insatser!C158,\"\")","v":""},{"$f":"IF(Insatser!B158=\"Mer omfattande förändringsarbete behövs\",IF(ISBLANK(Insatser!D158),\"\",Insatser!D158),\"\")","v":""}]
[null,{"$f":"IF(Insatser!B159=\"Mer omfattande förändringsarbete behövs\",Insatser!A159,\"\")","v":""},{"$f":"IF(Insatser!B159=\"Mer omfattande förändringsarbete behövs\",Insatser!C159,\"\")","v":""},{"$f":"IF(Insatser!B159=\"Mer omfattande förändringsarbete behövs\",IF(ISBLANK(Insatser!D159),\"\",Insatser!D159),\"\")","v":""}]
[null,{"$f":"IF(Insatser!B160=\"Mer omfattande förändringsarbete behövs\",Insatser!A160,\"\")","v":""},{"$f":"IF(Insatser!B160=\"Mer omfattande förändringsarbete behövs\",Insatser!C160,\"\")","v":""},{"$f":"IF(Insatser!B160=\"Mer omfattande förändringsarbete behövs\",IF(ISBLANK(Insatser!D160),\"\",Insatser!D160),\"\")","v":""}]
[null,{"$f":"IF(Insatser!B161=\"Mer omfattande förändringsarbete behövs\",Insatser!A161,\"\")","v":""},{"$f":"IF(Insatser!B161=\"Mer omfattande förändringsarbete behövs\",Insatser!C161,\"\")","v":""},{"$f":"IF(Insatser!B161=\"Mer omfattande förändringsarbete behövs\",IF(ISBLANK(Insatser!D161),\"\",Insatser!D161),\"\")","v":""}]
[null,{"$f":"IF(Insatser!B162=\"Mer omfattande förändringsarbete behövs\",Insatser!A162,\"\")","v":""},{"$f":"IF(Insatser!B162=\"Mer omfattande förändringsarbete behövs\",Insatser!C162,\"\")","v":""},{"$f":"IF(Insatser!B162=\"Mer omfattande förändringsarbete behövs\",IF(ISBLANK(Insatser!D162),\"\",Insatser!D162),\"\")","v":""}]
[null,{"$f":"IF(Insatser!B163=\"Mer omfattande förändringsarbete behövs\",Insatser!A163,\"\")","v":""},{"$f":"IF(Insatser!B163=\"Mer omfattande förändringsarbete behövs\",Insatser!C163,\"\")","v":""},{"$f":"IF(Insatser!B163=\"Mer omfattande förändringsarbete behövs\",IF(ISBLANK(Insatser!D163),\"\",Insatser!D163),\"\")","v":""}]
[null,{"$f":"IF(Insatser!B164=\"Mer omfattande förändringsarbete behövs\",Insatser!A164,\"\")","v":""},{"$f":"IF(Insatser!B164=\"Mer omfattande förändringsarbete behövs\",Insatser!C164,\"\")","v":""},{"$f":"IF(Insatser!B164=\"Mer omfattande förändringsarbete behövs\",IF(ISBLANK(Insatser!D164),\"\",Insatser!D164),\"\")","v":""}]
[null,{"$f":"IF(Insatser!B165=\"Mer omfattande förändringsarbete behövs\",Insatser!A165,\"\")","v":""},{"$f":"IF(Insatser!B165=\"Mer omfattande förändringsarbete behövs\",Insatser!C165,\"\")","v":""},{"$f":"IF(Insatser!B165=\"Mer omfattande förändringsarbete behövs\",IF(ISBLANK(Insatser!D165),\"\",Insatser!D165),\"\")","v":""}]
[null,{"$f":"IF(Insatser!B166=\"Mer omfattande förändringsarbete behövs\",Insatser!A166,\"\")","v":""},{"$f":"IF(Insatser!B166=\"Mer omfattande förändringsarbete behövs\",Insatser!C166,\"\")","v":""},{"$f":"IF(Insatser!B166=\"Mer omfattande förändringsarbete behövs\",IF(ISBLANK(Insatser!D166),\"\",Insatser!D166),\"\")","v":""}]
[null,{"$f":"IF(Insatser!B167=\"Mer omfattande förändringsarbete behövs\",Insatser!A167,\"\")","v":""},{"$f":"IF(Insatser!B167=\"Mer omfattande förändringsarbete behövs\",Insatser!C167,\"\")","v":""},{"$f":"IF(Insatser!B167=\"Mer omfattande förändringsarbete behövs\",IF(ISBLANK(Insatser!D167),\"\",Insatser!D167),\"\")","v":""}]
[null,{"$f":"IF(Insatser!B168=\"Mer omfattande förändringsarbete behövs\",Insatser!A168,\"\")","v":""},{"$f":"IF(Insatser!B168=\"Mer omfattande förändringsarbete behövs\",Insatser!C168,\"\")","v":""},{"$f":"IF(Insatser!B168=\"Mer omfattande förändringsarbete behövs\",IF(ISBLANK(Insatser!D168),\"\",Insatser!D168),\"\")","v":""}]
[null,{"$f":"IF(Insatser!B169=\"Mer omfattande förändringsarbete behövs\",Insatser!A169,\"\")","v":""},{"$f":"IF(Insatser!B169=\"Mer omfattande förändringsarbete behövs\",Insatser!C169,\"\")","v":""},{"$f":"IF(Insatser!B169=\"Mer omfattande förändringsarbete behövs\",IF(ISBLANK(Insatser!D169),\"\",Insatser!D169),\"\")","v":""}]
[null,{"$f":"IF(Insatser!B170=\"Mer omfattande förändringsarbete behövs\",Insatser!A170,\"\")","v":""},{"$f":"IF(Insatser!B170=\"Mer omfattande förändringsarbete behövs\",Insatser!C170,\"\")","v":""},{"$f":"IF(Insatser!B170=\"Mer omfattande förändringsarbete behövs\",IF(ISBLANK(Insatser!D170),\"\",Insatser!D170),\"\")","v":""}]
[null,{"$f":"IF(Insatser!B171=\"Mer omfattande förändringsarbete behövs\",Insatser!A171,\"\")","v":""},{"$f":"IF(Insatser!B171=\"Mer omfattande förändringsarbete behövs\",Insatser!C171,\"\")","v":""},{"$f":"IF(Insatser!B171=\"Mer omfattande förändringsarbete behövs\",IF(ISBLANK(Insatser!D171),\"\",Insatser!D171),\"\")","v":""}]
[null,{"$f":"IF(Insatser!B172=\"Mer omfattande förändringsarbete behövs\",Insatser!A172,\"\")","v":""},{"$f":"IF(Insatser!B172=\"Mer omfattande förändringsarbete behövs\",Insatser!C172,\"\")","v":""},{"$f":"IF(Insatser!B172=\"Mer omfattande förändringsarbete behövs\",IF(ISBLANK(Insatser!D172),\"\",Insatser!D172),\"\")","v":""}]
[null,{"$f":"IF(Insatser!B173=\"Mer omfattande förändringsarbete behövs\",Insatser!A173,\"\")","v":""},{"$f":"IF(Insatser!B173=\"Mer omfattande förändringsarbete behövs\",Insatser!C173,\"\")","v":""},{"$f":"IF(Insatser!B173=\"Mer omfattande förändringsarbete behövs\",IF(ISBLANK(Insatser!D173),\"\",Insatser!D173),\"\")","v":""}]
[null,{"$f":"IF(Insatser!B174=\"Mer omfattande förändringsarbete behövs\",Insatser!A174,\"\")","v":""},{"$f":"IF(Insatser!B174=\"Mer omfattande förändringsarbete behövs\",Insatser!C174,\"\")","v":""},{"$f":"IF(Insatser!B174=\"Mer omfattande förändringsarbete behövs\",IF(ISBLANK(Insatser!D174),\"\",Insatser!D174),\"\")","v":""}]
[null,{"$f":"IF(Insatser!B175=\"Mer omfattande förändringsarbete behövs\",Insatser!A175,\"\")","v":""},{"$f":"IF(Insatser!B175=\"Mer omfattande förändringsarbete behövs\",Insatser!C175,\"\")","v":""},{"$f":"IF(Insatser!B175=\"Mer omfattande förändringsarbete behövs\",IF(ISBLANK(Insatser!D175),\"\",Insatser!D175),\"\")","v":""}]
[null,{"$f":"IF(Insatser!B176=\"Mer omfattande förändringsarbete behövs\",Insatser!A176,\"\")","v":""},{"$f":"IF(Insatser!B176=\"Mer omfattande förändringsarbete behövs\",Insatser!C176,\"\")","v":""},{"$f":"IF(Insatser!B176=\"Mer omfattande förändringsarbete behövs\",IF(ISBLANK(Insatser!D176),\"\",Insatser!D176),\"\")","v":""}]
[null,{"$f":"IF(Insatser!B177=\"Mer omfattande förändringsarbete behövs\",Insatser!A177,\"\")","v":""},{"$f":"IF(Insatser!B177=\"Mer omfattande förändringsarbete behövs\",Insatser!C177,\"\")","v":""},{"$f":"IF(Insatser!B177=\"Mer omfattande förändringsarbete behövs\",IF(ISBLANK(Insatser!D177),\"\",Insatser!D177),\"\")","v":""}]
[null,{"$f":"IF(Insatser!B178=\"Mer omfattande förändringsarbete behövs\",Insatser!A178,\"\")","v":""},{"$f":"IF(Insatser!B178=\"Mer omfattande förändringsarbete behövs\",Insatser!C178,\"\")","v":""},{"$f":"IF(Insatser!B178=\"Mer omfattande förändringsarbete behövs\",IF(ISBLANK(Insatser!D178),\"\",Insatser!D178),\"\")","v":""}]
[null,{"$f":"IF(Insatser!B179=\"Mer omfattande förändringsarbete behövs\",Insatser!A179,\"\")","v":""},{"$f":"IF(Insatser!B179=\"Mer omfattande förändringsarbete behövs\",Insatser!C179,\"\")","v":""},{"$f":"IF(Insatser!B179=\"Mer omfattande förändringsarbete behövs\",IF(ISBLANK(Insatser!D179),\"\",Insatser!D179),\"\")","v":""}]
[null,{"$f":"IF(Insatser!B180=\"Mer omfattande förändringsarbete behövs\",Insatser!A180,\"\")","v":""},{"$f":"IF(Insatser!B180=\"Mer omfattande förändringsarbete behövs\",Insatser!C180,\"\")","v":""},{"$f":"IF(Insatser!B180=\"Mer omfattande förändringsarbete behövs\",IF(ISBLANK(Insatser!D180),\"\",Insatser!D180),\"\")","v":""}]
[null,{"$f":"IF(Insatser!B181=\"Mer omfattande förändringsarbete behövs\",Insatser!A181,\"\")","v":""},{"$f":"IF(Insatser!B181=\"Mer omfattande förändringsarbete behövs\",Insatser!C181,\"\")","v":""},{"$f":"IF(Insatser!B181=\"Mer omfattande förändringsarbete behövs\",IF(ISBLANK(Insatser!D181),\"\",Insatser!D181),\"\")","v":""}]
[null,{"$f":"IF(Insatser!B182=\"Mer omfattande förändringsarbete behövs\",Insatser!A182,\"\")","v":""},{"$f":"IF(Insatser!B182=\"Mer omfattande förändringsarbete behövs\",Insatser!C182,\"\")","v":""},{"$f":"IF(Insatser!B182=\"Mer omfattande förändringsarbete behövs\",IF(ISBLANK(Insatser!D182),\"\",Insatser!D182),\"\")","v":""}]
[null,{"$f":"IF(Insatser!B183=\"Mer omfattande förändringsarbete behövs\",Insatser!A183,\"\")","v":""},{"$f":"IF(Insatser!B183=\"Mer omfattande förändringsarbete behövs\",Insatser!C183,\"\")","v":""},{"$f":"IF(Insatser!B183=\"Mer omfattande förändringsarbete behövs\",IF(ISBLANK(Insatser!D183),\"\",Insatser!D183),\"\")","v":""}]
[null,{"$f":"IF(Insatser!B184=\"Mer omfattande förändringsarbete behövs\",Insatser!A184,\"\")","v":""},{"$f":"IF(Insatser!B184=\"Mer omfattande förändringsarbete behövs\",Insatser!C184,\"\")","v":""},{"$f":"IF(Insatser!B184=\"Mer omfattande förändringsarbete behövs\",IF(ISBLANK(Insatser!D184),\"\",Insatser!D184),\"\")","v":""}]
[null,{"$f":"IF(Insatser!B185=\"Mer omfattande förändringsarbete behövs\",Insatser!A185,\"\")","v":""},{"$f":"IF(Insatser!B185=\"Mer omfattande förändringsarbete behövs\",Insatser!C185,\"\")","v":""},{"$f":"IF(Insatser!B185=\"Mer omfattande förändringsarbete behövs\",IF(ISBLANK(Insatser!D185),\"\",Insatser!D185),\"\")","v":""}]
[null,{"$f":"IF(Insatser!B186=\"Mer omfattande förändringsarbete behövs\",Insatser!A186,\"\")","v":""},{"$f":"IF(Insatser!B186=\"Mer omfattande förändringsarbete behövs\",Insatser!C186,\"\")","v":""},{"$f":"IF(Insatser!B186=\"Mer omfattande förändringsarbete behövs\",IF(ISBLANK(Insatser!D186),\"\",Insatser!D186),\"\")","v":""}]
[null,{"$f":"IF(Insatser!B187=\"Mer omfattande förändringsarbete behövs\",Insatser!A187,\"\")","v":""},{"$f":"IF(Insatser!B187=\"Mer omfattande förändringsarbete behövs\",Insatser!C187,\"\")","v":""},{"$f":"IF(Insatser!B187=\"Mer omfattande förändringsarbete behövs\",IF(ISBLANK(Insatser!D187),\"\",Insatser!D187),\"\")","v":""}]
[null,{"$f":"IF(Insatser!B188=\"Mer omfattande förändringsarbete behövs\",Insatser!A188,\"\")","v":""},{"$f":"IF(Insatser!B188=\"Mer omfattande förändringsarbete behövs\",Insatser!C188,\"\")","v":""},{"$f":"IF(Insatser!B188=\"Mer omfattande förändringsarbete behövs\",IF(ISBLANK(Insatser!D188),\"\",Insatser!D188),\"\")","v":""}]
[null,{"$f":"IF(Insatser!B189=\"Mer omfattande förändringsarbete behövs\",Insatser!A189,\"\")","v":""},{"$f":"IF(Insatser!B189=\"Mer omfattande förändringsarbete behövs\",Insatser!C189,\"\")","v":""},{"$f":"IF(Insatser!B189=\"Mer omfattande förändringsarbete behövs\",IF(ISBLANK(Insatser!D189),\"\",Insatser!D189),\"\")","v":""}]
[null,{"$f":"IF(Insatser!B190=\"Mer omfattande förändringsarbete behövs\",Insatser!A190,\"\")","v":""},{"$f":"IF(Insatser!B190=\"Mer omfattande förändringsarbete behövs\",Insatser!C190,\"\")","v":""},{"$f":"IF(Insatser!B190=\"Mer omfattande förändringsarbete behövs\",IF(ISBLANK(Insatser!D190),\"\",Insatser!D190),\"\")","v":""}]
[null,{"$f":"IF(Insatser!B191=\"Mer omfattande förändringsarbete behövs\",Insatser!A191,\"\")","v":""},{"$f":"IF(Insatser!B191=\"Mer omfattande förändringsarbete behövs\",Insatser!C191,\"\")","v":""},{"$f":"IF(Insatser!B191=\"Mer omfattande förändringsarbete behövs\",IF(ISBLANK(Insatser!D191),\"\",Insatser!D191),\"\")","v":""}]
[null,{"$f":"IF(Insatser!B192=\"Mer omfattande förändringsarbete behövs\",Insatser!A192,\"\")","v":""},{"$f":"IF(Insatser!B192=\"Mer omfattande förändringsarbete behövs\",Insatser!C192,\"\")","v":""},{"$f":"IF(Insatser!B192=\"Mer omfattande förändringsarbete behövs\",IF(ISBLANK(Insatser!D192),\"\",Insatser!D192),\"\")","v":""}]
[null,{"$f":"IF(Insatser!B193=\"Mer omfattande förändringsarbete behövs\",Insatser!A193,\"\")","v":""},{"$f":"IF(Insatser!B193=\"Mer omfattande förändringsarbete behövs\",Insatser!C193,\"\")","v":""},{"$f":"IF(Insatser!B193=\"Mer omfattande förändringsarbete behövs\",IF(ISBLANK(Insatser!D193),\"\",Insatser!D193),\"\")","v":""}]
[null,{"$f":"IF(Insatser!B194=\"Mer omfattande förändringsarbete behövs\",Insatser!A194,\"\")","v":""},{"$f":"IF(Insatser!B194=\"Mer omfattande förändringsarbete behövs\",Insatser!C194,\"\")","v":""},{"$f":"IF(Insatser!B194=\"Mer omfattande förändringsarbete behövs\",IF(ISBLANK(Insatser!D194),\"\",Insatser!D194),\"\")","v":""}]
[null,{"$f":"IF(Insatser!B195=\"Mer omfattande förändringsarbete behövs\",Insatser!A195,\"\")","v":""},{"$f":"IF(Insatser!B195=\"Mer omfattande förändringsarbete behövs\",Insatser!C195,\"\")","v":""},{"$f":"IF(Insatser!B195=\"Mer omfattande förändringsarbete behövs\",IF(ISBLANK(Insatser!D195),\"\",Insatser!D195),\"\")","v":""}]
[null,{"$f":"IF(Insatser!B196=\"Mer omfattande förändringsarbete behövs\",Insatser!A196,\"\")","v":""},{"$f":"IF(Insatser!B196=\"Mer omfattande förändringsarbete behövs\",Insatser!C196,\"\")","v":""},{"$f":"IF(Insatser!B196=\"Mer omfattande förändringsarbete behövs\",IF(ISBLANK(Insatser!D196),\"\",Insatser!D196),\"\")","v":""}]
[null,{"$f":"IF(Insatser!B197=\"Mer omfattande förändringsarbete behövs\",Insatser!A197,\"\")","v":""},{"$f":"IF(Insatser!B197=\"Mer omfattande förändringsarbete behövs\",Insatser!C197,\"\")","v":""},{"$f":"IF(Insatser!B197=\"Mer omfattande förändringsarbete behövs\",IF(ISBLANK(Insatser!D197),\"\",Insatser!D197),\"\")","v":""}]
[null,{"$f":"IF(Insatser!B198=\"Mer omfattande förändringsarbete behövs\",Insatser!A198,\"\")","v":""},{"$f":"IF(Insatser!B198=\"Mer omfattande förändringsarbete behövs\",Insatser!C198,\"\")","v":""},{"$f":"IF(Insatser!B198=\"Mer omfattande förändringsarbete behövs\",IF(ISBLANK(Insatser!D198),\"\",Insatser!D198),\"\")","v":""}]
[null,{"$f":"IF(Insatser!B199=\"Mer omfattande förändringsarbete behövs\",Insatser!A199,\"\")","v":""},{"$f":"IF(Insatser!B199=\"Mer omfattande förändringsarbete behövs\",Insatser!C199,\"\")","v":""},{"$f":"IF(Insatser!B199=\"Mer omfattande förändringsarbete behövs\",IF(ISBLANK(Insatser!D199),\"\",Insatser!D199),\"\")","v":""}]
[null,{"$f":"IF(Insatser!B200=\"Mer omfattande förändringsarbete behövs\",Insatser!A200,\"\")","v":""},{"$f":"IF(Insatser!B200=\"Mer omfattande förändringsarbete behövs\",Insatser!C200,\"\")","v":""},{"$f":"IF(Insatser!B200=\"Mer omfattande förändringsarbete behövs\",IF(ISBLANK(Insatser!D200),\"\",Insatser!D200),\"\")","v":""}]
[null,{"$f":"IF(Insatser!B201=\"Mer omfattande förändringsarbete behövs\",Insatser!A201,\"\")","v":""},{"$f":"IF(Insatser!B201=\"Mer omfattande förändringsarbete behövs\",Insatser!C201,\"\")","v":""},{"$f":"IF(Insatser!B201=\"Mer omfattande förändringsarbete behövs\",IF(ISBLANK(Insatser!D201),\"\",Insatser!D201),\"\")","v":""}]
[null,{"$f":"IF(Insatser!B202=\"Mer omfattande förändringsarbete behövs\",Insatser!A202,\"\")","v":""},{"$f":"IF(Insatser!B202=\"Mer omfattande förändringsarbete behövs\",Insatser!C202,\"\")","v":""},{"$f":"IF(Insatser!B202=\"Mer omfattande förändringsarbete behövs\",IF(ISBLANK(Insatser!D202),\"\",Insatser!D202),\"\")","v":""}]
[null,{"$f":"IF(Insatser!B203=\"Mer omfattande förändringsarbete behövs\",Insatser!A203,\"\")","v":""},{"$f":"IF(Insatser!B203=\"Mer omfattande förändringsarbete behövs\",Insatser!C203,\"\")","v":""},{"$f":"IF(Insatser!B203=\"Mer omfattande förändringsarbete behövs\",IF(ISBLANK(Insatser!D203),\"\",Insatser!D203),\"\")","v":""}]
[null,{"$f":"IF(Insatser!B204=\"Mer omfattande förändringsarbete behövs\",Insatser!A204,\"\")","v":""},{"$f":"IF(Insatser!B204=\"Mer omfattande förändringsarbete behövs\",Insatser!C204,\"\")","v":""},{"$f":"IF(Insatser!B204=\"Mer omfattande förändringsarbete behövs\",IF(ISBLANK(Insatser!D204),\"\",Insatser!D204),\"\")","v":""}]
[null,{"$f":"IF(Insatser!B205=\"Mer omfattande förändringsarbete behövs\",Insatser!A205,\"\")","v":""},{"$f":"IF(Insatser!B205=\"Mer omfattande förändringsarbete behövs\",Insatser!C205,\"\")","v":""},{"$f":"IF(Insatser!B205=\"Mer omfattande förändringsarbete behövs\",IF(ISBLANK(Insatser!D205),\"\",Insatser!D205),\"\")","v":""}]
[null,{"$f":"IF(Insatser!B206=\"Mer omfattande förändringsarbete behövs\",Insatser!A206,\"\")","v":""},{"$f":"IF(Insatser!B206=\"Mer omfattande förändringsarbete behövs\",Insatser!C206,\"\")","v":""},{"$f":"IF(Insatser!B206=\"Mer omfattande förändringsarbete behövs\",IF(ISBLANK(Insatser!D206),\"\",Insatser!D206),\"\")","v":""}]
[null,{"$f":"IF(Insatser!B207=\"Mer omfattande förändringsarbete behövs\",Insatser!A207,\"\")","v":""},{"$f":"IF(Insatser!B207=\"Mer omfattande förändringsarbete behövs\",Insatser!C207,\"\")","v":""},{"$f":"IF(Insatser!B207=\"Mer omfattande förändringsarbete behövs\",IF(ISBLANK(Insatser!D207),\"\",Insatser!D207),\"\")","v":""}]
[null,{"$f":"IF(Insatser!B208=\"Mer omfattande förändringsarbete behövs\",Insatser!A208,\"\")","v":""},{"$f":"IF(Insatser!B208=\"Mer omfattande förändringsarbete behövs\",Insatser!C208,\"\")","v":""},{"$f":"IF(Insatser!B208=\"Mer omfattande förändringsarbete behövs\",IF(ISBLANK(Insatser!D208),\"\",Insatser!D208),\"\")","v":""}]
[null,"ETT MINDRE FÖRÄNDRINGSARBETE BEHÖVS","KOMMENTAR ","LÄSHÄNVISNINGAR "]
[null,{"$f":"IF('Styrning och kompetens'!B4=\"Ett mindre förändringsarbete behövs\",'Styrning och kompetens'!A4,\"\")","v":""},{"$f":"IF('Styrning och kompetens'!B4=\"Ett mindre förändringsarbete behövs\",'Styrning och kompetens'!C4,\"\")","v":""},{"$f":"IF('Styrning och kompetens'!B4=\"Ett mindre förändringsarbete behövs\",'Styrning och kompetens'!D4,\"\")","v":""}]
[null,{"$f":"IF('Styrning och kompetens'!B5=\"Ett mindre förändringsarbete behövs\",'Styrning och kompetens'!A5,\"\")","v":""},{"$f":"IF('Styrning och kompetens'!B5=\"Ett mindre förändringsarbete behövs\",'Styrning och kompetens'!C5,\"\")","v":""},{"$f":"IF('Styrning och kompetens'!B5=\"Ett mindre förändringsarbete behövs\",'Styrning och kompetens'!D5,\"\")","v":""}]
[null,{"$f":"IF('Styrning och kompetens'!B6=\"Ett mindre förändringsarbete behövs\",'Styrning och kompetens'!A6,\"\")","v":""},{"$f":"IF('Styrning och kompetens'!B6=\"Ett mindre förändringsarbete behövs\",'Styrning och kompetens'!C6,\"\")","v":""},{"$f":"IF('Styrning och kompetens'!B6=\"Ett mindre förändringsarbete behövs\",'Styrning och kompetens'!D6,\"\")","v":""}]
[null,{"$f":"IF('Styrning och kompetens'!B7=\"Ett mindre förändringsarbete behövs\",'Styrning och kompetens'!A7,\"\")","v":""},{"$f":"IF('Styrning och kompetens'!B7=\"Ett mindre förändringsarbete behövs\",'Styrning och kompetens'!C7,\"\")","v":""},{"$f":"IF('Styrning och kompetens'!B7=\"Ett mindre förändringsarbete behövs\",'Styrning och kompetens'!D7,\"\")","v":""}]
[null,{"$f":"IF('Styrning och kompetens'!B8=\"Ett mindre förändringsarbete behövs\",'Styrning och kompetens'!A8,\"\")","v":""},{"$f":"IF('Styrning och kompetens'!B8=\"Ett mindre förändringsarbete behövs\",'Styrning och kompetens'!C8,\"\")","v":""},{"$f":"IF('Styrning och kompetens'!B8=\"Ett mindre förändringsarbete behövs\",'Styrning och kompetens'!D8,\"\")","v":""}]
[null,{"$f":"IF('Styrning och kompetens'!B9=\"Ett mindre förändringsarbete behövs\",'Styrning och kompetens'!A9,\"\")","v":""},{"$f":"IF('Styrning och kompetens'!B9=\"Ett mindre förändringsarbete behövs\",'Styrning och kompetens'!C9,\"\")","v":""},{"$f":"IF('Styrning och kompetens'!B9=\"Ett mindre förändringsarbete behövs\",'Styrning och kompetens'!D9,\"\")","v":""}]
[null,{"$f":"IF('Styrning och kompetens'!B10=\"Ett mindre förändringsarbete behövs\",'Styrning och kompetens'!A10,\"\")","v":""},{"$f":"IF('Styrning och kompetens'!B10=\"Ett mindre förändringsarbete behövs\",'Styrning och kompetens'!C10,\"\")","v":""},{"$f":"IF('Styrning och kompetens'!B10=\"Ett mindre förändringsarbete behövs\",'Styrning och kompetens'!D10,\"\")","v":""}]
[null,{"$f":"IF('Styrning och kompetens'!B11=\"Ett mindre förändringsarbete behövs\",'Styrning och kompetens'!A11,\"\")","v":""},{"$f":"IF('Styrning och kompetens'!B11=\"Ett mindre förändringsarbete behövs\",'Styrning och kompetens'!C11,\"\")","v":""},{"$f":"IF('Styrning och kompetens'!B11=\"Ett mindre förändringsarbete behövs\",'Styrning och kompetens'!D11,\"\")","v":""}]
[null,{"$f":"IF('Styrning och kompetens'!B12=\"Ett mindre förändringsarbete behövs\",'Styrning och kompetens'!A12,\"\")","v":""},{"$f":"IF('Styrning och kompetens'!B12=\"Ett mindre förändringsarbete behövs\",'Styrning och kompetens'!C12,\"\")","v":""},{"$f":"IF('Styrning och kompetens'!B12=\"Ett mindre förändringsarbete behövs\",'Styrning och kompetens'!D12,\"\")","v":""}]
[null,{"$f":"IF('Styrning och kompetens'!B13=\"Ett mindre förändringsarbete behövs\",'Styrning och kompetens'!A13,\"\")","v":""},{"$f":"IF('Styrning och kompetens'!B13=\"Ett mindre förändringsarbete behövs\",'Styrning och kompetens'!C13,\"\")","v":""},{"$f":"IF('Styrning och kompetens'!B13=\"Ett mindre förändringsarbete behövs\",'Styrning och kompetens'!D13,\"\")","v":""}]
[null,{"$f":"IF('Styrning och kompetens'!B14=\"Ett mindre förändringsarbete behövs\",'Styrning och kompetens'!A14,\"\")","v":""},{"$f":"IF('Styrning och kompetens'!B14=\"Ett mindre förändringsarbete behövs\",'Styrning och kompetens'!C14,\"\")","v":""},{"$f":"IF('Styrning och kompetens'!B14=\"Ett mindre förändringsarbete behövs\",'Styrning och kompetens'!D14,\"\")","v":""}]
[null,{"$f":"IF('Styrning och kompetens'!B15=\"Ett mindre förändringsarbete behövs\",'Styrning och kompetens'!A15,\"\")","v":""},{"$f":"IF('Styrning och kompetens'!B15=\"Ett mindre förändringsarbete behövs\",'Styrning och kompetens'!C15,\"\")","v":""},{"$f":"IF('Styrning och kompetens'!B15=\"Ett mindre förändringsarbete behövs\",'Styrning och kompetens'!D15,\"\")","v":""}]
[null,{"$f":"IF('Styrning och kompetens'!B16=\"Ett mindre förändringsarbete behövs\",'Styrning och kompetens'!A16,\"\")","v":""},{"$f":"IF('Styrning och kompetens'!B16=\"Ett mindre förändringsarbete behövs\",'Styrning och kompetens'!C16,\"\")","v":""},{"$f":"IF('Styrning och kompetens'!B16=\"Ett mindre förändringsarbete behövs\",'Styrning och kompetens'!D16,\"\")","v":""}]
[null,{"$f":"IF('Styrning och kompetens'!B17=\"Ett mindre förändringsarbete behövs\",'Styrning och kompetens'!A17,\"\")","v":""},{"$f":"IF('Styrning och kompetens'!B17=\"Ett mindre förändringsarbete behövs\",'Styrning och kompetens'!C17,\"\")","v":""},{"$f":"IF('Styrning och kompetens'!B17=\"Ett mindre förändringsarbete behövs\",'Styrning och kompetens'!D17,\"\")","v":""}]
[null,{"$f":"IF('Styrning och kompetens'!B18=\"Ett mindre förändringsarbete behövs\",'Styrning och kompetens'!A18,\"\")","v":""},{"$f":"IF('Styrning och kompetens'!B18=\"Ett mindre förändringsarbete behövs\",'Styrning och kompetens'!C18,\"\")","v":""},{"$f":"IF('Styrning och kompetens'!B18=\"Ett mindre förändringsarbete behövs\",'Styrning och kompetens'!D18,\"\")","v":""}]
[null,{"$f":"IF('Styrning och kompetens'!B19=\"Ett mindre förändringsarbete behövs\",'Styrning och kompetens'!A19,\"\")","v":""},{"$f":"IF('Styrning och kompetens'!B19=\"Ett mindre förändringsarbete behövs\",'Styrning och kompetens'!C19,\"\")","v":""},{"$f":"IF('Styrning och kompetens'!B19=\"Ett mindre förändringsarbete behövs\",'Styrning och kompetens'!D19,\"\")","v":""}]
[null,{"$f":"IF('Styrning och kompetens'!B20=\"Ett mindre förändringsarbete behövs\",'Styrning och kompetens'!A20,\"\")","v":""},{"$f":"IF('Styrning och kompetens'!B20=\"Ett mindre förändringsarbete behövs\",'Styrning och kompetens'!C20,\"\")","v":""},{"$f":"IF('Styrning och kompetens'!B20=\"Ett mindre förändringsarbete behövs\",'Styrning och kompetens'!D20,\"\")","v":""}]
[null,{"$f":"IF('Styrning och kompetens'!B21=\"Ett mindre förändringsarbete behövs\",'Styrning och kompetens'!A21,\"\")","v":""},{"$f":"IF('Styrning och kompetens'!B21=\"Ett mindre förändringsarbete behövs\",'Styrning och kompetens'!C21,\"\")","v":""},{"$f":"IF('Styrning och kompetens'!B21=\"Ett mindre förändringsarbete behövs\",'Styrning och kompetens'!D21,\"\")","v":""}]
[null,{"$f":"IF('Styrning och kompetens'!B22=\"Ett mindre förändringsarbete behövs\",'Styrning och kompetens'!A22,\"\")","v":""},{"$f":"IF('Styrning och kompetens'!B22=\"Ett mindre förändringsarbete behövs\",'Styrning och kompetens'!C22,\"\")","v":""},{"$f":"IF('Styrning och kompetens'!B22=\"Ett mindre förändringsarbete behövs\",'Styrning och kompetens'!D22,\"\")","v":""}]
[null,{"$f":"IF('Styrning och kompetens'!B23=\"Ett mindre förändringsarbete behövs\",'Styrning och kompetens'!A23,\"\")","v":""},{"$f":"IF('Styrning och kompetens'!B23=\"Ett mindre förändringsarbete behövs\",'Styrning och kompetens'!C23,\"\")","v":""},{"$f":"IF('Styrning och kompetens'!B23=\"Ett mindre förändringsarbete behövs\",'Styrning och kompetens'!D23,\"\")","v":""}]
[null,{"$f":"IF('Styrning och kompetens'!B24=\"Ett mindre förändringsarbete behövs\",'Styrning och kompetens'!A24,\"\")","v":""},{"$f":"IF('Styrning och kompetens'!B24=\"Ett mindre förändringsarbete behövs\",'Styrning och kompetens'!C24,\"\")","v":""},{"$f":"IF('Styrning och kompetens'!B24=\"Ett mindre förändringsarbete behövs\",'Styrning och kompetens'!D24,\"\")","v":""}]
[null,{"$f":"IF('Styrning och kompetens'!B25=\"Ett mindre förändringsarbete behövs\",'Styrning och kompetens'!A25,\"\")","v":""},{"$f":"IF('Styrning och kompetens'!B25=\"Ett mindre förändringsarbete behövs\",'Styrning och kompetens'!C25,\"\")","v":""},{"$f":"IF('Styrning och kompetens'!B25=\"Ett mindre förändringsarbete behövs\",'Styrning och kompetens'!D25,\"\")","v":""}]
[null,{"$f":"IF('Styrning och kompetens'!B26=\"Ett mindre förändringsarbete behövs\",'Styrning och kompetens'!A26,\"\")","v":""},{"$f":"IF('Styrning och kompetens'!B26=\"Ett mindre förändringsarbete behövs\",'Styrning och kompetens'!C26,\"\")","v":""},{"$f":"IF('Styrning och kompetens'!B26=\"Ett mindre förändringsarbete behövs\",'Styrning och kompetens'!D26,\"\")","v":""}]
[null,{"$f":"IF('Styrning och kompetens'!B27=\"Ett mindre förändringsarbete behövs\",'Styrning och kompetens'!A27,\"\")","v":""},{"$f":"IF('Styrning och kompetens'!B27=\"Ett mindre förändringsarbete behövs\",'Styrning och kompetens'!C27,\"\")","v":""},{"$f":"IF('Styrning och kompetens'!B27=\"Ett mindre förändringsarbete behövs\",'Styrning och kompetens'!D27,\"\")","v":""}]
[null,{"$f":"IF('Styrning och kompetens'!B28=\"Ett mindre förändringsarbete behövs\",'Styrning och kompetens'!A28,\"\")","v":""},{"$f":"IF('Styrning och kompetens'!B28=\"Ett mindre förändringsarbete behövs\",'Styrning och kompetens'!C28,\"\")","v":""},{"$f":"IF('Styrning och kompetens'!B28=\"Ett mindre förändringsarbete behövs\",'Styrning och kompetens'!D28,\"\")","v":""}]
[null,{"$f":"IF('Styrning och kompetens'!B29=\"Ett mindre förändringsarbete behövs\",'Styrning och kompetens'!A29,\"\")","v":""},{"$f":"IF('Styrning och kompetens'!B29=\"Ett mindre förändringsarbete behövs\",'Styrning och kompetens'!C29,\"\")","v":""},{"$f":"IF('Styrning och kompetens'!B29=\"Ett mindre förändringsarbete behövs\",'Styrning och kompetens'!D29,\"\")","v":""}]
[null,{"$f":"IF('Styrning och kompetens'!B30=\"Ett mindre förändringsarbete behövs\",'Styrning och kompetens'!A30,\"\")","v":""},{"$f":"IF('Styrning och kompetens'!B30=\"Ett mindre förändringsarbete behövs\",'Styrning och kompetens'!C30,\"\")","v":""},{"$f":"IF('Styrning och kompetens'!B30=\"Ett mindre förändringsarbete behövs\",'Styrning och kompetens'!D30,\"\")","v":""}]
[null,{"$f":"IF('Styrning och kompetens'!B31=\"Ett mindre förändringsarbete behövs\",'Styrning och kompetens'!A31,\"\")","v":""},{"$f":"IF('Styrning och kompetens'!B31=\"Ett mindre förändringsarbete behövs\",'Styrning och kompetens'!C31,\"\")","v":""},{"$f":"IF('Styrning och kompetens'!B31=\"Ett mindre förändringsarbete behövs\",'Styrning och kompetens'!D31,\"\")","v":""}]
[null,{"$f":"IF('Styrning och kompetens'!B32=\"Ett mindre förändringsarbete behövs\",'Styrning och kompetens'!A32,\"\")","v":""},{"$f":"IF('Styrning och kompetens'!B32=\"Ett mindre förändringsarbete behövs\",'Styrning och kompetens'!C32,\"\")","v":""},{"$f":"IF('Styrning och kompetens'!B32=\"Ett mindre förändringsarbete behövs\",'Styrning och kompetens'!D32,\"\")","v":""}]
[null,{"$f":"IF('Styrning och kompetens'!B33=\"Ett mindre förändringsarbete behövs\",'Styrning och kompetens'!A33,\"\")","v":""},{"$f":"IF('Styrning och kompetens'!B33=\"Ett mindre förändringsarbete behövs\",'Styrning och kompetens'!C33,\"\")","v":""},{"$f":"IF('Styrning och kompetens'!B33=\"Ett mindre förändringsarbete behövs\",'Styrning och kompetens'!D33,\"\")","v":""}]
[null,{"$f":"IF('Styrning och kompetens'!B34=\"Ett mindre förändringsarbete behövs\",'Styrning och kompetens'!A34,\"\")","v":""},{"$f":"IF('Styrning och kompetens'!B34=\"Ett mindre förändringsarbete behövs\",'Styrning och kompetens'!C34,\"\")","v":""},{"$f":"IF('Styrning och kompetens'!B34=\"Ett mindre förändringsarbete behövs\",'Styrning och kompetens'!D34,\"\")","v":""}]
[null,{"$f":"IF('Styrning och kompetens'!B35=\"Ett mindre förändringsarbete behövs\",'Styrning och kompetens'!A35,\"\")","v":""},{"$f":"IF('Styrning och kompetens'!B35=\"Ett mindre förändringsarbete behövs\",'Styrning och kompetens'!C35,\"\")","v":""},{"$f":"IF('Styrning och kompetens'!B35=\"Ett mindre förändringsarbete behövs\",'Styrning och kompetens'!D35,\"\")","v":""}]
[null,{"$f":"IF('Styrning och kompetens'!B36=\"Ett mindre förändringsarbete behövs\",'Styrning och kompetens'!A36,\"\")","v":""},{"$f":"IF('Styrning och kompetens'!B36=\"Ett mindre förändringsarbete behövs\",'Styrning och kompetens'!C36,\"\")","v":""},{"$f":"IF('Styrning och kompetens'!B36=\"Ett mindre förändringsarbete behövs\",'Styrning och kompetens'!D36,\"\")","v":""}]
[null,{"$f":"IF('Styrning och kompetens'!B37=\"Ett mindre förändringsarbete behövs\",'Styrning och kompetens'!A37,\"\")","v":""},{"$f":"IF('Styrning och kompetens'!B37=\"Ett mindre förändringsarbete behövs\",'Styrning och kompetens'!C37,\"\")","v":""},{"$f":"IF('Styrning och kompetens'!B37=\"Ett mindre förändringsarbete behövs\",'Styrning och kompetens'!D37,\"\")","v":""}]
[null,{"$f":"IF('Styrning och kompetens'!B38=\"Ett mindre förändringsarbete behövs\",'Styrning och kompetens'!A38,\"\")","v":""},{"$f":"IF('Styrning och kompetens'!B38=\"Ett mindre förändringsarbete behövs\",'Styrning och kompetens'!C38,\"\")","v":""},{"$f":"IF('Styrning och kompetens'!B38=\"Ett mindre förändringsarbete behövs\",'Styrning och kompetens'!D38,\"\")","v":""}]
[null,{"$f":"IF('Styrning och kompetens'!B39=\"Ett mindre förändringsarbete behövs\",'Styrning och kompetens'!A39,\"\")","v":""},{"$f":"IF('Styrning och kompetens'!B39=\"Ett mindre förändringsarbete behövs\",'Styrning och kompetens'!C39,\"\")","v":""},{"$f":"IF('Styrning och kompetens'!B39=\"Ett mindre förändringsarbete behövs\",'Styrning och kompetens'!D39,\"\")","v":""}]
[null,{"$f":"IF('Styrning och kompetens'!B40=\"Ett mindre förändringsarbete behövs\",'Styrning och kompetens'!A40,\"\")","v":""},{"$f":"IF('Styrning och kompetens'!B40=\"Ett mindre förändringsarbete behövs\",'Styrning och kompetens'!C40,\"\")","v":""},{"$f":"IF('Styrning och kompetens'!B40=\"Ett mindre förändringsarbete behövs\",'Styrning och kompetens'!D40,\"\")","v":""}]
[null,{"$f":"IF('Styrning och kompetens'!B41=\"Ett mindre förändringsarbete behövs\",'Styrning och kompetens'!A41,\"\")","v":""},{"$f":"IF('Styrning och kompetens'!B41=\"Ett mindre förändringsarbete behövs\",'Styrning och kompetens'!C41,\"\")","v":""},{"$f":"IF('Styrning och kompetens'!B41=\"Ett mindre förändringsarbete behövs\",'Styrning och kompetens'!D41,\"\")","v":""}]
[null,{"$f":"IF('Styrning och kompetens'!B42=\"Ett mindre förändringsarbete behövs\",'Styrning och kompetens'!A42,\"\")","v":""},{"$f":"IF('Styrning och kompetens'!B42=\"Ett mindre förändringsarbete behövs\",'Styrning och kompetens'!C42,\"\")","v":""},{"$f":"IF('Styrning och kompetens'!B42=\"Ett mindre förändringsarbete behövs\",'Styrning och kompetens'!D42,\"\")","v":""}]
[null,{"$f":"IF('Styrning och kompetens'!B43=\"Ett mindre förändringsarbete behövs\",'Styrning och kompetens'!A43,\"\")","v":""},{"$f":"IF('Styrning och kompetens'!B43=\"Ett mindre förändringsarbete behövs\",'Styrning och kompetens'!C43,\"\")","v":""},{"$f":"IF('Styrning och kompetens'!B43=\"Ett mindre förändringsarbete behövs\",'Styrning och kompetens'!D43,\"\")","v":""}]
[null,{"$f":"IF('Styrning och kompetens'!B44=\"Ett mindre förändringsarbete behövs\",'Styrning och kompetens'!A44,\"\")","v":""},{"$f":"IF('Styrning och kompetens'!B44=\"Ett mindre förändringsarbete behövs\",'Styrning och kompetens'!C44,\"\")","v":""},{"$f":"IF('Styrning och kompetens'!B44=\"Ett mindre förändringsarbete behövs\",'Styrning och kompetens'!D44,\"\")","v":""}]
[null,{"$f":"IF('Styrning och kompetens'!B45=\"Ett mindre förändringsarbete behövs\",'Styrning och kompetens'!A45,\"\")","v":""},{"$f":"IF('Styrning och kompetens'!B45=\"Ett mindre förändringsarbete behövs\",'Styrning och kompetens'!C45,\"\")","v":""},{"$f":"IF('Styrning och kompetens'!B45=\"Ett mindre förändringsarbete behövs\",'Styrning och kompetens'!D45,\"\")","v":""}]
[null,{"$f":"IF('Styrning och kompetens'!B46=\"Ett mindre förändringsarbete behövs\",'Styrning och kompetens'!A46,\"\")","v":""},{"$f":"IF('Styrning och kompetens'!B46=\"Ett mindre förändringsarbete behövs\",'Styrning och kompetens'!C46,\"\")","v":""},{"$f":"IF('Styrning och kompetens'!B46=\"Ett mindre förändringsarbete behövs\",'Styrning och kompetens'!D46,\"\")","v":""}]
[null,{"$f":"IF('Styrning och kompetens'!B47=\"Ett mindre förändringsarbete behövs\",'Styrning och kompetens'!A47,\"\")","v":""},{"$f":"IF('Styrning och kompetens'!B47=\"Ett mindre förändringsarbete behövs\",'Styrning och kompetens'!C47,\"\")","v":""},{"$f":"IF('Styrning och kompetens'!B47=\"Ett mindre förändringsarbete behövs\",'Styrning och kompetens'!D47,\"\")","v":""}]
[null,{"$f":"IF('Styrning och kompetens'!B48=\"Ett mindre förändringsarbete behövs\",'Styrning och kompetens'!A48,\"\")","v":""},{"$f":"IF('Styrning och kompetens'!B48=\"Ett mindre förändringsarbete behövs\",'Styrning och kompetens'!C48,\"\")","v":""},{"$f":"IF('Styrning och kompetens'!B48=\"Ett mindre förändringsarbete behövs\",'Styrning och kompetens'!D48,\"\")","v":""}]
[null,{"$f":"IF('Styrning och kompetens'!B49=\"Ett mindre förändringsarbete behövs\",'Styrning och kompetens'!A49,\"\")","v":""},{"$f":"IF('Styrning och kompetens'!B49=\"Ett mindre förändringsarbete behövs\",'Styrning och kompetens'!C49,\"\")","v":""},{"$f":"IF('Styrning och kompetens'!B49=\"Ett mindre förändringsarbete behövs\",'Styrning och kompetens'!D49,\"\")","v":""}]
[null,{"$f":"IF('Styrning och kompetens'!B50=\"Ett mindre förändringsarbete behövs\",'Styrning och kompetens'!A50,\"\")","v":""},{"$f":"IF('Styrning och kompetens'!B50=\"Ett mindre förändringsarbete behövs\",'Styrning och kompetens'!C50,\"\")","v":""},{"$f":"IF('Styrning och kompetens'!B50=\"Ett mindre förändringsarbete behövs\",'Styrning och kompetens'!D50,\"\")","v":""}]
[null,{"$f":"IF('Styrning och kompetens'!B51=\"Ett mindre förändringsarbete behövs\",'Styrning och kompetens'!A51,\"\")","v":""},{"$f":"IF('Styrning och kompetens'!B51=\"Ett mindre förändringsarbete behövs\",'Styrning och kompetens'!C51,\"\")","v":""},{"$f":"IF('Styrning och kompetens'!B51=\"Ett mindre förändringsarbete behövs\",'Styrning och kompetens'!D51,\"\")","v":""}]
[null,{"$f":"IF('Styrning och kompetens'!B52=\"Ett mindre förändringsarbete behövs\",'Styrning och kompetens'!A52,\"\")","v":""},{"$f":"IF('Styrning och kompetens'!B52=\"Ett mindre förändringsarbete behövs\",'Styrning och kompetens'!C52,\"\")","v":""},{"$f":"IF('Styrning och kompetens'!B52=\"Ett mindre förändringsarbete behövs\",'Styrning och kompetens'!D52,\"\")","v":""}]
[null,{"$f":"IF('Styrning och kompetens'!B53=\"Ett mindre förändringsarbete behövs\",'Styrning och kompetens'!A53,\"\")","v":""},{"$f":"IF('Styrning och kompetens'!B53=\"Ett mindre förändringsarbete behövs\",'Styrning och kompetens'!C53,\"\")","v":""},{"$f":"IF('Styrning och kompetens'!B53=\"Ett mindre förändringsarbete behövs\",'Styrning och kompetens'!D53,\"\")","v":""}]
[null,{"$f":"IF('Styrning och kompetens'!B54=\"Ett mindre förändringsarbete behövs\",'Styrning och kompetens'!A54,\"\")","v":""},{"$f":"IF('Styrning och kompetens'!B54=\"Ett mindre förändringsarbete behövs\",'Styrning och kompetens'!C54,\"\")","v":""},{"$f":"IF('Styrning och kompetens'!B54=\"Ett mindre förändringsarbete behövs\",'Styrning och kompetens'!D54,\"\")","v":""}]
[null,{"$f":"IF('Styrning och kompetens'!B55=\"Ett mindre förändringsarbete behövs\",'Styrning och kompetens'!A55,\"\")","v":""},{"$f":"IF('Styrning och kompetens'!B55=\"Ett mindre förändringsarbete behövs\",'Styrning och kompetens'!C55,\"\")","v":""},{"$f":"IF('Styrning och kompetens'!B55=\"Ett mindre förändringsarbete behövs\",'Styrning och kompetens'!D55,\"\")","v":""}]
[null,{"$f":"IF('Styrning och kompetens'!B56=\"Ett mindre förändringsarbete behövs\",'Styrning och kompetens'!A56,\"\")","v":""},{"$f":"IF('Styrning och kompetens'!B56=\"Ett mindre förändringsarbete behövs\",'Styrning och kompetens'!C56,\"\")","v":""},{"$f":"IF('Styrning och kompetens'!B56=\"Ett mindre förändringsarbete behövs\",'Styrning och kompetens'!D56,\"\")","v":""}]
[null,{"$f":"IF('Styrning och kompetens'!B57=\"Ett mindre förändringsarbete behövs\",'Styrning och kompetens'!A57,\"\")","v":""},{"$f":"IF('Styrning och kompetens'!B57=\"Ett mindre förändringsarbete behövs\",'Styrning och kompetens'!C57,\"\")","v":""},{"$f":"IF('Styrning och kompetens'!B57=\"Ett mindre förändringsarbete behövs\",'Styrning och kompetens'!D57,\"\")","v":""}]
[null,{"$f":"IF('Styrning och kompetens'!B58=\"Ett mindre förändringsarbete behövs\",'Styrning och kompetens'!A58,\"\")","v":""},{"$f":"IF('Styrning och kompetens'!B58=\"Ett mindre förändringsarbete behövs\",'Styrning och kompetens'!C58,\"\")","v":""},{"$f":"IF('Styrning och kompetens'!B58=\"Ett mindre förändringsarbete behövs\",'Styrning och kompetens'!D58,\"\")","v":""}]
[null,{"$f":"IF('Styrning och kompetens'!B59=\"Ett mindre förändringsarbete behövs\",'Styrning och kompetens'!A59,\"\")","v":""},{"$f":"IF('Styrning och kompetens'!B59=\"Ett mindre förändringsarbete behövs\",'Styrning och kompetens'!C59,\"\")","v":""},{"$f":"IF('Styrning och kompetens'!B59=\"Ett mindre förändringsarbete behövs\",'Styrning och kompetens'!D59,\"\")","v":""}]
[null,{"$f":"IF('Styrning och kompetens'!B60=\"Ett mindre förändringsarbete behövs\",'Styrning och kompetens'!A60,\"\")","v":""},{"$f":"IF('Styrning och kompetens'!B60=\"Ett mindre förändringsarbete behövs\",'Styrning och kompetens'!C60,\"\")","v":""},{"$f":"IF('Styrning och kompetens'!B60=\"Ett mindre förändringsarbete behövs\",'Styrning och kompetens'!D60,\"\")","v":""}]
[null,{"$f":"IF('Styrning och kompetens'!B61=\"Ett mindre förändringsarbete behövs\",'Styrning och kompetens'!A61,\"\")","v":""},{"$f":"IF('Styrning och kompetens'!B61=\"Ett mindre förändringsarbete behövs\",'Styrning och kompetens'!C61,\"\")","v":""},{"$f":"IF('Styrning och kompetens'!B61=\"Ett mindre förändringsarbete behövs\",'Styrning och kompetens'!D61,\"\")","v":""}]
[null,{"$f":"IF('Styrning och kompetens'!B62=\"Ett mindre förändringsarbete behövs\",'Styrning och kompetens'!A62,\"\")","v":""},{"$f":"IF('Styrning och kompetens'!B62=\"Ett mindre förändringsarbete behövs\",'Styrning och kompetens'!C62,\"\")","v":""},{"$f":"IF('Styrning och kompetens'!B62=\"Ett mindre förändringsarbete behövs\",'Styrning och kompetens'!D62,\"\")","v":""}]
[null,{"$f":"IF('Styrning och kompetens'!B63=\"Ett mindre förändringsarbete behövs\",'Styrning och kompetens'!A63,\"\")","v":""},{"$f":"IF('Styrning och kompetens'!B63=\"Ett mindre förändringsarbete behövs\",'Styrning och kompetens'!C63,\"\")","v":""},{"$f":"IF('Styrning och kompetens'!B63=\"Ett mindre förändringsarbete behövs\",'Styrning och kompetens'!D63,\"\")","v":""}]
[null,{"$f":"IF('Styrning och kompetens'!B64=\"Ett mindre förändringsarbete behövs\",'Styrning och kompetens'!A64,\"\")","v":""},{"$f":"IF('Styrning och kompetens'!B64=\"Ett mindre förändringsarbete behövs\",'Styrning och kompetens'!C64,\"\")","v":""},{"$f":"IF('Styrning och kompetens'!B64=\"Ett mindre förändringsarbete behövs\",'Styrning och kompetens'!D64,\"\")","v":""}]
[null,{"$f":"IF('Styrning och kompetens'!B65=\"Ett mindre förändringsarbete behövs\",'Styrning och kompetens'!A65,\"\")","v":""},{"$f":"IF('Styrning och kompetens'!B65=\"Ett mindre förändringsarbete behövs\",'Styrning och kompetens'!C65,\"\")","v":""},{"$f":"IF('Styrning och kompetens'!B65=\"Ett mindre förändringsarbete behövs\",'Styrning och kompetens'!D65,\"\")","v":""}]
[null,{"$f":"IF('Styrning och kompetens'!B66=\"Ett mindre förändringsarbete behövs\",'Styrning och kompetens'!A66,\"\")","v":""},{"$f":"IF('Styrning och kompetens'!B66=\"Ett mindre förändringsarbete behövs\",'Styrning och kompetens'!C66,\"\")","v":""},{"$f":"IF('Styrning och kompetens'!B66=\"Ett mindre förändringsarbete behövs\",'Styrning och kompetens'!D66,\"\")","v":""}]
[null,{"$f":"IF('Styrning och kompetens'!B67=\"Ett mindre förändringsarbete behövs\",'Styrning och kompetens'!A67,\"\")","v":""},{"$f":"IF('Styrning och kompetens'!B67=\"Ett mindre förändringsarbete behövs\",'Styrning och kompetens'!C67,\"\")","v":""},{"$f":"IF('Styrning och kompetens'!B67=\"Ett mindre förändringsarbete behövs\",'Styrning och kompetens'!D67,\"\")","v":""}]
[null,{"$f":"IF('Styrning och kompetens'!B68=\"Ett mindre förändringsarbete behövs\",'Styrning och kompetens'!A68,\"\")","v":""},{"$f":"IF('Styrning och kompetens'!B68=\"Ett mindre förändringsarbete behövs\",'Styrning och kompetens'!C68,\"\")","v":""},{"$f":"IF('Styrning och kompetens'!B68=\"Ett mindre förändringsarbete behövs\",'Styrning och kompetens'!D68,\"\")","v":""}]
[null,{"$f":"IF('Styrning och kompetens'!B69=\"Ett mindre förändringsarbete behövs\",'Styrning och kompetens'!A69,\"\")","v":""},{"$f":"IF('Styrning och kompetens'!B69=\"Ett mindre förändringsarbete behövs\",'Styrning och kompetens'!C69,\"\")","v":""},{"$f":"IF('Styrning och kompetens'!B69=\"Ett mindre förändringsarbete behövs\",'Styrning och kompetens'!D69,\"\")","v":""}]
[null,{"$f":"IF('Styrning och kompetens'!B70=\"Ett mindre förändringsarbete behövs\",'Styrning och kompetens'!A70,\"\")","v":""},{"$f":"IF('Styrning och kompetens'!B70=\"Ett mindre förändringsarbete behövs\",'Styrning och kompetens'!C70,\"\")","v":""},{"$f":"IF('Styrning och kompetens'!B70=\"Ett mindre förändringsarbete behövs\",'Styrning och kompetens'!D70,\"\")","v":""}]
[null,{"$f":"IF('Styrning och kompetens'!B71=\"Ett mindre förändringsarbete behövs\",'Styrning och kompetens'!A71,\"\")","v":""},{"$f":"IF('Styrning och kompetens'!B71=\"Ett mindre förändringsarbete behövs\",'Styrning och kompetens'!C71,\"\")","v":""},{"$f":"IF('Styrning och kompetens'!B71=\"Ett mindre förändringsarbete behövs\",'Styrning och kompetens'!D71,\"\")","v":""}]
[null,{"$f":"IF('Styrning och kompetens'!B72=\"Ett mindre förändringsarbete behövs\",'Styrning och kompetens'!A72,\"\")","v":""},{"$f":"IF('Styrning och kompetens'!B72=\"Ett mindre förändringsarbete behövs\",'Styrning och kompetens'!C72,\"\")","v":""},{"$f":"IF('Styrning och kompetens'!B72=\"Ett mindre förändringsarbete behövs\",'Styrning och kompetens'!D72,\"\")","v":""}]
[null,{"$f":"IF('Styrning och kompetens'!B73=\"Ett mindre förändringsarbete behövs\",'Styrning och kompetens'!A73,\"\")","v":""},{"$f":"IF('Styrning och kompetens'!B73=\"Ett mindre förändringsarbete behövs\",'Styrning och kompetens'!C73,\"\")","v":""},{"$f":"IF('Styrning och kompetens'!B73=\"Ett mindre förändringsarbete behövs\",'Styrning och kompetens'!D73,\"\")","v":""}]
[null,{"$f":"IF('Styrning och kompetens'!B74=\"Ett mindre förändringsarbete behövs\",'Styrning och kompetens'!A74,\"\")","v":""},{"$f":"IF('Styrning och kompetens'!B74=\"Ett mindre förändringsarbete behövs\",'Styrning och kompetens'!C74,\"\")","v":""},{"$f":"IF('Styrning och kompetens'!B74=\"Ett mindre förändringsarbete behövs\",'Styrning och kompetens'!D74,\"\")","v":""}]
[null,{"$f":"IF('Styrning och kompetens'!B75=\"Ett mindre förändringsarbete behövs\",'Styrning och kompetens'!A75,\"\")","v":""},{"$f":"IF('Styrning och kompetens'!B75=\"Ett mindre förändringsarbete behövs\",'Styrning och kompetens'!C75,\"\")","v":""},{"$f":"IF('Styrning och kompetens'!B75=\"Ett mindre förändringsarbete behövs\",'Styrning och kompetens'!D75,\"\")","v":""}]
[null,{"$f":"IF('Styrning och kompetens'!B76=\"Ett mindre förändringsarbete behövs\",'Styrning och kompetens'!A76,\"\")","v":""},{"$f":"IF('Styrning och kompetens'!B76=\"Ett mindre förändringsarbete behövs\",'Styrning och kompetens'!C76,\"\")","v":""},{"$f":"IF('Styrning och kompetens'!B76=\"Ett mindre förändringsarbete behövs\",'Styrning och kompetens'!D76,\"\")","v":""}]
[null,{"$f":"IF('Styrning och kompetens'!B77=\"Ett mindre förändringsarbete behövs\",'Styrning och kompetens'!A77,\"\")","v":""},{"$f":"IF('Styrning och kompetens'!B77=\"Ett mindre förändringsarbete behövs\",'Styrning och kompetens'!C77,\"\")","v":""},{"$f":"IF('Styrning och kompetens'!B77=\"Ett mindre förändringsarbete behövs\",'Styrning och kompetens'!D77,\"\")","v":""}]
[null,{"$f":"IF('Styrning och kompetens'!B78=\"Ett mindre förändringsarbete behövs\",'Styrning och kompetens'!A78,\"\")","v":""},{"$f":"IF('Styrning och kompetens'!B78=\"Ett mindre förändringsarbete behövs\",'Styrning och kompetens'!C78,\"\")","v":""},{"$f":"IF('Styrning och kompetens'!B78=\"Ett mindre förändringsarbete behövs\",'Styrning och kompetens'!D78,\"\")","v":""}]
[null,{"$f":"IF('Styrning och kompetens'!B79=\"Ett mindre förändringsarbete behövs\",'Styrning och kompetens'!A79,\"\")","v":""},{"$f":"IF('Styrning och kompetens'!B79=\"Ett mindre förändringsarbete behövs\",'Styrning och kompetens'!C79,\"\")","v":""},{"$f":"IF('Styrning och kompetens'!B79=\"Ett mindre förändringsarbete behövs\",'Styrning och kompetens'!D79,\"\")","v":""}]
[null,{"$f":"IF('Styrning och kompetens'!B80=\"Ett mindre förändringsarbete behövs\",'Styrning och kompetens'!A80,\"\")","v":""},{"$f":"IF('Styrning och kompetens'!B80=\"Ett mindre förändringsarbete behövs\",'Styrning och kompetens'!C80,\"\")","v":""},{"$f":"IF('Styrning och kompetens'!B80=\"Ett mindre förändringsarbete behövs\",'Styrning och kompetens'!D80,\"\")","v":""}]
[null,{"$f":"IF('Styrning och kompetens'!B81=\"Ett mindre förändringsarbete behövs\",'Styrning och kompetens'!A81,\"\")","v":""},{"$f":"IF('Styrning och kompetens'!B81=\"Ett mindre förändringsarbete behövs\",'Styrning och kompetens'!C81,\"\")","v":""},{"$f":"IF('Styrning och kompetens'!B81=\"Ett mindre förändringsarbete behövs\",'Styrning och kompetens'!D81,\"\")","v":""}]
[null,{"$f":"IF('Styrning och kompetens'!B82=\"Ett mindre förändringsarbete behövs\",'Styrning och kompetens'!A82,\"\")","v":""},{"$f":"IF('Styrning och kompetens'!B82=\"Ett mindre förändringsarbete behövs\",'Styrning och kompetens'!C82,\"\")","v":""},{"$f":"IF('Styrning och kompetens'!B82=\"Ett mindre förändringsarbete behövs\",'Styrning och kompetens'!D82,\"\")","v":""}]
[null,{"$f":"IF('Styrning och kompetens'!B83=\"Ett mindre förändringsarbete behövs\",'Styrning och kompetens'!A83,\"\")","v":""},{"$f":"IF('Styrning och kompetens'!B83=\"Ett mindre förändringsarbete behövs\",'Styrning och kompetens'!C83,\"\")","v":""},{"$f":"IF('Styrning och kompetens'!B83=\"Ett mindre förändringsarbete behövs\",'Styrning och kompetens'!D83,\"\")","v":""}]
[null,{"$f":"IF('Styrning och kompetens'!B84=\"Ett mindre förändringsarbete behövs\",'Styrning och kompetens'!A84,\"\")","v":""},{"$f":"IF('Styrning och kompetens'!B84=\"Ett mindre förändringsarbete behövs\",'Styrning och kompetens'!C84,\"\")","v":""},{"$f":"IF('Styrning och kompetens'!B84=\"Ett mindre förändringsarbete behövs\",'Styrning och kompetens'!D84,\"\")","v":""}]
[null,{"$f":"IF('Styrning och kompetens'!B85=\"Ett mindre förändringsarbete behövs\",'Styrning och kompetens'!A85,\"\")","v":""},{"$f":"IF('Styrning och kompetens'!B85=\"Ett mindre förändringsarbete behövs\",'Styrning och kompetens'!C85,\"\")","v":""},{"$f":"IF('Styrning och kompetens'!B85=\"Ett mindre förändringsarbete behövs\",'Styrning och kompetens'!D85,\"\")","v":""}]
[null,{"$f":"IF('Styrning och kompetens'!B86=\"Ett mindre förändringsarbete behövs\",'Styrning och kompetens'!A86,\"\")","v":""},{"$f":"IF('Styrning och kompetens'!B86=\"Ett mindre förändringsarbete behövs\",'Styrning och kompetens'!C86,\"\")","v":""},{"$f":"IF('Styrning och kompetens'!B86=\"Ett mindre förändringsarbete behövs\",'Styrning och kompetens'!D86,\"\")","v":""}]
[null,{"$f":"IF('Styrning och kompetens'!B87=\"Ett mindre förändringsarbete behövs\",'Styrning och kompetens'!A87,\"\")","v":""},{"$f":"IF('Styrning och kompetens'!B87=\"Ett mindre förändringsarbete behövs\",'Styrning och kompetens'!C87,\"\")","v":""},{"$f":"IF('Styrning och kompetens'!B87=\"Ett mindre förändringsarbete behövs\",'Styrning och kompetens'!D87,\"\")","v":""}]
[null,{"$f":"IF('Styrning och kompetens'!B88=\"Ett mindre förändringsarbete behövs\",'Styrning och kompetens'!A88,\"\")","v":""},{"$f":"IF('Styrning och kompetens'!B88=\"Ett mindre förändringsarbete behövs\",'Styrning och kompetens'!C88,\"\")","v":""},{"$f":"IF('Styrning och kompetens'!B88=\"Ett mindre förändringsarbete behövs\",'Styrning och kompetens'!D88,\"\")","v":""}]
[null,{"$f":"IF('Styrning och kompetens'!B89=\"Ett mindre förändringsarbete behövs\",'Styrning och kompetens'!A89,\"\")","v":""},{"$f":"IF('Styrning och kompetens'!B89=\"Ett mindre förändringsarbete behövs\",'Styrning och kompetens'!C89,\"\")","v":""},{"$f":"IF('Styrning och kompetens'!B89=\"Ett mindre förändringsarbete behövs\",'Styrning och kompetens'!D89,\"\")","v":""}]
[null,{"$f":"IF('Styrning och kompetens'!B90=\"Ett mindre förändringsarbete behövs\",'Styrning och kompetens'!A90,\"\")","v":""},{"$f":"IF('Styrning och kompetens'!B90=\"Ett mindre förändringsarbete behövs\",'Styrning och kompetens'!C90,\"\")","v":""},{"$f":"IF('Styrning och kompetens'!B90=\"Ett mindre förändringsarbete behövs\",'Styrning och kompetens'!D90,\"\")","v":""}]
[null,{"$f":"IF('Styrning och kompetens'!B91=\"Ett mindre förändringsarbete behövs\",'Styrning och kompetens'!A91,\"\")","v":""},{"$f":"IF('Styrning och kompetens'!B91=\"Ett mindre förändringsarbete behövs\",'Styrning och kompetens'!C91,\"\")","v":""},{"$f":"IF('Styrning och kompetens'!B91=\"Ett mindre förändringsarbete behövs\",'Styrning och kompetens'!D91,\"\")","v":""}]
[null,{"$f":"IF('Styrning och kompetens'!B92=\"Ett mindre förändringsarbete behövs\",'Styrning och kompetens'!A92,\"\")","v":""},{"$f":"IF('Styrning och kompetens'!B92=\"Ett mindre förändringsarbete behövs\",'Styrning och kompetens'!C92,\"\")","v":""},{"$f":"IF('Styrning och kompetens'!B92=\"Ett mindre förändringsarbete behövs\",'Styrning och kompetens'!D92,\"\")","v":""}]
[null,{"$f":"IF('Styrning och kompetens'!B93=\"Ett mindre förändringsarbete behövs\",'Styrning och kompetens'!A93,\"\")","v":""},{"$f":"IF('Styrning och kompetens'!B93=\"Ett mindre förändringsarbete behövs\",'Styrning och kompetens'!C93,\"\")","v":""},{"$f":"IF('Styrning och kompetens'!B93=\"Ett mindre förändringsarbete behövs\",'Styrning och kompetens'!D93,\"\")","v":""}]
[null,{"$f":"IF('Styrning och kompetens'!B94=\"Ett mindre förändringsarbete behövs\",'Styrning och kompetens'!A94,\"\")","v":""},{"$f":"IF('Styrning och kompetens'!B94=\"Ett mindre förändringsarbete behövs\",'Styrning och kompetens'!C94,\"\")","v":""},{"$f":"IF('Styrning och kompetens'!B94=\"Ett mindre förändringsarbete behövs\",'Styrning och kompetens'!D94,\"\")","v":""}]
[null,{"$f":"IF('Styrning och kompetens'!B95=\"Ett mindre förändringsarbete behövs\",'Styrning och kompetens'!A95,\"\")","v":""},{"$f":"IF('Styrning och kompetens'!B95=\"Ett mindre förändringsarbete behövs\",'Styrning och kompetens'!C95,\"\")","v":""},{"$f":"IF('Styrning och kompetens'!B95=\"Ett mindre förändringsarbete behövs\",'Styrning och kompetens'!D95,\"\")","v":""}]
[null,{"$f":"IF('Styrning och kompetens'!B96=\"Ett mindre förändringsarbete behövs\",'Styrning och kompetens'!A96,\"\")","v":""},{"$f":"IF('Styrning och kompetens'!B96=\"Ett mindre förändringsarbete behövs\",'Styrning och kompetens'!C96,\"\")","v":""},{"$f":"IF('Styrning och kompetens'!B96=\"Ett mindre förändringsarbete behövs\",'Styrning och kompetens'!D96,\"\")","v":""}]
[null,{"$f":"IF('Styrning och kompetens'!B97=\"Ett mindre förändringsarbete behövs\",'Styrning och kompetens'!A97,\"\")","v":""},{"$f":"IF('Styrning och kompetens'!B97=\"Ett mindre förändringsarbete behövs\",'Styrning och kompetens'!C97,\"\")","v":""},{"$f":"IF('Styrning och kompetens'!B97=\"Ett mindre förändringsarbete behövs\",'Styrning och kompetens'!D97,\"\")","v":""}]
[null,{"$f":"IF('Styrning och kompetens'!B98=\"Ett mindre förändringsarbete behövs\",'Styrning och kompetens'!A98,\"\")","v":""},{"$f":"IF('Styrning och kompetens'!B98=\"Ett mindre förändringsarbete behövs\",'Styrning och kompetens'!C98,\"\")","v":""},{"$f":"IF('Styrning och kompetens'!B98=\"Ett mindre förändringsarbete behövs\",'Styrning och kompetens'!D98,\"\")","v":""}]
[null,{"$f":"IF('Styrning och kompetens'!B99=\"Ett mindre förändringsarbete behövs\",'Styrning och kompetens'!A99,\"\")","v":""},{"$f":"IF('Styrning och kompetens'!B99=\"Ett mindre förändringsarbete behövs\",'Styrning och kompetens'!C99,\"\")","v":""},{"$f":"IF('Styrning och kompetens'!B99=\"Ett mindre förändringsarbete behövs\",'Styrning och kompetens'!D99,\"\")","v":""}]
[null,{"$f":"IF('Styrning och kompetens'!B100=\"Ett mindre förändringsarbete behövs\",'Styrning och kompetens'!A100,\"\")","v":""},{"$f":"IF('Styrning och kompetens'!B100=\"Ett mindre förändringsarbete behövs\",'Styrning och kompetens'!C100,\"\")","v":""},{"$f":"IF('Styrning och kompetens'!B100=\"Ett mindre förändringsarbete behövs\",'Styrning och kompetens'!D100,\"\")","v":""}]
[null,{"$f":"IF('Styrning och kompetens'!B101=\"Ett mindre förändringsarbete behövs\",'Styrning och kompetens'!A101,\"\")","v":""},{"$f":"IF('Styrning och kompetens'!B101=\"Ett mindre förändringsarbete behövs\",'Styrning och kompetens'!C101,\"\")","v":""},{"$f":"IF('Styrning och kompetens'!B101=\"Ett mindre förändringsarbete behövs\",'Styrning och kompetens'!D101,\"\")","v":""}]
[null,{"$f":"IF('Styrning och kompetens'!B102=\"Ett mindre förändringsarbete behövs\",'Styrning och kompetens'!A102,\"\")","v":""},{"$f":"IF('Styrning och kompetens'!B102=\"Ett mindre förändringsarbete behövs\",'Styrning och kompetens'!C102,\"\")","v":""},{"$f":"IF('Styrning och kompetens'!B102=\"Ett mindre förändringsarbete behövs\",'Styrning och kompetens'!D102,\"\")","v":""}]
[null,{"$f":"IF('Styrning och kompetens'!B103=\"Ett mindre förändringsarbete behövs\",'Styrning och kompetens'!A103,\"\")","v":""},{"$f":"IF('Styrning och kompetens'!B103=\"Ett mindre förändringsarbete behövs\",'Styrning och kompetens'!C103,\"\")","v":""},{"$f":"IF('Styrning och kompetens'!B103=\"Ett mindre förändringsarbete behövs\",'Styrning och kompetens'!D103,\"\")","v":""}]
[null,{"$f":"IF('Styrning och kompetens'!B104=\"Ett mindre förändringsarbete behövs\",'Styrning och kompetens'!A104,\"\")","v":""},{"$f":"IF('Styrning och kompetens'!B104=\"Ett mindre förändringsarbete behövs\",'Styrning och kompetens'!C104,\"\")","v":""},{"$f":"IF('Styrning och kompetens'!B104=\"Ett mindre förändringsarbete behövs\",'Styrning och kompetens'!D104,\"\")","v":""}]
[null,{"$f":"IF('Styrning och kompetens'!B105=\"Ett mindre förändringsarbete behövs\",'Styrning och kompetens'!A105,\"\")","v":""},{"$f":"IF('Styrning och kompetens'!B105=\"Ett mindre förändringsarbete behövs\",'Styrning och kompetens'!C105,\"\")","v":""},{"$f":"IF('Styrning och kompetens'!B105=\"Ett mindre förändringsarbete behövs\",'Styrning och kompetens'!D105,\"\")","v":""}]
[null,{"$f":"IF('Styrning och kompetens'!B106=\"Ett mindre förändringsarbete behövs\",'Styrning och kompetens'!A106,\"\")","v":""},{"$f":"IF('Styrning och kompetens'!B106=\"Ett mindre förändringsarbete behövs\",'Styrning och kompetens'!C106,\"\")","v":""},{"$f":"IF('Styrning och kompetens'!B106=\"Ett mindre förändringsarbete behövs\",'Styrning och kompetens'!D106,\"\")","v":""}]
[null,{"$f":"IF('Styrning och kompetens'!B107=\"Ett mindre förändringsarbete behövs\",'Styrning och kompetens'!A107,\"\")","v":""},{"$f":"IF('Styrning och kompetens'!B107=\"Ett mindre förändringsarbete behövs\",'Styrning och kompetens'!C107,\"\")","v":""},{"$f":"IF('Styrning och kompetens'!B107=\"Ett mindre förändringsarbete behövs\",'Styrning och kompetens'!D107,\"\")","v":""}]
[null,{"$f":"IF('Styrning och kompetens'!B108=\"Ett mindre förändringsarbete behövs\",'Styrning och kompetens'!A108,\"\")","v":""},{"$f":"IF('Styrning och kompetens'!B108=\"Ett mindre förändringsarbete behövs\",'Styrning och kompetens'!C108,\"\")","v":""},{"$f":"IF('Styrning och kompetens'!B108=\"Ett mindre förändringsarbete behövs\",'Styrning och kompetens'!D108,\"\")","v":""}]
[null,{"$f":"IF('Styrning och kompetens'!B109=\"Ett mindre förändringsarbete behövs\",'Styrning och kompetens'!A109,\"\")","v":""},{"$f":"IF('Styrning och kompetens'!B109=\"Ett mindre förändringsarbete behövs\",'Styrning och kompetens'!C109,\"\")","v":""},{"$f":"IF('Styrning och kompetens'!B109=\"Ett mindre förändringsarbete behövs\",'Styrning och kompetens'!D109,\"\")","v":""}]
[null,{"$f":"IF('Styrning och kompetens'!B110=\"Ett mindre förändringsarbete behövs\",'Styrning och kompetens'!A110,\"\")","v":""},{"$f":"IF('Styrning och kompetens'!B110=\"Ett mindre förändringsarbete behövs\",'Styrning och kompetens'!C110,\"\")","v":""},{"$f":"IF('Styrning och kompetens'!B110=\"Ett mindre förändringsarbete behövs\",'Styrning och kompetens'!D110,\"\")","v":""}]
[null,{"$f":"IF('Styrning och kompetens'!B111=\"Ett mindre förändringsarbete behövs\",'Styrning och kompetens'!A111,\"\")","v":""},{"$f":"IF('Styrning och kompetens'!B111=\"Ett mindre förändringsarbete behövs\",'Styrning och kompetens'!C111,\"\")","v":""},{"$f":"IF('Styrning och kompetens'!B111=\"Ett mindre förändringsarbete behövs\",'Styrning och kompetens'!D111,\"\")","v":""}]
[null,{"$f":"IF('Styrning och kompetens'!B112=\"Ett mindre förändringsarbete behövs\",'Styrning och kompetens'!A112,\"\")","v":""},{"$f":"IF('Styrning och kompetens'!B112=\"Ett mindre förändringsarbete behövs\",'Styrning och kompetens'!C112,\"\")","v":""},{"$f":"IF('Styrning och kompetens'!B112=\"Ett mindre förändringsarbete behövs\",'Styrning och kompetens'!D112,\"\")","v":""}]
[null,{"$f":"IF('Styrning och kompetens'!B113=\"Ett mindre förändringsarbete behövs\",'Styrning och kompetens'!A113,\"\")","v":""},{"$f":"IF('Styrning och kompetens'!B113=\"Ett mindre förändringsarbete behövs\",'Styrning och kompetens'!C113,\"\")","v":""},{"$f":"IF('Styrning och kompetens'!B113=\"Ett mindre förändringsarbete behövs\",'Styrning och kompetens'!D113,\"\")","v":""}]
[null,{"$f":"IF('Styrning och kompetens'!B114=\"Ett mindre förändringsarbete behövs\",'Styrning och kompetens'!A114,\"\")","v":""},{"$f":"IF('Styrning och kompetens'!B114=\"Ett mindre förändringsarbete behövs\",'Styrning och kompetens'!C114,\"\")","v":""},{"$f":"IF('Styrning och kompetens'!B114=\"Ett mindre förändringsarbete behövs\",'Styrning och kompetens'!D114,\"\")","v":""}]
[null,{"$f":"IF('Styrning och kompetens'!B115=\"Ett mindre förändringsarbete behövs\",'Styrning och kompetens'!A115,\"\")","v":""},{"$f":"IF('Styrning och kompetens'!B115=\"Ett mindre förändringsarbete behövs\",'Styrning och kompetens'!C115,\"\")","v":""},{"$f":"IF('Styrning och kompetens'!B115=\"Ett mindre förändringsarbete behövs\",'Styrning och kompetens'!D115,\"\")","v":""}]
[null,{"$f":"IF('Styrning och kompetens'!B116=\"Ett mindre förändringsarbete behövs\",'Styrning och kompetens'!A116,\"\")","v":""},{"$f":"IF('Styrning och kompetens'!B116=\"Ett mindre förändringsarbete behövs\",'Styrning och kompetens'!C116,\"\")","v":""},{"$f":"IF('Styrning och kompetens'!B116=\"Ett mindre förändringsarbete behövs\",'Styrning och kompetens'!D116,\"\")","v":""}]
[null,{"$f":"IF('Styrning och kompetens'!B117=\"Ett mindre förändringsarbete behövs\",'Styrning och kompetens'!A117,\"\")","v":""},{"$f":"IF('Styrning och kompetens'!B117=\"Ett mindre förändringsarbete behövs\",'Styrning och kompetens'!C117,\"\")","v":""},{"$f":"IF('Styrning och kompetens'!B117=\"Ett mindre förändringsarbete behövs\",'Styrning och kompetens'!D117,\"\")","v":""}]
[null,{"$f":"IF('Styrning och kompetens'!B118=\"Ett mindre förändringsarbete behövs\",'Styrning och kompetens'!A118,\"\")","v":""},{"$f":"IF('Styrning och kompetens'!B118=\"Ett mindre förändringsarbete behövs\",'Styrning och kompetens'!C118,\"\")","v":""},{"$f":"IF('Styrning och kompetens'!B118=\"Ett mindre förändringsarbete behövs\",'Styrning och kompetens'!D118,\"\")","v":""}]
[null,{"$f":"IF('Styrning och kompetens'!B119=\"Ett mindre förändringsarbete behövs\",'Styrning och kompetens'!A119,\"\")","v":""},{"$f":"IF('Styrning och kompetens'!B119=\"Ett mindre förändringsarbete behövs\",'Styrning och kompetens'!C119,\"\")","v":""},{"$f":"IF('Styrning och kompetens'!B119=\"Ett mindre förändringsarbete behövs\",'Styrning och kompetens'!D119,\"\")","v":""}]
[null,{"$f":"IF('Styrning och kompetens'!B120=\"Ett mindre förändringsarbete behövs\",'Styrning och kompetens'!A120,\"\")","v":""},{"$f":"IF('Styrning och kompetens'!B120=\"Ett mindre förändringsarbete behövs\",'Styrning och kompetens'!C120,\"\")","v":""},{"$f":"IF('Styrning och kompetens'!B120=\"Ett mindre förändringsarbete behövs\",'Styrning och kompetens'!D120,\"\")","v":""}]
[null,{"$f":"IF('Styrning och kompetens'!B121=\"Ett mindre förändringsarbete behövs\",'Styrning och kompetens'!A121,\"\")","v":""},{"$f":"IF('Styrning och kompetens'!B121=\"Ett mindre förändringsarbete behövs\",'Styrning och kompetens'!C121,\"\")","v":""},{"$f":"IF('Styrning och kompetens'!B121=\"Ett mindre förändringsarbete behövs\",'Styrning och kompetens'!D121,\"\")","v":""}]
[null,{"$f":"IF('Styrning och kompetens'!B122=\"Ett mindre förändringsarbete behövs\",'Styrning och kompetens'!A122,\"\")","v":""},{"$f":"IF('Styrning och kompetens'!B122=\"Ett mindre förändringsarbete behövs\",'Styrning och kompetens'!C122,\"\")","v":""},{"$f":"IF('Styrning och kompetens'!B122=\"Ett mindre förändringsarbete behövs\",'Styrning och kompetens'!D122,\"\")","v":""}]
[null,{"$f":"IF('Styrning och kompetens'!B123=\"Ett mindre förändringsarbete behövs\",'Styrning och kompetens'!A123,\"\")","v":""},{"$f":"IF('Styrning och kompetens'!B123=\"Ett mindre förändringsarbete behövs\",'Styrning och kompetens'!C123,\"\")","v":""},{"$f":"IF('Styrning och kompetens'!B123=\"Ett mindre förändringsarbete behövs\",'Styrning och kompetens'!D123,\"\")","v":""}]
[null,{"$f":"IF('Styrning och kompetens'!B124=\"Ett mindre förändringsarbete behövs\",'Styrning och kompetens'!A124,\"\")","v":""},{"$f":"IF('Styrning och kompetens'!B124=\"Ett mindre förändringsarbete behövs\",'Styrning och kompetens'!C124,\"\")","v":""},{"$f":"IF('Styrning och kompetens'!B124=\"Ett mindre förändringsarbete behövs\",'Styrning och kompetens'!D124,\"\")","v":""}]
[null,{"$f":"IF('Styrning och kompetens'!B125=\"Ett mindre förändringsarbete behövs\",'Styrning och kompetens'!A125,\"\")","v":""},{"$f":"IF('Styrning och kompetens'!B125=\"Ett mindre förändringsarbete behövs\",'Styrning och kompetens'!C125,\"\")","v":""},{"$f":"IF('Styrning och kompetens'!B125=\"Ett mindre förändringsarbete behövs\",'Styrning och kompetens'!D125,\"\")","v":""}]
[null,{"$f":"IF('Styrning och kompetens'!B126=\"Ett mindre förändringsarbete behövs\",'Styrning och kompetens'!A126,\"\")","v":""},{"$f":"IF('Styrning och kompetens'!B126=\"Ett mindre förändringsarbete behövs\",'Styrning och kompetens'!C126,\"\")","v":""},{"$f":"IF('Styrning och kompetens'!B126=\"Ett mindre förändringsarbete behövs\",'Styrning och kompetens'!D126,\"\")","v":""}]
[null,{"$f":"IF('Styrning och kompetens'!B127=\"Ett mindre förändringsarbete behövs\",'Styrning och kompetens'!A127,\"\")","v":""},{"$f":"IF('Styrning och kompetens'!B127=\"Ett mindre förändringsarbete behövs\",'Styrning och kompetens'!C127,\"\")","v":""},{"$f":"IF('Styrning och kompetens'!B127=\"Ett mindre förändringsarbete behövs\",'Styrning och kompetens'!D127,\"\")","v":""}]
[null,{"$f":"IF('Styrning och kompetens'!B128=\"Ett mindre förändringsarbete behövs\",'Styrning och kompetens'!A128,\"\")","v":""},{"$f":"IF('Styrning och kompetens'!B128=\"Ett mindre förändringsarbete behövs\",'Styrning och kompetens'!C128,\"\")","v":""},{"$f":"IF('Styrning och kompetens'!B128=\"Ett mindre förändringsarbete behövs\",'Styrning och kompetens'!D128,\"\")","v":""}]
[null,{"$f":"IF('Styrning och kompetens'!B129=\"Ett mindre förändringsarbete behövs\",'Styrning och kompetens'!A129,\"\")","v":""},{"$f":"IF('Styrning och kompetens'!B129=\"Ett mindre förändringsarbete behövs\",'Styrning och kompetens'!C129,\"\")","v":""},{"$f":"IF('Styrning och kompetens'!B129=\"Ett mindre förändringsarbete behövs\",'Styrning och kompetens'!D129,\"\")","v":""}]
[null,{"$f":"IF('Styrning och kompetens'!B130=\"Ett mindre förändringsarbete behövs\",'Styrning och kompetens'!A130,\"\")","v":""},{"$f":"IF('Styrning och kompetens'!B130=\"Ett mindre förändringsarbete behövs\",'Styrning och kompetens'!C130,\"\")","v":""},{"$f":"IF('Styrning och kompetens'!B130=\"Ett mindre förändringsarbete behövs\",'Styrning och kompetens'!D130,\"\")","v":""}]
[null,{"$f":"IF('Styrning och kompetens'!B131=\"Ett mindre förändringsarbete behövs\",'Styrning och kompetens'!A131,\"\")","v":""},{"$f":"IF('Styrning och kompetens'!B131=\"Ett mindre förändringsarbete behövs\",'Styrning och kompetens'!C131,\"\")","v":""},{"$f":"IF('Styrning och kompetens'!B131=\"Ett mindre förändringsarbete behövs\",'Styrning och kompetens'!D131,\"\")","v":""}]
[null,{"$f":"IF('Styrning och kompetens'!B132=\"Ett mindre förändringsarbete behövs\",'Styrning och kompetens'!A132,\"\")","v":""},{"$f":"IF('Styrning och kompetens'!B132=\"Ett mindre förändringsarbete behövs\",'Styrning och kompetens'!C132,\"\")","v":""},{"$f":"IF('Styrning och kompetens'!B132=\"Ett mindre förändringsarbete behövs\",'Styrning och kompetens'!D132,\"\")","v":""}]
[null,{"$f":"IF('Styrning och kompetens'!B133=\"Ett mindre förändringsarbete behövs\",'Styrning och kompetens'!A133,\"\")","v":""},{"$f":"IF('Styrning och kompetens'!B133=\"Ett mindre förändringsarbete behövs\",'Styrning och kompetens'!C133,\"\")","v":""},{"$f":"IF('Styrning och kompetens'!B133=\"Ett mindre förändringsarbete behövs\",'Styrning och kompetens'!D133,\"\")","v":""}]
[null,{"$f":"IF('Styrning och kompetens'!B134=\"Ett mindre förändringsarbete behövs\",'Styrning och kompetens'!A134,\"\")","v":""},{"$f":"IF('Styrning och kompetens'!B134=\"Ett mindre förändringsarbete behövs\",'Styrning och kompetens'!C134,\"\")","v":""},{"$f":"IF('Styrning och kompetens'!B134=\"Ett mindre förändringsarbete behövs\",'Styrning och kompetens'!D134,\"\")","v":""}]
[null,{"$f":"IF('Styrning och kompetens'!B135=\"Ett mindre förändringsarbete behövs\",'Styrning och kompetens'!A135,\"\")","v":""},{"$f":"IF('Styrning och kompetens'!B135=\"Ett mindre förändringsarbete behövs\",'Styrning och kompetens'!C135,\"\")","v":""},{"$f":"IF('Styrning och kompetens'!B135=\"Ett mindre förändringsarbete behövs\",'Styrning och kompetens'!D135,\"\")","v":""}]
[null,{"$f":"IF('Styrning och kompetens'!B136=\"Ett mindre förändringsarbete behövs\",'Styrning och kompetens'!A136,\"\")","v":""},{"$f":"IF('Styrning och kompetens'!B136=\"Ett mindre förändringsarbete behövs\",'Styrning och kompetens'!C136,\"\")","v":""},{"$f":"IF('Styrning och kompetens'!B136=\"Ett mindre förändringsarbete behövs\",'Styrning och kompetens'!D136,\"\")","v":""}]
[null,{"$f":"IF('Styrning och kompetens'!B137=\"Ett mindre förändringsarbete behövs\",'Styrning och kompetens'!A137,\"\")","v":""},{"$f":"IF('Styrning och kompetens'!B137=\"Ett mindre förändringsarbete behövs\",'Styrning och kompetens'!C137,\"\")","v":""},{"$f":"IF('Styrning och kompetens'!B137=\"Ett mindre förändringsarbete behövs\",'Styrning och kompetens'!D137,\"\")","v":""}]
[null,{"$f":"IF('Styrning och kompetens'!B138=\"Ett mindre förändringsarbete behövs\",'Styrning och kompetens'!A138,\"\")","v":""},{"$f":"IF('Styrning och kompetens'!B138=\"Ett mindre förändringsarbete behövs\",'Styrning och kompetens'!C138,\"\")","v":""},{"$f":"IF('Styrning och kompetens'!B138=\"Ett mindre förändringsarbete behövs\",'Styrning och kompetens'!D138,\"\")","v":""}]
[null,{"$f":"IF('Styrning och kompetens'!B139=\"Ett mindre förändringsarbete behövs\",'Styrning och kompetens'!A139,\"\")","v":""},{"$f":"IF('Styrning och kompetens'!B139=\"Ett mindre förändringsarbete behövs\",'Styrning och kompetens'!C139,\"\")","v":""},{"$f":"IF('Styrning och kompetens'!B139=\"Ett mindre förändringsarbete behövs\",'Styrning och kompetens'!D139,\"\")","v":""}]
[null,{"$f":"IF('Styrning och kompetens'!B140=\"Ett mindre förändringsarbete behövs\",'Styrning och kompetens'!A140,\"\")","v":""},{"$f":"IF('Styrning och kompetens'!B140=\"Ett mindre förändringsarbete behövs\",'Styrning och kompetens'!C140,\"\")","v":""},{"$f":"IF('Styrning och kompetens'!B140=\"Ett mindre förändringsarbete behövs\",'Styrning och kompetens'!D140,\"\")","v":""}]
[null,{"$f":"IF('Styrning och kompetens'!B141=\"Ett mindre förändringsarbete behövs\",'Styrning och kompetens'!A141,\"\")","v":""},{"$f":"IF('Styrning och kompetens'!B141=\"Ett mindre förändringsarbete behövs\",'Styrning och kompetens'!C141,\"\")","v":""},{"$f":"IF('Styrning och kompetens'!B141=\"Ett mindre förändringsarbete behövs\",'Styrning och kompetens'!D141,\"\")","v":""}]
[null,{"$f":"IF('Styrning och kompetens'!B142=\"Ett mindre förändringsarbete behövs\",'Styrning och kompetens'!A142,\"\")","v":""},{"$f":"IF('Styrning och kompetens'!B142=\"Ett mindre förändringsarbete behövs\",'Styrning och kompetens'!C142,\"\")","v":""},{"$f":"IF('Styrning och kompetens'!B142=\"Ett mindre förändringsarbete behövs\",'Styrning och kompetens'!D142,\"\")","v":""}]
[null,{"$f":"IF('Styrning och kompetens'!B143=\"Ett mindre förändringsarbete behövs\",'Styrning och kompetens'!A143,\"\")","v":""},{"$f":"IF('Styrning och kompetens'!B143=\"Ett mindre förändringsarbete behövs\",'Styrning och kompetens'!C143,\"\")","v":""},{"$f":"IF('Styrning och kompetens'!B143=\"Ett mindre förändringsarbete behövs\",'Styrning och kompetens'!D143,\"\")","v":""}]
[null,{"$f":"IF('Styrning och kompetens'!B144=\"Ett mindre förändringsarbete behövs\",'Styrning och kompetens'!A144,\"\")","v":""},{"$f":"IF('Styrning och kompetens'!B144=\"Ett mindre förändringsarbete behövs\",'Styrning och kompetens'!C144,\"\")","v":""},{"$f":"IF('Styrning och kompetens'!B144=\"Ett mindre förändringsarbete behövs\",'Styrning och kompetens'!D144,\"\")","v":""}]
[null,{"$f":"IF('Styrning och kompetens'!B145=\"Ett mindre förändringsarbete behövs\",'Styrning och kompetens'!A145,\"\")","v":""},{"$f":"IF('Styrning och kompetens'!B145=\"Ett mindre förändringsarbete behövs\",'Styrning och kompetens'!C145,\"\")","v":""},{"$f":"IF('Styrning och kompetens'!B145=\"Ett mindre förändringsarbete behövs\",'Styrning och kompetens'!D145,\"\")","v":""}]
[null,{"$f":"IF('Styrning och kompetens'!B146=\"Ett mindre förändringsarbete behövs\",'Styrning och kompetens'!A146,\"\")","v":""},{"$f":"IF('Styrning och kompetens'!B146=\"Ett mindre förändringsarbete behövs\",'Styrning och kompetens'!C146,\"\")","v":""},{"$f":"IF('Styrning och kompetens'!B146=\"Ett mindre förändringsarbete behövs\",'Styrning och kompetens'!D146,\"\")","v":""}]
[null,{"$f":"IF('Styrning och kompetens'!B147=\"Ett mindre förändringsarbete behövs\",'Styrning och kompetens'!A147,\"\")","v":""},{"$f":"IF('Styrning och kompetens'!B147=\"Ett mindre förändringsarbete behövs\",'Styrning och kompetens'!C147,\"\")","v":""},{"$f":"IF('Styrning och kompetens'!B147=\"Ett mindre förändringsarbete behövs\",'Styrning och kompetens'!D147,\"\")","v":""}]
[null,{"$f":"IF('Styrning och kompetens'!B148=\"Ett mindre förändringsarbete behövs\",'Styrning och kompetens'!A148,\"\")","v":""},{"$f":"IF('Styrning och kompetens'!B148=\"Ett mindre förändringsarbete behövs\",'Styrning och kompetens'!C148,\"\")","v":""},{"$f":"IF('Styrning och kompetens'!B148=\"Ett mindre förändringsarbete behövs\",'Styrning och kompetens'!D148,\"\")","v":""}]
[null,{"$f":"IF('Styrning och kompetens'!B149=\"Ett mindre förändringsarbete behövs\",'Styrning och kompetens'!A149,\"\")","v":""},{"$f":"IF('Styrning och kompetens'!B149=\"Ett mindre förändringsarbete behövs\",'Styrning och kompetens'!C149,\"\")","v":""},{"$f":"IF('Styrning och kompetens'!B149=\"Ett mindre förändringsarbete behövs\",'Styrning och kompetens'!D149,\"\")","v":""}]
[null,{"$f":"IF('Styrning och kompetens'!B150=\"Ett mindre förändringsarbete behövs\",'Styrning och kompetens'!A150,\"\")","v":""},{"$f":"IF('Styrning och kompetens'!B150=\"Ett mindre förändringsarbete behövs\",'Styrning och kompetens'!C150,\"\")","v":""},{"$f":"IF('Styrning och kompetens'!B150=\"Ett mindre förändringsarbete behövs\",'Styrning och kompetens'!D150,\"\")","v":""}]
[null,{"$f":"IF('Styrning och kompetens'!B151=\"Ett mindre förändringsarbete behövs\",'Styrning och kompetens'!A151,\"\")","v":""},{"$f":"IF('Styrning och kompetens'!B151=\"Ett mindre förändringsarbete behövs\",'Styrning och kompetens'!C151,\"\")","v":""},{"$f":"IF('Styrning och kompetens'!B151=\"Ett mindre förändringsarbete behövs\",'Styrning och kompetens'!D151,\"\")","v":""}]
[null,{"$f":"IF('Styrning och kompetens'!B152=\"Ett mindre förändringsarbete behövs\",'Styrning och kompetens'!A152,\"\")","v":""},{"$f":"IF('Styrning och kompetens'!B152=\"Ett mindre förändringsarbete behövs\",'Styrning och kompetens'!C152,\"\")","v":""},{"$f":"IF('Styrning och kompetens'!B152=\"Ett mindre förändringsarbete behövs\",'Styrning och kompetens'!D152,\"\")","v":""}]
[null,{"$f":"IF('Styrning och kompetens'!B153=\"Ett mindre förändringsarbete behövs\",'Styrning och kompetens'!A153,\"\")","v":""},{"$f":"IF('Styrning och kompetens'!B153=\"Ett mindre förändringsarbete behövs\",'Styrning och kompetens'!C153,\"\")","v":""},{"$f":"IF('Styrning och kompetens'!B153=\"Ett mindre förändringsarbete behövs\",'Styrning och kompetens'!D153,\"\")","v":""}]
[null,{"$f":"IF('Styrning och kompetens'!B154=\"Ett mindre förändringsarbete behövs\",'Styrning och kompetens'!A154,\"\")","v":""},{"$f":"IF('Styrning och kompetens'!B154=\"Ett mindre förändringsarbete behövs\",'Styrning och kompetens'!C154,\"\")","v":""},{"$f":"IF('Styrning och kompetens'!B154=\"Ett mindre förändringsarbete behövs\",'Styrning och kompetens'!D154,\"\")","v":""}]
[null,{"$f":"IF('Styrning och kompetens'!B155=\"Ett mindre förändringsarbete behövs\",'Styrning och kompetens'!A155,\"\")","v":""},{"$f":"IF('Styrning och kompetens'!B155=\"Ett mindre förändringsarbete behövs\",'Styrning och kompetens'!C155,\"\")","v":""},{"$f":"IF('Styrning och kompetens'!B155=\"Ett mindre förändringsarbete behövs\",'Styrning och kompetens'!D155,\"\")","v":""}]
[null,{"$f":"IF('Styrning och kompetens'!B156=\"Ett mindre förändringsarbete behövs\",'Styrning och kompetens'!A156,\"\")","v":""},{"$f":"IF('Styrning och kompetens'!B156=\"Ett mindre förändringsarbete behövs\",'Styrning och kompetens'!C156,\"\")","v":""},{"$f":"IF('Styrning och kompetens'!B156=\"Ett mindre förändringsarbete behövs\",'Styrning och kompetens'!D156,\"\")","v":""}]
[null,{"$f":"IF('Styrning och kompetens'!B157=\"Ett mindre förändringsarbete behövs\",'Styrning och kompetens'!A157,\"\")","v":""},{"$f":"IF('Styrning och kompetens'!B157=\"Ett mindre förändringsarbete behövs\",'Styrning och kompetens'!C157,\"\")","v":""},{"$f":"IF('Styrning och kompetens'!B157=\"Ett mindre förändringsarbete behövs\",'Styrning och kompetens'!D157,\"\")","v":""}]
[null,{"$f":"IF('Styrning och kompetens'!B158=\"Ett mindre förändringsarbete behövs\",'Styrning och kompetens'!A158,\"\")","v":""},{"$f":"IF('Styrning och kompetens'!B158=\"Ett mindre förändringsarbete behövs\",'Styrning och kompetens'!C158,\"\")","v":""},{"$f":"IF('Styrning och kompetens'!B158=\"Ett mindre förändringsarbete behövs\",'Styrning och kompetens'!D158,\"\")","v":""}]
[null,{"$f":"IF('Styrning och kompetens'!B159=\"Ett mindre förändringsarbete behövs\",'Styrning och kompetens'!A159,\"\")","v":""},{"$f":"IF('Styrning och kompetens'!B159=\"Ett mindre förändringsarbete behövs\",'Styrning och kompetens'!C159,\"\")","v":""},{"$f":"IF('Styrning och kompetens'!B159=\"Ett mindre förändringsarbete behövs\",'Styrning och kompetens'!D159,\"\")","v":""}]
[null,{"$f":"IF('Styrning och kompetens'!B160=\"Ett mindre förändringsarbete behövs\",'Styrning och kompetens'!A160,\"\")","v":""},{"$f":"IF('Styrning och kompetens'!B160=\"Ett mindre förändringsarbete behövs\",'Styrning och kompetens'!C160,\"\")","v":""},{"$f":"IF('Styrning och kompetens'!B160=\"Ett mindre förändringsarbete behövs\",'Styrning och kompetens'!D160,\"\")","v":""}]
[null,{"$f":"IF('Styrning och kompetens'!B161=\"Ett mindre förändringsarbete behövs\",'Styrning och kompetens'!A161,\"\")","v":""},{"$f":"IF('Styrning och kompetens'!B161=\"Ett mindre förändringsarbete behövs\",'Styrning och kompetens'!C161,\"\")","v":""},{"$f":"IF('Styrning och kompetens'!B161=\"Ett mindre förändringsarbete behövs\",'Styrning och kompetens'!D161,\"\")","v":""}]
[null,{"$f":"IF('Styrning och kompetens'!B162=\"Ett mindre förändringsarbete behövs\",'Styrning och kompetens'!A162,\"\")","v":""},{"$f":"IF('Styrning och kompetens'!B162=\"Ett mindre förändringsarbete behövs\",'Styrning och kompetens'!C162,\"\")","v":""},{"$f":"IF('Styrning och kompetens'!B162=\"Ett mindre förändringsarbete behövs\",'Styrning och kompetens'!D162,\"\")","v":""}]
[null,{"$f":"IF('Styrning och kompetens'!B163=\"Ett mindre förändringsarbete behövs\",'Styrning och kompetens'!A163,\"\")","v":""},{"$f":"IF('Styrning och kompetens'!B163=\"Ett mindre förändringsarbete behövs\",'Styrning och kompetens'!C163,\"\")","v":""},{"$f":"IF('Styrning och kompetens'!B163=\"Ett mindre förändringsarbete behövs\",'Styrning och kompetens'!D163,\"\")","v":""}]
[null,{"$f":"IF('Styrning och kompetens'!B164=\"Ett mindre förändringsarbete behövs\",'Styrning och kompetens'!A164,\"\")","v":""},{"$f":"IF('Styrning och kompetens'!B164=\"Ett mindre förändringsarbete behövs\",'Styrning och kompetens'!C164,\"\")","v":""},{"$f":"IF('Styrning och kompetens'!B164=\"Ett mindre förändringsarbete behövs\",'Styrning och kompetens'!D164,\"\")","v":""}]
[null,{"$f":"IF('Styrning och kompetens'!B165=\"Ett mindre förändringsarbete behövs\",'Styrning och kompetens'!A165,\"\")","v":""},{"$f":"IF('Styrning och kompetens'!B165=\"Ett mindre förändringsarbete behövs\",'Styrning och kompetens'!C165,\"\")","v":""},{"$f":"IF('Styrning och kompetens'!B165=\"Ett mindre förändringsarbete behövs\",'Styrning och kompetens'!D165,\"\")","v":""}]
[null,{"$f":"IF('Styrning och kompetens'!B166=\"Ett mindre förändringsarbete behövs\",'Styrning och kompetens'!A166,\"\")","v":""},{"$f":"IF('Styrning och kompetens'!B166=\"Ett mindre förändringsarbete behövs\",'Styrning och kompetens'!C166,\"\")","v":""},{"$f":"IF('Styrning och kompetens'!B166=\"Ett mindre förändringsarbete behövs\",'Styrning och kompetens'!D166,\"\")","v":""}]
[null,{"$f":"IF('Styrning och kompetens'!B167=\"Ett mindre förändringsarbete behövs\",'Styrning och kompetens'!A167,\"\")","v":""},{"$f":"IF('Styrning och kompetens'!B167=\"Ett mindre förändringsarbete behövs\",'Styrning och kompetens'!C167,\"\")","v":""},{"$f":"IF('Styrning och kompetens'!B167=\"Ett mindre förändringsarbete behövs\",'Styrning och kompetens'!D167,\"\")","v":""}]
[null,{"$f":"IF('Styrning och kompetens'!B168=\"Ett mindre förändringsarbete behövs\",'Styrning och kompetens'!A168,\"\")","v":""},{"$f":"IF('Styrning och kompetens'!B168=\"Ett mindre förändringsarbete behövs\",'Styrning och kompetens'!C168,\"\")","v":""},{"$f":"IF('Styrning och kompetens'!B168=\"Ett mindre förändringsarbete behövs\",'Styrning och kompetens'!D168,\"\")","v":""}]
[null,{"$f":"IF('Styrning och kompetens'!B169=\"Ett mindre förändringsarbete behövs\",'Styrning och kompetens'!A169,\"\")","v":""},{"$f":"IF('Styrning och kompetens'!B169=\"Ett mindre förändringsarbete behövs\",'Styrning och kompetens'!C169,\"\")","v":""},{"$f":"IF('Styrning och kompetens'!B169=\"Ett mindre förändringsarbete behövs\",'Styrning och kompetens'!D169,\"\")","v":""}]
[null,{"$f":"IF('Styrning och kompetens'!B170=\"Ett mindre förändringsarbete behövs\",'Styrning och kompetens'!A170,\"\")","v":""},{"$f":"IF('Styrning och kompetens'!B170=\"Ett mindre förändringsarbete behövs\",'Styrning och kompetens'!C170,\"\")","v":""},{"$f":"IF('Styrning och kompetens'!B170=\"Ett mindre förändringsarbete behövs\",'Styrning och kompetens'!D170,\"\")","v":""}]
[null,{"$f":"IF('Handläggning och uppföljning'!B4=\"Ett mindre förändringsarbete behövs\",'Handläggning och uppföljning'!A4,\"\")","v":""},{"$f":"IF('Handläggning och uppföljning'!B4=\"Ett mindre förändringsarbete behövs\",'Handläggning och uppföljning'!C4,\"\")","v":""},{"$f":"IF('Handläggning och uppföljning'!B4=\"Ett mindre förändringsarbete behövs\",'Handläggning och uppföljning'!D4,\"\")","v":""}]
[null,{"$f":"IF('Handläggning och uppföljning'!B5=\"Ett mindre förändringsarbete behövs\",'Handläggning och uppföljning'!A5,\"\")","v":""},{"$f":"IF('Handläggning och uppföljning'!B5=\"Ett mindre förändringsarbete behövs\",'Handläggning och uppföljning'!C5,\"\")","v":""},{"$f":"IF('Handläggning och uppföljning'!B5=\"Ett mindre förändringsarbete behövs\",'Handläggning och uppföljning'!D5,\"\")","v":""}]
[null,{"$f":"IF('Handläggning och uppföljning'!B6=\"Ett mindre förändringsarbete behövs\",'Handläggning och uppföljning'!A6,\"\")","v":""},{"$f":"IF('Handläggning och uppföljning'!B6=\"Ett mindre förändringsarbete behövs\",'Handläggning och uppföljning'!C6,\"\")","v":""},{"$f":"IF('Handläggning och uppföljning'!B6=\"Ett mindre förändringsarbete behövs\",'Handläggning och uppföljning'!D6,\"\")","v":""}]
[null,{"$f":"IF('Handläggning och uppföljning'!B7=\"Ett mindre förändringsarbete behövs\",'Handläggning och uppföljning'!A7,\"\")","v":""},{"$f":"IF('Handläggning och uppföljning'!B7=\"Ett mindre förändringsarbete behövs\",'Handläggning och uppföljning'!C7,\"\")","v":""},{"$f":"IF('Handläggning och uppföljning'!B7=\"Ett mindre förändringsarbete behövs\",'Handläggning och uppföljning'!D7,\"\")","v":""}]
[null,{"$f":"IF('Handläggning och uppföljning'!B8=\"Ett mindre förändringsarbete behövs\",'Handläggning och uppföljning'!A8,\"\")","v":""},{"$f":"IF('Handläggning och uppföljning'!B8=\"Ett mindre förändringsarbete behövs\",'Handläggning och uppföljning'!C8,\"\")","v":""},{"$f":"IF('Handläggning och uppföljning'!B8=\"Ett mindre förändringsarbete behövs\",'Handläggning och uppföljning'!D8,\"\")","v":""}]
[null,{"$f":"IF('Handläggning och uppföljning'!B9=\"Ett mindre förändringsarbete behövs\",'Handläggning och uppföljning'!A9,\"\")","v":""},{"$f":"IF('Handläggning och uppföljning'!B9=\"Ett mindre förändringsarbete behövs\",'Handläggning och uppföljning'!C9,\"\")","v":""},{"$f":"IF('Handläggning och uppföljning'!B9=\"Ett mindre förändringsarbete behövs\",'Handläggning och uppföljning'!D9,\"\")","v":""}]
[null,{"$f":"IF('Handläggning och uppföljning'!B10=\"Ett mindre förändringsarbete behövs\",'Handläggning och uppföljning'!A10,\"\")","v":""},{"$f":"IF('Handläggning och uppföljning'!B10=\"Ett mindre förändringsarbete behövs\",'Handläggning och uppföljning'!C10,\"\")","v":""},{"$f":"IF('Handläggning och uppföljning'!B10=\"Ett mindre förändringsarbete behövs\",'Handläggning och uppföljning'!D10,\"\")","v":""}]
[null,{"$f":"IF('Handläggning och uppföljning'!B11=\"Ett mindre förändringsarbete behövs\",'Handläggning och uppföljning'!A11,\"\")","v":""},{"$f":"IF('Handläggning och uppföljning'!B11=\"Ett mindre förändringsarbete behövs\",'Handläggning och uppföljning'!C11,\"\")","v":""},{"$f":"IF('Handläggning och uppföljning'!B11=\"Ett mindre förändringsarbete behövs\",'Handläggning och uppföljning'!D11,\"\")","v":""}]
[null,{"$f":"IF('Handläggning och uppföljning'!B12=\"Ett mindre förändringsarbete behövs\",'Handläggning och uppföljning'!A12,\"\")","v":""},{"$f":"IF('Handläggning och uppföljning'!B12=\"Ett mindre förändringsarbete behövs\",'Handläggning och uppföljning'!C12,\"\")","v":""},{"$f":"IF('Handläggning och uppföljning'!B12=\"Ett mindre förändringsarbete behövs\",'Handläggning och uppföljning'!D12,\"\")","v":""}]
[null,{"$f":"IF('Handläggning och uppföljning'!B13=\"Ett mindre förändringsarbete behövs\",'Handläggning och uppföljning'!A13,\"\")","v":""},{"$f":"IF('Handläggning och uppföljning'!B13=\"Ett mindre förändringsarbete behövs\",'Handläggning och uppföljning'!C13,\"\")","v":""},{"$f":"IF('Handläggning och uppföljning'!B13=\"Ett mindre förändringsarbete behövs\",'Handläggning och uppföljning'!D13,\"\")","v":""}]
[null,{"$f":"IF('Handläggning och uppföljning'!B14=\"Ett mindre förändringsarbete behövs\",'Handläggning och uppföljning'!A14,\"\")","v":""},{"$f":"IF('Handläggning och uppföljning'!B14=\"Ett mindre förändringsarbete behövs\",'Handläggning och uppföljning'!C14,\"\")","v":""},{"$f":"IF('Handläggning och uppföljning'!B14=\"Ett mindre förändringsarbete behövs\",'Handläggning och uppföljning'!D14,\"\")","v":""}]
[null,{"$f":"IF('Handläggning och uppföljning'!B15=\"Ett mindre förändringsarbete behövs\",'Handläggning och uppföljning'!A15,\"\")","v":""},{"$f":"IF('Handläggning och uppföljning'!B15=\"Ett mindre förändringsarbete behövs\",'Handläggning och uppföljning'!C15,\"\")","v":""},{"$f":"IF('Handläggning och uppföljning'!B15=\"Ett mindre förändringsarbete behövs\",'Handläggning och uppföljning'!D15,\"\")","v":""}]
[null,{"$f":"IF('Handläggning och uppföljning'!B16=\"Ett mindre förändringsarbete behövs\",'Handläggning och uppföljning'!A16,\"\")","v":""},{"$f":"IF('Handläggning och uppföljning'!B16=\"Ett mindre förändringsarbete behövs\",'Handläggning och uppföljning'!C16,\"\")","v":""},{"$f":"IF('Handläggning och uppföljning'!B16=\"Ett mindre förändringsarbete behövs\",'Handläggning och uppföljning'!D16,\"\")","v":""}]
[null,{"$f":"IF('Handläggning och uppföljning'!B17=\"Ett mindre förändringsarbete behövs\",'Handläggning och uppföljning'!A17,\"\")","v":""},{"$f":"IF('Handläggning och uppföljning'!B17=\"Ett mindre förändringsarbete behövs\",'Handläggning och uppföljning'!C17,\"\")","v":""},{"$f":"IF('Handläggning och uppföljning'!B17=\"Ett mindre förändringsarbete behövs\",'Handläggning och uppföljning'!D17,\"\")","v":""}]
[null,{"$f":"IF('Handläggning och uppföljning'!B18=\"Ett mindre förändringsarbete behövs\",'Handläggning och uppföljning'!A18,\"\")","v":""},{"$f":"IF('Handläggning och uppföljning'!B18=\"Ett mindre förändringsarbete behövs\",'Handläggning och uppföljning'!C18,\"\")","v":""},{"$f":"IF('Handläggning och uppföljning'!B18=\"Ett mindre förändringsarbete behövs\",'Handläggning och uppföljning'!D18,\"\")","v":""}]
[null,{"$f":"IF('Handläggning och uppföljning'!B19=\"Ett mindre förändringsarbete behövs\",'Handläggning och uppföljning'!A19,\"\")","v":""},{"$f":"IF('Handläggning och uppföljning'!B19=\"Ett mindre förändringsarbete behövs\",'Handläggning och uppföljning'!C19,\"\")","v":""},{"$f":"IF('Handläggning och uppföljning'!B19=\"Ett mindre förändringsarbete behövs\",'Handläggning och uppföljning'!D19,\"\")","v":""}]
[null,{"$f":"IF('Handläggning och uppföljning'!B20=\"Ett mindre förändringsarbete behövs\",'Handläggning och uppföljning'!A20,\"\")","v":""},{"$f":"IF('Handläggning och uppföljning'!B20=\"Ett mindre förändringsarbete behövs\",'Handläggning och uppföljning'!C20,\"\")","v":""},{"$f":"IF('Handläggning och uppföljning'!B20=\"Ett mindre förändringsarbete behövs\",'Handläggning och uppföljning'!D20,\"\")","v":""}]
[null,{"$f":"IF('Handläggning och uppföljning'!B21=\"Ett mindre förändringsarbete behövs\",'Handläggning och uppföljning'!A21,\"\")","v":""},{"$f":"IF('Handläggning och uppföljning'!B21=\"Ett mindre förändringsarbete behövs\",'Handläggning och uppföljning'!C21,\"\")","v":""},{"$f":"IF('Handläggning och uppföljning'!B21=\"Ett mindre förändringsarbete behövs\",'Handläggning och uppföljning'!D21,\"\")","v":""}]
[null,{"$f":"IF('Handläggning och uppföljning'!B22=\"Ett mindre förändringsarbete behövs\",'Handläggning och uppföljning'!A22,\"\")","v":""},{"$f":"IF('Handläggning och uppföljning'!B22=\"Ett mindre förändringsarbete behövs\",'Handläggning och uppföljning'!C22,\"\")","v":""},{"$f":"IF('Handläggning och uppföljning'!B22=\"Ett mindre förändringsarbete behövs\",'Handläggning och uppföljning'!D22,\"\")","v":""}]
[null,{"$f":"IF('Handläggning och uppföljning'!B23=\"Ett mindre förändringsarbete behövs\",'Handläggning och uppföljning'!A23,\"\")","v":""},{"$f":"IF('Handläggning och uppföljning'!B23=\"Ett mindre förändringsarbete behövs\",'Handläggning och uppföljning'!C23,\"\")","v":""},{"$f":"IF('Handläggning och uppföljning'!B23=\"Ett mindre förändringsarbete behövs\",'Handläggning och uppföljning'!D23,\"\")","v":""}]
[null,{"$f":"IF('Handläggning och uppföljning'!B24=\"Ett mindre förändringsarbete behövs\",'Handläggning och uppföljning'!A24,\"\")","v":""},{"$f":"IF('Handläggning och uppföljning'!B24=\"Ett mindre förändringsarbete behövs\",'Handläggning och uppföljning'!C24,\"\")","v":""},{"$f":"IF('Handläggning och uppföljning'!B24=\"Ett mindre förändringsarbete behövs\",'Handläggning och uppföljning'!D24,\"\")","v":""}]
[null,{"$f":"IF('Handläggning och uppföljning'!B25=\"Ett mindre förändringsarbete behövs\",'Handläggning och uppföljning'!A25,\"\")","v":""},{"$f":"IF('Handläggning och uppföljning'!B25=\"Ett mindre förändringsarbete behövs\",'Handläggning och uppföljning'!C25,\"\")","v":""},{"$f":"IF('Handläggning och uppföljning'!B25=\"Ett mindre förändringsarbete behövs\",'Handläggning och uppföljning'!D25,\"\")","v":""}]
[null,{"$f":"IF('Handläggning och uppföljning'!B26=\"Ett mindre förändringsarbete behövs\",'Handläggning och uppföljning'!A26,\"\")","v":""},{"$f":"IF('Handläggning och uppföljning'!B26=\"Ett mindre förändringsarbete behövs\",'Handläggning och uppföljning'!C26,\"\")","v":""},{"$f":"IF('Handläggning och uppföljning'!B26=\"Ett mindre förändringsarbete behövs\",'Handläggning och uppföljning'!D26,\"\")","v":""}]
[null,{"$f":"IF('Handläggning och uppföljning'!B27=\"Ett mindre förändringsarbete behövs\",'Handläggning och uppföljning'!A27,\"\")","v":""},{"$f":"IF('Handläggning och uppföljning'!B27=\"Ett mindre förändringsarbete behövs\",'Handläggning och uppföljning'!C27,\"\")","v":""},{"$f":"IF('Handläggning och uppföljning'!B27=\"Ett mindre förändringsarbete behövs\",'Handläggning och uppföljning'!D27,\"\")","v":""}]
[null,{"$f":"IF('Handläggning och uppföljning'!B28=\"Ett mindre förändringsarbete behövs\",'Handläggning och uppföljning'!A28,\"\")","v":""},{"$f":"IF('Handläggning och uppföljning'!B28=\"Ett mindre förändringsarbete behövs\",'Handläggning och uppföljning'!C28,\"\")","v":""},{"$f":"IF('Handläggning och uppföljning'!B28=\"Ett mindre förändringsarbete behövs\",'Handläggning och uppföljning'!D28,\"\")","v":""}]
[null,{"$f":"IF('Handläggning och uppföljning'!B29=\"Ett mindre förändringsarbete behövs\",'Handläggning och uppföljning'!A29,\"\")","v":""},{"$f":"IF('Handläggning och uppföljning'!B29=\"Ett mindre förändringsarbete behövs\",'Handläggning och uppföljning'!C29,\"\")","v":""},{"$f":"IF('Handläggning och uppföljning'!B29=\"Ett mindre förändringsarbete behövs\",'Handläggning och uppföljning'!D29,\"\")","v":""}]
[null,{"$f":"IF('Handläggning och uppföljning'!B30=\"Ett mindre förändringsarbete behövs\",'Handläggning och uppföljning'!A30,\"\")","v":""},{"$f":"IF('Handläggning och uppföljning'!B30=\"Ett mindre förändringsarbete behövs\",'Handläggning och uppföljning'!C30,\"\")","v":""},{"$f":"IF('Handläggning och uppföljning'!B30=\"Ett mindre förändringsarbete behövs\",'Handläggning och uppföljning'!D30,\"\")","v":""}]
[null,{"$f":"IF('Handläggning och uppföljning'!B31=\"Ett mindre förändringsarbete behövs\",'Handläggning och uppföljning'!A31,\"\")","v":""},{"$f":"IF('Handläggning och uppföljning'!B31=\"Ett mindre förändringsarbete behövs\",'Handläggning och uppföljning'!C31,\"\")","v":""},{"$f":"IF('Handläggning och uppföljning'!B31=\"Ett mindre förändringsarbete behövs\",'Handläggning och uppföljning'!D31,\"\")","v":""}]
[null,{"$f":"IF('Handläggning och uppföljning'!B32=\"Ett mindre förändringsarbete behövs\",'Handläggning och uppföljning'!A32,\"\")","v":""},{"$f":"IF('Handläggning och uppföljning'!B32=\"Ett mindre förändringsarbete behövs\",'Handläggning och uppföljning'!C32,\"\")","v":""},{"$f":"IF('Handläggning och uppföljning'!B32=\"Ett mindre förändringsarbete behövs\",'Handläggning och uppföljning'!D32,\"\")","v":""}]
[null,{"$f":"IF('Handläggning och uppföljning'!B33=\"Ett mindre förändringsarbete behövs\",'Handläggning och uppföljning'!A33,\"\")","v":""},{"$f":"IF('Handläggning och uppföljning'!B33=\"Ett mindre förändringsarbete behövs\",'Handläggning och uppföljning'!C33,\"\")","v":""},{"$f":"IF('Handläggning och uppföljning'!B33=\"Ett mindre förändringsarbete behövs\",'Handläggning och uppföljning'!D33,\"\")","v":""}]
[null,{"$f":"IF('Handläggning och uppföljning'!B34=\"Ett mindre förändringsarbete behövs\",'Handläggning och uppföljning'!A34,\"\")","v":""},{"$f":"IF('Handläggning och uppföljning'!B34=\"Ett mindre förändringsarbete behövs\",'Handläggning och uppföljning'!C34,\"\")","v":""},{"$f":"IF('Handläggning och uppföljning'!B34=\"Ett mindre förändringsarbete behövs\",'Handläggning och uppföljning'!D34,\"\")","v":""}]
[null,{"$f":"IF('Handläggning och uppföljning'!B35=\"Ett mindre förändringsarbete behövs\",'Handläggning och uppföljning'!A35,\"\")","v":""},{"$f":"IF('Handläggning och uppföljning'!B35=\"Ett mindre förändringsarbete behövs\",'Handläggning och uppföljning'!C35,\"\")","v":""},{"$f":"IF('Handläggning och uppföljning'!B35=\"Ett mindre förändringsarbete behövs\",'Handläggning och uppföljning'!D35,\"\")","v":""}]
[null,{"$f":"IF('Handläggning och uppföljning'!B36=\"Ett mindre förändringsarbete behövs\",'Handläggning och uppföljning'!A36,\"\")","v":""},{"$f":"IF('Handläggning och uppföljning'!B36=\"Ett mindre förändringsarbete behövs\",'Handläggning och uppföljning'!C36,\"\")","v":""},{"$f":"IF('Handläggning och uppföljning'!B36=\"Ett mindre förändringsarbete behövs\",'Handläggning och uppföljning'!D36,\"\")","v":""}]
[null,{"$f":"IF('Handläggning och uppföljning'!B37=\"Ett mindre förändringsarbete behövs\",'Handläggning och uppföljning'!A37,\"\")","v":""},{"$f":"IF('Handläggning och uppföljning'!B37=\"Ett mindre förändringsarbete behövs\",'Handläggning och uppföljning'!C37,\"\")","v":""},{"$f":"IF('Handläggning och uppföljning'!B37=\"Ett mindre förändringsarbete behövs\",'Handläggning och uppföljning'!D37,\"\")","v":""}]
[null,{"$f":"IF('Handläggning och uppföljning'!B38=\"Ett mindre förändringsarbete behövs\",'Handläggning och uppföljning'!A38,\"\")","v":""},{"$f":"IF('Handläggning och uppföljning'!B38=\"Ett mindre förändringsarbete behövs\",'Handläggning och uppföljning'!C38,\"\")","v":""},{"$f":"IF('Handläggning och uppföljning'!B38=\"Ett mindre förändringsarbete behövs\",'Handläggning och uppföljning'!D38,\"\")","v":""}]
[null,{"$f":"IF('Handläggning och uppföljning'!B39=\"Ett mindre förändringsarbete behövs\",'Handläggning och uppföljning'!A39,\"\")","v":""},{"$f":"IF('Handläggning och uppföljning'!B39=\"Ett mindre förändringsarbete behövs\",'Handläggning och uppföljning'!C39,\"\")","v":""},{"$f":"IF('Handläggning och uppföljning'!B39=\"Ett mindre förändringsarbete behövs\",'Handläggning och uppföljning'!D39,\"\")","v":""}]
[null,{"$f":"IF('Handläggning och uppföljning'!B40=\"Ett mindre förändringsarbete behövs\",'Handläggning och uppföljning'!A40,\"\")","v":""},{"$f":"IF('Handläggning och uppföljning'!B40=\"Ett mindre förändringsarbete behövs\",'Handläggning och uppföljning'!C40,\"\")","v":""},{"$f":"IF('Handläggning och uppföljning'!B40=\"Ett mindre förändringsarbete behövs\",'Handläggning och uppföljning'!D40,\"\")","v":""}]
[null,{"$f":"IF('Handläggning och uppföljning'!B41=\"Ett mindre förändringsarbete behövs\",'Handläggning och uppföljning'!A41,\"\")","v":""},{"$f":"IF('Handläggning och uppföljning'!B41=\"Ett mindre förändringsarbete behövs\",'Handläggning och uppföljning'!C41,\"\")","v":""},{"$f":"IF('Handläggning och uppföljning'!B41=\"Ett mindre förändringsarbete behövs\",'Handläggning och uppföljning'!D41,\"\")","v":""}]
[null,{"$f":"IF('Handläggning och uppföljning'!B42=\"Ett mindre förändringsarbete behövs\",'Handläggning och uppföljning'!A42,\"\")","v":""},{"$f":"IF('Handläggning och uppföljning'!B42=\"Ett mindre förändringsarbete behövs\",'Handläggning och uppföljning'!C42,\"\")","v":""},{"$f":"IF('Handläggning och uppföljning'!B42=\"Ett mindre förändringsarbete behövs\",'Handläggning och uppföljning'!D42,\"\")","v":""}]
[null,{"$f":"IF('Handläggning och uppföljning'!B43=\"Ett mindre förändringsarbete behövs\",'Handläggning och uppföljning'!A43,\"\")","v":""},{"$f":"IF('Handläggning och uppföljning'!B43=\"Ett mindre förändringsarbete behövs\",'Handläggning och uppföljning'!C43,\"\")","v":""},{"$f":"IF('Handläggning och uppföljning'!B43=\"Ett mindre förändringsarbete behövs\",'Handläggning och uppföljning'!D43,\"\")","v":""}]
[null,{"$f":"IF('Handläggning och uppföljning'!B44=\"Ett mindre förändringsarbete behövs\",'Handläggning och uppföljning'!A44,\"\")","v":""},{"$f":"IF('Handläggning och uppföljning'!B44=\"Ett mindre förändringsarbete behövs\",'Handläggning och uppföljning'!C44,\"\")","v":""},{"$f":"IF('Handläggning och uppföljning'!B44=\"Ett mindre förändringsarbete behövs\",'Handläggning och uppföljning'!D44,\"\")","v":""}]
[null,{"$f":"IF('Handläggning och uppföljning'!B45=\"Ett mindre förändringsarbete behövs\",'Handläggning och uppföljning'!A45,\"\")","v":""},{"$f":"IF('Handläggning och uppföljning'!B45=\"Ett mindre förändringsarbete behövs\",'Handläggning och uppföljning'!C45,\"\")","v":""},{"$f":"IF('Handläggning och uppföljning'!B45=\"Ett mindre förändringsarbete behövs\",'Handläggning och uppföljning'!D45,\"\")","v":""}]
[null,{"$f":"IF('Handläggning och uppföljning'!B46=\"Ett mindre förändringsarbete behövs\",'Handläggning och uppföljning'!A46,\"\")","v":""},{"$f":"IF('Handläggning och uppföljning'!B46=\"Ett mindre förändringsarbete behövs\",'Handläggning och uppföljning'!C46,\"\")","v":""},{"$f":"IF('Handläggning och uppföljning'!B46=\"Ett mindre förändringsarbete behövs\",'Handläggning och uppföljning'!D46,\"\")","v":""}]
[null,{"$f":"IF('Handläggning och uppföljning'!B47=\"Ett mindre förändringsarbete behövs\",'Handläggning och uppföljning'!A47,\"\")","v":""},{"$f":"IF('Handläggning och uppföljning'!B47=\"Ett mindre förändringsarbete behövs\",'Handläggning och uppföljning'!C47,\"\")","v":""},{"$f":"IF('Handläggning och uppföljning'!B47=\"Ett mindre förändringsarbete behövs\",'Handläggning och uppföljning'!D47,\"\")","v":""}]
[null,{"$f":"IF('Handläggning och uppföljning'!B48=\"Ett mindre förändringsarbete behövs\",'Handläggning och uppföljning'!A48,\"\")","v":""},{"$f":"IF('Handläggning och uppföljning'!B48=\"Ett mindre förändringsarbete behövs\",'Handläggning och uppföljning'!C48,\"\")","v":""},{"$f":"IF('Handläggning och uppföljning'!B48=\"Ett mindre förändringsarbete behövs\",'Handläggning och uppföljning'!D48,\"\")","v":""}]
[null,{"$f":"IF('Handläggning och uppföljning'!B49=\"Ett mindre förändringsarbete behövs\",'Handläggning och uppföljning'!A49,\"\")","v":""},{"$f":"IF('Handläggning och uppföljning'!B49=\"Ett mindre förändringsarbete behövs\",'Handläggning och uppföljning'!C49,\"\")","v":""},{"$f":"IF('Handläggning och uppföljning'!B49=\"Ett mindre förändringsarbete behövs\",'Handläggning och uppföljning'!D49,\"\")","v":""}]
[null,{"$f":"IF('Handläggning och uppföljning'!B50=\"Ett mindre förändringsarbete behövs\",'Handläggning och uppföljning'!A50,\"\")","v":""},{"$f":"IF('Handläggning och uppföljning'!B50=\"Ett mindre förändringsarbete behövs\",'Handläggning och uppföljning'!C50,\"\")","v":""},{"$f":"IF('Handläggning och uppföljning'!B50=\"Ett mindre förändringsarbete behövs\",'Handläggning och uppföljning'!D50,\"\")","v":""}]
[null,{"$f":"IF('Handläggning och uppföljning'!B51=\"Ett mindre förändringsarbete behövs\",'Handläggning och uppföljning'!A51,\"\")","v":""},{"$f":"IF('Handläggning och uppföljning'!B51=\"Ett mindre förändringsarbete behövs\",'Handläggning och uppföljning'!C51,\"\")","v":""},{"$f":"IF('Handläggning och uppföljning'!B51=\"Ett mindre förändringsarbete behövs\",'Handläggning och uppföljning'!D51,\"\")","v":""}]
[null,{"$f":"IF('Handläggning och uppföljning'!B52=\"Ett mindre förändringsarbete behövs\",'Handläggning och uppföljning'!A52,\"\")","v":""},{"$f":"IF('Handläggning och uppföljning'!B52=\"Ett mindre förändringsarbete behövs\",'Handläggning och uppföljning'!C52,\"\")","v":""},{"$f":"IF('Handläggning och uppföljning'!B52=\"Ett mindre förändringsarbete behövs\",'Handläggning och uppföljning'!D52,\"\")","v":""}]
[null,{"$f":"IF('Handläggning och uppföljning'!B53=\"Ett mindre förändringsarbete behövs\",'Handläggning och uppföljning'!A53,\"\")","v":""},{"$f":"IF('Handläggning och uppföljning'!B53=\"Ett mindre förändringsarbete behövs\",'Handläggning och uppföljning'!C53,\"\")","v":""},{"$f":"IF('Handläggning och uppföljning'!B53=\"Ett mindre förändringsarbete behövs\",'Handläggning och uppföljning'!D53,\"\")","v":""}]
[null,{"$f":"IF('Handläggning och uppföljning'!B54=\"Ett mindre förändringsarbete behövs\",'Handläggning och uppföljning'!A54,\"\")","v":""},{"$f":"IF('Handläggning och uppföljning'!B54=\"Ett mindre förändringsarbete behövs\",'Handläggning och uppföljning'!C54,\"\")","v":""},{"$f":"IF('Handläggning och uppföljning'!B54=\"Ett mindre förändringsarbete behövs\",'Handläggning och uppföljning'!D54,\"\")","v":""}]
[null,{"$f":"IF('Handläggning och uppföljning'!B55=\"Ett mindre förändringsarbete behövs\",'Handläggning och uppföljning'!A55,\"\")","v":""},{"$f":"IF('Handläggning och uppföljning'!B55=\"Ett mindre förändringsarbete behövs\",'Handläggning och uppföljning'!C55,\"\")","v":""},{"$f":"IF('Handläggning och uppföljning'!B55=\"Ett mindre förändringsarbete behövs\",'Handläggning och uppföljning'!D55,\"\")","v":""}]
[null,{"$f":"IF('Handläggning och uppföljning'!B56=\"Ett mindre förändringsarbete behövs\",'Handläggning och uppföljning'!A56,\"\")","v":""},{"$f":"IF('Handläggning och uppföljning'!B56=\"Ett mindre förändringsarbete behövs\",'Handläggning och uppföljning'!C56,\"\")","v":""},{"$f":"IF('Handläggning och uppföljning'!B56=\"Ett mindre förändringsarbete behövs\",'Handläggning och uppföljning'!D56,\"\")","v":""}]
[null,{"$f":"IF('Handläggning och uppföljning'!B57=\"Ett mindre förändringsarbete behövs\",'Handläggning och uppföljning'!A57,\"\")","v":""},{"$f":"IF('Handläggning och uppföljning'!B57=\"Ett mindre förändringsarbete behövs\",'Handläggning och uppföljning'!C57,\"\")","v":""},{"$f":"IF('Handläggning och uppföljning'!B57=\"Ett mindre förändringsarbete behövs\",'Handläggning och uppföljning'!D57,\"\")","v":""}]
[null,{"$f":"IF('Handläggning och uppföljning'!B58=\"Ett mindre förändringsarbete behövs\",'Handläggning och uppföljning'!A58,\"\")","v":""},{"$f":"IF('Handläggning och uppföljning'!B58=\"Ett mindre förändringsarbete behövs\",'Handläggning och uppföljning'!C58,\"\")","v":""},{"$f":"IF('Handläggning och uppföljning'!B58=\"Ett mindre förändringsarbete behövs\",'Handläggning och uppföljning'!D58,\"\")","v":""}]
[null,{"$f":"IF('Handläggning och uppföljning'!B59=\"Ett mindre förändringsarbete behövs\",'Handläggning och uppföljning'!A59,\"\")","v":""},{"$f":"IF('Handläggning och uppföljning'!B59=\"Ett mindre förändringsarbete behövs\",'Handläggning och uppföljning'!C59,\"\")","v":""},{"$f":"IF('Handläggning och uppföljning'!B59=\"Ett mindre förändringsarbete behövs\",'Handläggning och uppföljning'!D59,\"\")","v":""}]
[null,{"$f":"IF('Handläggning och uppföljning'!B60=\"Ett mindre förändringsarbete behövs\",'Handläggning och uppföljning'!A60,\"\")","v":""},{"$f":"IF('Handläggning och uppföljning'!B60=\"Ett mindre förändringsarbete behövs\",'Handläggning och uppföljning'!C60,\"\")","v":""},{"$f":"IF('Handläggning och uppföljning'!B60=\"Ett mindre förändringsarbete behövs\",'Handläggning och uppföljning'!D60,\"\")","v":""}]
[null,{"$f":"IF('Handläggning och uppföljning'!B61=\"Ett mindre förändringsarbete behövs\",'Handläggning och uppföljning'!A61,\"\")","v":""},{"$f":"IF('Handläggning och uppföljning'!B61=\"Ett mindre förändringsarbete behövs\",'Handläggning och uppföljning'!C61,\"\")","v":""},{"$f":"IF('Handläggning och uppföljning'!B61=\"Ett mindre förändringsarbete behövs\",'Handläggning och uppföljning'!D61,\"\")","v":""}]
[null,{"$f":"IF('Handläggning och uppföljning'!B62=\"Ett mindre förändringsarbete behövs\",'Handläggning och uppföljning'!A62,\"\")","v":""},{"$f":"IF('Handläggning och uppföljning'!B62=\"Ett mindre förändringsarbete behövs\",'Handläggning och uppföljning'!C62,\"\")","v":""},{"$f":"IF('Handläggning och uppföljning'!B62=\"Ett mindre förändringsarbete behövs\",'Handläggning och uppföljning'!D62,\"\")","v":""}]
[null,{"$f":"IF('Handläggning och uppföljning'!B63=\"Ett mindre förändringsarbete behövs\",'Handläggning och uppföljning'!A63,\"\")","v":""},{"$f":"IF('Handläggning och uppföljning'!B63=\"Ett mindre förändringsarbete behövs\",'Handläggning och uppföljning'!C63,\"\")","v":""},{"$f":"IF('Handläggning och uppföljning'!B63=\"Ett mindre förändringsarbete behövs\",'Handläggning och uppföljning'!D63,\"\")","v":""}]
[null,{"$f":"IF('Handläggning och uppföljning'!B64=\"Ett mindre förändringsarbete behövs\",'Handläggning och uppföljning'!A64,\"\")","v":""},{"$f":"IF('Handläggning och uppföljning'!B64=\"Ett mindre förändringsarbete behövs\",'Handläggning och uppföljning'!C64,\"\")","v":""},{"$f":"IF('Handläggning och uppföljning'!B64=\"Ett mindre förändringsarbete behövs\",'Handläggning och uppföljning'!D64,\"\")","v":""}]
[null,{"$f":"IF('Handläggning och uppföljning'!B65=\"Ett mindre förändringsarbete behövs\",'Handläggning och uppföljning'!A65,\"\")","v":""},{"$f":"IF('Handläggning och uppföljning'!B65=\"Ett mindre förändringsarbete behövs\",'Handläggning och uppföljning'!C65,\"\")","v":""},{"$f":"IF('Handläggning och uppföljning'!B65=\"Ett mindre förändringsarbete behövs\",'Handläggning och uppföljning'!D65,\"\")","v":""}]
[null,{"$f":"IF('Handläggning och uppföljning'!B66=\"Ett mindre förändringsarbete behövs\",'Handläggning och uppföljning'!A66,\"\")","v":""},{"$f":"IF('Handläggning och uppföljning'!B66=\"Ett mindre förändringsarbete behövs\",'Handläggning och uppföljning'!C66,\"\")","v":""},{"$f":"IF('Handläggning och uppföljning'!B66=\"Ett mindre förändringsarbete behövs\",'Handläggning och uppföljning'!D66,\"\")","v":""}]
[null,{"$f":"IF('Handläggning och uppföljning'!B67=\"Ett mindre förändringsarbete behövs\",'Handläggning och uppföljning'!A67,\"\")","v":""},{"$f":"IF('Handläggning och uppföljning'!B67=\"Ett mindre förändringsarbete behövs\",'Handläggning och uppföljning'!C67,\"\")","v":""},{"$f":"IF('Handläggning och uppföljning'!B67=\"Ett mindre förändringsarbete behövs\",'Handläggning och uppföljning'!D67,\"\")","v":""}]
[null,{"$f":"IF('Handläggning och uppföljning'!B68=\"Ett mindre förändringsarbete behövs\",'Handläggning och uppföljning'!A68,\"\")","v":""},{"$f":"IF('Handläggning och uppföljning'!B68=\"Ett mindre förändringsarbete behövs\",'Handläggning och uppföljning'!C68,\"\")","v":""},{"$f":"IF('Handläggning och uppföljning'!B68=\"Ett mindre förändringsarbete behövs\",'Handläggning och uppföljning'!D68,\"\")","v":""}]
[null,{"$f":"IF('Handläggning och uppföljning'!B69=\"Ett mindre förändringsarbete behövs\",'Handläggning och uppföljning'!A69,\"\")","v":""},{"$f":"IF('Handläggning och uppföljning'!B69=\"Ett mindre förändringsarbete behövs\",'Handläggning och uppföljning'!C69,\"\")","v":""},{"$f":"IF('Handläggning och uppföljning'!B69=\"Ett mindre förändringsarbete behövs\",'Handläggning och uppföljning'!D69,\"\")","v":""}]
[null,{"$f":"IF('Handläggning och uppföljning'!B70=\"Ett mindre förändringsarbete behövs\",'Handläggning och uppföljning'!A70,\"\")","v":""},{"$f":"IF('Handläggning och uppföljning'!B70=\"Ett mindre förändringsarbete behövs\",'Handläggning och uppföljning'!C70,\"\")","v":""},{"$f":"IF('Handläggning och uppföljning'!B70=\"Ett mindre förändringsarbete behövs\",'Handläggning och uppföljning'!D70,\"\")","v":""}]
[null,{"$f":"IF('Handläggning och uppföljning'!B71=\"Ett mindre förändringsarbete behövs\",'Handläggning och uppföljning'!A71,\"\")","v":""},{"$f":"IF('Handläggning och uppföljning'!B71=\"Ett mindre förändringsarbete behövs\",'Handläggning och uppföljning'!C71,\"\")","v":""},{"$f":"IF('Handläggning och uppföljning'!B71=\"Ett mindre förändringsarbete behövs\",'Handläggning och uppföljning'!D71,\"\")","v":""}]
[null,{"$f":"IF('Handläggning och uppföljning'!B72=\"Ett mindre förändringsarbete behövs\",'Handläggning och uppföljning'!A72,\"\")","v":""},{"$f":"IF('Handläggning och uppföljning'!B72=\"Ett mindre förändringsarbete behövs\",'Handläggning och uppföljning'!C72,\"\")","v":""},{"$f":"IF('Handläggning och uppföljning'!B72=\"Ett mindre förändringsarbete behövs\",'Handläggning och uppföljning'!D72,\"\")","v":""}]
[null,{"$f":"IF('Handläggning och uppföljning'!B73=\"Ett mindre förändringsarbete behövs\",'Handläggning och uppföljning'!A73,\"\")","v":""},{"$f":"IF('Handläggning och uppföljning'!B73=\"Ett mindre förändringsarbete behövs\",'Handläggning och uppföljning'!C73,\"\")","v":""},{"$f":"IF('Handläggning och uppföljning'!B73=\"Ett mindre förändringsarbete behövs\",'Handläggning och uppföljning'!D73,\"\")","v":""}]
[null,{"$f":"IF('Handläggning och uppföljning'!B74=\"Ett mindre förändringsarbete behövs\",'Handläggning och uppföljning'!A74,\"\")","v":""},{"$f":"IF('Handläggning och uppföljning'!B74=\"Ett mindre förändringsarbete behövs\",'Handläggning och uppföljning'!C74,\"\")","v":""},{"$f":"IF('Handläggning och uppföljning'!B74=\"Ett mindre förändringsarbete behövs\",'Handläggning och uppföljning'!D74,\"\")","v":""}]
[null,{"$f":"IF('Handläggning och uppföljning'!B75=\"Ett mindre förändringsarbete behövs\",'Handläggning och uppföljning'!A75,\"\")","v":""},{"$f":"IF('Handläggning och uppföljning'!B75=\"Ett mindre förändringsarbete behövs\",'Handläggning och uppföljning'!C75,\"\")","v":""},{"$f":"IF('Handläggning och uppföljning'!B75=\"Ett mindre förändringsarbete behövs\",'Handläggning och uppföljning'!D75,\"\")","v":""}]
[null,{"$f":"IF('Handläggning och uppföljning'!B76=\"Ett mindre förändringsarbete behövs\",'Handläggning och uppföljning'!A76,\"\")","v":""},{"$f":"IF('Handläggning och uppföljning'!B76=\"Ett mindre förändringsarbete behövs\",'Handläggning och uppföljning'!C76,\"\")","v":""},{"$f":"IF('Handläggning och uppföljning'!B76=\"Ett mindre förändringsarbete behövs\",'Handläggning och uppföljning'!D76,\"\")","v":""}]
[null,{"$f":"IF('Handläggning och uppföljning'!B77=\"Ett mindre förändringsarbete behövs\",'Handläggning och uppföljning'!A77,\"\")","v":""},{"$f":"IF('Handläggning och uppföljning'!B77=\"Ett mindre förändringsarbete behövs\",'Handläggning och uppföljning'!C77,\"\")","v":""},{"$f":"IF('Handläggning och uppföljning'!B77=\"Ett mindre förändringsarbete behövs\",'Handläggning och uppföljning'!D77,\"\")","v":""}]
[null,{"$f":"IF('Handläggning och uppföljning'!B78=\"Ett mindre förändringsarbete behövs\",'Handläggning och uppföljning'!A78,\"\")","v":""},{"$f":"IF('Handläggning och uppföljning'!B78=\"Ett mindre förändringsarbete behövs\",'Handläggning och uppföljning'!C78,\"\")","v":""},{"$f":"IF('Handläggning och uppföljning'!B78=\"Ett mindre förändringsarbete behövs\",'Handläggning och uppföljning'!D78,\"\")","v":""}]
[null,{"$f":"IF('Handläggning och uppföljning'!B79=\"Ett mindre förändringsarbete behövs\",'Handläggning och uppföljning'!A79,\"\")","v":""},{"$f":"IF('Handläggning och uppföljning'!B79=\"Ett mindre förändringsarbete behövs\",'Handläggning och uppföljning'!C79,\"\")","v":""},{"$f":"IF('Handläggning och uppföljning'!B79=\"Ett mindre förändringsarbete behövs\",'Handläggning och uppföljning'!D79,\"\")","v":""}]
[null,{"$f":"IF('Handläggning och uppföljning'!B80=\"Ett mindre förändringsarbete behövs\",'Handläggning och uppföljning'!A80,\"\")","v":""},{"$f":"IF('Handläggning och uppföljning'!B80=\"Ett mindre förändringsarbete behövs\",'Handläggning och uppföljning'!C80,\"\")","v":""},{"$f":"IF('Handläggning och uppföljning'!B80=\"Ett mindre förändringsarbete behövs\",'Handläggning och uppföljning'!D80,\"\")","v":""}]
[null,{"$f":"IF('Handläggning och uppföljning'!B81=\"Ett mindre förändringsarbete behövs\",'Handläggning och uppföljning'!A81,\"\")","v":""},{"$f":"IF('Handläggning och uppföljning'!B81=\"Ett mindre förändringsarbete behövs\",'Handläggning och uppföljning'!C81,\"\")","v":""},{"$f":"IF('Handläggning och uppföljning'!B81=\"Ett mindre förändringsarbete behövs\",'Handläggning och uppföljning'!D81,\"\")","v":""}]
[null,{"$f":"IF('Handläggning och uppföljning'!B82=\"Ett mindre förändringsarbete behövs\",'Handläggning och uppföljning'!A82,\"\")","v":""},{"$f":"IF('Handläggning och uppföljning'!B82=\"Ett mindre förändringsarbete behövs\",'Handläggning och uppföljning'!C82,\"\")","v":""},{"$f":"IF('Handläggning och uppföljning'!B82=\"Ett mindre förändringsarbete behövs\",'Handläggning och uppföljning'!D82,\"\")","v":""}]
[null,{"$f":"IF('Handläggning och uppföljning'!B83=\"Ett mindre förändringsarbete behövs\",'Handläggning och uppföljning'!A83,\"\")","v":""},{"$f":"IF('Handläggning och uppföljning'!B83=\"Ett mindre förändringsarbete behövs\",'Handläggning och uppföljning'!C83,\"\")","v":""},{"$f":"IF('Handläggning och uppföljning'!B83=\"Ett mindre förändringsarbete behövs\",'Handläggning och uppföljning'!D83,\"\")","v":""}]
[null,{"$f":"IF('Handläggning och uppföljning'!B84=\"Ett mindre förändringsarbete behövs\",'Handläggning och uppföljning'!A84,\"\")","v":""},{"$f":"IF('Handläggning och uppföljning'!B84=\"Ett mindre förändringsarbete behövs\",'Handläggning och uppföljning'!C84,\"\")","v":""},{"$f":"IF('Handläggning och uppföljning'!B84=\"Ett mindre förändringsarbete behövs\",'Handläggning och uppföljning'!D84,\"\")","v":""}]
[null,{"$f":"IF('Handläggning och uppföljning'!B85=\"Ett mindre förändringsarbete behövs\",'Handläggning och uppföljning'!A85,\"\")","v":""},{"$f":"IF('Handläggning och uppföljning'!B85=\"Ett mindre förändringsarbete behövs\",'Handläggning och uppföljning'!C85,\"\")","v":""},{"$f":"IF('Handläggning och uppföljning'!B85=\"Ett mindre förändringsarbete behövs\",'Handläggning och uppföljning'!D85,\"\")","v":""}]
[null,{"$f":"IF('Handläggning och uppföljning'!B86=\"Ett mindre förändringsarbete behövs\",'Handläggning och uppföljning'!A86,\"\")","v":""},{"$f":"IF('Handläggning och uppföljning'!B86=\"Ett mindre förändringsarbete behövs\",'Handläggning och uppföljning'!C86,\"\")","v":""},{"$f":"IF('Handläggning och uppföljning'!B86=\"Ett mindre förändringsarbete behövs\",'Handläggning och uppföljning'!D86,\"\")","v":""}]
[null,{"$f":"IF('Handläggning och uppföljning'!B87=\"Ett mindre förändringsarbete behövs\",'Handläggning och uppföljning'!A87,\"\")","v":""},{"$f":"IF('Handläggning och uppföljning'!B87=\"Ett mindre förändringsarbete behövs\",'Handläggning och uppföljning'!C87,\"\")","v":""},{"$f":"IF('Handläggning och uppföljning'!B87=\"Ett mindre förändringsarbete behövs\",'Handläggning och uppföljning'!D87,\"\")","v":""}]
[null,{"$f":"IF('Handläggning och uppföljning'!B88=\"Ett mindre förändringsarbete behövs\",'Handläggning och uppföljning'!A88,\"\")","v":""},{"$f":"IF('Handläggning och uppföljning'!B88=\"Ett mindre förändringsarbete behövs\",'Handläggning och uppföljning'!C88,\"\")","v":""},{"$f":"IF('Handläggning och uppföljning'!B88=\"Ett mindre förändringsarbete behövs\",'Handläggning och uppföljning'!D88,\"\")","v":""}]
[null,{"$f":"IF('Handläggning och uppföljning'!B89=\"Ett mindre förändringsarbete behövs\",'Handläggning och uppföljning'!A89,\"\")","v":""},{"$f":"IF('Handläggning och uppföljning'!B89=\"Ett mindre förändringsarbete behövs\",'Handläggning och uppföljning'!C89,\"\")","v":""},{"$f":"IF('Handläggning och uppföljning'!B89=\"Ett mindre förändringsarbete behövs\",'Handläggning och uppföljning'!D89,\"\")","v":""}]
[null,{"$f":"IF('Handläggning och uppföljning'!B90=\"Ett mindre förändringsarbete behövs\",'Handläggning och uppföljning'!A90,\"\")","v":""},{"$f":"IF('Handläggning och uppföljning'!B90=\"Ett mindre förändringsarbete behövs\",'Handläggning och uppföljning'!C90,\"\")","v":""},{"$f":"IF('Handläggning och uppföljning'!B90=\"Ett mindre förändringsarbete behövs\",'Handläggning och uppföljning'!D90,\"\")","v":""}]
[null,{"$f":"IF('Handläggning och uppföljning'!B91=\"Ett mindre förändringsarbete behövs\",'Handläggning och uppföljning'!A91,\"\")","v":""},{"$f":"IF('Handläggning och uppföljning'!B91=\"Ett mindre förändringsarbete behövs\",'Handläggning och uppföljning'!C91,\"\")","v":""},{"$f":"IF('Handläggning och uppföljning'!B91=\"Ett mindre förändringsarbete behövs\",'Handläggning och uppföljning'!D91,\"\")","v":""}]
[null,{"$f":"IF('Handläggning och uppföljning'!B92=\"Ett mindre förändringsarbete behövs\",'Handläggning och uppföljning'!A92,\"\")","v":""},{"$f":"IF('Handläggning och uppföljning'!B92=\"Ett mindre förändringsarbete behövs\",'Handläggning och uppföljning'!C92,\"\")","v":""},{"$f":"IF('Handläggning och uppföljning'!B92=\"Ett mindre förändringsarbete behövs\",'Handläggning och uppföljning'!D92,\"\")","v":""}]
[null,{"$f":"IF('Handläggning och uppföljning'!B93=\"Ett mindre förändringsarbete behövs\",'Handläggning och uppföljning'!A93,\"\")","v":""},{"$f":"IF('Handläggning och uppföljning'!B93=\"Ett mindre förändringsarbete behövs\",'Handläggning och uppföljning'!C93,\"\")","v":""},{"$f":"IF('Handläggning och uppföljning'!B93=\"Ett mindre förändringsarbete behövs\",'Handläggning och uppföljning'!D93,\"\")","v":""}]
[null,{"$f":"IF('Handläggning och uppföljning'!B94=\"Ett mindre förändringsarbete behövs\",'Handläggning och uppföljning'!A94,\"\")","v":""},{"$f":"IF('Handläggning och uppföljning'!B94=\"Ett mindre förändringsarbete behövs\",'Handläggning och uppföljning'!C94,\"\")","v":""},{"$f":"IF('Handläggning och uppföljning'!B94=\"Ett mindre förändringsarbete behövs\",'Handläggning och uppföljning'!D94,\"\")","v":""}]
[null,{"$f":"IF('Handläggning och uppföljning'!B95=\"Ett mindre förändringsarbete behövs\",'Handläggning och uppföljning'!A95,\"\")","v":""},{"$f":"IF('Handläggning och uppföljning'!B95=\"Ett mindre förändringsarbete behövs\",'Handläggning och uppföljning'!C95,\"\")","v":""},{"$f":"IF('Handläggning och uppföljning'!B95=\"Ett mindre förändringsarbete behövs\",'Handläggning och uppföljning'!D95,\"\")","v":""}]
[null,{"$f":"IF('Handläggning och uppföljning'!B96=\"Ett mindre förändringsarbete behövs\",'Handläggning och uppföljning'!A96,\"\")","v":""},{"$f":"IF('Handläggning och uppföljning'!B96=\"Ett mindre förändringsarbete behövs\",'Handläggning och uppföljning'!C96,\"\")","v":""},{"$f":"IF('Handläggning och uppföljning'!B96=\"Ett mindre förändringsarbete behövs\",'Handläggning och uppföljning'!D96,\"\")","v":""}]
[null,{"$f":"IF('Handläggning och uppföljning'!B97=\"Ett mindre förändringsarbete behövs\",'Handläggning och uppföljning'!A97,\"\")","v":""},{"$f":"IF('Handläggning och uppföljning'!B97=\"Ett mindre förändringsarbete behövs\",'Handläggning och uppföljning'!C97,\"\")","v":""},{"$f":"IF('Handläggning och uppföljning'!B97=\"Ett mindre förändringsarbete behövs\",'Handläggning och uppföljning'!D97,\"\")","v":""}]
[null,{"$f":"IF('Handläggning och uppföljning'!B98=\"Ett mindre förändringsarbete behövs\",'Handläggning och uppföljning'!A98,\"\")","v":""},{"$f":"IF('Handläggning och uppföljning'!B98=\"Ett mindre förändringsarbete behövs\",'Handläggning och uppföljning'!C98,\"\")","v":""},{"$f":"IF('Handläggning och uppföljning'!B98=\"Ett mindre förändringsarbete behövs\",'Handläggning och uppföljning'!D98,\"\")","v":""}]
[null,{"$f":"IF('Handläggning och uppföljning'!B99=\"Ett mindre förändringsarbete behövs\",'Handläggning och uppföljning'!A99,\"\")","v":""},{"$f":"IF('Handläggning och uppföljning'!B99=\"Ett mindre förändringsarbete behövs\",'Handläggning och uppföljning'!C99,\"\")","v":""},{"$f":"IF('Handläggning och uppföljning'!B99=\"Ett mindre förändringsarbete behövs\",'Handläggning och uppföljning'!D99,\"\")","v":""}]
[null,{"$f":"IF('Handläggning och uppföljning'!B100=\"Ett mindre förändringsarbete behövs\",'Handläggning och uppföljning'!A100,\"\")","v":""},{"$f":"IF('Handläggning och uppföljning'!B100=\"Ett mindre förändringsarbete behövs\",'Handläggning och uppföljning'!C100,\"\")","v":""},{"$f":"IF('Handläggning och uppföljning'!B100=\"Ett mindre förändringsarbete behövs\",'Handläggning och uppföljning'!D100,\"\")","v":""}]
[null,{"$f":"IF('Handläggning och uppföljning'!B101=\"Ett mindre förändringsarbete behövs\",'Handläggning och uppföljning'!A101,\"\")","v":""},{"$f":"IF('Handläggning och uppföljning'!B101=\"Ett mindre förändringsarbete behövs\",'Handläggning och uppföljning'!C101,\"\")","v":""},{"$f":"IF('Handläggning och uppföljning'!B101=\"Ett mindre förändringsarbete behövs\",'Handläggning och uppföljning'!D101,\"\")","v":""}]
[null,{"$f":"IF('Handläggning och uppföljning'!B102=\"Ett mindre förändringsarbete behövs\",'Handläggning och uppföljning'!A102,\"\")","v":""},{"$f":"IF('Handläggning och uppföljning'!B102=\"Ett mindre förändringsarbete behövs\",'Handläggning och uppföljning'!C102,\"\")","v":""},{"$f":"IF('Handläggning och uppföljning'!B102=\"Ett mindre förändringsarbete behövs\",'Handläggning och uppföljning'!D102,\"\")","v":""}]
[null,{"$f":"IF('Handläggning och uppföljning'!B103=\"Ett mindre förändringsarbete behövs\",'Handläggning och uppföljning'!A103,\"\")","v":""},{"$f":"IF('Handläggning och uppföljning'!B103=\"Ett mindre förändringsarbete behövs\",'Handläggning och uppföljning'!C103,\"\")","v":""},{"$f":"IF('Handläggning och uppföljning'!B103=\"Ett mindre förändringsarbete behövs\",'Handläggning och uppföljning'!D103,\"\")","v":""}]
[null,{"$f":"IF('Handläggning och uppföljning'!B104=\"Ett mindre förändringsarbete behövs\",'Handläggning och uppföljning'!A104,\"\")","v":""},{"$f":"IF('Handläggning och uppföljning'!B104=\"Ett mindre förändringsarbete behövs\",'Handläggning och uppföljning'!C104,\"\")","v":""},{"$f":"IF('Handläggning och uppföljning'!B104=\"Ett mindre förändringsarbete behövs\",'Handläggning och uppföljning'!D104,\"\")","v":""}]
[null,{"$f":"IF('Handläggning och uppföljning'!B105=\"Ett mindre förändringsarbete behövs\",'Handläggning och uppföljning'!A105,\"\")","v":""},{"$f":"IF('Handläggning och uppföljning'!B105=\"Ett mindre förändringsarbete behövs\",'Handläggning och uppföljning'!C105,\"\")","v":""},{"$f":"IF('Handläggning och uppföljning'!B105=\"Ett mindre förändringsarbete behövs\",'Handläggning och uppföljning'!D105,\"\")","v":""}]
[null,{"$f":"IF('Handläggning och uppföljning'!B106=\"Ett mindre förändringsarbete behövs\",'Handläggning och uppföljning'!A106,\"\")","v":""},{"$f":"IF('Handläggning och uppföljning'!B106=\"Ett mindre förändringsarbete behövs\",'Handläggning och uppföljning'!C106,\"\")","v":""},{"$f":"IF('Handläggning och uppföljning'!B106=\"Ett mindre förändringsarbete behövs\",'Handläggning och uppföljning'!D106,\"\")","v":""}]
[null,{"$f":"IF('Handläggning och uppföljning'!B107=\"Ett mindre förändringsarbete behövs\",'Handläggning och uppföljning'!A107,\"\")","v":""},{"$f":"IF('Handläggning och uppföljning'!B107=\"Ett mindre förändringsarbete behövs\",'Handläggning och uppföljning'!C107,\"\")","v":""},{"$f":"IF('Handläggning och uppföljning'!B107=\"Ett mindre förändringsarbete behövs\",'Handläggning och uppföljning'!D107,\"\")","v":""}]
[null,{"$f":"IF('Handläggning och uppföljning'!B108=\"Ett mindre förändringsarbete behövs\",'Handläggning och uppföljning'!A108,\"\")","v":""},{"$f":"IF('Handläggning och uppföljning'!B108=\"Ett mindre förändringsarbete behövs\",'Handläggning och uppföljning'!C108,\"\")","v":""},{"$f":"IF('Handläggning och uppföljning'!B108=\"Ett mindre förändringsarbete behövs\",'Handläggning och uppföljning'!D108,\"\")","v":""}]
[null,{"$f":"IF('Handläggning och uppföljning'!B109=\"Ett mindre förändringsarbete behövs\",'Handläggning och uppföljning'!A109,\"\")","v":""},{"$f":"IF('Handläggning och uppföljning'!B109=\"Ett mindre förändringsarbete behövs\",'Handläggning och uppföljning'!C109,\"\")","v":""},{"$f":"IF('Handläggning och uppföljning'!B109=\"Ett mindre förändringsarbete behövs\",'Handläggning och uppföljning'!D109,\"\")","v":""}]
[null,{"$f":"IF('Handläggning och uppföljning'!B110=\"Ett mindre förändringsarbete behövs\",'Handläggning och uppföljning'!A110,\"\")","v":""},{"$f":"IF('Handläggning och uppföljning'!B110=\"Ett mindre förändringsarbete behövs\",'Handläggning och uppföljning'!C110,\"\")","v":""},{"$f":"IF('Handläggning och uppföljning'!B110=\"Ett mindre förändringsarbete behövs\",'Handläggning och uppföljning'!D110,\"\")","v":""}]
[null,{"$f":"IF('Handläggning och uppföljning'!B111=\"Ett mindre förändringsarbete behövs\",'Handläggning och uppföljning'!A111,\"\")","v":""},{"$f":"IF('Handläggning och uppföljning'!B111=\"Ett mindre förändringsarbete behövs\",'Handläggning och uppföljning'!C111,\"\")","v":""},{"$f":"IF('Handläggning och uppföljning'!B111=\"Ett mindre förändringsarbete behövs\",'Handläggning och uppföljning'!D111,\"\")","v":""}]
[null,{"$f":"IF('Handläggning och uppföljning'!B112=\"Ett mindre förändringsarbete behövs\",'Handläggning och uppföljning'!A112,\"\")","v":""},{"$f":"IF('Handläggning och uppföljning'!B112=\"Ett mindre förändringsarbete behövs\",'Handläggning och uppföljning'!C112,\"\")","v":""},{"$f":"IF('Handläggning och uppföljning'!B112=\"Ett mindre förändringsarbete behövs\",'Handläggning och uppföljning'!D112,\"\")","v":""}]
[null,{"$f":"IF('Handläggning och uppföljning'!B113=\"Ett mindre förändringsarbete behövs\",'Handläggning och uppföljning'!A113,\"\")","v":""},{"$f":"IF('Handläggning och uppföljning'!B113=\"Ett mindre förändringsarbete behövs\",'Handläggning och uppföljning'!C113,\"\")","v":""},{"$f":"IF('Handläggning och uppföljning'!B113=\"Ett mindre förändringsarbete behövs\",'Handläggning och uppföljning'!D113,\"\")","v":""}]
[null,{"$f":"IF('Handläggning och uppföljning'!B114=\"Ett mindre förändringsarbete behövs\",'Handläggning och uppföljning'!A114,\"\")","v":""},{"$f":"IF('Handläggning och uppföljning'!B114=\"Ett mindre förändringsarbete behövs\",'Handläggning och uppföljning'!C114,\"\")","v":""},{"$f":"IF('Handläggning och uppföljning'!B114=\"Ett mindre förändringsarbete behövs\",'Handläggning och uppföljning'!D114,\"\")","v":""}]
[null,{"$f":"IF('Handläggning och uppföljning'!B115=\"Ett mindre förändringsarbete behövs\",'Handläggning och uppföljning'!A115,\"\")","v":""},{"$f":"IF('Handläggning och uppföljning'!B115=\"Ett mindre förändringsarbete behövs\",'Handläggning och uppföljning'!C115,\"\")","v":""},{"$f":"IF('Handläggning och uppföljning'!B115=\"Ett mindre förändringsarbete behövs\",'Handläggning och uppföljning'!D115,\"\")","v":""}]
[null,{"$f":"IF('Handläggning och uppföljning'!B116=\"Ett mindre förändringsarbete behövs\",'Handläggning och uppföljning'!A116,\"\")","v":""},{"$f":"IF('Handläggning och uppföljning'!B116=\"Ett mindre förändringsarbete behövs\",'Handläggning och uppföljning'!C116,\"\")","v":""},{"$f":"IF('Handläggning och uppföljning'!B116=\"Ett mindre förändringsarbete behövs\",'Handläggning och uppföljning'!D116,\"\")","v":""}]
[null,{"$f":"IF('Handläggning och uppföljning'!B117=\"Ett mindre förändringsarbete behövs\",'Handläggning och uppföljning'!A117,\"\")","v":""},{"$f":"IF('Handläggning och uppföljning'!B117=\"Ett mindre förändringsarbete behövs\",'Handläggning och uppföljning'!C117,\"\")","v":""},{"$f":"IF('Handläggning och uppföljning'!B117=\"Ett mindre förändringsarbete behövs\",'Handläggning och uppföljning'!D117,\"\")","v":""}]
[null,{"$f":"IF('Handläggning och uppföljning'!B118=\"Ett mindre förändringsarbete behövs\",'Handläggning och uppföljning'!A118,\"\")","v":""},{"$f":"IF('Handläggning och uppföljning'!B118=\"Ett mindre förändringsarbete behövs\",'Handläggning och uppföljning'!C118,\"\")","v":""},{"$f":"IF('Handläggning och uppföljning'!B118=\"Ett mindre förändringsarbete behövs\",'Handläggning och uppföljning'!D118,\"\")","v":""}]
[null,{"$f":"IF('Handläggning och uppföljning'!B119=\"Ett mindre förändringsarbete behövs\",'Handläggning och uppföljning'!A119,\"\")","v":""},{"$f":"IF('Handläggning och uppföljning'!B119=\"Ett mindre förändringsarbete behövs\",'Handläggning och uppföljning'!C119,\"\")","v":""},{"$f":"IF('Handläggning och uppföljning'!B119=\"Ett mindre förändringsarbete behövs\",'Handläggning och uppföljning'!D119,\"\")","v":""}]
[null,{"$f":"IF('Handläggning och uppföljning'!B120=\"Ett mindre förändringsarbete behövs\",'Handläggning och uppföljning'!A120,\"\")","v":""},{"$f":"IF('Handläggning och uppföljning'!B120=\"Ett mindre förändringsarbete behövs\",'Handläggning och uppföljning'!C120,\"\")","v":""},{"$f":"IF('Handläggning och uppföljning'!B120=\"Ett mindre förändringsarbete behövs\",'Handläggning och uppföljning'!D120,\"\")","v":""}]
[null,{"$f":"IF('Handläggning och uppföljning'!B121=\"Ett mindre förändringsarbete behövs\",'Handläggning och uppföljning'!A121,\"\")","v":""},{"$f":"IF('Handläggning och uppföljning'!B121=\"Ett mindre förändringsarbete behövs\",'Handläggning och uppföljning'!C121,\"\")","v":""},{"$f":"IF('Handläggning och uppföljning'!B121=\"Ett mindre förändringsarbete behövs\",'Handläggning och uppföljning'!D121,\"\")","v":""}]
[null,{"$f":"IF('Handläggning och uppföljning'!B122=\"Ett mindre förändringsarbete behövs\",'Handläggning och uppföljning'!A122,\"\")","v":""},{"$f":"IF('Handläggning och uppföljning'!B122=\"Ett mindre förändringsarbete behövs\",'Handläggning och uppföljning'!C122,\"\")","v":""},{"$f":"IF('Handläggning och uppföljning'!B122=\"Ett mindre förändringsarbete behövs\",'Handläggning och uppföljning'!D122,\"\")","v":""}]
[null,{"$f":"IF('Handläggning och uppföljning'!B123=\"Ett mindre förändringsarbete behövs\",'Handläggning och uppföljning'!A123,\"\")","v":""},{"$f":"IF('Handläggning och uppföljning'!B123=\"Ett mindre förändringsarbete behövs\",'Handläggning och uppföljning'!C123,\"\")","v":""},{"$f":"IF('Handläggning och uppföljning'!B123=\"Ett mindre förändringsarbete behövs\",'Handläggning och uppföljning'!D123,\"\")","v":""}]
[null,{"$f":"IF('Handläggning och uppföljning'!B124=\"Ett mindre förändringsarbete behövs\",'Handläggning och uppföljning'!A124,\"\")","v":""},{"$f":"IF('Handläggning och uppföljning'!B124=\"Ett mindre förändringsarbete behövs\",'Handläggning och uppföljning'!C124,\"\")","v":""},{"$f":"IF('Handläggning och uppföljning'!B124=\"Ett mindre förändringsarbete behövs\",'Handläggning och uppföljning'!D124,\"\")","v":""}]
[null,{"$f":"IF('Handläggning och uppföljning'!B125=\"Ett mindre förändringsarbete behövs\",'Handläggning och uppföljning'!A125,\"\")","v":""},{"$f":"IF('Handläggning och uppföljning'!B125=\"Ett mindre förändringsarbete behövs\",'Handläggning och uppföljning'!C125,\"\")","v":""},{"$f":"IF('Handläggning och uppföljning'!B125=\"Ett mindre förändringsarbete behövs\",'Handläggning och uppföljning'!D125,\"\")","v":""}]
[null,{"$f":"IF('Handläggning och uppföljning'!B126=\"Ett mindre förändringsarbete behövs\",'Handläggning och uppföljning'!A126,\"\")","v":""},{"$f":"IF('Handläggning och uppföljning'!B126=\"Ett mindre förändringsarbete behövs\",'Handläggning och uppföljning'!C126,\"\")","v":""},{"$f":"IF('Handläggning och uppföljning'!B126=\"Ett mindre förändringsarbete behövs\",'Handläggning och uppföljning'!D126,\"\")","v":""}]
[null,{"$f":"IF('Handläggning och uppföljning'!B127=\"Ett mindre förändringsarbete behövs\",'Handläggning och uppföljning'!A127,\"\")","v":""},{"$f":"IF('Handläggning och uppföljning'!B127=\"Ett mindre förändringsarbete behövs\",'Handläggning och uppföljning'!C127,\"\")","v":""},{"$f":"IF('Handläggning och uppföljning'!B127=\"Ett mindre förändringsarbete behövs\",'Handläggning och uppföljning'!D127,\"\")","v":""}]
[null,{"$f":"IF('Handläggning och uppföljning'!B128=\"Ett mindre förändringsarbete behövs\",'Handläggning och uppföljning'!A128,\"\")","v":""},{"$f":"IF('Handläggning och uppföljning'!B128=\"Ett mindre förändringsarbete behövs\",'Handläggning och uppföljning'!C128,\"\")","v":""},{"$f":"IF('Handläggning och uppföljning'!B128=\"Ett mindre förändringsarbete behövs\",'Handläggning och uppföljning'!D128,\"\")","v":""}]
[null,{"$f":"IF('Handläggning och uppföljning'!B129=\"Ett mindre förändringsarbete behövs\",'Handläggning och uppföljning'!A129,\"\")","v":""},{"$f":"IF('Handläggning och uppföljning'!B129=\"Ett mindre förändringsarbete behövs\",'Handläggning och uppföljning'!C129,\"\")","v":""},{"$f":"IF('Handläggning och uppföljning'!B129=\"Ett mindre förändringsarbete behövs\",'Handläggning och uppföljning'!D129,\"\")","v":""}]
[null,{"$f":"IF('Handläggning och uppföljning'!B130=\"Ett mindre förändringsarbete behövs\",'Handläggning och uppföljning'!A130,\"\")","v":""},{"$f":"IF('Handläggning och uppföljning'!B130=\"Ett mindre förändringsarbete behövs\",'Handläggning och uppföljning'!C130,\"\")","v":""},{"$f":"IF('Handläggning och uppföljning'!B130=\"Ett mindre förändringsarbete behövs\",'Handläggning och uppföljning'!D130,\"\")","v":""}]
[null,{"$f":"IF('Handläggning och uppföljning'!B131=\"Ett mindre förändringsarbete behövs\",'Handläggning och uppföljning'!A131,\"\")","v":""},{"$f":"IF('Handläggning och uppföljning'!B131=\"Ett mindre förändringsarbete behövs\",'Handläggning och uppföljning'!C131,\"\")","v":""},{"$f":"IF('Handläggning och uppföljning'!B131=\"Ett mindre förändringsarbete behövs\",'Handläggning och uppföljning'!D131,\"\")","v":""}]
[null,{"$f":"IF('Handläggning och uppföljning'!B132=\"Ett mindre förändringsarbete behövs\",'Handläggning och uppföljning'!A132,\"\")","v":""},{"$f":"IF('Handläggning och uppföljning'!B132=\"Ett mindre förändringsarbete behövs\",'Handläggning och uppföljning'!C132,\"\")","v":""},{"$f":"IF('Handläggning och uppföljning'!B132=\"Ett mindre förändringsarbete behövs\",'Handläggning och uppföljning'!D132,\"\")","v":""}]
[null,{"$f":"IF('Handläggning och uppföljning'!B133=\"Ett mindre förändringsarbete behövs\",'Handläggning och uppföljning'!A133,\"\")","v":""},{"$f":"IF('Handläggning och uppföljning'!B133=\"Ett mindre förändringsarbete behövs\",'Handläggning och uppföljning'!C133,\"\")","v":""},{"$f":"IF('Handläggning och uppföljning'!B133=\"Ett mindre förändringsarbete behövs\",'Handläggning och uppföljning'!D133,\"\")","v":""}]
[null,{"$f":"IF('Handläggning och uppföljning'!B134=\"Ett mindre förändringsarbete behövs\",'Handläggning och uppföljning'!A134,\"\")","v":""},{"$f":"IF('Handläggning och uppföljning'!B134=\"Ett mindre förändringsarbete behövs\",'Handläggning och uppföljning'!C134,\"\")","v":""},{"$f":"IF('Handläggning och uppföljning'!B134=\"Ett mindre förändringsarbete behövs\",'Handläggning och uppföljning'!D134,\"\")","v":""}]
[null,{"$f":"IF('Handläggning och uppföljning'!B135=\"Ett mindre förändringsarbete behövs\",'Handläggning och uppföljning'!A135,\"\")","v":""},{"$f":"IF('Handläggning och uppföljning'!B135=\"Ett mindre förändringsarbete behövs\",'Handläggning och uppföljning'!C135,\"\")","v":""},{"$f":"IF('Handläggning och uppföljning'!B135=\"Ett mindre förändringsarbete behövs\",'Handläggning och uppföljning'!D135,\"\")","v":""}]
[null,{"$f":"IF('Handläggning och uppföljning'!B136=\"Ett mindre förändringsarbete behövs\",'Handläggning och uppföljning'!A136,\"\")","v":""},{"$f":"IF('Handläggning och uppföljning'!B136=\"Ett mindre förändringsarbete behövs\",'Handläggning och uppföljning'!C136,\"\")","v":""},{"$f":"IF('Handläggning och uppföljning'!B136=\"Ett mindre förändringsarbete behövs\",'Handläggning och uppföljning'!D136,\"\")","v":""}]
[null,{"$f":"IF('Handläggning och uppföljning'!B137=\"Ett mindre förändringsarbete behövs\",'Handläggning och uppföljning'!A137,\"\")","v":""},{"$f":"IF('Handläggning och uppföljning'!B137=\"Ett mindre förändringsarbete behövs\",'Handläggning och uppföljning'!C137,\"\")","v":""},{"$f":"IF('Handläggning och uppföljning'!B137=\"Ett mindre förändringsarbete behövs\",'Handläggning och uppföljning'!D137,\"\")","v":""}]
[null,{"$f":"IF('Handläggning och uppföljning'!B138=\"Ett mindre förändringsarbete behövs\",'Handläggning och uppföljning'!A138,\"\")","v":""},{"$f":"IF('Handläggning och uppföljning'!B138=\"Ett mindre förändringsarbete behövs\",'Handläggning och uppföljning'!C138,\"\")","v":""},{"$f":"IF('Handläggning och uppföljning'!B138=\"Ett mindre förändringsarbete behövs\",'Handläggning och uppföljning'!D138,\"\")","v":""}]
[null,{"$f":"IF('Handläggning och uppföljning'!B139=\"Ett mindre förändringsarbete behövs\",'Handläggning och uppföljning'!A139,\"\")","v":""},{"$f":"IF('Handläggning och uppföljning'!B139=\"Ett mindre förändringsarbete behövs\",'Handläggning och uppföljning'!C139,\"\")","v":""},{"$f":"IF('Handläggning och uppföljning'!B139=\"Ett mindre förändringsarbete behövs\",'Handläggning och uppföljning'!D139,\"\")","v":""}]
[null,{"$f":"IF('Handläggning och uppföljning'!B140=\"Ett mindre förändringsarbete behövs\",'Handläggning och uppföljning'!A140,\"\")","v":""},{"$f":"IF('Handläggning och uppföljning'!B140=\"Ett mindre förändringsarbete behövs\",'Handläggning och uppföljning'!C140,\"\")","v":""},{"$f":"IF('Handläggning och uppföljning'!B140=\"Ett mindre förändringsarbete behövs\",'Handläggning och uppföljning'!D140,\"\")","v":""}]
[null,{"$f":"IF('Handläggning och uppföljning'!B141=\"Ett mindre förändringsarbete behövs\",'Handläggning och uppföljning'!A141,\"\")","v":""},{"$f":"IF('Handläggning och uppföljning'!B141=\"Ett mindre förändringsarbete behövs\",'Handläggning och uppföljning'!C141,\"\")","v":""},{"$f":"IF('Handläggning och uppföljning'!B141=\"Ett mindre förändringsarbete behövs\",'Handläggning och uppföljning'!D141,\"\")","v":""}]
[null,{"$f":"IF('Handläggning och uppföljning'!B142=\"Ett mindre förändringsarbete behövs\",'Handläggning och uppföljning'!A142,\"\")","v":""},{"$f":"IF('Handläggning och uppföljning'!B142=\"Ett mindre förändringsarbete behövs\",'Handläggning och uppföljning'!C142,\"\")","v":""},{"$f":"IF('Handläggning och uppföljning'!B142=\"Ett mindre förändringsarbete behövs\",'Handläggning och uppföljning'!D142,\"\")","v":""}]
[null,{"$f":"IF('Handläggning och uppföljning'!B143=\"Ett mindre förändringsarbete behövs\",'Handläggning och uppföljning'!A143,\"\")","v":""},{"$f":"IF('Handläggning och uppföljning'!B143=\"Ett mindre förändringsarbete behövs\",'Handläggning och uppföljning'!C143,\"\")","v":""},{"$f":"IF('Handläggning och uppföljning'!B143=\"Ett mindre förändringsarbete behövs\",'Handläggning och uppföljning'!D143,\"\")","v":""}]
[null,{"$f":"IF('Handläggning och uppföljning'!B144=\"Ett mindre förändringsarbete behövs\",'Handläggning och uppföljning'!A144,\"\")","v":""},{"$f":"IF('Handläggning och uppföljning'!B144=\"Ett mindre förändringsarbete behövs\",'Handläggning och uppföljning'!C144,\"\")","v":""},{"$f":"IF('Handläggning och uppföljning'!B144=\"Ett mindre förändringsarbete behövs\",'Handläggning och uppföljning'!D144,\"\")","v":""}]
[null,{"$f":"IF('Handläggning och uppföljning'!B145=\"Ett mindre förändringsarbete behövs\",'Handläggning och uppföljning'!A145,\"\")","v":""},{"$f":"IF('Handläggning och uppföljning'!B145=\"Ett mindre förändringsarbete behövs\",'Handläggning och uppföljning'!C145,\"\")","v":""},{"$f":"IF('Handläggning och uppföljning'!B145=\"Ett mindre förändringsarbete behövs\",'Handläggning och uppföljning'!D145,\"\")","v":""}]
[null,{"$f":"IF('Handläggning och uppföljning'!B146=\"Ett mindre förändringsarbete behövs\",'Handläggning och uppföljning'!A146,\"\")","v":""},{"$f":"IF('Handläggning och uppföljning'!B146=\"Ett mindre förändringsarbete behövs\",'Handläggning och uppföljning'!C146,\"\")","v":""},{"$f":"IF('Handläggning och uppföljning'!B146=\"Ett mindre förändringsarbete behövs\",'Handläggning och uppföljning'!D146,\"\")","v":""}]
[null,{"$f":"IF('Handläggning och uppföljning'!B147=\"Ett mindre förändringsarbete behövs\",'Handläggning och uppföljning'!A147,\"\")","v":""},{"$f":"IF('Handläggning och uppföljning'!B147=\"Ett mindre förändringsarbete behövs\",'Handläggning och uppföljning'!C147,\"\")","v":""},{"$f":"IF('Handläggning och uppföljning'!B147=\"Ett mindre förändringsarbete behövs\",'Handläggning och uppföljning'!D147,\"\")","v":""}]
[null,{"$f":"IF('Handläggning och uppföljning'!B148=\"Ett mindre förändringsarbete behövs\",'Handläggning och uppföljning'!A148,\"\")","v":""},{"$f":"IF('Handläggning och uppföljning'!B148=\"Ett mindre förändringsarbete behövs\",'Handläggning och uppföljning'!C148,\"\")","v":""},{"$f":"IF('Handläggning och uppföljning'!B148=\"Ett mindre förändringsarbete behövs\",'Handläggning och uppföljning'!D148,\"\")","v":""}]
[null,{"$f":"IF('Handläggning och uppföljning'!B149=\"Ett mindre förändringsarbete behövs\",'Handläggning och uppföljning'!A149,\"\")","v":""},{"$f":"IF('Handläggning och uppföljning'!B149=\"Ett mindre förändringsarbete behövs\",'Handläggning och uppföljning'!C149,\"\")","v":""},{"$f":"IF('Handläggning och uppföljning'!B149=\"Ett mindre förändringsarbete behövs\",'Handläggning och uppföljning'!D149,\"\")","v":""}]
[null,{"$f":"IF('Handläggning och uppföljning'!B150=\"Ett mindre förändringsarbete behövs\",'Handläggning och uppföljning'!A150,\"\")","v":""},{"$f":"IF('Handläggning och uppföljning'!B150=\"Ett mindre förändringsarbete behövs\",'Handläggning och uppföljning'!C150,\"\")","v":""},{"$f":"IF('Handläggning och uppföljning'!B150=\"Ett mindre förändringsarbete behövs\",'Handläggning och uppföljning'!D150,\"\")","v":""}]
[null,{"$f":"IF('Handläggning och uppföljning'!B151=\"Ett mindre förändringsarbete behövs\",'Handläggning och uppföljning'!A151,\"\")","v":""},{"$f":"IF('Handläggning och uppföljning'!B151=\"Ett mindre förändringsarbete behövs\",'Handläggning och uppföljning'!C151,\"\")","v":""},{"$f":"IF('Handläggning och uppföljning'!B151=\"Ett mindre förändringsarbete behövs\",'Handläggning och uppföljning'!D151,\"\")","v":""}]
[null,{"$f":"IF('Handläggning och uppföljning'!B152=\"Ett mindre förändringsarbete behövs\",'Handläggning och uppföljning'!A152,\"\")","v":""},{"$f":"IF('Handläggning och uppföljning'!B152=\"Ett mindre förändringsarbete behövs\",'Handläggning och uppföljning'!C152,\"\")","v":""},{"$f":"IF('Handläggning och uppföljning'!B152=\"Ett mindre förändringsarbete behövs\",'Handläggning och uppföljning'!D152,\"\")","v":""}]
[null,{"$f":"IF('Handläggning och uppföljning'!B153=\"Ett mindre förändringsarbete behövs\",'Handläggning och uppföljning'!A153,\"\")","v":""},{"$f":"IF('Handläggning och uppföljning'!B153=\"Ett mindre förändringsarbete behövs\",'Handläggning och uppföljning'!C153,\"\")","v":""},{"$f":"IF('Handläggning och uppföljning'!B153=\"Ett mindre förändringsarbete behövs\",'Handläggning och uppföljning'!D153,\"\")","v":""}]
[null,{"$f":"IF('Handläggning och uppföljning'!B154=\"Ett mindre förändringsarbete behövs\",'Handläggning och uppföljning'!A154,\"\")","v":""},{"$f":"IF('Handläggning och uppföljning'!B154=\"Ett mindre förändringsarbete behövs\",'Handläggning och uppföljning'!C154,\"\")","v":""},{"$f":"IF('Handläggning och uppföljning'!B154=\"Ett mindre förändringsarbete behövs\",'Handläggning och uppföljning'!D154,\"\")","v":""}]
[null,{"$f":"IF('Handläggning och uppföljning'!B155=\"Ett mindre förändringsarbete behövs\",'Handläggning och uppföljning'!A155,\"\")","v":""},{"$f":"IF('Handläggning och uppföljning'!B155=\"Ett mindre förändringsarbete behövs\",'Handläggning och uppföljning'!C155,\"\")","v":""},{"$f":"IF('Handläggning och uppföljning'!B155=\"Ett mindre förändringsarbete behövs\",'Handläggning och uppföljning'!D155,\"\")","v":""}]
[null,{"$f":"IF('Handläggning och uppföljning'!B156=\"Ett mindre förändringsarbete behövs\",'Handläggning och uppföljning'!A156,\"\")","v":""},{"$f":"IF('Handläggning och uppföljning'!B156=\"Ett mindre förändringsarbete behövs\",'Handläggning och uppföljning'!C156,\"\")","v":""},{"$f":"IF('Handläggning och uppföljning'!B156=\"Ett mindre förändringsarbete behövs\",'Handläggning och uppföljning'!D156,\"\")","v":""}]
[null,{"$f":"IF('Handläggning och uppföljning'!B157=\"Ett mindre förändringsarbete behövs\",'Handläggning och uppföljning'!A157,\"\")","v":""},{"$f":"IF('Handläggning och uppföljning'!B157=\"Ett mindre förändringsarbete behövs\",'Handläggning och uppföljning'!C157,\"\")","v":""},{"$f":"IF('Handläggning och uppföljning'!B157=\"Ett mindre förändringsarbete behövs\",'Handläggning och uppföljning'!D157,\"\")","v":""}]
[null,{"$f":"IF('Handläggning och uppföljning'!B158=\"Ett mindre förändringsarbete behövs\",'Handläggning och uppföljning'!A158,\"\")","v":""},{"$f":"IF('Handläggning och uppföljning'!B158=\"Ett mindre förändringsarbete behövs\",'Handläggning och uppföljning'!C158,\"\")","v":""},{"$f":"IF('Handläggning och uppföljning'!B158=\"Ett mindre förändringsarbete behövs\",'Handläggning och uppföljning'!D158,\"\")","v":""}]
[null,{"$f":"IF('Handläggning och uppföljning'!B159=\"Ett mindre förändringsarbete behövs\",'Handläggning och uppföljning'!A159,\"\")","v":""},{"$f":"IF('Handläggning och uppföljning'!B159=\"Ett mindre förändringsarbete behövs\",'Handläggning och uppföljning'!C159,\"\")","v":""},{"$f":"IF('Handläggning och uppföljning'!B159=\"Ett mindre förändringsarbete behövs\",'Handläggning och uppföljning'!D159,\"\")","v":""}]
[null,{"$f":"IF('Handläggning och uppföljning'!B160=\"Ett mindre förändringsarbete behövs\",'Handläggning och uppföljning'!A160,\"\")","v":""},{"$f":"IF('Handläggning och uppföljning'!B160=\"Ett mindre förändringsarbete behövs\",'Handläggning och uppföljning'!C160,\"\")","v":""},{"$f":"IF('Handläggning och uppföljning'!B160=\"Ett mindre förändringsarbete behövs\",'Handläggning och uppföljning'!D160,\"\")","v":""}]
[null,{"$f":"IF('Handläggning och uppföljning'!B161=\"Ett mindre förändringsarbete behövs\",'Handläggning och uppföljning'!A161,\"\")","v":""},{"$f":"IF('Handläggning och uppföljning'!B161=\"Ett mindre förändringsarbete behövs\",'Handläggning och uppföljning'!C161,\"\")","v":""},{"$f":"IF('Handläggning och uppföljning'!B161=\"Ett mindre förändringsarbete behövs\",'Handläggning och uppföljning'!D161,\"\")","v":""}]
[null,{"$f":"IF('Handläggning och uppföljning'!B162=\"Ett mindre förändringsarbete behövs\",'Handläggning och uppföljning'!A162,\"\")","v":""},{"$f":"IF('Handläggning och uppföljning'!B162=\"Ett mindre förändringsarbete behövs\",'Handläggning och uppföljning'!C162,\"\")","v":""},{"$f":"IF('Handläggning och uppföljning'!B162=\"Ett mindre förändringsarbete behövs\",'Handläggning och uppföljning'!D162,\"\")","v":""}]
[null,{"$f":"IF('Handläggning och uppföljning'!B163=\"Ett mindre förändringsarbete behövs\",'Handläggning och uppföljning'!A163,\"\")","v":""},{"$f":"IF('Handläggning och uppföljning'!B163=\"Ett mindre förändringsarbete behövs\",'Handläggning och uppföljning'!C163,\"\")","v":""},{"$f":"IF('Handläggning och uppföljning'!B163=\"Ett mindre förändringsarbete behövs\",'Handläggning och uppföljning'!D163,\"\")","v":""}]
[null,{"$f":"IF('Handläggning och uppföljning'!B164=\"Ett mindre förändringsarbete behövs\",'Handläggning och uppföljning'!A164,\"\")","v":""},{"$f":"IF('Handläggning och uppföljning'!B164=\"Ett mindre förändringsarbete behövs\",'Handläggning och uppföljning'!C164,\"\")","v":""},{"$f":"IF('Handläggning och uppföljning'!B164=\"Ett mindre förändringsarbete behövs\",'Handläggning och uppföljning'!D164,\"\")","v":""}]
[null,{"$f":"IF('Handläggning och uppföljning'!B165=\"Ett mindre förändringsarbete behövs\",'Handläggning och uppföljning'!A165,\"\")","v":""},{"$f":"IF('Handläggning och uppföljning'!B165=\"Ett mindre förändringsarbete behövs\",'Handläggning och uppföljning'!C165,\"\")","v":""},{"$f":"IF('Handläggning och uppföljning'!B165=\"Ett mindre förändringsarbete behövs\",'Handläggning och uppföljning'!D165,\"\")","v":""}]
[null,{"$f":"IF('Handläggning och uppföljning'!B166=\"Ett mindre förändringsarbete behövs\",'Handläggning och uppföljning'!A166,\"\")","v":""},{"$f":"IF('Handläggning och uppföljning'!B166=\"Ett mindre förändringsarbete behövs\",'Handläggning och uppföljning'!C166,\"\")","v":""},{"$f":"IF('Handläggning och uppföljning'!B166=\"Ett mindre förändringsarbete behövs\",'Handläggning och uppföljning'!D166,\"\")","v":""}]
[null,{"$f":"IF('Handläggning och uppföljning'!B167=\"Ett mindre förändringsarbete behövs\",'Handläggning och uppföljning'!A167,\"\")","v":""},{"$f":"IF('Handläggning och uppföljning'!B167=\"Ett mindre förändringsarbete behövs\",'Handläggning och uppföljning'!C167,\"\")","v":""},{"$f":"IF('Handläggning och uppföljning'!B167=\"Ett mindre förändringsarbete behövs\",'Handläggning och uppföljning'!D167,\"\")","v":""}]
[null,{"$f":"IF('Handläggning och uppföljning'!B168=\"Ett mindre förändringsarbete behövs\",'Handläggning och uppföljning'!A168,\"\")","v":""},{"$f":"IF('Handläggning och uppföljning'!B168=\"Ett mindre förändringsarbete behövs\",'Handläggning och uppföljning'!C168,\"\")","v":""},{"$f":"IF('Handläggning och uppföljning'!B168=\"Ett mindre förändringsarbete behövs\",'Handläggning och uppföljning'!D168,\"\")","v":""}]
[null,{"$f":"IF('Handläggning och uppföljning'!B169=\"Ett mindre förändringsarbete behövs\",'Handläggning och uppföljning'!A169,\"\")","v":""},{"$f":"IF('Handläggning och uppföljning'!B169=\"Ett mindre förändringsarbete behövs\",'Handläggning och uppföljning'!C169,\"\")","v":""},{"$f":"IF('Handläggning och uppföljning'!B169=\"Ett mindre förändringsarbete behövs\",'Handläggning och uppföljning'!D169,\"\")","v":""}]
[null,{"$f":"IF(Insatser!B4=\"Ett mindre förändringsarbete behövs\",Insatser!A4,\"\")","v":""},{"$f":"IF(Insatser!B4=\"Ett mindre förändringsarbete behövs\",Insatser!C4,\"\")","v":""},{"$f":"IF(Insatser!B4=\"Ett mindre förändringsarbete behövs\",Insatser!D4,\"\")","v":""}]
[null,{"$f":"IF(Insatser!B5=\"Ett mindre förändringsarbete behövs\",Insatser!A5,\"\")","v":""},{"$f":"IF(Insatser!B5=\"Ett mindre förändringsarbete behövs\",Insatser!C5,\"\")","v":""},{"$f":"IF(Insatser!B5=\"Ett mindre förändringsarbete behövs\",Insatser!D5,\"\")","v":""}]
[null,{"$f":"IF(Insatser!B6=\"Ett mindre förändringsarbete behövs\",Insatser!A6,\"\")","v":""},{"$f":"IF(Insatser!B6=\"Ett mindre förändringsarbete behövs\",Insatser!C6,\"\")","v":""},{"$f":"IF(Insatser!B6=\"Ett mindre förändringsarbete behövs\",Insatser!D6,\"\")","v":""}]
[null,{"$f":"IF(Insatser!B7=\"Ett mindre förändringsarbete behövs\",Insatser!A7,\"\")","v":""},{"$f":"IF(Insatser!B7=\"Ett mindre förändringsarbete behövs\",Insatser!C7,\"\")","v":""},{"$f":"IF(Insatser!B7=\"Ett mindre förändringsarbete behövs\",Insatser!D7,\"\")","v":""}]
[null,{"$f":"IF(Insatser!B8=\"Ett mindre förändringsarbete behövs\",Insatser!A8,\"\")","v":""},{"$f":"IF(Insatser!B8=\"Ett mindre förändringsarbete behövs\",Insatser!C8,\"\")","v":""},{"$f":"IF(Insatser!B8=\"Ett mindre förändringsarbete behövs\",Insatser!D8,\"\")","v":""}]
[null,{"$f":"IF(Insatser!B9=\"Ett mindre förändringsarbete behövs\",Insatser!A9,\"\")","v":""},{"$f":"IF(Insatser!B9=\"Ett mindre förändringsarbete behövs\",Insatser!C9,\"\")","v":""},{"$f":"IF(Insatser!B9=\"Ett mindre förändringsarbete behövs\",Insatser!D9,\"\")","v":""}]
[null,{"$f":"IF(Insatser!B10=\"Ett mindre förändringsarbete behövs\",Insatser!A10,\"\")","v":""},{"$f":"IF(Insatser!B10=\"Ett mindre förändringsarbete behövs\",Insatser!C10,\"\")","v":""},{"$f":"IF(Insatser!B10=\"Ett mindre förändringsarbete behövs\",Insatser!D10,\"\")","v":""}]
[null,{"$f":"IF(Insatser!B11=\"Ett mindre förändringsarbete behövs\",Insatser!A11,\"\")","v":""},{"$f":"IF(Insatser!B11=\"Ett mindre förändringsarbete behövs\",Insatser!C11,\"\")","v":""},{"$f":"IF(Insatser!B11=\"Ett mindre förändringsarbete behövs\",Insatser!D11,\"\")","v":""}]
[null,{"$f":"IF(Insatser!B12=\"Ett mindre förändringsarbete behövs\",Insatser!A12,\"\")","v":""},{"$f":"IF(Insatser!B12=\"Ett mindre förändringsarbete behövs\",Insatser!C12,\"\")","v":""},{"$f":"IF(Insatser!B12=\"Ett mindre förändringsarbete behövs\",Insatser!D12,\"\")","v":""}]
[null,{"$f":"IF(Insatser!B13=\"Ett mindre förändringsarbete behövs\",Insatser!A13,\"\")","v":""},{"$f":"IF(Insatser!B13=\"Ett mindre förändringsarbete behövs\",Insatser!C13,\"\")","v":""},{"$f":"IF(Insatser!B13=\"Ett mindre förändringsarbete behövs\",Insatser!D13,\"\")","v":""}]
[null,{"$f":"IF(Insatser!B14=\"Ett mindre förändringsarbete behövs\",Insatser!A14,\"\")","v":""},{"$f":"IF(Insatser!B14=\"Ett mindre förändringsarbete behövs\",Insatser!C14,\"\")","v":""},{"$f":"IF(Insatser!B14=\"Ett mindre förändringsarbete behövs\",Insatser!D14,\"\")","v":""}]
[null,{"$f":"IF(Insatser!B15=\"Ett mindre förändringsarbete behövs\",Insatser!A15,\"\")","v":""},{"$f":"IF(Insatser!B15=\"Ett mindre förändringsarbete behövs\",Insatser!C15,\"\")","v":""},{"$f":"IF(Insatser!B15=\"Ett mindre förändringsarbete behövs\",Insatser!D15,\"\")","v":""}]
[null,{"$f":"IF(Insatser!B16=\"Ett mindre förändringsarbete behövs\",Insatser!A16,\"\")","v":""},{"$f":"IF(Insatser!B16=\"Ett mindre förändringsarbete behövs\",Insatser!C16,\"\")","v":""},{"$f":"IF(Insatser!B16=\"Ett mindre förändringsarbete behövs\",Insatser!D16,\"\")","v":""}]
[null,{"$f":"IF(Insatser!B17=\"Ett mindre förändringsarbete behövs\",Insatser!A17,\"\")","v":""},{"$f":"IF(Insatser!B17=\"Ett mindre förändringsarbete behövs\",Insatser!C17,\"\")","v":""},{"$f":"IF(Insatser!B17=\"Ett mindre förändringsarbete behövs\",Insatser!D17,\"\")","v":""}]
[null,{"$f":"IF(Insatser!B18=\"Ett mindre förändringsarbete behövs\",Insatser!A18,\"\")","v":""},{"$f":"IF(Insatser!B18=\"Ett mindre förändringsarbete behövs\",Insatser!C18,\"\")","v":""},{"$f":"IF(Insatser!B18=\"Ett mindre förändringsarbete behövs\",Insatser!D18,\"\")","v":""}]
[null,{"$f":"IF(Insatser!B19=\"Ett mindre förändringsarbete behövs\",Insatser!A19,\"\")","v":""},{"$f":"IF(Insatser!B19=\"Ett mindre förändringsarbete behövs\",Insatser!C19,\"\")","v":""},{"$f":"IF(Insatser!B19=\"Ett mindre förändringsarbete behövs\",Insatser!D19,\"\")","v":""}]
[null,{"$f":"IF(Insatser!B20=\"Ett mindre förändringsarbete behövs\",Insatser!A20,\"\")","v":""},{"$f":"IF(Insatser!B20=\"Ett mindre förändringsarbete behövs\",Insatser!C20,\"\")","v":""},{"$f":"IF(Insatser!B20=\"Ett mindre förändringsarbete behövs\",Insatser!D20,\"\")","v":""}]
[null,{"$f":"IF(Insatser!B21=\"Ett mindre förändringsarbete behövs\",Insatser!A21,\"\")","v":""},{"$f":"IF(Insatser!B21=\"Ett mindre förändringsarbete behövs\",Insatser!C21,\"\")","v":""},{"$f":"IF(Insatser!B21=\"Ett mindre förändringsarbete behövs\",Insatser!D21,\"\")","v":""}]
[null,{"$f":"IF(Insatser!B22=\"Ett mindre förändringsarbete behövs\",Insatser!A22,\"\")","v":""},{"$f":"IF(Insatser!B22=\"Ett mindre förändringsarbete behövs\",Insatser!C22,\"\")","v":""},{"$f":"IF(Insatser!B22=\"Ett mindre förändringsarbete behövs\",Insatser!D22,\"\")","v":""}]
[null,{"$f":"IF(Insatser!B23=\"Ett mindre förändringsarbete behövs\",Insatser!A23,\"\")","v":""},{"$f":"IF(Insatser!B23=\"Ett mindre förändringsarbete behövs\",Insatser!C23,\"\")","v":""},{"$f":"IF(Insatser!B23=\"Ett mindre förändringsarbete behövs\",Insatser!D23,\"\")","v":""}]
[null,{"$f":"IF(Insatser!B24=\"Ett mindre förändringsarbete behövs\",Insatser!A24,\"\")","v":""},{"$f":"IF(Insatser!B24=\"Ett mindre förändringsarbete behövs\",Insatser!C24,\"\")","v":""},{"$f":"IF(Insatser!B24=\"Ett mindre förändringsarbete behövs\",Insatser!D24,\"\")","v":""}]
[null,{"$f":"IF(Insatser!B25=\"Ett mindre förändringsarbete behövs\",Insatser!A25,\"\")","v":""},{"$f":"IF(Insatser!B25=\"Ett mindre förändringsarbete behövs\",Insatser!C25,\"\")","v":""},{"$f":"IF(Insatser!B25=\"Ett mindre förändringsarbete behövs\",Insatser!D25,\"\")","v":""}]
[null,{"$f":"IF(Insatser!B26=\"Ett mindre förändringsarbete behövs\",Insatser!A26,\"\")","v":""},{"$f":"IF(Insatser!B26=\"Ett mindre förändringsarbete behövs\",Insatser!C26,\"\")","v":""},{"$f":"IF(Insatser!B26=\"Ett mindre förändringsarbete behövs\",Insatser!D26,\"\")","v":""}]
[null,{"$f":"IF(Insatser!B27=\"Ett mindre förändringsarbete behövs\",Insatser!A27,\"\")","v":""},{"$f":"IF(Insatser!B27=\"Ett mindre förändringsarbete behövs\",Insatser!C27,\"\")","v":""},{"$f":"IF(Insatser!B27=\"Ett mindre förändringsarbete behövs\",Insatser!D27,\"\")","v":""}]
[null,{"$f":"IF(Insatser!B28=\"Ett mindre förändringsarbete behövs\",Insatser!A28,\"\")","v":""},{"$f":"IF(Insatser!B28=\"Ett mindre förändringsarbete behövs\",Insatser!C28,\"\")","v":""},{"$f":"IF(Insatser!B28=\"Ett mindre förändringsarbete behövs\",Insatser!D28,\"\")","v":""}]
[null,{"$f":"IF(Insatser!B29=\"Ett mindre förändringsarbete behövs\",Insatser!A29,\"\")","v":""},{"$f":"IF(Insatser!B29=\"Ett mindre förändringsarbete behövs\",Insatser!C29,\"\")","v":""},{"$f":"IF(Insatser!B29=\"Ett mindre förändringsarbete behövs\",Insatser!D29,\"\")","v":""}]
[null,{"$f":"IF(Insatser!B30=\"Ett mindre förändringsarbete behövs\",Insatser!A30,\"\")","v":""},{"$f":"IF(Insatser!B30=\"Ett mindre förändringsarbete behövs\",Insatser!C30,\"\")","v":""},{"$f":"IF(Insatser!B30=\"Ett mindre förändringsarbete behövs\",Insatser!D30,\"\")","v":""}]
[null,{"$f":"IF(Insatser!B31=\"Ett mindre förändringsarbete behövs\",Insatser!A31,\"\")","v":""},{"$f":"IF(Insatser!B31=\"Ett mindre förändringsarbete behövs\",Insatser!C31,\"\")","v":""},{"$f":"IF(Insatser!B31=\"Ett mindre förändringsarbete behövs\",Insatser!D31,\"\")","v":""}]
[null,{"$f":"IF(Insatser!B32=\"Ett mindre förändringsarbete behövs\",Insatser!A32,\"\")","v":""},{"$f":"IF(Insatser!B32=\"Ett mindre förändringsarbete behövs\",Insatser!C32,\"\")","v":""},{"$f":"IF(Insatser!B32=\"Ett mindre förändringsarbete behövs\",Insatser!D32,\"\")","v":""}]
[null,{"$f":"IF(Insatser!B33=\"Ett mindre förändringsarbete behövs\",Insatser!A33,\"\")","v":""},{"$f":"IF(Insatser!B33=\"Ett mindre förändringsarbete behövs\",Insatser!C33,\"\")","v":""},{"$f":"IF(Insatser!B33=\"Ett mindre förändringsarbete behövs\",Insatser!D33,\"\")","v":""}]
[null,{"$f":"IF(Insatser!B34=\"Ett mindre förändringsarbete behövs\",Insatser!A34,\"\")","v":""},{"$f":"IF(Insatser!B34=\"Ett mindre förändringsarbete behövs\",Insatser!C34,\"\")","v":""},{"$f":"IF(Insatser!B34=\"Ett mindre förändringsarbete behövs\",Insatser!D34,\"\")","v":""}]
[null,{"$f":"IF(Insatser!B35=\"Ett mindre förändringsarbete behövs\",Insatser!A35,\"\")","v":""},{"$f":"IF(Insatser!B35=\"Ett mindre förändringsarbete behövs\",Insatser!C35,\"\")","v":""},{"$f":"IF(Insatser!B35=\"Ett mindre förändringsarbete behövs\",Insatser!D35,\"\")","v":""}]
[null,{"$f":"IF(Insatser!B36=\"Ett mindre förändringsarbete behövs\",Insatser!A36,\"\")","v":""},{"$f":"IF(Insatser!B36=\"Ett mindre förändringsarbete behövs\",Insatser!C36,\"\")","v":""},{"$f":"IF(Insatser!B36=\"Ett mindre förändringsarbete behövs\",Insatser!D36,\"\")","v":""}]
[null,{"$f":"IF(Insatser!B37=\"Ett mindre förändringsarbete behövs\",Insatser!A37,\"\")","v":""},{"$f":"IF(Insatser!B37=\"Ett mindre förändringsarbete behövs\",Insatser!C37,\"\")","v":""},{"$f":"IF(Insatser!B37=\"Ett mindre förändringsarbete behövs\",Insatser!D37,\"\")","v":""}]
[null,{"$f":"IF(Insatser!B38=\"Ett mindre förändringsarbete behövs\",Insatser!A38,\"\")","v":""},{"$f":"IF(Insatser!B38=\"Ett mindre förändringsarbete behövs\",Insatser!C38,\"\")","v":""},{"$f":"IF(Insatser!B38=\"Ett mindre förändringsarbete behövs\",Insatser!D38,\"\")","v":""}]
[null,{"$f":"IF(Insatser!B39=\"Ett mindre förändringsarbete behövs\",Insatser!A39,\"\")","v":""},{"$f":"IF(Insatser!B39=\"Ett mindre förändringsarbete behövs\",Insatser!C39,\"\")","v":""},{"$f":"IF(Insatser!B39=\"Ett mindre förändringsarbete behövs\",Insatser!D39,\"\")","v":""}]
[null,{"$f":"IF(Insatser!B40=\"Ett mindre förändringsarbete behövs\",Insatser!A40,\"\")","v":""},{"$f":"IF(Insatser!B40=\"Ett mindre förändringsarbete behövs\",Insatser!C40,\"\")","v":""},{"$f":"IF(Insatser!B40=\"Ett mindre förändringsarbete behövs\",Insatser!D40,\"\")","v":""}]
[null,{"$f":"IF(Insatser!B41=\"Ett mindre förändringsarbete behövs\",Insatser!A41,\"\")","v":""},{"$f":"IF(Insatser!B41=\"Ett mindre förändringsarbete behövs\",Insatser!C41,\"\")","v":""},{"$f":"IF(Insatser!B41=\"Ett mindre förändringsarbete behövs\",Insatser!D41,\"\")","v":""}]
[null,{"$f":"IF(Insatser!B42=\"Ett mindre förändringsarbete behövs\",Insatser!A42,\"\")","v":""},{"$f":"IF(Insatser!B42=\"Ett mindre förändringsarbete behövs\",Insatser!C42,\"\")","v":""},{"$f":"IF(Insatser!B42=\"Ett mindre förändringsarbete behövs\",Insatser!D42,\"\")","v":""}]
[null,{"$f":"IF(Insatser!B43=\"Ett mindre förändringsarbete behövs\",Insatser!A43,\"\")","v":""},{"$f":"IF(Insatser!B43=\"Ett mindre förändringsarbete behövs\",Insatser!C43,\"\")","v":""},{"$f":"IF(Insatser!B43=\"Ett mindre förändringsarbete behövs\",Insatser!D43,\"\")","v":""}]
[null,{"$f":"IF(Insatser!B44=\"Ett mindre förändringsarbete behövs\",Insatser!A44,\"\")","v":""},{"$f":"IF(Insatser!B44=\"Ett mindre förändringsarbete behövs\",Insatser!C44,\"\")","v":""},{"$f":"IF(Insatser!B44=\"Ett mindre förändringsarbete behövs\",Insatser!D44,\"\")","v":""}]
[null,{"$f":"IF(Insatser!B45=\"Ett mindre förändringsarbete behövs\",Insatser!A45,\"\")","v":""},{"$f":"IF(Insatser!B45=\"Ett mindre förändringsarbete behövs\",Insatser!C45,\"\")","v":""},{"$f":"IF(Insatser!B45=\"Ett mindre förändringsarbete behövs\",Insatser!D45,\"\")","v":""}]
[null,{"$f":"IF(Insatser!B46=\"Ett mindre förändringsarbete behövs\",Insatser!A46,\"\")","v":""},{"$f":"IF(Insatser!B46=\"Ett mindre förändringsarbete behövs\",Insatser!C46,\"\")","v":""},{"$f":"IF(Insatser!B46=\"Ett mindre förändringsarbete behövs\",Insatser!D46,\"\")","v":""}]
[null,{"$f":"IF(Insatser!B47=\"Ett mindre förändringsarbete behövs\",Insatser!A47,\"\")","v":""},{"$f":"IF(Insatser!B47=\"Ett mindre förändringsarbete behövs\",Insatser!C47,\"\")","v":""},{"$f":"IF(Insatser!B47=\"Ett mindre förändringsarbete behövs\",Insatser!D47,\"\")","v":""}]
[null,{"$f":"IF(Insatser!B48=\"Ett mindre förändringsarbete behövs\",Insatser!A48,\"\")","v":""},{"$f":"IF(Insatser!B48=\"Ett mindre förändringsarbete behövs\",Insatser!C48,\"\")","v":""},{"$f":"IF(Insatser!B48=\"Ett mindre förändringsarbete behövs\",Insatser!D48,\"\")","v":""}]
[null,{"$f":"IF(Insatser!B49=\"Ett mindre förändringsarbete behövs\",Insatser!A49,\"\")","v":""},{"$f":"IF(Insatser!B49=\"Ett mindre förändringsarbete behövs\",Insatser!C49,\"\")","v":""},{"$f":"IF(Insatser!B49=\"Ett mindre förändringsarbete behövs\",Insatser!D49,\"\")","v":""}]
[null,{"$f":"IF(Insatser!B50=\"Ett mindre förändringsarbete behövs\",Insatser!A50,\"\")","v":""},{"$f":"IF(Insatser!B50=\"Ett mindre förändringsarbete behövs\",Insatser!C50,\"\")","v":""},{"$f":"IF(Insatser!B50=\"Ett mindre förändringsarbete behövs\",Insatser!D50,\"\")","v":""}]
[null,{"$f":"IF(Insatser!B51=\"Ett mindre förändringsarbete behövs\",Insatser!A51,\"\")","v":""},{"$f":"IF(Insatser!B51=\"Ett mindre förändringsarbete behövs\",Insatser!C51,\"\")","v":""},{"$f":"IF(Insatser!B51=\"Ett mindre förändringsarbete behövs\",Insatser!D51,\"\")","v":""}]
[null,{"$f":"IF(Insatser!B52=\"Ett mindre förändringsarbete behövs\",Insatser!A52,\"\")","v":""},{"$f":"IF(Insatser!B52=\"Ett mindre förändringsarbete behövs\",Insatser!C52,\"\")","v":""},{"$f":"IF(Insatser!B52=\"Ett mindre förändringsarbete behövs\",Insatser!D52,\"\")","v":""}]
[null,{"$f":"IF(Insatser!B53=\"Ett mindre förändringsarbete behövs\",Insatser!A53,\"\")","v":""},{"$f":"IF(Insatser!B53=\"Ett mindre förändringsarbete behövs\",Insatser!C53,\"\")","v":""},{"$f":"IF(Insatser!B53=\"Ett mindre förändringsarbete behövs\",Insatser!D53,\"\")","v":""}]
[null,{"$f":"IF(Insatser!B54=\"Ett mindre förändringsarbete behövs\",Insatser!A54,\"\")","v":""},{"$f":"IF(Insatser!B54=\"Ett mindre förändringsarbete behövs\",Insatser!C54,\"\")","v":""},{"$f":"IF(Insatser!B54=\"Ett mindre förändringsarbete behövs\",Insatser!D54,\"\")","v":""}]
[null,{"$f":"IF(Insatser!B55=\"Ett mindre förändringsarbete behövs\",Insatser!A55,\"\")","v":""},{"$f":"IF(Insatser!B55=\"Ett mindre förändringsarbete behövs\",Insatser!C55,\"\")","v":""},{"$f":"IF(Insatser!B55=\"Ett mindre förändringsarbete behövs\",Insatser!D55,\"\")","v":""}]
[null,{"$f":"IF(Insatser!B56=\"Ett mindre förändringsarbete behövs\",Insatser!A56,\"\")","v":""},{"$f":"IF(Insatser!B56=\"Ett mindre förändringsarbete behövs\",Insatser!C56,\"\")","v":""},{"$f":"IF(Insatser!B56=\"Ett mindre förändringsarbete behövs\",Insatser!D56,\"\")","v":""}]
[null,{"$f":"IF(Insatser!B57=\"Ett mindre förändringsarbete behövs\",Insatser!A57,\"\")","v":""},{"$f":"IF(Insatser!B57=\"Ett mindre förändringsarbete behövs\",Insatser!C57,\"\")","v":""},{"$f":"IF(Insatser!B57=\"Ett mindre förändringsarbete behövs\",Insatser!D57,\"\")","v":""}]
[null,{"$f":"IF(Insatser!B58=\"Ett mindre förändringsarbete behövs\",Insatser!A58,\"\")","v":""},{"$f":"IF(Insatser!B58=\"Ett mindre förändringsarbete behövs\",Insatser!C58,\"\")","v":""},{"$f":"IF(Insatser!B58=\"Ett mindre förändringsarbete behövs\",Insatser!D58,\"\")","v":""}]
[null,{"$f":"IF(Insatser!B59=\"Ett mindre förändringsarbete behövs\",Insatser!A59,\"\")","v":""},{"$f":"IF(Insatser!B59=\"Ett mindre förändringsarbete behövs\",Insatser!C59,\"\")","v":""},{"$f":"IF(Insatser!B59=\"Ett mindre förändringsarbete behövs\",Insatser!D59,\"\")","v":""}]
[null,{"$f":"IF(Insatser!B60=\"Ett mindre förändringsarbete behövs\",Insatser!A60,\"\")","v":""},{"$f":"IF(Insatser!B60=\"Ett mindre förändringsarbete behövs\",Insatser!C60,\"\")","v":""},{"$f":"IF(Insatser!B60=\"Ett mindre förändringsarbete behövs\",Insatser!D60,\"\")","v":""}]
[null,{"$f":"IF(Insatser!B61=\"Ett mindre förändringsarbete behövs\",Insatser!A61,\"\")","v":""},{"$f":"IF(Insatser!B61=\"Ett mindre förändringsarbete behövs\",Insatser!C61,\"\")","v":""},{"$f":"IF(Insatser!B61=\"Ett mindre förändringsarbete behövs\",Insatser!D61,\"\")","v":""}]
[null,{"$f":"IF(Insatser!B62=\"Ett mindre förändringsarbete behövs\",Insatser!A62,\"\")","v":""},{"$f":"IF(Insatser!B62=\"Ett mindre förändringsarbete behövs\",Insatser!C62,\"\")","v":""},{"$f":"IF(Insatser!B62=\"Ett mindre förändringsarbete behövs\",Insatser!D62,\"\")","v":""}]
[null,{"$f":"IF(Insatser!B63=\"Ett mindre förändringsarbete behövs\",Insatser!A63,\"\")","v":""},{"$f":"IF(Insatser!B63=\"Ett mindre förändringsarbete behövs\",Insatser!C63,\"\")","v":""},{"$f":"IF(Insatser!B63=\"Ett mindre förändringsarbete behövs\",Insatser!D63,\"\")","v":""}]
[null,{"$f":"IF(Insatser!B64=\"Ett mindre förändringsarbete behövs\",Insatser!A64,\"\")","v":""},{"$f":"IF(Insatser!B64=\"Ett mindre förändringsarbete behövs\",Insatser!C64,\"\")","v":""},{"$f":"IF(Insatser!B64=\"Ett mindre förändringsarbete behövs\",Insatser!D64,\"\")","v":""}]
[null,{"$f":"IF(Insatser!B65=\"Ett mindre förändringsarbete behövs\",Insatser!A65,\"\")","v":""},{"$f":"IF(Insatser!B65=\"Ett mindre förändringsarbete behövs\",Insatser!C65,\"\")","v":""},{"$f":"IF(Insatser!B65=\"Ett mindre förändringsarbete behövs\",Insatser!D65,\"\")","v":""}]
[null,{"$f":"IF(Insatser!B66=\"Ett mindre förändringsarbete behövs\",Insatser!A66,\"\")","v":""},{"$f":"IF(Insatser!B66=\"Ett mindre förändringsarbete behövs\",Insatser!C66,\"\")","v":""},{"$f":"IF(Insatser!B66=\"Ett mindre förändringsarbete behövs\",Insatser!D66,\"\")","v":""}]
[null,{"$f":"IF(Insatser!B67=\"Ett mindre förändringsarbete behövs\",Insatser!A67,\"\")","v":""},{"$f":"IF(Insatser!B67=\"Ett mindre förändringsarbete behövs\",Insatser!C67,\"\")","v":""},{"$f":"IF(Insatser!B67=\"Ett mindre förändringsarbete behövs\",Insatser!D67,\"\")","v":""}]
[null,{"$f":"IF(Insatser!B68=\"Ett mindre förändringsarbete behövs\",Insatser!A68,\"\")","v":""},{"$f":"IF(Insatser!B68=\"Ett mindre förändringsarbete behövs\",Insatser!C68,\"\")","v":""},{"$f":"IF(Insatser!B68=\"Ett mindre förändringsarbete behövs\",Insatser!D68,\"\")","v":""}]
[null,{"$f":"IF(Insatser!B69=\"Ett mindre förändringsarbete behövs\",Insatser!A69,\"\")","v":""},{"$f":"IF(Insatser!B69=\"Ett mindre förändringsarbete behövs\",Insatser!C69,\"\")","v":""},{"$f":"IF(Insatser!B69=\"Ett mindre förändringsarbete behövs\",Insatser!D69,\"\")","v":""}]
[null,{"$f":"IF(Insatser!B70=\"Ett mindre förändringsarbete behövs\",Insatser!A70,\"\")","v":""},{"$f":"IF(Insatser!B70=\"Ett mindre förändringsarbete behövs\",Insatser!C70,\"\")","v":""},{"$f":"IF(Insatser!B70=\"Ett mindre förändringsarbete behövs\",Insatser!D70,\"\")","v":""}]
[null,{"$f":"IF(Insatser!B71=\"Ett mindre förändringsarbete behövs\",Insatser!A71,\"\")","v":""},{"$f":"IF(Insatser!B71=\"Ett mindre förändringsarbete behövs\",Insatser!C71,\"\")","v":""},{"$f":"IF(Insatser!B71=\"Ett mindre förändringsarbete behövs\",Insatser!D71,\"\")","v":""}]
[null,{"$f":"IF(Insatser!B72=\"Ett mindre förändringsarbete behövs\",Insatser!A72,\"\")","v":""},{"$f":"IF(Insatser!B72=\"Ett mindre förändringsarbete behövs\",Insatser!C72,\"\")","v":""},{"$f":"IF(Insatser!B72=\"Ett mindre förändringsarbete behövs\",Insatser!D72,\"\")","v":""}]
[null,{"$f":"IF(Insatser!B73=\"Ett mindre förändringsarbete behövs\",Insatser!A73,\"\")","v":""},{"$f":"IF(Insatser!B73=\"Ett mindre förändringsarbete behövs\",Insatser!C73,\"\")","v":""},{"$f":"IF(Insatser!B73=\"Ett mindre förändringsarbete behövs\",Insatser!D73,\"\")","v":""}]
[null,{"$f":"IF(Insatser!B74=\"Ett mindre förändringsarbete behövs\",Insatser!A74,\"\")","v":""},{"$f":"IF(Insatser!B74=\"Ett mindre förändringsarbete behövs\",Insatser!C74,\"\")","v":""},{"$f":"IF(Insatser!B74=\"Ett mindre förändringsarbete behövs\",Insatser!D74,\"\")","v":""}]
[null,{"$f":"IF(Insatser!B75=\"Ett mindre förändringsarbete behövs\",Insatser!A75,\"\")","v":""},{"$f":"IF(Insatser!B75=\"Ett mindre förändringsarbete behövs\",Insatser!C75,\"\")","v":""},{"$f":"IF(Insatser!B75=\"Ett mindre förändringsarbete behövs\",Insatser!D75,\"\")","v":""}]
[null,{"$f":"IF(Insatser!B76=\"Ett mindre förändringsarbete behövs\",Insatser!A76,\"\")","v":""},{"$f":"IF(Insatser!B76=\"Ett mindre förändringsarbete behövs\",Insatser!C76,\"\")","v":""},{"$f":"IF(Insatser!B76=\"Ett mindre förändringsarbete behövs\",Insatser!D76,\"\")","v":""}]
[null,{"$f":"IF(Insatser!B77=\"Ett mindre förändringsarbete behövs\",Insatser!A77,\"\")","v":""},{"$f":"IF(Insatser!B77=\"Ett mindre förändringsarbete behövs\",Insatser!C77,\"\")","v":""},{"$f":"IF(Insatser!B77=\"Ett mindre förändringsarbete behövs\",Insatser!D77,\"\")","v":""}]
[null,{"$f":"IF(Insatser!B78=\"Ett mindre förändringsarbete behövs\",Insatser!A78,\"\")","v":""},{"$f":"IF(Insatser!B78=\"Ett mindre förändringsarbete behövs\",Insatser!C78,\"\")","v":""},{"$f":"IF(Insatser!B78=\"Ett mindre förändringsarbete behövs\",Insatser!D78,\"\")","v":""}]
[null,{"$f":"IF(Insatser!B79=\"Ett mindre förändringsarbete behövs\",Insatser!A79,\"\")","v":""},{"$f":"IF(Insatser!B79=\"Ett mindre förändringsarbete behövs\",Insatser!C79,\"\")","v":""},{"$f":"IF(Insatser!B79=\"Ett mindre förändringsarbete behövs\",Insatser!D79,\"\")","v":""}]
[null,{"$f":"IF(Insatser!B80=\"Ett mindre förändringsarbete behövs\",Insatser!A80,\"\")","v":""},{"$f":"IF(Insatser!B80=\"Ett mindre förändringsarbete behövs\",Insatser!C80,\"\")","v":""},{"$f":"IF(Insatser!B80=\"Ett mindre förändringsarbete behövs\",Insatser!D80,\"\")","v":""}]
[null,{"$f":"IF(Insatser!B81=\"Ett mindre förändringsarbete behövs\",Insatser!A81,\"\")","v":""},{"$f":"IF(Insatser!B81=\"Ett mindre förändringsarbete behövs\",Insatser!C81,\"\")","v":""},{"$f":"IF(Insatser!B81=\"Ett mindre förändringsarbete behövs\",Insatser!D81,\"\")","v":""}]
[null,{"$f":"IF(Insatser!B82=\"Ett mindre förändringsarbete behövs\",Insatser!A82,\"\")","v":""},{"$f":"IF(Insatser!B82=\"Ett mindre förändringsarbete behövs\",Insatser!C82,\"\")","v":""},{"$f":"IF(Insatser!B82=\"Ett mindre förändringsarbete behövs\",Insatser!D82,\"\")","v":""}]
[null,{"$f":"IF(Insatser!B83=\"Ett mindre förändringsarbete behövs\",Insatser!A83,\"\")","v":""},{"$f":"IF(Insatser!B83=\"Ett mindre förändringsarbete behövs\",Insatser!C83,\"\")","v":""},{"$f":"IF(Insatser!B83=\"Ett mindre förändringsarbete behövs\",Insatser!D83,\"\")","v":""}]
[null,{"$f":"IF(Insatser!B84=\"Ett mindre förändringsarbete behövs\",Insatser!A84,\"\")","v":""},{"$f":"IF(Insatser!B84=\"Ett mindre förändringsarbete behövs\",Insatser!C84,\"\")","v":""},{"$f":"IF(Insatser!B84=\"Ett mindre förändringsarbete behövs\",Insatser!D84,\"\")","v":""}]
[null,{"$f":"IF(Insatser!B85=\"Ett mindre förändringsarbete behövs\",Insatser!A85,\"\")","v":""},{"$f":"IF(Insatser!B85=\"Ett mindre förändringsarbete behövs\",Insatser!C85,\"\")","v":""},{"$f":"IF(Insatser!B85=\"Ett mindre förändringsarbete behövs\",Insatser!D85,\"\")","v":""}]
[null,{"$f":"IF(Insatser!B86=\"Ett mindre förändringsarbete behövs\",Insatser!A86,\"\")","v":""},{"$f":"IF(Insatser!B86=\"Ett mindre förändringsarbete behövs\",Insatser!C86,\"\")","v":""},{"$f":"IF(Insatser!B86=\"Ett mindre förändringsarbete behövs\",Insatser!D86,\"\")","v":""}]
[null,{"$f":"IF(Insatser!B87=\"Ett mindre förändringsarbete behövs\",Insatser!A87,\"\")","v":""},{"$f":"IF(Insatser!B87=\"Ett mindre förändringsarbete behövs\",Insatser!C87,\"\")","v":""},{"$f":"IF(Insatser!B87=\"Ett mindre förändringsarbete behövs\",Insatser!D87,\"\")","v":""}]
[null,{"$f":"IF(Insatser!B88=\"Ett mindre förändringsarbete behövs\",Insatser!A88,\"\")","v":""},{"$f":"IF(Insatser!B88=\"Ett mindre förändringsarbete behövs\",Insatser!C88,\"\")","v":""},{"$f":"IF(Insatser!B88=\"Ett mindre förändringsarbete behövs\",Insatser!D88,\"\")","v":""}]
[null,{"$f":"IF(Insatser!B89=\"Ett mindre förändringsarbete behövs\",Insatser!A89,\"\")","v":""},{"$f":"IF(Insatser!B89=\"Ett mindre förändringsarbete behövs\",Insatser!C89,\"\")","v":""},{"$f":"IF(Insatser!B89=\"Ett mindre förändringsarbete behövs\",Insatser!D89,\"\")","v":""}]
[null,{"$f":"IF(Insatser!B90=\"Ett mindre förändringsarbete behövs\",Insatser!A90,\"\")","v":""},{"$f":"IF(Insatser!B90=\"Ett mindre förändringsarbete behövs\",Insatser!C90,\"\")","v":""},{"$f":"IF(Insatser!B90=\"Ett mindre förändringsarbete behövs\",Insatser!D90,\"\")","v":""}]
[null,{"$f":"IF(Insatser!B91=\"Ett mindre förändringsarbete behövs\",Insatser!A91,\"\")","v":""},{"$f":"IF(Insatser!B91=\"Ett mindre förändringsarbete behövs\",Insatser!C91,\"\")","v":""},{"$f":"IF(Insatser!B91=\"Ett mindre förändringsarbete behövs\",Insatser!D91,\"\")","v":""}]
[null,{"$f":"IF(Insatser!B92=\"Ett mindre förändringsarbete behövs\",Insatser!A92,\"\")","v":""},{"$f":"IF(Insatser!B92=\"Ett mindre förändringsarbete behövs\",Insatser!C92,\"\")","v":""},{"$f":"IF(Insatser!B92=\"Ett mindre förändringsarbete behövs\",Insatser!D92,\"\")","v":""}]
[null,{"$f":"IF(Insatser!B93=\"Ett mindre förändringsarbete behövs\",Insatser!A93,\"\")","v":""},{"$f":"IF(Insatser!B93=\"Ett mindre förändringsarbete behövs\",Insatser!C93,\"\")","v":""},{"$f":"IF(Insatser!B93=\"Ett mindre förändringsarbete behövs\",Insatser!D93,\"\")","v":""}]
[null,{"$f":"IF(Insatser!B94=\"Ett mindre förändringsarbete behövs\",Insatser!A94,\"\")","v":""},{"$f":"IF(Insatser!B94=\"Ett mindre förändringsarbete behövs\",Insatser!C94,\"\")","v":""},{"$f":"IF(Insatser!B94=\"Ett mindre förändringsarbete behövs\",Insatser!D94,\"\")","v":""}]
[null,{"$f":"IF(Insatser!B95=\"Ett mindre förändringsarbete behövs\",Insatser!A95,\"\")","v":""},{"$f":"IF(Insatser!B95=\"Ett mindre förändringsarbete behövs\",Insatser!C95,\"\")","v":""},{"$f":"IF(Insatser!B95=\"Ett mindre förändringsarbete behövs\",Insatser!D95,\"\")","v":""}]
[null,{"$f":"IF(Insatser!B96=\"Ett mindre förändringsarbete behövs\",Insatser!A96,\"\")","v":""},{"$f":"IF(Insatser!B96=\"Ett mindre förändringsarbete behövs\",Insatser!C96,\"\")","v":""},{"$f":"IF(Insatser!B96=\"Ett mindre förändringsarbete behövs\",Insatser!D96,\"\")","v":""}]
[null,{"$f":"IF(Insatser!B97=\"Ett mindre förändringsarbete behövs\",Insatser!A97,\"\")","v":""},{"$f":"IF(Insatser!B97=\"Ett mindre förändringsarbete behövs\",Insatser!C97,\"\")","v":""},{"$f":"IF(Insatser!B97=\"Ett mindre förändringsarbete behövs\",Insatser!D97,\"\")","v":""}]
[null,{"$f":"IF(Insatser!B98=\"Ett mindre förändringsarbete behövs\",Insatser!A98,\"\")","v":""},{"$f":"IF(Insatser!B98=\"Ett mindre förändringsarbete behövs\",Insatser!C98,\"\")","v":""},{"$f":"IF(Insatser!B98=\"Ett mindre förändringsarbete behövs\",Insatser!D98,\"\")","v":""}]
[null,{"$f":"IF(Insatser!B99=\"Ett mindre förändringsarbete behövs\",Insatser!A99,\"\")","v":""},{"$f":"IF(Insatser!B99=\"Ett mindre förändringsarbete behövs\",Insatser!C99,\"\")","v":""},{"$f":"IF(Insatser!B99=\"Ett mindre förändringsarbete behövs\",Insatser!D99,\"\")","v":""}]
[null,{"$f":"IF(Insatser!B100=\"Ett mindre förändringsarbete behövs\",Insatser!A100,\"\")","v":""},{"$f":"IF(Insatser!B100=\"Ett mindre förändringsarbete behövs\",Insatser!C100,\"\")","v":""},{"$f":"IF(Insatser!B100=\"Ett mindre förändringsarbete behövs\",Insatser!D100,\"\")","v":""}]
[null,{"$f":"IF(Insatser!B101=\"Ett mindre förändringsarbete behövs\",Insatser!A101,\"\")","v":""},{"$f":"IF(Insatser!B101=\"Ett mindre förändringsarbete behövs\",Insatser!C101,\"\")","v":""},{"$f":"IF(Insatser!B101=\"Ett mindre förändringsarbete behövs\",Insatser!D101,\"\")","v":""}]
[null,{"$f":"IF(Insatser!B102=\"Ett mindre förändringsarbete behövs\",Insatser!A102,\"\")","v":""},{"$f":"IF(Insatser!B102=\"Ett mindre förändringsarbete behövs\",Insatser!C102,\"\")","v":""},{"$f":"IF(Insatser!B102=\"Ett mindre förändringsarbete behövs\",Insatser!D102,\"\")","v":""}]
[null,{"$f":"IF(Insatser!B103=\"Ett mindre förändringsarbete behövs\",Insatser!A103,\"\")","v":""},{"$f":"IF(Insatser!B103=\"Ett mindre förändringsarbete behövs\",Insatser!C103,\"\")","v":""},{"$f":"IF(Insatser!B103=\"Ett mindre förändringsarbete behövs\",Insatser!D103,\"\")","v":""}]
[null,{"$f":"IF(Insatser!B104=\"Ett mindre förändringsarbete behövs\",Insatser!A104,\"\")","v":""},{"$f":"IF(Insatser!B104=\"Ett mindre förändringsarbete behövs\",Insatser!C104,\"\")","v":""},{"$f":"IF(Insatser!B104=\"Ett mindre förändringsarbete behövs\",Insatser!D104,\"\")","v":""}]
[null,{"$f":"IF(Insatser!B105=\"Ett mindre förändringsarbete behövs\",Insatser!A105,\"\")","v":""},{"$f":"IF(Insatser!B105=\"Ett mindre förändringsarbete behövs\",Insatser!C105,\"\")","v":""},{"$f":"IF(Insatser!B105=\"Ett mindre förändringsarbete behövs\",Insatser!D105,\"\")","v":""}]
[null,{"$f":"IF(Insatser!B106=\"Ett mindre förändringsarbete behövs\",Insatser!A106,\"\")","v":""},{"$f":"IF(Insatser!B106=\"Ett mindre förändringsarbete behövs\",Insatser!C106,\"\")","v":""},{"$f":"IF(Insatser!B106=\"Ett mindre förändringsarbete behövs\",Insatser!D106,\"\")","v":""}]
[null,{"$f":"IF(Insatser!B107=\"Ett mindre förändringsarbete behövs\",Insatser!A107,\"\")","v":""},{"$f":"IF(Insatser!B107=\"Ett mindre förändringsarbete behövs\",Insatser!C107,\"\")","v":""},{"$f":"IF(Insatser!B107=\"Ett mindre förändringsarbete behövs\",Insatser!D107,\"\")","v":""}]
[null,{"$f":"IF(Insatser!B108=\"Ett mindre förändringsarbete behövs\",Insatser!A108,\"\")","v":""},{"$f":"IF(Insatser!B108=\"Ett mindre förändringsarbete behövs\",Insatser!C108,\"\")","v":""},{"$f":"IF(Insatser!B108=\"Ett mindre förändringsarbete behövs\",Insatser!D108,\"\")","v":""}]
[null,{"$f":"IF(Insatser!B109=\"Ett mindre förändringsarbete behövs\",Insatser!A109,\"\")","v":""},{"$f":"IF(Insatser!B109=\"Ett mindre förändringsarbete behövs\",Insatser!C109,\"\")","v":""},{"$f":"IF(Insatser!B109=\"Ett mindre förändringsarbete behövs\",Insatser!D109,\"\")","v":""}]
[null,{"$f":"IF(Insatser!B110=\"Ett mindre förändringsarbete behövs\",Insatser!A110,\"\")","v":""},{"$f":"IF(Insatser!B110=\"Ett mindre förändringsarbete behövs\",Insatser!C110,\"\")","v":""},{"$f":"IF(Insatser!B110=\"Ett mindre förändringsarbete behövs\",Insatser!D110,\"\")","v":""}]
[null,{"$f":"IF(Insatser!B111=\"Ett mindre förändringsarbete behövs\",Insatser!A111,\"\")","v":""},{"$f":"IF(Insatser!B111=\"Ett mindre förändringsarbete behövs\",Insatser!C111,\"\")","v":""},{"$f":"IF(Insatser!B111=\"Ett mindre förändringsarbete behövs\",Insatser!D111,\"\")","v":""}]
[null,{"$f":"IF(Insatser!B112=\"Ett mindre förändringsarbete behövs\",Insatser!A112,\"\")","v":""},{"$f":"IF(Insatser!B112=\"Ett mindre förändringsarbete behövs\",Insatser!C112,\"\")","v":""},{"$f":"IF(Insatser!B112=\"Ett mindre förändringsarbete behövs\",Insatser!D112,\"\")","v":""}]
[null,{"$f":"IF(Insatser!B113=\"Ett mindre förändringsarbete behövs\",Insatser!A113,\"\")","v":""},{"$f":"IF(Insatser!B113=\"Ett mindre förändringsarbete behövs\",Insatser!C113,\"\")","v":""},{"$f":"IF(Insatser!B113=\"Ett mindre förändringsarbete behövs\",Insatser!D113,\"\")","v":""}]
[null,{"$f":"IF(Insatser!B114=\"Ett mindre förändringsarbete behövs\",Insatser!A114,\"\")","v":""},{"$f":"IF(Insatser!B114=\"Ett mindre förändringsarbete behövs\",Insatser!C114,\"\")","v":""},{"$f":"IF(Insatser!B114=\"Ett mindre förändringsarbete behövs\",Insatser!D114,\"\")","v":""}]
[null,{"$f":"IF(Insatser!B115=\"Ett mindre förändringsarbete behövs\",Insatser!A115,\"\")","v":""},{"$f":"IF(Insatser!B115=\"Ett mindre förändringsarbete behövs\",Insatser!C115,\"\")","v":""},{"$f":"IF(Insatser!B115=\"Ett mindre förändringsarbete behövs\",Insatser!D115,\"\")","v":""}]
[null,{"$f":"IF(Insatser!B116=\"Ett mindre förändringsarbete behövs\",Insatser!A116,\"\")","v":""},{"$f":"IF(Insatser!B116=\"Ett mindre förändringsarbete behövs\",Insatser!C116,\"\")","v":""},{"$f":"IF(Insatser!B116=\"Ett mindre förändringsarbete behövs\",Insatser!D116,\"\")","v":""}]
[null,{"$f":"IF(Insatser!B117=\"Ett mindre förändringsarbete behövs\",Insatser!A117,\"\")","v":""},{"$f":"IF(Insatser!B117=\"Ett mindre förändringsarbete behövs\",Insatser!C117,\"\")","v":""},{"$f":"IF(Insatser!B117=\"Ett mindre förändringsarbete behövs\",Insatser!D117,\"\")","v":""}]
[null,{"$f":"IF(Insatser!B118=\"Ett mindre förändringsarbete behövs\",Insatser!A118,\"\")","v":""},{"$f":"IF(Insatser!B118=\"Ett mindre förändringsarbete behövs\",Insatser!C118,\"\")","v":""},{"$f":"IF(Insatser!B118=\"Ett mindre förändringsarbete behövs\",Insatser!D118,\"\")","v":""}]
[null,{"$f":"IF(Insatser!B119=\"Ett mindre förändringsarbete behövs\",Insatser!A119,\"\")","v":""},{"$f":"IF(Insatser!B119=\"Ett mindre förändringsarbete behövs\",Insatser!C119,\"\")","v":""},{"$f":"IF(Insatser!B119=\"Ett mindre förändringsarbete behövs\",Insatser!D119,\"\")","v":""}]
[null,{"$f":"IF(Insatser!B120=\"Ett mindre förändringsarbete behövs\",Insatser!A120,\"\")","v":""},{"$f":"IF(Insatser!B120=\"Ett mindre förändringsarbete behövs\",Insatser!C120,\"\")","v":""},{"$f":"IF(Insatser!B120=\"Ett mindre förändringsarbete behövs\",Insatser!D120,\"\")","v":""}]
[null,{"$f":"IF(Insatser!B121=\"Ett mindre förändringsarbete behövs\",Insatser!A121,\"\")","v":""},{"$f":"IF(Insatser!B121=\"Ett mindre förändringsarbete behövs\",Insatser!C121,\"\")","v":""},{"$f":"IF(Insatser!B121=\"Ett mindre förändringsarbete behövs\",Insatser!D121,\"\")","v":""}]
[null,{"$f":"IF(Insatser!B122=\"Ett mindre förändringsarbete behövs\",Insatser!A122,\"\")","v":""},{"$f":"IF(Insatser!B122=\"Ett mindre förändringsarbete behövs\",Insatser!C122,\"\")","v":""},{"$f":"IF(Insatser!B122=\"Ett mindre förändringsarbete behövs\",Insatser!D122,\"\")","v":""}]
[null,{"$f":"IF(Insatser!B123=\"Ett mindre förändringsarbete behövs\",Insatser!A123,\"\")","v":""},{"$f":"IF(Insatser!B123=\"Ett mindre förändringsarbete behövs\",Insatser!C123,\"\")","v":""},{"$f":"IF(Insatser!B123=\"Ett mindre förändringsarbete behövs\",Insatser!D123,\"\")","v":""}]
[null,{"$f":"IF(Insatser!B124=\"Ett mindre förändringsarbete behövs\",Insatser!A124,\"\")","v":""},{"$f":"IF(Insatser!B124=\"Ett mindre förändringsarbete behövs\",Insatser!C124,\"\")","v":""},{"$f":"IF(Insatser!B124=\"Ett mindre förändringsarbete behövs\",Insatser!D124,\"\")","v":""}]
[null,{"$f":"IF(Insatser!B125=\"Ett mindre förändringsarbete behövs\",Insatser!A125,\"\")","v":""},{"$f":"IF(Insatser!B125=\"Ett mindre förändringsarbete behövs\",Insatser!C125,\"\")","v":""},{"$f":"IF(Insatser!B125=\"Ett mindre förändringsarbete behövs\",Insatser!D125,\"\")","v":""}]
[null,{"$f":"IF(Insatser!B126=\"Ett mindre förändringsarbete behövs\",Insatser!A126,\"\")","v":""},{"$f":"IF(Insatser!B126=\"Ett mindre förändringsarbete behövs\",Insatser!C126,\"\")","v":""},{"$f":"IF(Insatser!B126=\"Ett mindre förändringsarbete behövs\",Insatser!D126,\"\")","v":""}]
[null,{"$f":"IF(Insatser!B127=\"Ett mindre förändringsarbete behövs\",Insatser!A127,\"\")","v":""},{"$f":"IF(Insatser!B127=\"Ett mindre förändringsarbete behövs\",Insatser!C127,\"\")","v":""},{"$f":"IF(Insatser!B127=\"Ett mindre förändringsarbete behövs\",Insatser!D127,\"\")","v":""}]
[null,{"$f":"IF(Insatser!B128=\"Ett mindre förändringsarbete behövs\",Insatser!A128,\"\")","v":""},{"$f":"IF(Insatser!B128=\"Ett mindre förändringsarbete behövs\",Insatser!C128,\"\")","v":""},{"$f":"IF(Insatser!B128=\"Ett mindre förändringsarbete behövs\",Insatser!D128,\"\")","v":""}]
[null,{"$f":"IF(Insatser!B129=\"Ett mindre förändringsarbete behövs\",Insatser!A129,\"\")","v":""},{"$f":"IF(Insatser!B129=\"Ett mindre förändringsarbete behövs\",Insatser!C129,\"\")","v":""},{"$f":"IF(Insatser!B129=\"Ett mindre förändringsarbete behövs\",Insatser!D129,\"\")","v":""}]
[null,{"$f":"IF(Insatser!B130=\"Ett mindre förändringsarbete behövs\",Insatser!A130,\"\")","v":""},{"$f":"IF(Insatser!B130=\"Ett mindre förändringsarbete behövs\",Insatser!C130,\"\")","v":""},{"$f":"IF(Insatser!B130=\"Ett mindre förändringsarbete behövs\",Insatser!D130,\"\")","v":""}]
[null,{"$f":"IF(Insatser!B131=\"Ett mindre förändringsarbete behövs\",Insatser!A131,\"\")","v":""},{"$f":"IF(Insatser!B131=\"Ett mindre förändringsarbete behövs\",Insatser!C131,\"\")","v":""},{"$f":"IF(Insatser!B131=\"Ett mindre förändringsarbete behövs\",Insatser!D131,\"\")","v":""}]
[null,{"$f":"IF(Insatser!B132=\"Ett mindre förändringsarbete behövs\",Insatser!A132,\"\")","v":""},{"$f":"IF(Insatser!B132=\"Ett mindre förändringsarbete behövs\",Insatser!C132,\"\")","v":""},{"$f":"IF(Insatser!B132=\"Ett mindre förändringsarbete behövs\",Insatser!D132,\"\")","v":""}]
[null,{"$f":"IF(Insatser!B133=\"Ett mindre förändringsarbete behövs\",Insatser!A133,\"\")","v":""},{"$f":"IF(Insatser!B133=\"Ett mindre förändringsarbete behövs\",Insatser!C133,\"\")","v":""},{"$f":"IF(Insatser!B133=\"Ett mindre förändringsarbete behövs\",Insatser!D133,\"\")","v":""}]
[null,{"$f":"IF(Insatser!B134=\"Ett mindre förändringsarbete behövs\",Insatser!A134,\"\")","v":""},{"$f":"IF(Insatser!B134=\"Ett mindre förändringsarbete behövs\",Insatser!C134,\"\")","v":""},{"$f":"IF(Insatser!B134=\"Ett mindre förändringsarbete behövs\",Insatser!D134,\"\")","v":""}]
[null,{"$f":"IF(Insatser!B135=\"Ett mindre förändringsarbete behövs\",Insatser!A135,\"\")","v":""},{"$f":"IF(Insatser!B135=\"Ett mindre förändringsarbete behövs\",Insatser!C135,\"\")","v":""},{"$f":"IF(Insatser!B135=\"Ett mindre förändringsarbete behövs\",Insatser!D135,\"\")","v":""}]
[null,{"$f":"IF(Insatser!B136=\"Ett mindre förändringsarbete behövs\",Insatser!A136,\"\")","v":""},{"$f":"IF(Insatser!B136=\"Ett mindre förändringsarbete behövs\",Insatser!C136,\"\")","v":""},{"$f":"IF(Insatser!B136=\"Ett mindre förändringsarbete behövs\",Insatser!D136,\"\")","v":""}]
[null,{"$f":"IF(Insatser!B137=\"Ett mindre förändringsarbete behövs\",Insatser!A137,\"\")","v":""},{"$f":"IF(Insatser!B137=\"Ett mindre förändringsarbete behövs\",Insatser!C137,\"\")","v":""},{"$f":"IF(Insatser!B137=\"Ett mindre förändringsarbete behövs\",Insatser!D137,\"\")","v":""}]
[null,{"$f":"IF(Insatser!B138=\"Ett mindre förändringsarbete behövs\",Insatser!A138,\"\")","v":""},{"$f":"IF(Insatser!B138=\"Ett mindre förändringsarbete behövs\",Insatser!C138,\"\")","v":""},{"$f":"IF(Insatser!B138=\"Ett mindre förändringsarbete behövs\",Insatser!D138,\"\")","v":""}]
[null,{"$f":"IF(Insatser!B139=\"Ett mindre förändringsarbete behövs\",Insatser!A139,\"\")","v":""},{"$f":"IF(Insatser!B139=\"Ett mindre förändringsarbete behövs\",Insatser!C139,\"\")","v":""},{"$f":"IF(Insatser!B139=\"Ett mindre förändringsarbete behövs\",Insatser!D139,\"\")","v":""}]
[null,{"$f":"IF(Insatser!B140=\"Ett mindre förändringsarbete behövs\",Insatser!A140,\"\")","v":""},{"$f":"IF(Insatser!B140=\"Ett mindre förändringsarbete behövs\",Insatser!C140,\"\")","v":""},{"$f":"IF(Insatser!B140=\"Ett mindre förändringsarbete behövs\",Insatser!D140,\"\")","v":""}]
[null,{"$f":"IF(Insatser!B141=\"Ett mindre förändringsarbete behövs\",Insatser!A141,\"\")","v":""},{"$f":"IF(Insatser!B141=\"Ett mindre förändringsarbete behövs\",Insatser!C141,\"\")","v":""},{"$f":"IF(Insatser!B141=\"Ett mindre förändringsarbete behövs\",Insatser!D141,\"\")","v":""}]
[null,{"$f":"IF(Insatser!B142=\"Ett mindre förändringsarbete behövs\",Insatser!A142,\"\")","v":""},{"$f":"IF(Insatser!B142=\"Ett mindre förändringsarbete behövs\",Insatser!C142,\"\")","v":""},{"$f":"IF(Insatser!B142=\"Ett mindre förändringsarbete behövs\",Insatser!D142,\"\")","v":""}]
[null,{"$f":"IF(Insatser!B143=\"Ett mindre förändringsarbete behövs\",Insatser!A143,\"\")","v":""},{"$f":"IF(Insatser!B143=\"Ett mindre förändringsarbete behövs\",Insatser!C143,\"\")","v":""},{"$f":"IF(Insatser!B143=\"Ett mindre förändringsarbete behövs\",Insatser!D143,\"\")","v":""}]
[null,{"$f":"IF(Insatser!B144=\"Ett mindre förändringsarbete behövs\",Insatser!A144,\"\")","v":""},{"$f":"IF(Insatser!B144=\"Ett mindre förändringsarbete behövs\",Insatser!C144,\"\")","v":""},{"$f":"IF(Insatser!B144=\"Ett mindre förändringsarbete behövs\",Insatser!D144,\"\")","v":""}]
[null,{"$f":"IF(Insatser!B145=\"Ett mindre förändringsarbete behövs\",Insatser!A145,\"\")","v":""},{"$f":"IF(Insatser!B145=\"Ett mindre förändringsarbete behövs\",Insatser!C145,\"\")","v":""},{"$f":"IF(Insatser!B145=\"Ett mindre förändringsarbete behövs\",Insatser!D145,\"\")","v":""}]
[null,{"$f":"IF(Insatser!B146=\"Ett mindre förändringsarbete behövs\",Insatser!A146,\"\")","v":""},{"$f":"IF(Insatser!B146=\"Ett mindre förändringsarbete behövs\",Insatser!C146,\"\")","v":""},{"$f":"IF(Insatser!B146=\"Ett mindre förändringsarbete behövs\",Insatser!D146,\"\")","v":""}]
[null,{"$f":"IF(Insatser!B147=\"Ett mindre förändringsarbete behövs\",Insatser!A147,\"\")","v":""},{"$f":"IF(Insatser!B147=\"Ett mindre förändringsarbete behövs\",Insatser!C147,\"\")","v":""},{"$f":"IF(Insatser!B147=\"Ett mindre förändringsarbete behövs\",Insatser!D147,\"\")","v":""}]
[null,{"$f":"IF(Insatser!B148=\"Ett mindre förändringsarbete behövs\",Insatser!A148,\"\")","v":""},{"$f":"IF(Insatser!B148=\"Ett mindre förändringsarbete behövs\",Insatser!C148,\"\")","v":""},{"$f":"IF(Insatser!B148=\"Ett mindre förändringsarbete behövs\",Insatser!D148,\"\")","v":""}]
[null,{"$f":"IF(Insatser!B149=\"Ett mindre förändringsarbete behövs\",Insatser!A149,\"\")","v":""},{"$f":"IF(Insatser!B149=\"Ett mindre förändringsarbete behövs\",Insatser!C149,\"\")","v":""},{"$f":"IF(Insatser!B149=\"Ett mindre förändringsarbete behövs\",Insatser!D149,\"\")","v":""}]
[null,{"$f":"IF(Insatser!B150=\"Ett mindre förändringsarbete behövs\",Insatser!A150,\"\")","v":""},{"$f":"IF(Insatser!B150=\"Ett mindre förändringsarbete behövs\",Insatser!C150,\"\")","v":""},{"$f":"IF(Insatser!B150=\"Ett mindre förändringsarbete behövs\",Insatser!D150,\"\")","v":""}]
[null,{"$f":"IF(Insatser!B151=\"Ett mindre förändringsarbete behövs\",Insatser!A151,\"\")","v":""},{"$f":"IF(Insatser!B151=\"Ett mindre förändringsarbete behövs\",Insatser!C151,\"\")","v":""},{"$f":"IF(Insatser!B151=\"Ett mindre förändringsarbete behövs\",Insatser!D151,\"\")","v":""}]
[null,{"$f":"IF(Insatser!B152=\"Ett mindre förändringsarbete behövs\",Insatser!A152,\"\")","v":""},{"$f":"IF(Insatser!B152=\"Ett mindre förändringsarbete behövs\",Insatser!C152,\"\")","v":""},{"$f":"IF(Insatser!B152=\"Ett mindre förändringsarbete behövs\",Insatser!D152,\"\")","v":""}]
[null,{"$f":"IF(Insatser!B153=\"Ett mindre förändringsarbete behövs\",Insatser!A153,\"\")","v":""},{"$f":"IF(Insatser!B153=\"Ett mindre förändringsarbete behövs\",Insatser!C153,\"\")","v":""},{"$f":"IF(Insatser!B153=\"Ett mindre förändringsarbete behövs\",Insatser!D153,\"\")","v":""}]
[null,{"$f":"IF(Insatser!B154=\"Ett mindre förändringsarbete behövs\",Insatser!A154,\"\")","v":""},{"$f":"IF(Insatser!B154=\"Ett mindre förändringsarbete behövs\",Insatser!C154,\"\")","v":""},{"$f":"IF(Insatser!B154=\"Ett mindre förändringsarbete behövs\",Insatser!D154,\"\")","v":""}]
[null,{"$f":"IF(Insatser!B155=\"Ett mindre förändringsarbete behövs\",Insatser!A155,\"\")","v":""},{"$f":"IF(Insatser!B155=\"Ett mindre förändringsarbete behövs\",Insatser!C155,\"\")","v":""},{"$f":"IF(Insatser!B155=\"Ett mindre förändringsarbete behövs\",Insatser!D155,\"\")","v":""}]
[null,{"$f":"IF(Insatser!B156=\"Ett mindre förändringsarbete behövs\",Insatser!A156,\"\")","v":""},{"$f":"IF(Insatser!B156=\"Ett mindre förändringsarbete behövs\",Insatser!C156,\"\")","v":""},{"$f":"IF(Insatser!B156=\"Ett mindre förändringsarbete behövs\",Insatser!D156,\"\")","v":""}]
[null,{"$f":"IF(Insatser!B157=\"Ett mindre förändringsarbete behövs\",Insatser!A157,\"\")","v":""},{"$f":"IF(Insatser!B157=\"Ett mindre förändringsarbete behövs\",Insatser!C157,\"\")","v":""},{"$f":"IF(Insatser!B157=\"Ett mindre förändringsarbete behövs\",Insatser!D157,\"\")","v":""}]
[null,{"$f":"IF(Insatser!B158=\"Ett mindre förändringsarbete behövs\",Insatser!A158,\"\")","v":""},{"$f":"IF(Insatser!B158=\"Ett mindre förändringsarbete behövs\",Insatser!C158,\"\")","v":""},{"$f":"IF(Insatser!B158=\"Ett mindre förändringsarbete behövs\",Insatser!D158,\"\")","v":""}]
[null,{"$f":"IF(Insatser!B159=\"Ett mindre förändringsarbete behövs\",Insatser!A159,\"\")","v":""},{"$f":"IF(Insatser!B159=\"Ett mindre förändringsarbete behövs\",Insatser!C159,\"\")","v":""},{"$f":"IF(Insatser!B159=\"Ett mindre förändringsarbete behövs\",Insatser!D159,\"\")","v":""}]
[null,{"$f":"IF(Insatser!B160=\"Ett mindre förändringsarbete behövs\",Insatser!A160,\"\")","v":""},{"$f":"IF(Insatser!B160=\"Ett mindre förändringsarbete behövs\",Insatser!C160,\"\")","v":""},{"$f":"IF(Insatser!B160=\"Ett mindre förändringsarbete behövs\",Insatser!D160,\"\")","v":""}]
[null,{"$f":"IF(Insatser!B161=\"Ett mindre förändringsarbete behövs\",Insatser!A161,\"\")","v":""},{"$f":"IF(Insatser!B161=\"Ett mindre förändringsarbete behövs\",Insatser!C161,\"\")","v":""},{"$f":"IF(Insatser!B161=\"Ett mindre förändringsarbete behövs\",Insatser!D161,\"\")","v":""}]
[null,{"$f":"IF(Insatser!B162=\"Ett mindre förändringsarbete behövs\",Insatser!A162,\"\")","v":""},{"$f":"IF(Insatser!B162=\"Ett mindre förändringsarbete behövs\",Insatser!C162,\"\")","v":""},{"$f":"IF(Insatser!B162=\"Ett mindre förändringsarbete behövs\",Insatser!D162,\"\")","v":""}]
[null,{"$f":"IF(Insatser!B163=\"Ett mindre förändringsarbete behövs\",Insatser!A163,\"\")","v":""},{"$f":"IF(Insatser!B163=\"Ett mindre förändringsarbete behövs\",Insatser!C163,\"\")","v":""},{"$f":"IF(Insatser!B163=\"Ett mindre förändringsarbete behövs\",Insatser!D163,\"\")","v":""}]
[null,{"$f":"IF(Insatser!B164=\"Ett mindre förändringsarbete behövs\",Insatser!A164,\"\")","v":""},{"$f":"IF(Insatser!B164=\"Ett mindre förändringsarbete behövs\",Insatser!C164,\"\")","v":""},{"$f":"IF(Insatser!B164=\"Ett mindre förändringsarbete behövs\",Insatser!D164,\"\")","v":""}]
[null,{"$f":"IF(Insatser!B165=\"Ett mindre förändringsarbete behövs\",Insatser!A165,\"\")","v":""},{"$f":"IF(Insatser!B165=\"Ett mindre förändringsarbete behövs\",Insatser!C165,\"\")","v":""},{"$f":"IF(Insatser!B165=\"Ett mindre förändringsarbete behövs\",Insatser!D165,\"\")","v":""}]
[null,{"$f":"IF(Insatser!B166=\"Ett mindre förändringsarbete behövs\",Insatser!A166,\"\")","v":""},{"$f":"IF(Insatser!B166=\"Ett mindre förändringsarbete behövs\",Insatser!C166,\"\")","v":""},{"$f":"IF(Insatser!B166=\"Ett mindre förändringsarbete behövs\",Insatser!D166,\"\")","v":""}]
[null,{"$f":"IF(Insatser!B167=\"Ett mindre förändringsarbete behövs\",Insatser!A167,\"\")","v":""},{"$f":"IF(Insatser!B167=\"Ett mindre förändringsarbete behövs\",Insatser!C167,\"\")","v":""},{"$f":"IF(Insatser!B167=\"Ett mindre förändringsarbete behövs\",Insatser!D167,\"\")","v":""}]
[null,{"$f":"IF(Insatser!B168=\"Ett mindre förändringsarbete behövs\",Insatser!A168,\"\")","v":""},{"$f":"IF(Insatser!B168=\"Ett mindre förändringsarbete behövs\",Insatser!C168,\"\")","v":""},{"$f":"IF(Insatser!B168=\"Ett mindre förändringsarbete behövs\",Insatser!D168,\"\")","v":""}]
[null,{"$f":"IF(Insatser!B169=\"Ett mindre förändringsarbete behövs\",Insatser!A169,\"\")","v":""},{"$f":"IF(Insatser!B169=\"Ett mindre förändringsarbete behövs\",Insatser!C169,\"\")","v":""},{"$f":"IF(Insatser!B169=\"Ett mindre förändringsarbete behövs\",Insatser!D169,\"\")","v":""}]
[null,{"$f":"IF(Insatser!B170=\"Ett mindre förändringsarbete behövs\",Insatser!A170,\"\")","v":""},{"$f":"IF(Insatser!B170=\"Ett mindre förändringsarbete behövs\",Insatser!C170,\"\")","v":""},{"$f":"IF(Insatser!B170=\"Ett mindre förändringsarbete behövs\",Insatser!D170,\"\")","v":""}]
[null,"JA, I HUVUDSAK","KOMMENTAR","LÄSHÄNVISNINGAR"]
[null,{"$f":"IF('Styrning och kompetens'!B4=\"Ja, i huvudsak\",'Styrning och kompetens'!A4,\"\")","v":""},{"$f":"IF('Styrning och kompetens'!B4=\"Ja, i huvudsak\",'Styrning och kompetens'!C4,\"\")","v":""},{"$f":"IF('Styrning och kompetens'!B4=\"Ja, i huvudsak\",'Styrning och kompetens'!D4,\"\")","v":""}]
[null,{"$f":"IF('Styrning och kompetens'!B5=\"Ja, i huvudsak\",'Styrning och kompetens'!A5,\"\")","v":""},{"$f":"IF('Styrning och kompetens'!B5=\"Ja, i huvudsak\",'Styrning och kompetens'!C5,\"\")","v":""},{"$f":"IF('Styrning och kompetens'!B5=\"Ja, i huvudsak\",'Styrning och kompetens'!D5,\"\")","v":""}]
[null,{"$f":"IF('Styrning och kompetens'!B6=\"Ja, i huvudsak\",'Styrning och kompetens'!A6,\"\")","v":""},{"$f":"IF('Styrning och kompetens'!B6=\"Ja, i huvudsak\",'Styrning och kompetens'!C6,\"\")","v":""},{"$f":"IF('Styrning och kompetens'!B6=\"Ja, i huvudsak\",'Styrning och kompetens'!D6,\"\")","v":""}]
[null,{"$f":"IF('Styrning och kompetens'!B7=\"Ja, i huvudsak\",'Styrning och kompetens'!A7,\"\")","v":""},{"$f":"IF('Styrning och kompetens'!B7=\"Ja, i huvudsak\",'Styrning och kompetens'!C7,\"\")","v":""},{"$f":"IF('Styrning och kompetens'!B7=\"Ja, i huvudsak\",'Styrning och kompetens'!D7,\"\")","v":""}]
[null,{"$f":"IF('Styrning och kompetens'!B8=\"Ja, i huvudsak\",'Styrning och kompetens'!A8,\"\")","v":""},{"$f":"IF('Styrning och kompetens'!B8=\"Ja, i huvudsak\",'Styrning och kompetens'!C8,\"\")","v":""},{"$f":"IF('Styrning och kompetens'!B8=\"Ja, i huvudsak\",'Styrning och kompetens'!D8,\"\")","v":""}]
[null,{"$f":"IF('Styrning och kompetens'!B9=\"Ja, i huvudsak\",'Styrning och kompetens'!A9,\"\")","v":""},{"$f":"IF('Styrning och kompetens'!B9=\"Ja, i huvudsak\",'Styrning och kompetens'!C9,\"\")","v":""},{"$f":"IF('Styrning och kompetens'!B9=\"Ja, i huvudsak\",'Styrning och kompetens'!D9,\"\")","v":""}]
[null,{"$f":"IF('Styrning och kompetens'!B10=\"Ja, i huvudsak\",'Styrning och kompetens'!A10,\"\")","v":""},{"$f":"IF('Styrning och kompetens'!B10=\"Ja, i huvudsak\",'Styrning och kompetens'!C10,\"\")","v":""},{"$f":"IF('Styrning och kompetens'!B10=\"Ja, i huvudsak\",'Styrning och kompetens'!D10,\"\")","v":""}]
[null,{"$f":"IF('Styrning och kompetens'!B11=\"Ja, i huvudsak\",'Styrning och kompetens'!A11,\"\")","v":""},{"$f":"IF('Styrning och kompetens'!B11=\"Ja, i huvudsak\",'Styrning och kompetens'!C11,\"\")","v":""},{"$f":"IF('Styrning och kompetens'!B11=\"Ja, i huvudsak\",'Styrning och kompetens'!D11,\"\")","v":""}]
[null,{"$f":"IF('Styrning och kompetens'!B12=\"Ja, i huvudsak\",'Styrning och kompetens'!A12,\"\")","v":""},{"$f":"IF('Styrning och kompetens'!B12=\"Ja, i huvudsak\",'Styrning och kompetens'!C12,\"\")","v":""},{"$f":"IF('Styrning och kompetens'!B12=\"Ja, i huvudsak\",'Styrning och kompetens'!D12,\"\")","v":""}]
[null,{"$f":"IF('Styrning och kompetens'!B13=\"Ja, i huvudsak\",'Styrning och kompetens'!A13,\"\")","v":""},{"$f":"IF('Styrning och kompetens'!B13=\"Ja, i huvudsak\",'Styrning och kompetens'!C13,\"\")","v":""},{"$f":"IF('Styrning och kompetens'!B13=\"Ja, i huvudsak\",'Styrning och kompetens'!D13,\"\")","v":""}]
[null,{"$f":"IF('Styrning och kompetens'!B14=\"Ja, i huvudsak\",'Styrning och kompetens'!A14,\"\")","v":""},{"$f":"IF('Styrning och kompetens'!B14=\"Ja, i huvudsak\",'Styrning och kompetens'!C14,\"\")","v":""},{"$f":"IF('Styrning och kompetens'!B14=\"Ja, i huvudsak\",'Styrning och kompetens'!D14,\"\")","v":""}]
[null,{"$f":"IF('Styrning och kompetens'!B15=\"Ja, i huvudsak\",'Styrning och kompetens'!A15,\"\")","v":""},{"$f":"IF('Styrning och kompetens'!B15=\"Ja, i huvudsak\",'Styrning och kompetens'!C15,\"\")","v":""},{"$f":"IF('Styrning och kompetens'!B15=\"Ja, i huvudsak\",'Styrning och kompetens'!D15,\"\")","v":""}]
[null,{"$f":"IF('Styrning och kompetens'!B16=\"Ja, i huvudsak\",'Styrning och kompetens'!A16,\"\")","v":""},{"$f":"IF('Styrning och kompetens'!B16=\"Ja, i huvudsak\",'Styrning och kompetens'!C16,\"\")","v":""},{"$f":"IF('Styrning och kompetens'!B16=\"Ja, i huvudsak\",'Styrning och kompetens'!D16,\"\")","v":""}]
[null,{"$f":"IF('Styrning och kompetens'!B17=\"Ja, i huvudsak\",'Styrning och kompetens'!A17,\"\")","v":""},{"$f":"IF('Styrning och kompetens'!B17=\"Ja, i huvudsak\",'Styrning och kompetens'!C17,\"\")","v":""},{"$f":"IF('Styrning och kompetens'!B17=\"Ja, i huvudsak\",'Styrning och kompetens'!D17,\"\")","v":""}]
[null,{"$f":"IF('Styrning och kompetens'!B18=\"Ja, i huvudsak\",'Styrning och kompetens'!A18,\"\")","v":""},{"$f":"IF('Styrning och kompetens'!B18=\"Ja, i huvudsak\",'Styrning och kompetens'!C18,\"\")","v":""},{"$f":"IF('Styrning och kompetens'!B18=\"Ja, i huvudsak\",'Styrning och kompetens'!D18,\"\")","v":""}]
[null,{"$f":"IF('Styrning och kompetens'!B19=\"Ja, i huvudsak\",'Styrning och kompetens'!A19,\"\")","v":""},{"$f":"IF('Styrning och kompetens'!B19=\"Ja, i huvudsak\",'Styrning och kompetens'!C19,\"\")","v":""},{"$f":"IF('Styrning och kompetens'!B19=\"Ja, i huvudsak\",'Styrning och kompetens'!D19,\"\")","v":""}]
[null,{"$f":"IF('Styrning och kompetens'!B20=\"Ja, i huvudsak\",'Styrning och kompetens'!A20,\"\")","v":""},{"$f":"IF('Styrning och kompetens'!B20=\"Ja, i huvudsak\",'Styrning och kompetens'!C20,\"\")","v":""},{"$f":"IF('Styrning och kompetens'!B20=\"Ja, i huvudsak\",'Styrning och kompetens'!D20,\"\")","v":""}]
[null,{"$f":"IF('Styrning och kompetens'!B21=\"Ja, i huvudsak\",'Styrning och kompetens'!A21,\"\")","v":""},{"$f":"IF('Styrning och kompetens'!B21=\"Ja, i huvudsak\",'Styrning och kompetens'!C21,\"\")","v":""},{"$f":"IF('Styrning och kompetens'!B21=\"Ja, i huvudsak\",'Styrning och kompetens'!D21,\"\")","v":""}]
[null,{"$f":"IF('Styrning och kompetens'!B22=\"Ja, i huvudsak\",'Styrning och kompetens'!A22,\"\")","v":""},{"$f":"IF('Styrning och kompetens'!B22=\"Ja, i huvudsak\",'Styrning och kompetens'!C22,\"\")","v":""},{"$f":"IF('Styrning och kompetens'!B22=\"Ja, i huvudsak\",'Styrning och kompetens'!D22,\"\")","v":""}]
[null,{"$f":"IF('Styrning och kompetens'!B23=\"Ja, i huvudsak\",'Styrning och kompetens'!A23,\"\")","v":""},{"$f":"IF('Styrning och kompetens'!B23=\"Ja, i huvudsak\",'Styrning och kompetens'!C23,\"\")","v":""},{"$f":"IF('Styrning och kompetens'!B23=\"Ja, i huvudsak\",'Styrning och kompetens'!D23,\"\")","v":""}]
[null,{"$f":"IF('Styrning och kompetens'!B24=\"Ja, i huvudsak\",'Styrning och kompetens'!A24,\"\")","v":""},{"$f":"IF('Styrning och kompetens'!B24=\"Ja, i huvudsak\",'Styrning och kompetens'!C24,\"\")","v":""},{"$f":"IF('Styrning och kompetens'!B24=\"Ja, i huvudsak\",'Styrning och kompetens'!D24,\"\")","v":""}]
[null,{"$f":"IF('Styrning och kompetens'!B25=\"Ja, i huvudsak\",'Styrning och kompetens'!A25,\"\")","v":""},{"$f":"IF('Styrning och kompetens'!B25=\"Ja, i huvudsak\",'Styrning och kompetens'!C25,\"\")","v":""},{"$f":"IF('Styrning och kompetens'!B25=\"Ja, i huvudsak\",'Styrning och kompetens'!D25,\"\")","v":""}]
[null,{"$f":"IF('Styrning och kompetens'!B26=\"Ja, i huvudsak\",'Styrning och kompetens'!A26,\"\")","v":""},{"$f":"IF('Styrning och kompetens'!B26=\"Ja, i huvudsak\",'Styrning och kompetens'!C26,\"\")","v":""},{"$f":"IF('Styrning och kompetens'!B26=\"Ja, i huvudsak\",'Styrning och kompetens'!D26,\"\")","v":""}]
[null,{"$f":"IF('Styrning och kompetens'!B27=\"Ja, i huvudsak\",'Styrning och kompetens'!A27,\"\")","v":""},{"$f":"IF('Styrning och kompetens'!B27=\"Ja, i huvudsak\",'Styrning och kompetens'!C27,\"\")","v":""},{"$f":"IF('Styrning och kompetens'!B27=\"Ja, i huvudsak\",'Styrning och kompetens'!D27,\"\")","v":""}]
[null,{"$f":"IF('Styrning och kompetens'!B28=\"Ja, i huvudsak\",'Styrning och kompetens'!A28,\"\")","v":""},{"$f":"IF('Styrning och kompetens'!B28=\"Ja, i huvudsak\",'Styrning och kompetens'!C28,\"\")","v":""},{"$f":"IF('Styrning och kompetens'!B28=\"Ja, i huvudsak\",'Styrning och kompetens'!D28,\"\")","v":""}]
[null,{"$f":"IF('Styrning och kompetens'!B29=\"Ja, i huvudsak\",'Styrning och kompetens'!A29,\"\")","v":""},{"$f":"IF('Styrning och kompetens'!B29=\"Ja, i huvudsak\",'Styrning och kompetens'!C29,\"\")","v":""},{"$f":"IF('Styrning och kompetens'!B29=\"Ja, i huvudsak\",'Styrning och kompetens'!D29,\"\")","v":""}]
[null,{"$f":"IF('Styrning och kompetens'!B30=\"Ja, i huvudsak\",'Styrning och kompetens'!A30,\"\")","v":""},{"$f":"IF('Styrning och kompetens'!B30=\"Ja, i huvudsak\",'Styrning och kompetens'!C30,\"\")","v":""},{"$f":"IF('Styrning och kompetens'!B30=\"Ja, i huvudsak\",'Styrning och kompetens'!D30,\"\")","v":""}]
[null,{"$f":"IF('Styrning och kompetens'!B31=\"Ja, i huvudsak\",'Styrning och kompetens'!A31,\"\")","v":""},{"$f":"IF('Styrning och kompetens'!B31=\"Ja, i huvudsak\",'Styrning och kompetens'!C31,\"\")","v":""},{"$f":"IF('Styrning och kompetens'!B31=\"Ja, i huvudsak\",'Styrning och kompetens'!D31,\"\")","v":""}]
[null,{"$f":"IF('Styrning och kompetens'!B32=\"Ja, i huvudsak\",'Styrning och kompetens'!A32,\"\")","v":""},{"$f":"IF('Styrning och kompetens'!B32=\"Ja, i huvudsak\",'Styrning och kompetens'!C32,\"\")","v":""},{"$f":"IF('Styrning och kompetens'!B32=\"Ja, i huvudsak\",'Styrning och kompetens'!D32,\"\")","v":""}]
[null,{"$f":"IF('Styrning och kompetens'!B33=\"Ja, i huvudsak\",'Styrning och kompetens'!A33,\"\")","v":""},{"$f":"IF('Styrning och kompetens'!B33=\"Ja, i huvudsak\",'Styrning och kompetens'!C33,\"\")","v":""},{"$f":"IF('Styrning och kompetens'!B33=\"Ja, i huvudsak\",'Styrning och kompetens'!D33,\"\")","v":""}]
[null,{"$f":"IF('Styrning och kompetens'!B34=\"Ja, i huvudsak\",'Styrning och kompetens'!A34,\"\")","v":""},{"$f":"IF('Styrning och kompetens'!B34=\"Ja, i huvudsak\",'Styrning och kompetens'!C34,\"\")","v":""},{"$f":"IF('Styrning och kompetens'!B34=\"Ja, i huvudsak\",'Styrning och kompetens'!D34,\"\")","v":""}]
[null,{"$f":"IF('Styrning och kompetens'!B35=\"Ja, i huvudsak\",'Styrning och kompetens'!A35,\"\")","v":""},{"$f":"IF('Styrning och kompetens'!B35=\"Ja, i huvudsak\",'Styrning och kompetens'!C35,\"\")","v":""},{"$f":"IF('Styrning och kompetens'!B35=\"Ja, i huvudsak\",'Styrning och kompetens'!D35,\"\")","v":""}]
[null,{"$f":"IF('Styrning och kompetens'!B36=\"Ja, i huvudsak\",'Styrning och kompetens'!A36,\"\")","v":""},{"$f":"IF('Styrning och kompetens'!B36=\"Ja, i huvudsak\",'Styrning och kompetens'!C36,\"\")","v":""},{"$f":"IF('Styrning och kompetens'!B36=\"Ja, i huvudsak\",'Styrning och kompetens'!D36,\"\")","v":""}]
[null,{"$f":"IF('Styrning och kompetens'!B37=\"Ja, i huvudsak\",'Styrning och kompetens'!A37,\"\")","v":""},{"$f":"IF('Styrning och kompetens'!B37=\"Ja, i huvudsak\",'Styrning och kompetens'!C37,\"\")","v":""},{"$f":"IF('Styrning och kompetens'!B37=\"Ja, i huvudsak\",'Styrning och kompetens'!D37,\"\")","v":""}]
[null,{"$f":"IF('Styrning och kompetens'!B38=\"Ja, i huvudsak\",'Styrning och kompetens'!A38,\"\")","v":""},{"$f":"IF('Styrning och kompetens'!B38=\"Ja, i huvudsak\",'Styrning och kompetens'!C38,\"\")","v":""},{"$f":"IF('Styrning och kompetens'!B38=\"Ja, i huvudsak\",'Styrning och kompetens'!D38,\"\")","v":""}]
[null,{"$f":"IF('Styrning och kompetens'!B39=\"Ja, i huvudsak\",'Styrning och kompetens'!A39,\"\")","v":""},{"$f":"IF('Styrning och kompetens'!B39=\"Ja, i huvudsak\",'Styrning och kompetens'!C39,\"\")","v":""},{"$f":"IF('Styrning och kompetens'!B39=\"Ja, i huvudsak\",'Styrning och kompetens'!D39,\"\")","v":""}]
[null,{"$f":"IF('Styrning och kompetens'!B40=\"Ja, i huvudsak\",'Styrning och kompetens'!A40,\"\")","v":""},{"$f":"IF('Styrning och kompetens'!B40=\"Ja, i huvudsak\",'Styrning och kompetens'!C40,\"\")","v":""},{"$f":"IF('Styrning och kompetens'!B40=\"Ja, i huvudsak\",'Styrning och kompetens'!D40,\"\")","v":""}]
[null,{"$f":"IF('Styrning och kompetens'!B41=\"Ja, i huvudsak\",'Styrning och kompetens'!A41,\"\")","v":""},{"$f":"IF('Styrning och kompetens'!B41=\"Ja, i huvudsak\",'Styrning och kompetens'!C41,\"\")","v":""},{"$f":"IF('Styrning och kompetens'!B41=\"Ja, i huvudsak\",'Styrning och kompetens'!D41,\"\")","v":""}]
[null,{"$f":"IF('Styrning och kompetens'!B42=\"Ja, i huvudsak\",'Styrning och kompetens'!A42,\"\")","v":""},{"$f":"IF('Styrning och kompetens'!B42=\"Ja, i huvudsak\",'Styrning och kompetens'!C42,\"\")","v":""},{"$f":"IF('Styrning och kompetens'!B42=\"Ja, i huvudsak\",'Styrning och kompetens'!D42,\"\")","v":""}]
[null,{"$f":"IF('Styrning och kompetens'!B43=\"Ja, i huvudsak\",'Styrning och kompetens'!A43,\"\")","v":""},{"$f":"IF('Styrning och kompetens'!B43=\"Ja, i huvudsak\",'Styrning och kompetens'!C43,\"\")","v":""},{"$f":"IF('Styrning och kompetens'!B43=\"Ja, i huvudsak\",'Styrning och kompetens'!D43,\"\")","v":""}]
[null,{"$f":"IF('Styrning och kompetens'!B44=\"Ja, i huvudsak\",'Styrning och kompetens'!A44,\"\")","v":""},{"$f":"IF('Styrning och kompetens'!B44=\"Ja, i huvudsak\",'Styrning och kompetens'!C44,\"\")","v":""},{"$f":"IF('Styrning och kompetens'!B44=\"Ja, i huvudsak\",'Styrning och kompetens'!D44,\"\")","v":""}]
[null,{"$f":"IF('Styrning och kompetens'!B45=\"Ja, i huvudsak\",'Styrning och kompetens'!A45,\"\")","v":""},{"$f":"IF('Styrning och kompetens'!B45=\"Ja, i huvudsak\",'Styrning och kompetens'!C45,\"\")","v":""},{"$f":"IF('Styrning och kompetens'!B45=\"Ja, i huvudsak\",'Styrning och kompetens'!D45,\"\")","v":""}]
[null,{"$f":"IF('Styrning och kompetens'!B46=\"Ja, i huvudsak\",'Styrning och kompetens'!A46,\"\")","v":""},{"$f":"IF('Styrning och kompetens'!B46=\"Ja, i huvudsak\",'Styrning och kompetens'!C46,\"\")","v":""},{"$f":"IF('Styrning och kompetens'!B46=\"Ja, i huvudsak\",'Styrning och kompetens'!D46,\"\")","v":""}]
[null,{"$f":"IF('Styrning och kompetens'!B47=\"Ja, i huvudsak\",'Styrning och kompetens'!A47,\"\")","v":""},{"$f":"IF('Styrning och kompetens'!B47=\"Ja, i huvudsak\",'Styrning och kompetens'!C47,\"\")","v":""},{"$f":"IF('Styrning och kompetens'!B47=\"Ja, i huvudsak\",'Styrning och kompetens'!D47,\"\")","v":""}]
[null,{"$f":"IF('Styrning och kompetens'!B48=\"Ja, i huvudsak\",'Styrning och kompetens'!A48,\"\")","v":""},{"$f":"IF('Styrning och kompetens'!B48=\"Ja, i huvudsak\",'Styrning och kompetens'!C48,\"\")","v":""},{"$f":"IF('Styrning och kompetens'!B48=\"Ja, i huvudsak\",'Styrning och kompetens'!D48,\"\")","v":""}]
[null,{"$f":"IF('Styrning och kompetens'!B49=\"Ja, i huvudsak\",'Styrning och kompetens'!A49,\"\")","v":""},{"$f":"IF('Styrning och kompetens'!B49=\"Ja, i huvudsak\",'Styrning och kompetens'!C49,\"\")","v":""},{"$f":"IF('Styrning och kompetens'!B49=\"Ja, i huvudsak\",'Styrning och kompetens'!D49,\"\")","v":""}]
[null,{"$f":"IF('Styrning och kompetens'!B50=\"Ja, i huvudsak\",'Styrning och kompetens'!A50,\"\")","v":""},{"$f":"IF('Styrning och kompetens'!B50=\"Ja, i huvudsak\",'Styrning och kompetens'!C50,\"\")","v":""},{"$f":"IF('Styrning och kompetens'!B50=\"Ja, i huvudsak\",'Styrning och kompetens'!D50,\"\")","v":""}]
[null,{"$f":"IF('Styrning och kompetens'!B51=\"Ja, i huvudsak\",'Styrning och kompetens'!A51,\"\")","v":""},{"$f":"IF('Styrning och kompetens'!B51=\"Ja, i huvudsak\",'Styrning och kompetens'!C51,\"\")","v":""},{"$f":"IF('Styrning och kompetens'!B51=\"Ja, i huvudsak\",'Styrning och kompetens'!D51,\"\")","v":""}]
[null,{"$f":"IF('Styrning och kompetens'!B52=\"Ja, i huvudsak\",'Styrning och kompetens'!A52,\"\")","v":""},{"$f":"IF('Styrning och kompetens'!B52=\"Ja, i huvudsak\",'Styrning och kompetens'!C52,\"\")","v":""},{"$f":"IF('Styrning och kompetens'!B52=\"Ja, i huvudsak\",'Styrning och kompetens'!D52,\"\")","v":""}]
[null,{"$f":"IF('Styrning och kompetens'!B53=\"Ja, i huvudsak\",'Styrning och kompetens'!A53,\"\")","v":""},{"$f":"IF('Styrning och kompetens'!B53=\"Ja, i huvudsak\",'Styrning och kompetens'!C53,\"\")","v":""},{"$f":"IF('Styrning och kompetens'!B53=\"Ja, i huvudsak\",'Styrning och kompetens'!D53,\"\")","v":""}]
[null,{"$f":"IF('Styrning och kompetens'!B54=\"Ja, i huvudsak\",'Styrning och kompetens'!A54,\"\")","v":""},{"$f":"IF('Styrning och kompetens'!B54=\"Ja, i huvudsak\",'Styrning och kompetens'!C54,\"\")","v":""},{"$f":"IF('Styrning och kompetens'!B54=\"Ja, i huvudsak\",'Styrning och kompetens'!D54,\"\")","v":""}]
[null,{"$f":"IF('Styrning och kompetens'!B55=\"Ja, i huvudsak\",'Styrning och kompetens'!A55,\"\")","v":""},{"$f":"IF('Styrning och kompetens'!B55=\"Ja, i huvudsak\",'Styrning och kompetens'!C55,\"\")","v":""},{"$f":"IF('Styrning och kompetens'!B55=\"Ja, i huvudsak\",'Styrning och kompetens'!D55,\"\")","v":""}]
[null,{"$f":"IF('Styrning och kompetens'!B56=\"Ja, i huvudsak\",'Styrning och kompetens'!A56,\"\")","v":""},{"$f":"IF('Styrning och kompetens'!B56=\"Ja, i huvudsak\",'Styrning och kompetens'!C56,\"\")","v":""},{"$f":"IF('Styrning och kompetens'!B56=\"Ja, i huvudsak\",'Styrning och kompetens'!D56,\"\")","v":""}]
[null,{"$f":"IF('Styrning och kompetens'!B57=\"Ja, i huvudsak\",'Styrning och kompetens'!A57,\"\")","v":""},{"$f":"IF('Styrning och kompetens'!B57=\"Ja, i huvudsak\",'Styrning och kompetens'!C57,\"\")","v":""},{"$f":"IF('Styrning och kompetens'!B57=\"Ja, i huvudsak\",'Styrning och kompetens'!D57,\"\")","v":""}]
[null,{"$f":"IF('Styrning och kompetens'!B58=\"Ja, i huvudsak\",'Styrning och kompetens'!A58,\"\")","v":""},{"$f":"IF('Styrning och kompetens'!B58=\"Ja, i huvudsak\",'Styrning och kompetens'!C58,\"\")","v":""},{"$f":"IF('Styrning och kompetens'!B58=\"Ja, i huvudsak\",'Styrning och kompetens'!D58,\"\")","v":""}]
[null,{"$f":"IF('Styrning och kompetens'!B59=\"Ja, i huvudsak\",'Styrning och kompetens'!A59,\"\")","v":""},{"$f":"IF('Styrning och kompetens'!B59=\"Ja, i huvudsak\",'Styrning och kompetens'!C59,\"\")","v":""},{"$f":"IF('Styrning och kompetens'!B59=\"Ja, i huvudsak\",'Styrning och kompetens'!D59,\"\")","v":""}]
[null,{"$f":"IF('Styrning och kompetens'!B60=\"Ja, i huvudsak\",'Styrning och kompetens'!A60,\"\")","v":""},{"$f":"IF('Styrning och kompetens'!B60=\"Ja, i huvudsak\",'Styrning och kompetens'!C60,\"\")","v":""},{"$f":"IF('Styrning och kompetens'!B60=\"Ja, i huvudsak\",'Styrning och kompetens'!D60,\"\")","v":""}]
[null,{"$f":"IF('Styrning och kompetens'!B61=\"Ja, i huvudsak\",'Styrning och kompetens'!A61,\"\")","v":""},{"$f":"IF('Styrning och kompetens'!B61=\"Ja, i huvudsak\",'Styrning och kompetens'!C61,\"\")","v":""},{"$f":"IF('Styrning och kompetens'!B61=\"Ja, i huvudsak\",'Styrning och kompetens'!D61,\"\")","v":""}]
[null,{"$f":"IF('Styrning och kompetens'!B62=\"Ja, i huvudsak\",'Styrning och kompetens'!A62,\"\")","v":""},{"$f":"IF('Styrning och kompetens'!B62=\"Ja, i huvudsak\",'Styrning och kompetens'!C62,\"\")","v":""},{"$f":"IF('Styrning och kompetens'!B62=\"Ja, i huvudsak\",'Styrning och kompetens'!D62,\"\")","v":""}]
[null,{"$f":"IF('Styrning och kompetens'!B63=\"Ja, i huvudsak\",'Styrning och kompetens'!A63,\"\")","v":""},{"$f":"IF('Styrning och kompetens'!B63=\"Ja, i huvudsak\",'Styrning och kompetens'!C63,\"\")","v":""},{"$f":"IF('Styrning och kompetens'!B63=\"Ja, i huvudsak\",'Styrning och kompetens'!D63,\"\")","v":""}]
[null,{"$f":"IF('Styrning och kompetens'!B64=\"Ja, i huvudsak\",'Styrning och kompetens'!A64,\"\")","v":""},{"$f":"IF('Styrning och kompetens'!B64=\"Ja, i huvudsak\",'Styrning och kompetens'!C64,\"\")","v":""},{"$f":"IF('Styrning och kompetens'!B64=\"Ja, i huvudsak\",'Styrning och kompetens'!D64,\"\")","v":""}]
[null,{"$f":"IF('Styrning och kompetens'!B65=\"Ja, i huvudsak\",'Styrning och kompetens'!A65,\"\")","v":""},{"$f":"IF('Styrning och kompetens'!B65=\"Ja, i huvudsak\",'Styrning och kompetens'!C65,\"\")","v":""},{"$f":"IF('Styrning och kompetens'!B65=\"Ja, i huvudsak\",'Styrning och kompetens'!D65,\"\")","v":""}]
[null,{"$f":"IF('Styrning och kompetens'!B66=\"Ja, i huvudsak\",'Styrning och kompetens'!A66,\"\")","v":""},{"$f":"IF('Styrning och kompetens'!B66=\"Ja, i huvudsak\",'Styrning och kompetens'!C66,\"\")","v":""},{"$f":"IF('Styrning och kompetens'!B66=\"Ja, i huvudsak\",'Styrning och kompetens'!D66,\"\")","v":""}]
[null,{"$f":"IF('Styrning och kompetens'!B67=\"Ja, i huvudsak\",'Styrning och kompetens'!A67,\"\")","v":""},{"$f":"IF('Styrning och kompetens'!B67=\"Ja, i huvudsak\",'Styrning och kompetens'!C67,\"\")","v":""},{"$f":"IF('Styrning och kompetens'!B67=\"Ja, i huvudsak\",'Styrning och kompetens'!D67,\"\")","v":""}]
[null,{"$f":"IF('Styrning och kompetens'!B68=\"Ja, i huvudsak\",'Styrning och kompetens'!A68,\"\")","v":""},{"$f":"IF('Styrning och kompetens'!B68=\"Ja, i huvudsak\",'Styrning och kompetens'!C68,\"\")","v":""},{"$f":"IF('Styrning och kompetens'!B68=\"Ja, i huvudsak\",'Styrning och kompetens'!D68,\"\")","v":""}]
[null,{"$f":"IF('Styrning och kompetens'!B69=\"Ja, i huvudsak\",'Styrning och kompetens'!A69,\"\")","v":""},{"$f":"IF('Styrning och kompetens'!B69=\"Ja, i huvudsak\",'Styrning och kompetens'!C69,\"\")","v":""},{"$f":"IF('Styrning och kompetens'!B69=\"Ja, i huvudsak\",'Styrning och kompetens'!D69,\"\")","v":""}]
[null,{"$f":"IF('Styrning och kompetens'!B70=\"Ja, i huvudsak\",'Styrning och kompetens'!A70,\"\")","v":""},{"$f":"IF('Styrning och kompetens'!B70=\"Ja, i huvudsak\",'Styrning och kompetens'!C70,\"\")","v":""},{"$f":"IF('Styrning och kompetens'!B70=\"Ja, i huvudsak\",'Styrning och kompetens'!D70,\"\")","v":""}]
[null,{"$f":"IF('Styrning och kompetens'!B71=\"Ja, i huvudsak\",'Styrning och kompetens'!A71,\"\")","v":""},{"$f":"IF('Styrning och kompetens'!B71=\"Ja, i huvudsak\",'Styrning och kompetens'!C71,\"\")","v":""},{"$f":"IF('Styrning och kompetens'!B71=\"Ja, i huvudsak\",'Styrning och kompetens'!D71,\"\")","v":""}]
[null,{"$f":"IF('Styrning och kompetens'!B72=\"Ja, i huvudsak\",'Styrning och kompetens'!A72,\"\")","v":""},{"$f":"IF('Styrning och kompetens'!B72=\"Ja, i huvudsak\",'Styrning och kompetens'!C72,\"\")","v":""},{"$f":"IF('Styrning och kompetens'!B72=\"Ja, i huvudsak\",'Styrning och kompetens'!D72,\"\")","v":""}]
[null,{"$f":"IF('Styrning och kompetens'!B73=\"Ja, i huvudsak\",'Styrning och kompetens'!A73,\"\")","v":""},{"$f":"IF('Styrning och kompetens'!B73=\"Ja, i huvudsak\",'Styrning och kompetens'!C73,\"\")","v":""},{"$f":"IF('Styrning och kompetens'!B73=\"Ja, i huvudsak\",'Styrning och kompetens'!D73,\"\")","v":""}]
[null,{"$f":"IF('Styrning och kompetens'!B74=\"Ja, i huvudsak\",'Styrning och kompetens'!A74,\"\")","v":""},{"$f":"IF('Styrning och kompetens'!B74=\"Ja, i huvudsak\",'Styrning och kompetens'!C74,\"\")","v":""},{"$f":"IF('Styrning och kompetens'!B74=\"Ja, i huvudsak\",'Styrning och kompetens'!D74,\"\")","v":""}]
[null,{"$f":"IF('Styrning och kompetens'!B75=\"Ja, i huvudsak\",'Styrning och kompetens'!A75,\"\")","v":""},{"$f":"IF('Styrning och kompetens'!B75=\"Ja, i huvudsak\",'Styrning och kompetens'!C75,\"\")","v":""},{"$f":"IF('Styrning och kompetens'!B75=\"Ja, i huvudsak\",'Styrning och kompetens'!D75,\"\")","v":""}]
[null,{"$f":"IF('Styrning och kompetens'!B76=\"Ja, i huvudsak\",'Styrning och kompetens'!A76,\"\")","v":""},{"$f":"IF('Styrning och kompetens'!B76=\"Ja, i huvudsak\",'Styrning och kompetens'!C76,\"\")","v":""},{"$f":"IF('Styrning och kompetens'!B76=\"Ja, i huvudsak\",'Styrning och kompetens'!D76,\"\")","v":""}]
[null,{"$f":"IF('Styrning och kompetens'!B77=\"Ja, i huvudsak\",'Styrning och kompetens'!A77,\"\")","v":""},{"$f":"IF('Styrning och kompetens'!B77=\"Ja, i huvudsak\",'Styrning och kompetens'!C77,\"\")","v":""},{"$f":"IF('Styrning och kompetens'!B77=\"Ja, i huvudsak\",'Styrning och kompetens'!D77,\"\")","v":""}]
[null,{"$f":"IF('Styrning och kompetens'!B78=\"Ja, i huvudsak\",'Styrning och kompetens'!A78,\"\")","v":""},{"$f":"IF('Styrning och kompetens'!B78=\"Ja, i huvudsak\",'Styrning och kompetens'!C78,\"\")","v":""},{"$f":"IF('Styrning och kompetens'!B78=\"Ja, i huvudsak\",'Styrning och kompetens'!D78,\"\")","v":""}]
[null,{"$f":"IF('Styrning och kompetens'!B79=\"Ja, i huvudsak\",'Styrning och kompetens'!A79,\"\")","v":""},{"$f":"IF('Styrning och kompetens'!B79=\"Ja, i huvudsak\",'Styrning och kompetens'!C79,\"\")","v":""},{"$f":"IF('Styrning och kompetens'!B79=\"Ja, i huvudsak\",'Styrning och kompetens'!D79,\"\")","v":""}]
[null,{"$f":"IF('Styrning och kompetens'!B80=\"Ja, i huvudsak\",'Styrning och kompetens'!A80,\"\")","v":""},{"$f":"IF('Styrning och kompetens'!B80=\"Ja, i huvudsak\",'Styrning och kompetens'!C80,\"\")","v":""},{"$f":"IF('Styrning och kompetens'!B80=\"Ja, i huvudsak\",'Styrning och kompetens'!D80,\"\")","v":""}]
[null,{"$f":"IF('Styrning och kompetens'!B81=\"Ja, i huvudsak\",'Styrning och kompetens'!A81,\"\")","v":""},{"$f":"IF('Styrning och kompetens'!B81=\"Ja, i huvudsak\",'Styrning och kompetens'!C81,\"\")","v":""},{"$f":"IF('Styrning och kompetens'!B81=\"Ja, i huvudsak\",'Styrning och kompetens'!D81,\"\")","v":""}]
[null,{"$f":"IF('Styrning och kompetens'!B82=\"Ja, i huvudsak\",'Styrning och kompetens'!A82,\"\")","v":""},{"$f":"IF('Styrning och kompetens'!B82=\"Ja, i huvudsak\",'Styrning och kompetens'!C82,\"\")","v":""},{"$f":"IF('Styrning och kompetens'!B82=\"Ja, i huvudsak\",'Styrning och kompetens'!D82,\"\")","v":""}]
[null,{"$f":"IF('Styrning och kompetens'!B83=\"Ja, i huvudsak\",'Styrning och kompetens'!A83,\"\")","v":""},{"$f":"IF('Styrning och kompetens'!B83=\"Ja, i huvudsak\",'Styrning och kompetens'!C83,\"\")","v":""},{"$f":"IF('Styrning och kompetens'!B83=\"Ja, i huvudsak\",'Styrning och kompetens'!D83,\"\")","v":""}]
[null,{"$f":"IF('Styrning och kompetens'!B84=\"Ja, i huvudsak\",'Styrning och kompetens'!A84,\"\")","v":""},{"$f":"IF('Styrning och kompetens'!B84=\"Ja, i huvudsak\",'Styrning och kompetens'!C84,\"\")","v":""},{"$f":"IF('Styrning och kompetens'!B84=\"Ja, i huvudsak\",'Styrning och kompetens'!D84,\"\")","v":""}]
[null,{"$f":"IF('Styrning och kompetens'!B85=\"Ja, i huvudsak\",'Styrning och kompetens'!A85,\"\")","v":""},{"$f":"IF('Styrning och kompetens'!B85=\"Ja, i huvudsak\",'Styrning och kompetens'!C85,\"\")","v":""},{"$f":"IF('Styrning och kompetens'!B85=\"Ja, i huvudsak\",'Styrning och kompetens'!D85,\"\")","v":""}]
[null,{"$f":"IF('Styrning och kompetens'!B86=\"Ja, i huvudsak\",'Styrning och kompetens'!A86,\"\")","v":""},{"$f":"IF('Styrning och kompetens'!B86=\"Ja, i huvudsak\",'Styrning och kompetens'!C86,\"\")","v":""},{"$f":"IF('Styrning och kompetens'!B86=\"Ja, i huvudsak\",'Styrning och kompetens'!D86,\"\")","v":""}]
[null,{"$f":"IF('Styrning och kompetens'!B87=\"Ja, i huvudsak\",'Styrning och kompetens'!A87,\"\")","v":""},{"$f":"IF('Styrning och kompetens'!B87=\"Ja, i huvudsak\",'Styrning och kompetens'!C87,\"\")","v":""},{"$f":"IF('Styrning och kompetens'!B87=\"Ja, i huvudsak\",'Styrning och kompetens'!D87,\"\")","v":""}]
[null,{"$f":"IF('Styrning och kompetens'!B88=\"Ja, i huvudsak\",'Styrning och kompetens'!A88,\"\")","v":""},{"$f":"IF('Styrning och kompetens'!B88=\"Ja, i huvudsak\",'Styrning och kompetens'!C88,\"\")","v":""},{"$f":"IF('Styrning och kompetens'!B88=\"Ja, i huvudsak\",'Styrning och kompetens'!D88,\"\")","v":""}]
[null,{"$f":"IF('Styrning och kompetens'!B89=\"Ja, i huvudsak\",'Styrning och kompetens'!A89,\"\")","v":""},{"$f":"IF('Styrning och kompetens'!B89=\"Ja, i huvudsak\",'Styrning och kompetens'!C89,\"\")","v":""},{"$f":"IF('Styrning och kompetens'!B89=\"Ja, i huvudsak\",'Styrning och kompetens'!D89,\"\")","v":""}]
[null,{"$f":"IF('Styrning och kompetens'!B90=\"Ja, i huvudsak\",'Styrning och kompetens'!A90,\"\")","v":""},{"$f":"IF('Styrning och kompetens'!B90=\"Ja, i huvudsak\",'Styrning och kompetens'!C90,\"\")","v":""},{"$f":"IF('Styrning och kompetens'!B90=\"Ja, i huvudsak\",'Styrning och kompetens'!D90,\"\")","v":""}]
[null,{"$f":"IF('Styrning och kompetens'!B91=\"Ja, i huvudsak\",'Styrning och kompetens'!A91,\"\")","v":""},{"$f":"IF('Styrning och kompetens'!B91=\"Ja, i huvudsak\",'Styrning och kompetens'!C91,\"\")","v":""},{"$f":"IF('Styrning och kompetens'!B91=\"Ja, i huvudsak\",'Styrning och kompetens'!D91,\"\")","v":""}]
[null,{"$f":"IF('Styrning och kompetens'!B92=\"Ja, i huvudsak\",'Styrning och kompetens'!A92,\"\")","v":""},{"$f":"IF('Styrning och kompetens'!B92=\"Ja, i huvudsak\",'Styrning och kompetens'!C92,\"\")","v":""},{"$f":"IF('Styrning och kompetens'!B92=\"Ja, i huvudsak\",'Styrning och kompetens'!D92,\"\")","v":""}]
[null,{"$f":"IF('Styrning och kompetens'!B93=\"Ja, i huvudsak\",'Styrning och kompetens'!A93,\"\")","v":""},{"$f":"IF('Styrning och kompetens'!B93=\"Ja, i huvudsak\",'Styrning och kompetens'!C93,\"\")","v":""},{"$f":"IF('Styrning och kompetens'!B93=\"Ja, i huvudsak\",'Styrning och kompetens'!D93,\"\")","v":""}]
[null,{"$f":"IF('Styrning och kompetens'!B94=\"Ja, i huvudsak\",'Styrning och kompetens'!A94,\"\")","v":""},{"$f":"IF('Styrning och kompetens'!B94=\"Ja, i huvudsak\",'Styrning och kompetens'!C94,\"\")","v":""},{"$f":"IF('Styrning och kompetens'!B94=\"Ja, i huvudsak\",'Styrning och kompetens'!D94,\"\")","v":""}]
[null,{"$f":"IF('Styrning och kompetens'!B95=\"Ja, i huvudsak\",'Styrning och kompetens'!A95,\"\")","v":""},{"$f":"IF('Styrning och kompetens'!B95=\"Ja, i huvudsak\",'Styrning och kompetens'!C95,\"\")","v":""},{"$f":"IF('Styrning och kompetens'!B95=\"Ja, i huvudsak\",'Styrning och kompetens'!D95,\"\")","v":""}]
[null,{"$f":"IF('Styrning och kompetens'!B96=\"Ja, i huvudsak\",'Styrning och kompetens'!A96,\"\")","v":""},{"$f":"IF('Styrning och kompetens'!B96=\"Ja, i huvudsak\",'Styrning och kompetens'!C96,\"\")","v":""},{"$f":"IF('Styrning och kompetens'!B96=\"Ja, i huvudsak\",'Styrning och kompetens'!D96,\"\")","v":""}]
[null,{"$f":"IF('Styrning och kompetens'!B97=\"Ja, i huvudsak\",'Styrning och kompetens'!A97,\"\")","v":""},{"$f":"IF('Styrning och kompetens'!B97=\"Ja, i huvudsak\",'Styrning och kompetens'!C97,\"\")","v":""},{"$f":"IF('Styrning och kompetens'!B97=\"Ja, i huvudsak\",'Styrning och kompetens'!D97,\"\")","v":""}]
[null,{"$f":"IF('Styrning och kompetens'!B98=\"Ja, i huvudsak\",'Styrning och kompetens'!A98,\"\")","v":""},{"$f":"IF('Styrning och kompetens'!B98=\"Ja, i huvudsak\",'Styrning och kompetens'!C98,\"\")","v":""},{"$f":"IF('Styrning och kompetens'!B98=\"Ja, i huvudsak\",'Styrning och kompetens'!D98,\"\")","v":""}]
[null,{"$f":"IF('Styrning och kompetens'!B99=\"Ja, i huvudsak\",'Styrning och kompetens'!A99,\"\")","v":""},{"$f":"IF('Styrning och kompetens'!B99=\"Ja, i huvudsak\",'Styrning och kompetens'!C99,\"\")","v":""},{"$f":"IF('Styrning och kompetens'!B99=\"Ja, i huvudsak\",'Styrning och kompetens'!D99,\"\")","v":""}]
[null,{"$f":"IF('Styrning och kompetens'!B100=\"Ja, i huvudsak\",'Styrning och kompetens'!A100,\"\")","v":""},{"$f":"IF('Styrning och kompetens'!B100=\"Ja, i huvudsak\",'Styrning och kompetens'!C100,\"\")","v":""},{"$f":"IF('Styrning och kompetens'!B100=\"Ja, i huvudsak\",'Styrning och kompetens'!D100,\"\")","v":""}]
[null,{"$f":"IF('Styrning och kompetens'!B101=\"Ja, i huvudsak\",'Styrning och kompetens'!A101,\"\")","v":""},{"$f":"IF('Styrning och kompetens'!B101=\"Ja, i huvudsak\",'Styrning och kompetens'!C101,\"\")","v":""},{"$f":"IF('Styrning och kompetens'!B101=\"Ja, i huvudsak\",'Styrning och kompetens'!D101,\"\")","v":""}]
[null,{"$f":"IF('Styrning och kompetens'!B102=\"Ja, i huvudsak\",'Styrning och kompetens'!A102,\"\")","v":""},{"$f":"IF('Styrning och kompetens'!B102=\"Ja, i huvudsak\",'Styrning och kompetens'!C102,\"\")","v":""},{"$f":"IF('Styrning och kompetens'!B102=\"Ja, i huvudsak\",'Styrning och kompetens'!D102,\"\")","v":""}]
[null,{"$f":"IF('Styrning och kompetens'!B103=\"Ja, i huvudsak\",'Styrning och kompetens'!A103,\"\")","v":""},{"$f":"IF('Styrning och kompetens'!B103=\"Ja, i huvudsak\",'Styrning och kompetens'!C103,\"\")","v":""},{"$f":"IF('Styrning och kompetens'!B103=\"Ja, i huvudsak\",'Styrning och kompetens'!D103,\"\")","v":""}]
[null,{"$f":"IF('Styrning och kompetens'!B104=\"Ja, i huvudsak\",'Styrning och kompetens'!A104,\"\")","v":""},{"$f":"IF('Styrning och kompetens'!B104=\"Ja, i huvudsak\",'Styrning och kompetens'!C104,\"\")","v":""},{"$f":"IF('Styrning och kompetens'!B104=\"Ja, i huvudsak\",'Styrning och kompetens'!D104,\"\")","v":""}]
[null,{"$f":"IF('Styrning och kompetens'!B105=\"Ja, i huvudsak\",'Styrning och kompetens'!A105,\"\")","v":""},{"$f":"IF('Styrning och kompetens'!B105=\"Ja, i huvudsak\",'Styrning och kompetens'!C105,\"\")","v":""},{"$f":"IF('Styrning och kompetens'!B105=\"Ja, i huvudsak\",'Styrning och kompetens'!D105,\"\")","v":""}]
[null,{"$f":"IF('Styrning och kompetens'!B106=\"Ja, i huvudsak\",'Styrning och kompetens'!A106,\"\")","v":""},{"$f":"IF('Styrning och kompetens'!B106=\"Ja, i huvudsak\",'Styrning och kompetens'!C106,\"\")","v":""},{"$f":"IF('Styrning och kompetens'!B106=\"Ja, i huvudsak\",'Styrning och kompetens'!D106,\"\")","v":""}]
[null,{"$f":"IF('Styrning och kompetens'!B107=\"Ja, i huvudsak\",'Styrning och kompetens'!A107,\"\")","v":""},{"$f":"IF('Styrning och kompetens'!B107=\"Ja, i huvudsak\",'Styrning och kompetens'!C107,\"\")","v":""},{"$f":"IF('Styrning och kompetens'!B107=\"Ja, i huvudsak\",'Styrning och kompetens'!D107,\"\")","v":""}]
[null,{"$f":"IF('Styrning och kompetens'!B108=\"Ja, i huvudsak\",'Styrning och kompetens'!A108,\"\")","v":""},{"$f":"IF('Styrning och kompetens'!B108=\"Ja, i huvudsak\",'Styrning och kompetens'!C108,\"\")","v":""},{"$f":"IF('Styrning och kompetens'!B108=\"Ja, i huvudsak\",'Styrning och kompetens'!D108,\"\")","v":""}]
[null,{"$f":"IF('Styrning och kompetens'!B109=\"Ja, i huvudsak\",'Styrning och kompetens'!A109,\"\")","v":""},{"$f":"IF('Styrning och kompetens'!B109=\"Ja, i huvudsak\",'Styrning och kompetens'!C109,\"\")","v":""},{"$f":"IF('Styrning och kompetens'!B109=\"Ja, i huvudsak\",'Styrning och kompetens'!D109,\"\")","v":""}]
[null,{"$f":"IF('Styrning och kompetens'!B110=\"Ja, i huvudsak\",'Styrning och kompetens'!A110,\"\")","v":""},{"$f":"IF('Styrning och kompetens'!B110=\"Ja, i huvudsak\",'Styrning och kompetens'!C110,\"\")","v":""},{"$f":"IF('Styrning och kompetens'!B110=\"Ja, i huvudsak\",'Styrning och kompetens'!D110,\"\")","v":""}]
[null,{"$f":"IF('Styrning och kompetens'!B111=\"Ja, i huvudsak\",'Styrning och kompetens'!A111,\"\")","v":""},{"$f":"IF('Styrning och kompetens'!B111=\"Ja, i huvudsak\",'Styrning och kompetens'!C111,\"\")","v":""},{"$f":"IF('Styrning och kompetens'!B111=\"Ja, i huvudsak\",'Styrning och kompetens'!D111,\"\")","v":""}]
[null,{"$f":"IF('Styrning och kompetens'!B112=\"Ja, i huvudsak\",'Styrning och kompetens'!A112,\"\")","v":""},{"$f":"IF('Styrning och kompetens'!B112=\"Ja, i huvudsak\",'Styrning och kompetens'!C112,\"\")","v":""},{"$f":"IF('Styrning och kompetens'!B112=\"Ja, i huvudsak\",'Styrning och kompetens'!D112,\"\")","v":""}]
[null,{"$f":"IF('Styrning och kompetens'!B113=\"Ja, i huvudsak\",'Styrning och kompetens'!A113,\"\")","v":""},{"$f":"IF('Styrning och kompetens'!B113=\"Ja, i huvudsak\",'Styrning och kompetens'!C113,\"\")","v":""},{"$f":"IF('Styrning och kompetens'!B113=\"Ja, i huvudsak\",'Styrning och kompetens'!D113,\"\")","v":""}]
[null,{"$f":"IF('Styrning och kompetens'!B114=\"Ja, i huvudsak\",'Styrning och kompetens'!A114,\"\")","v":""},{"$f":"IF('Styrning och kompetens'!B114=\"Ja, i huvudsak\",'Styrning och kompetens'!C114,\"\")","v":""},{"$f":"IF('Styrning och kompetens'!B114=\"Ja, i huvudsak\",'Styrning och kompetens'!D114,\"\")","v":""}]
[null,{"$f":"IF('Styrning och kompetens'!B115=\"Ja, i huvudsak\",'Styrning och kompetens'!A115,\"\")","v":""},{"$f":"IF('Styrning och kompetens'!B115=\"Ja, i huvudsak\",'Styrning och kompetens'!C115,\"\")","v":""},{"$f":"IF('Styrning och kompetens'!B115=\"Ja, i huvudsak\",'Styrning och kompetens'!D115,\"\")","v":""}]
[null,{"$f":"IF('Styrning och kompetens'!B116=\"Ja, i huvudsak\",'Styrning och kompetens'!A116,\"\")","v":""},{"$f":"IF('Styrning och kompetens'!B116=\"Ja, i huvudsak\",'Styrning och kompetens'!C116,\"\")","v":""},{"$f":"IF('Styrning och kompetens'!B116=\"Ja, i huvudsak\",'Styrning och kompetens'!D116,\"\")","v":""}]
[null,{"$f":"IF('Styrning och kompetens'!B117=\"Ja, i huvudsak\",'Styrning och kompetens'!A117,\"\")","v":""},{"$f":"IF('Styrning och kompetens'!B117=\"Ja, i huvudsak\",'Styrning och kompetens'!C117,\"\")","v":""},{"$f":"IF('Styrning och kompetens'!B117=\"Ja, i huvudsak\",'Styrning och kompetens'!D117,\"\")","v":""}]
[null,{"$f":"IF('Styrning och kompetens'!B118=\"Ja, i huvudsak\",'Styrning och kompetens'!A118,\"\")","v":""},{"$f":"IF('Styrning och kompetens'!B118=\"Ja, i huvudsak\",'Styrning och kompetens'!C118,\"\")","v":""},{"$f":"IF('Styrning och kompetens'!B118=\"Ja, i huvudsak\",'Styrning och kompetens'!D118,\"\")","v":""}]
[null,{"$f":"IF('Styrning och kompetens'!B119=\"Ja, i huvudsak\",'Styrning och kompetens'!A119,\"\")","v":""},{"$f":"IF('Styrning och kompetens'!B119=\"Ja, i huvudsak\",'Styrning och kompetens'!C119,\"\")","v":""},{"$f":"IF('Styrning och kompetens'!B119=\"Ja, i huvudsak\",'Styrning och kompetens'!D119,\"\")","v":""}]
[null,{"$f":"IF('Styrning och kompetens'!B120=\"Ja, i huvudsak\",'Styrning och kompetens'!A120,\"\")","v":""},{"$f":"IF('Styrning och kompetens'!B120=\"Ja, i huvudsak\",'Styrning och kompetens'!C120,\"\")","v":""},{"$f":"IF('Styrning och kompetens'!B120=\"Ja, i huvudsak\",'Styrning och kompetens'!D120,\"\")","v":""}]
[null,{"$f":"IF('Styrning och kompetens'!B121=\"Ja, i huvudsak\",'Styrning och kompetens'!A121,\"\")","v":""},{"$f":"IF('Styrning och kompetens'!B121=\"Ja, i huvudsak\",'Styrning och kompetens'!C121,\"\")","v":""},{"$f":"IF('Styrning och kompetens'!B121=\"Ja, i huvudsak\",'Styrning och kompetens'!D121,\"\")","v":""}]
[null,{"$f":"IF('Styrning och kompetens'!B122=\"Ja, i huvudsak\",'Styrning och kompetens'!A122,\"\")","v":""},{"$f":"IF('Styrning och kompetens'!B122=\"Ja, i huvudsak\",'Styrning och kompetens'!C122,\"\")","v":""},{"$f":"IF('Styrning och kompetens'!B122=\"Ja, i huvudsak\",'Styrning och kompetens'!D122,\"\")","v":""}]
[null,{"$f":"IF('Styrning och kompetens'!B123=\"Ja, i huvudsak\",'Styrning och kompetens'!A123,\"\")","v":""},{"$f":"IF('Styrning och kompetens'!B123=\"Ja, i huvudsak\",'Styrning och kompetens'!C123,\"\")","v":""},{"$f":"IF('Styrning och kompetens'!B123=\"Ja, i huvudsak\",'Styrning och kompetens'!D123,\"\")","v":""}]
[null,{"$f":"IF('Styrning och kompetens'!B124=\"Ja, i huvudsak\",'Styrning och kompetens'!A124,\"\")","v":""},{"$f":"IF('Styrning och kompetens'!B124=\"Ja, i huvudsak\",'Styrning och kompetens'!C124,\"\")","v":""},{"$f":"IF('Styrning och kompetens'!B124=\"Ja, i huvudsak\",'Styrning och kompetens'!D124,\"\")","v":""}]
[null,{"$f":"IF('Styrning och kompetens'!B125=\"Ja, i huvudsak\",'Styrning och kompetens'!A125,\"\")","v":""},{"$f":"IF('Styrning och kompetens'!B125=\"Ja, i huvudsak\",'Styrning och kompetens'!C125,\"\")","v":""},{"$f":"IF('Styrning och kompetens'!B125=\"Ja, i huvudsak\",'Styrning och kompetens'!D125,\"\")","v":""}]
[null,{"$f":"IF('Styrning och kompetens'!B126=\"Ja, i huvudsak\",'Styrning och kompetens'!A126,\"\")","v":""},{"$f":"IF('Styrning och kompetens'!B126=\"Ja, i huvudsak\",'Styrning och kompetens'!C126,\"\")","v":""},{"$f":"IF('Styrning och kompetens'!B126=\"Ja, i huvudsak\",'Styrning och kompetens'!D126,\"\")","v":""}]
[null,{"$f":"IF('Styrning och kompetens'!B127=\"Ja, i huvudsak\",'Styrning och kompetens'!A127,\"\")","v":""},{"$f":"IF('Styrning och kompetens'!B127=\"Ja, i huvudsak\",'Styrning och kompetens'!C127,\"\")","v":""},{"$f":"IF('Styrning och kompetens'!B127=\"Ja, i huvudsak\",'Styrning och kompetens'!D127,\"\")","v":""}]
[null,{"$f":"IF('Styrning och kompetens'!B128=\"Ja, i huvudsak\",'Styrning och kompetens'!A128,\"\")","v":""},{"$f":"IF('Styrning och kompetens'!B128=\"Ja, i huvudsak\",'Styrning och kompetens'!C128,\"\")","v":""},{"$f":"IF('Styrning och kompetens'!B128=\"Ja, i huvudsak\",'Styrning och kompetens'!D128,\"\")","v":""}]
[null,{"$f":"IF('Styrning och kompetens'!B129=\"Ja, i huvudsak\",'Styrning och kompetens'!A129,\"\")","v":""},{"$f":"IF('Styrning och kompetens'!B129=\"Ja, i huvudsak\",'Styrning och kompetens'!C129,\"\")","v":""},{"$f":"IF('Styrning och kompetens'!B129=\"Ja, i huvudsak\",'Styrning och kompetens'!D129,\"\")","v":""}]
[null,{"$f":"IF('Styrning och kompetens'!B130=\"Ja, i huvudsak\",'Styrning och kompetens'!A130,\"\")","v":""},{"$f":"IF('Styrning och kompetens'!B130=\"Ja, i huvudsak\",'Styrning och kompetens'!C130,\"\")","v":""},{"$f":"IF('Styrning och kompetens'!B130=\"Ja, i huvudsak\",'Styrning och kompetens'!D130,\"\")","v":""}]
[null,{"$f":"IF('Styrning och kompetens'!B131=\"Ja, i huvudsak\",'Styrning och kompetens'!A131,\"\")","v":""},{"$f":"IF('Styrning och kompetens'!B131=\"Ja, i huvudsak\",'Styrning och kompetens'!C131,\"\")","v":""},{"$f":"IF('Styrning och kompetens'!B131=\"Ja, i huvudsak\",'Styrning och kompetens'!D131,\"\")","v":""}]
[null,{"$f":"IF('Styrning och kompetens'!B132=\"Ja, i huvudsak\",'Styrning och kompetens'!A132,\"\")","v":""},{"$f":"IF('Styrning och kompetens'!B132=\"Ja, i huvudsak\",'Styrning och kompetens'!C132,\"\")","v":""},{"$f":"IF('Styrning och kompetens'!B132=\"Ja, i huvudsak\",'Styrning och kompetens'!D132,\"\")","v":""}]
[null,{"$f":"IF('Styrning och kompetens'!B133=\"Ja, i huvudsak\",'Styrning och kompetens'!A133,\"\")","v":""},{"$f":"IF('Styrning och kompetens'!B133=\"Ja, i huvudsak\",'Styrning och kompetens'!C133,\"\")","v":""},{"$f":"IF('Styrning och kompetens'!B133=\"Ja, i huvudsak\",'Styrning och kompetens'!D133,\"\")","v":""}]
[null,{"$f":"IF('Styrning och kompetens'!B134=\"Ja, i huvudsak\",'Styrning och kompetens'!A134,\"\")","v":""},{"$f":"IF('Styrning och kompetens'!B134=\"Ja, i huvudsak\",'Styrning och kompetens'!C134,\"\")","v":""},{"$f":"IF('Styrning och kompetens'!B134=\"Ja, i huvudsak\",'Styrning och kompetens'!D134,\"\")","v":""}]
[null,{"$f":"IF('Styrning och kompetens'!B135=\"Ja, i huvudsak\",'Styrning och kompetens'!A135,\"\")","v":""},{"$f":"IF('Styrning och kompetens'!B135=\"Ja, i huvudsak\",'Styrning och kompetens'!C135,\"\")","v":""},{"$f":"IF('Styrning och kompetens'!B135=\"Ja, i huvudsak\",'Styrning och kompetens'!D135,\"\")","v":""}]
[null,{"$f":"IF('Styrning och kompetens'!B136=\"Ja, i huvudsak\",'Styrning och kompetens'!A136,\"\")","v":""},{"$f":"IF('Styrning och kompetens'!B136=\"Ja, i huvudsak\",'Styrning och kompetens'!C136,\"\")","v":""},{"$f":"IF('Styrning och kompetens'!B136=\"Ja, i huvudsak\",'Styrning och kompetens'!D136,\"\")","v":""}]
[null,{"$f":"IF('Styrning och kompetens'!B137=\"Ja, i huvudsak\",'Styrning och kompetens'!A137,\"\")","v":""},{"$f":"IF('Styrning och kompetens'!B137=\"Ja, i huvudsak\",'Styrning och kompetens'!C137,\"\")","v":""},{"$f":"IF('Styrning och kompetens'!B137=\"Ja, i huvudsak\",'Styrning och kompetens'!D137,\"\")","v":""}]
[null,{"$f":"IF('Styrning och kompetens'!B138=\"Ja, i huvudsak\",'Styrning och kompetens'!A138,\"\")","v":""},{"$f":"IF('Styrning och kompetens'!B138=\"Ja, i huvudsak\",'Styrning och kompetens'!C138,\"\")","v":""},{"$f":"IF('Styrning och kompetens'!B138=\"Ja, i huvudsak\",'Styrning och kompetens'!D138,\"\")","v":""}]
[null,{"$f":"IF('Styrning och kompetens'!B139=\"Ja, i huvudsak\",'Styrning och kompetens'!A139,\"\")","v":""},{"$f":"IF('Styrning och kompetens'!B139=\"Ja, i huvudsak\",'Styrning och kompetens'!C139,\"\")","v":""},{"$f":"IF('Styrning och kompetens'!B139=\"Ja, i huvudsak\",'Styrning och kompetens'!D139,\"\")","v":""}]
[null,{"$f":"IF('Styrning och kompetens'!B140=\"Ja, i huvudsak\",'Styrning och kompetens'!A140,\"\")","v":""},{"$f":"IF('Styrning och kompetens'!B140=\"Ja, i huvudsak\",'Styrning och kompetens'!C140,\"\")","v":""},{"$f":"IF('Styrning och kompetens'!B140=\"Ja, i huvudsak\",'Styrning och kompetens'!D140,\"\")","v":""}]
[null,{"$f":"IF('Styrning och kompetens'!B141=\"Ja, i huvudsak\",'Styrning och kompetens'!A141,\"\")","v":""},{"$f":"IF('Styrning och kompetens'!B141=\"Ja, i huvudsak\",'Styrning och kompetens'!C141,\"\")","v":""},{"$f":"IF('Styrning och kompetens'!B141=\"Ja, i huvudsak\",'Styrning och kompetens'!D141,\"\")","v":""}]
[null,{"$f":"IF('Styrning och kompetens'!B142=\"Ja, i huvudsak\",'Styrning och kompetens'!A142,\"\")","v":""},{"$f":"IF('Styrning och kompetens'!B142=\"Ja, i huvudsak\",'Styrning och kompetens'!C142,\"\")","v":""},{"$f":"IF('Styrning och kompetens'!B142=\"Ja, i huvudsak\",'Styrning och kompetens'!D142,\"\")","v":""}]
[null,{"$f":"IF('Styrning och kompetens'!B143=\"Ja, i huvudsak\",'Styrning och kompetens'!A143,\"\")","v":""},{"$f":"IF('Styrning och kompetens'!B143=\"Ja, i huvudsak\",'Styrning och kompetens'!C143,\"\")","v":""},{"$f":"IF('Styrning och kompetens'!B143=\"Ja, i huvudsak\",'Styrning och kompetens'!D143,\"\")","v":""}]
[null,{"$f":"IF('Styrning och kompetens'!B144=\"Ja, i huvudsak\",'Styrning och kompetens'!A144,\"\")","v":""},{"$f":"IF('Styrning och kompetens'!B144=\"Ja, i huvudsak\",'Styrning och kompetens'!C144,\"\")","v":""},{"$f":"IF('Styrning och kompetens'!B144=\"Ja, i huvudsak\",'Styrning och kompetens'!D144,\"\")","v":""}]
[null,{"$f":"IF('Styrning och kompetens'!B145=\"Ja, i huvudsak\",'Styrning och kompetens'!A145,\"\")","v":""},{"$f":"IF('Styrning och kompetens'!B145=\"Ja, i huvudsak\",'Styrning och kompetens'!C145,\"\")","v":""},{"$f":"IF('Styrning och kompetens'!B145=\"Ja, i huvudsak\",'Styrning och kompetens'!D145,\"\")","v":""}]
[null,{"$f":"IF('Styrning och kompetens'!B146=\"Ja, i huvudsak\",'Styrning och kompetens'!A146,\"\")","v":""},{"$f":"IF('Styrning och kompetens'!B146=\"Ja, i huvudsak\",'Styrning och kompetens'!C146,\"\")","v":""},{"$f":"IF('Styrning och kompetens'!B146=\"Ja, i huvudsak\",'Styrning och kompetens'!D146,\"\")","v":""}]
[null,{"$f":"IF('Styrning och kompetens'!B147=\"Ja, i huvudsak\",'Styrning och kompetens'!A147,\"\")","v":""},{"$f":"IF('Styrning och kompetens'!B147=\"Ja, i huvudsak\",'Styrning och kompetens'!C147,\"\")","v":""},{"$f":"IF('Styrning och kompetens'!B147=\"Ja, i huvudsak\",'Styrning och kompetens'!D147,\"\")","v":""}]
[null,{"$f":"IF('Styrning och kompetens'!B148=\"Ja, i huvudsak\",'Styrning och kompetens'!A148,\"\")","v":""},{"$f":"IF('Styrning och kompetens'!B148=\"Ja, i huvudsak\",'Styrning och kompetens'!C148,\"\")","v":""},{"$f":"IF('Styrning och kompetens'!B148=\"Ja, i huvudsak\",'Styrning och kompetens'!D148,\"\")","v":""}]
[null,{"$f":"IF('Styrning och kompetens'!B149=\"Ja, i huvudsak\",'Styrning och kompetens'!A149,\"\")","v":""},{"$f":"IF('Styrning och kompetens'!B149=\"Ja, i huvudsak\",'Styrning och kompetens'!C149,\"\")","v":""},{"$f":"IF('Styrning och kompetens'!B149=\"Ja, i huvudsak\",'Styrning och kompetens'!D149,\"\")","v":""}]
[null,{"$f":"IF('Styrning och kompetens'!B150=\"Ja, i huvudsak\",'Styrning och kompetens'!A150,\"\")","v":""},{"$f":"IF('Styrning och kompetens'!B150=\"Ja, i huvudsak\",'Styrning och kompetens'!C150,\"\")","v":""},{"$f":"IF('Styrning och kompetens'!B150=\"Ja, i huvudsak\",'Styrning och kompetens'!D150,\"\")","v":""}]
[null,{"$f":"IF('Styrning och kompetens'!B151=\"Ja, i huvudsak\",'Styrning och kompetens'!A151,\"\")","v":""},{"$f":"IF('Styrning och kompetens'!B151=\"Ja, i huvudsak\",'Styrning och kompetens'!C151,\"\")","v":""},{"$f":"IF('Styrning och kompetens'!B151=\"Ja, i huvudsak\",'Styrning och kompetens'!D151,\"\")","v":""}]
[null,{"$f":"IF('Styrning och kompetens'!B152=\"Ja, i huvudsak\",'Styrning och kompetens'!A152,\"\")","v":""},{"$f":"IF('Styrning och kompetens'!B152=\"Ja, i huvudsak\",'Styrning och kompetens'!C152,\"\")","v":""},{"$f":"IF('Styrning och kompetens'!B152=\"Ja, i huvudsak\",'Styrning och kompetens'!D152,\"\")","v":""}]
[null,{"$f":"IF('Styrning och kompetens'!B153=\"Ja, i huvudsak\",'Styrning och kompetens'!A153,\"\")","v":""},{"$f":"IF('Styrning och kompetens'!B153=\"Ja, i huvudsak\",'Styrning och kompetens'!C153,\"\")","v":""},{"$f":"IF('Styrning och kompetens'!B153=\"Ja, i huvudsak\",'Styrning och kompetens'!D153,\"\")","v":""}]
[null,{"$f":"IF('Styrning och kompetens'!B154=\"Ja, i huvudsak\",'Styrning och kompetens'!A154,\"\")","v":""},{"$f":"IF('Styrning och kompetens'!B154=\"Ja, i huvudsak\",'Styrning och kompetens'!C154,\"\")","v":""},{"$f":"IF('Styrning och kompetens'!B154=\"Ja, i huvudsak\",'Styrning och kompetens'!D154,\"\")","v":""}]
[null,{"$f":"IF('Styrning och kompetens'!B155=\"Ja, i huvudsak\",'Styrning och kompetens'!A155,\"\")","v":""},{"$f":"IF('Styrning och kompetens'!B155=\"Ja, i huvudsak\",'Styrning och kompetens'!C155,\"\")","v":""},{"$f":"IF('Styrning och kompetens'!B155=\"Ja, i huvudsak\",'Styrning och kompetens'!D155,\"\")","v":""}]
[null,{"$f":"IF('Styrning och kompetens'!B156=\"Ja, i huvudsak\",'Styrning och kompetens'!A156,\"\")","v":""},{"$f":"IF('Styrning och kompetens'!B156=\"Ja, i huvudsak\",'Styrning och kompetens'!C156,\"\")","v":""},{"$f":"IF('Styrning och kompetens'!B156=\"Ja, i huvudsak\",'Styrning och kompetens'!D156,\"\")","v":""}]
[null,{"$f":"IF('Styrning och kompetens'!B157=\"Ja, i huvudsak\",'Styrning och kompetens'!A157,\"\")","v":""},{"$f":"IF('Styrning och kompetens'!B157=\"Ja, i huvudsak\",'Styrning och kompetens'!C157,\"\")","v":""},{"$f":"IF('Styrning och kompetens'!B157=\"Ja, i huvudsak\",'Styrning och kompetens'!D157,\"\")","v":""}]
[null,{"$f":"IF('Styrning och kompetens'!B158=\"Ja, i huvudsak\",'Styrning och kompetens'!A158,\"\")","v":""},{"$f":"IF('Styrning och kompetens'!B158=\"Ja, i huvudsak\",'Styrning och kompetens'!C158,\"\")","v":""},{"$f":"IF('Styrning och kompetens'!B158=\"Ja, i huvudsak\",'Styrning och kompetens'!D158,\"\")","v":""}]
[null,{"$f":"IF('Styrning och kompetens'!B159=\"Ja, i huvudsak\",'Styrning och kompetens'!A159,\"\")","v":""},{"$f":"IF('Styrning och kompetens'!B159=\"Ja, i huvudsak\",'Styrning och kompetens'!C159,\"\")","v":""},{"$f":"IF('Styrning och kompetens'!B159=\"Ja, i huvudsak\",'Styrning och kompetens'!D159,\"\")","v":""}]
[null,{"$f":"IF('Styrning och kompetens'!B160=\"Ja, i huvudsak\",'Styrning och kompetens'!A160,\"\")","v":""},{"$f":"IF('Styrning och kompetens'!B160=\"Ja, i huvudsak\",'Styrning och kompetens'!C160,\"\")","v":""},{"$f":"IF('Styrning och kompetens'!B160=\"Ja, i huvudsak\",'Styrning och kompetens'!D160,\"\")","v":""}]
[null,{"$f":"IF('Styrning och kompetens'!B161=\"Ja, i huvudsak\",'Styrning och kompetens'!A161,\"\")","v":""},{"$f":"IF('Styrning och kompetens'!B161=\"Ja, i huvudsak\",'Styrning och kompetens'!C161,\"\")","v":""},{"$f":"IF('Styrning och kompetens'!B161=\"Ja, i huvudsak\",'Styrning och kompetens'!D161,\"\")","v":""}]
[null,{"$f":"IF('Styrning och kompetens'!B162=\"Ja, i huvudsak\",'Styrning och kompetens'!A162,\"\")","v":""},{"$f":"IF('Styrning och kompetens'!B162=\"Ja, i huvudsak\",'Styrning och kompetens'!C162,\"\")","v":""},{"$f":"IF('Styrning och kompetens'!B162=\"Ja, i huvudsak\",'Styrning och kompetens'!D162,\"\")","v":""}]
[null,{"$f":"IF('Styrning och kompetens'!B163=\"Ja, i huvudsak\",'Styrning och kompetens'!A163,\"\")","v":""},{"$f":"IF('Styrning och kompetens'!B163=\"Ja, i huvudsak\",'Styrning och kompetens'!C163,\"\")","v":""},{"$f":"IF('Styrning och kompetens'!B163=\"Ja, i huvudsak\",'Styrning och kompetens'!D163,\"\")","v":""}]
[null,{"$f":"IF('Styrning och kompetens'!B164=\"Ja, i huvudsak\",'Styrning och kompetens'!A164,\"\")","v":""},{"$f":"IF('Styrning och kompetens'!B164=\"Ja, i huvudsak\",'Styrning och kompetens'!C164,\"\")","v":""},{"$f":"IF('Styrning och kompetens'!B164=\"Ja, i huvudsak\",'Styrning och kompetens'!D164,\"\")","v":""}]
[null,{"$f":"IF('Styrning och kompetens'!B165=\"Ja, i huvudsak\",'Styrning och kompetens'!A165,\"\")","v":""},{"$f":"IF('Styrning och kompetens'!B165=\"Ja, i huvudsak\",'Styrning och kompetens'!C165,\"\")","v":""},{"$f":"IF('Styrning och kompetens'!B165=\"Ja, i huvudsak\",'Styrning och kompetens'!D165,\"\")","v":""}]
[null,{"$f":"IF('Styrning och kompetens'!B166=\"Ja, i huvudsak\",'Styrning och kompetens'!A166,\"\")","v":""},{"$f":"IF('Styrning och kompetens'!B166=\"Ja, i huvudsak\",'Styrning och kompetens'!C166,\"\")","v":""},{"$f":"IF('Styrning och kompetens'!B166=\"Ja, i huvudsak\",'Styrning och kompetens'!D166,\"\")","v":""}]
[null,{"$f":"IF('Styrning och kompetens'!B167=\"Ja, i huvudsak\",'Styrning och kompetens'!A167,\"\")","v":""},{"$f":"IF('Styrning och kompetens'!B167=\"Ja, i huvudsak\",'Styrning och kompetens'!C167,\"\")","v":""},{"$f":"IF('Styrning och kompetens'!B167=\"Ja, i huvudsak\",'Styrning och kompetens'!D167,\"\")","v":""}]
[null,{"$f":"IF('Styrning och kompetens'!B168=\"Ja, i huvudsak\",'Styrning och kompetens'!A168,\"\")","v":""},{"$f":"IF('Styrning och kompetens'!B168=\"Ja, i huvudsak\",'Styrning och kompetens'!C168,\"\")","v":""},{"$f":"IF('Styrning och kompetens'!B168=\"Ja, i huvudsak\",'Styrning och kompetens'!D168,\"\")","v":""}]
[null,{"$f":"IF('Styrning och kompetens'!B169=\"Ja, i huvudsak\",'Styrning och kompetens'!A169,\"\")","v":""},{"$f":"IF('Styrning och kompetens'!B169=\"Ja, i huvudsak\",'Styrning och kompetens'!C169,\"\")","v":""},{"$f":"IF('Styrning och kompetens'!B169=\"Ja, i huvudsak\",'Styrning och kompetens'!D169,\"\")","v":""}]
[null,{"$f":"IF('Styrning och kompetens'!B170=\"Ja, i huvudsak\",'Styrning och kompetens'!A170,\"\")","v":""},{"$f":"IF('Styrning och kompetens'!B170=\"Ja, i huvudsak\",'Styrning och kompetens'!C170,\"\")","v":""},{"$f":"IF('Styrning och kompetens'!B170=\"Ja, i huvudsak\",'Styrning och kompetens'!D170,\"\")","v":""}]
[null,{"$f":"IF('Handläggning och uppföljning'!B4=\"Ja, i huvudsak\",'Handläggning och uppföljning'!A4,\"\")","v":""},{"$f":"IF('Handläggning och uppföljning'!B4=\"Ja, i huvudsak\",'Handläggning och uppföljning'!C4,\"\")","v":""},{"$f":"IF('Handläggning och uppföljning'!B4=\"Ja, i huvudsak\",'Handläggning och uppföljning'!D4,\"\")","v":""}]
[null,{"$f":"IF('Handläggning och uppföljning'!B5=\"Ja, i huvudsak\",'Handläggning och uppföljning'!A5,\"\")","v":""},{"$f":"IF('Handläggning och uppföljning'!B5=\"Ja, i huvudsak\",'Handläggning och uppföljning'!C5,\"\")","v":""},{"$f":"IF('Handläggning och uppföljning'!B5=\"Ja, i huvudsak\",'Handläggning och uppföljning'!D5,\"\")","v":""}]
[null,{"$f":"IF('Handläggning och uppföljning'!B6=\"Ja, i huvudsak\",'Handläggning och uppföljning'!A6,\"\")","v":""},{"$f":"IF('Handläggning och uppföljning'!B6=\"Ja, i huvudsak\",'Handläggning och uppföljning'!C6,\"\")","v":""},{"$f":"IF('Handläggning och uppföljning'!B6=\"Ja, i huvudsak\",'Handläggning och uppföljning'!D6,\"\")","v":""}]
[null,{"$f":"IF('Handläggning och uppföljning'!B7=\"Ja, i huvudsak\",'Handläggning och uppföljning'!A7,\"\")","v":""},{"$f":"IF('Handläggning och uppföljning'!B7=\"Ja, i huvudsak\",'Handläggning och uppföljning'!C7,\"\")","v":""},{"$f":"IF('Handläggning och uppföljning'!B7=\"Ja, i huvudsak\",'Handläggning och uppföljning'!D7,\"\")","v":""}]
[null,{"$f":"IF('Handläggning och uppföljning'!B8=\"Ja, i huvudsak\",'Handläggning och uppföljning'!A8,\"\")","v":""},{"$f":"IF('Handläggning och uppföljning'!B8=\"Ja, i huvudsak\",'Handläggning och uppföljning'!C8,\"\")","v":""},{"$f":"IF('Handläggning och uppföljning'!B8=\"Ja, i huvudsak\",'Handläggning och uppföljning'!D8,\"\")","v":""}]
[null,{"$f":"IF('Handläggning och uppföljning'!B9=\"Ja, i huvudsak\",'Handläggning och uppföljning'!A9,\"\")","v":""},{"$f":"IF('Handläggning och uppföljning'!B9=\"Ja, i huvudsak\",'Handläggning och uppföljning'!C9,\"\")","v":""},{"$f":"IF('Handläggning och uppföljning'!B9=\"Ja, i huvudsak\",'Handläggning och uppföljning'!D9,\"\")","v":""}]
[null,{"$f":"IF('Handläggning och uppföljning'!B10=\"Ja, i huvudsak\",'Handläggning och uppföljning'!A10,\"\")","v":""},{"$f":"IF('Handläggning och uppföljning'!B10=\"Ja, i huvudsak\",'Handläggning och uppföljning'!C10,\"\")","v":""},{"$f":"IF('Handläggning och uppföljning'!B10=\"Ja, i huvudsak\",'Handläggning och uppföljning'!D10,\"\")","v":""}]
[null,{"$f":"IF('Handläggning och uppföljning'!B11=\"Ja, i huvudsak\",'Handläggning och uppföljning'!A11,\"\")","v":""},{"$f":"IF('Handläggning och uppföljning'!B11=\"Ja, i huvudsak\",'Handläggning och uppföljning'!C11,\"\")","v":""},{"$f":"IF('Handläggning och uppföljning'!B11=\"Ja, i huvudsak\",'Handläggning och uppföljning'!D11,\"\")","v":""}]
[null,{"$f":"IF('Handläggning och uppföljning'!B12=\"Ja, i huvudsak\",'Handläggning och uppföljning'!A12,\"\")","v":""},{"$f":"IF('Handläggning och uppföljning'!B12=\"Ja, i huvudsak\",'Handläggning och uppföljning'!C12,\"\")","v":""},{"$f":"IF('Handläggning och uppföljning'!B12=\"Ja, i huvudsak\",'Handläggning och uppföljning'!D12,\"\")","v":""}]
[null,{"$f":"IF('Handläggning och uppföljning'!B13=\"Ja, i huvudsak\",'Handläggning och uppföljning'!A13,\"\")","v":""},{"$f":"IF('Handläggning och uppföljning'!B13=\"Ja, i huvudsak\",'Handläggning och uppföljning'!C13,\"\")","v":""},{"$f":"IF('Handläggning och uppföljning'!B13=\"Ja, i huvudsak\",'Handläggning och uppföljning'!D13,\"\")","v":""}]
[null,{"$f":"IF('Handläggning och uppföljning'!B14=\"Ja, i huvudsak\",'Handläggning och uppföljning'!A14,\"\")","v":""},{"$f":"IF('Handläggning och uppföljning'!B14=\"Ja, i huvudsak\",'Handläggning och uppföljning'!C14,\"\")","v":""},{"$f":"IF('Handläggning och uppföljning'!B14=\"Ja, i huvudsak\",'Handläggning och uppföljning'!D14,\"\")","v":""}]
[null,{"$f":"IF('Handläggning och uppföljning'!B15=\"Ja, i huvudsak\",'Handläggning och uppföljning'!A15,\"\")","v":""},{"$f":"IF('Handläggning och uppföljning'!B15=\"Ja, i huvudsak\",'Handläggning och uppföljning'!C15,\"\")","v":""},{"$f":"IF('Handläggning och uppföljning'!B15=\"Ja, i huvudsak\",'Handläggning och uppföljning'!D15,\"\")","v":""}]
[null,{"$f":"IF('Handläggning och uppföljning'!B16=\"Ja, i huvudsak\",'Handläggning och uppföljning'!A16,\"\")","v":""},{"$f":"IF('Handläggning och uppföljning'!B16=\"Ja, i huvudsak\",'Handläggning och uppföljning'!C16,\"\")","v":""},{"$f":"IF('Handläggning och uppföljning'!B16=\"Ja, i huvudsak\",'Handläggning och uppföljning'!D16,\"\")","v":""}]
[null,{"$f":"IF('Handläggning och uppföljning'!B17=\"Ja, i huvudsak\",'Handläggning och uppföljning'!A17,\"\")","v":""},{"$f":"IF('Handläggning och uppföljning'!B17=\"Ja, i huvudsak\",'Handläggning och uppföljning'!C17,\"\")","v":""},{"$f":"IF('Handläggning och uppföljning'!B17=\"Ja, i huvudsak\",'Handläggning och uppföljning'!D17,\"\")","v":""}]
[null,{"$f":"IF('Handläggning och uppföljning'!B18=\"Ja, i huvudsak\",'Handläggning och uppföljning'!A18,\"\")","v":""},{"$f":"IF('Handläggning och uppföljning'!B18=\"Ja, i huvudsak\",'Handläggning och uppföljning'!C18,\"\")","v":""},{"$f":"IF('Handläggning och uppföljning'!B18=\"Ja, i huvudsak\",'Handläggning och uppföljning'!D18,\"\")","v":""}]
[null,{"$f":"IF('Handläggning och uppföljning'!B19=\"Ja, i huvudsak\",'Handläggning och uppföljning'!A19,\"\")","v":""},{"$f":"IF('Handläggning och uppföljning'!B19=\"Ja, i huvudsak\",'Handläggning och uppföljning'!C19,\"\")","v":""},{"$f":"IF('Handläggning och uppföljning'!B19=\"Ja, i huvudsak\",'Handläggning och uppföljning'!D19,\"\")","v":""}]
[null,{"$f":"IF('Handläggning och uppföljning'!B20=\"Ja, i huvudsak\",'Handläggning och uppföljning'!A20,\"\")","v":""},{"$f":"IF('Handläggning och uppföljning'!B20=\"Ja, i huvudsak\",'Handläggning och uppföljning'!C20,\"\")","v":""},{"$f":"IF('Handläggning och uppföljning'!B20=\"Ja, i huvudsak\",'Handläggning och uppföljning'!D20,\"\")","v":""}]
[null,{"$f":"IF('Handläggning och uppföljning'!B21=\"Ja, i huvudsak\",'Handläggning och uppföljning'!A21,\"\")","v":""},{"$f":"IF('Handläggning och uppföljning'!B21=\"Ja, i huvudsak\",'Handläggning och uppföljning'!C21,\"\")","v":""},{"$f":"IF('Handläggning och uppföljning'!B21=\"Ja, i huvudsak\",'Handläggning och uppföljning'!D21,\"\")","v":""}]
[null,{"$f":"IF('Handläggning och uppföljning'!B22=\"Ja, i huvudsak\",'Handläggning och uppföljning'!A22,\"\")","v":""},{"$f":"IF('Handläggning och uppföljning'!B22=\"Ja, i huvudsak\",'Handläggning och uppföljning'!C22,\"\")","v":""},{"$f":"IF('Handläggning och uppföljning'!B22=\"Ja, i huvudsak\",'Handläggning och uppföljning'!D22,\"\")","v":""}]
[null,{"$f":"IF('Handläggning och uppföljning'!B23=\"Ja, i huvudsak\",'Handläggning och uppföljning'!A23,\"\")","v":""},{"$f":"IF('Handläggning och uppföljning'!B23=\"Ja, i huvudsak\",'Handläggning och uppföljning'!C23,\"\")","v":""},{"$f":"IF('Handläggning och uppföljning'!B23=\"Ja, i huvudsak\",'Handläggning och uppföljning'!D23,\"\")","v":""}]
[null,{"$f":"IF('Handläggning och uppföljning'!B24=\"Ja, i huvudsak\",'Handläggning och uppföljning'!A24,\"\")","v":""},{"$f":"IF('Handläggning och uppföljning'!B24=\"Ja, i huvudsak\",'Handläggning och uppföljning'!C24,\"\")","v":""},{"$f":"IF('Handläggning och uppföljning'!B24=\"Ja, i huvudsak\",'Handläggning och uppföljning'!D24,\"\")","v":""}]
[null,{"$f":"IF('Handläggning och uppföljning'!B25=\"Ja, i huvudsak\",'Handläggning och uppföljning'!A25,\"\")","v":""},{"$f":"IF('Handläggning och uppföljning'!B25=\"Ja, i huvudsak\",'Handläggning och uppföljning'!C25,\"\")","v":""},{"$f":"IF('Handläggning och uppföljning'!B25=\"Ja, i huvudsak\",'Handläggning och uppföljning'!D25,\"\")","v":""}]
[null,{"$f":"IF('Handläggning och uppföljning'!B26=\"Ja, i huvudsak\",'Handläggning och uppföljning'!A26,\"\")","v":""},{"$f":"IF('Handläggning och uppföljning'!B26=\"Ja, i huvudsak\",'Handläggning och uppföljning'!C26,\"\")","v":""},{"$f":"IF('Handläggning och uppföljning'!B26=\"Ja, i huvudsak\",'Handläggning och uppföljning'!D26,\"\")","v":""}]
[null,{"$f":"IF('Handläggning och uppföljning'!B27=\"Ja, i huvudsak\",'Handläggning och uppföljning'!A27,\"\")","v":""},{"$f":"IF('Handläggning och uppföljning'!B27=\"Ja, i huvudsak\",'Handläggning och uppföljning'!C27,\"\")","v":""},{"$f":"IF('Handläggning och uppföljning'!B27=\"Ja, i huvudsak\",'Handläggning och uppföljning'!D27,\"\")","v":""}]
[null,{"$f":"IF('Handläggning och uppföljning'!B28=\"Ja, i huvudsak\",'Handläggning och uppföljning'!A28,\"\")","v":""},{"$f":"IF('Handläggning och uppföljning'!B28=\"Ja, i huvudsak\",'Handläggning och uppföljning'!C28,\"\")","v":""},{"$f":"IF('Handläggning och uppföljning'!B28=\"Ja, i huvudsak\",'Handläggning och uppföljning'!D28,\"\")","v":""}]
[null,{"$f":"IF('Handläggning och uppföljning'!B29=\"Ja, i huvudsak\",'Handläggning och uppföljning'!A29,\"\")","v":""},{"$f":"IF('Handläggning och uppföljning'!B29=\"Ja, i huvudsak\",'Handläggning och uppföljning'!C29,\"\")","v":""},{"$f":"IF('Handläggning och uppföljning'!B29=\"Ja, i huvudsak\",'Handläggning och uppföljning'!D29,\"\")","v":""}]
[null,{"$f":"IF('Handläggning och uppföljning'!B30=\"Ja, i huvudsak\",'Handläggning och uppföljning'!A30,\"\")","v":""},{"$f":"IF('Handläggning och uppföljning'!B30=\"Ja, i huvudsak\",'Handläggning och uppföljning'!C30,\"\")","v":""},{"$f":"IF('Handläggning och uppföljning'!B30=\"Ja, i huvudsak\",'Handläggning och uppföljning'!D30,\"\")","v":""}]
[null,{"$f":"IF('Handläggning och uppföljning'!B31=\"Ja, i huvudsak\",'Handläggning och uppföljning'!A31,\"\")","v":""},{"$f":"IF('Handläggning och uppföljning'!B31=\"Ja, i huvudsak\",'Handläggning och uppföljning'!C31,\"\")","v":""},{"$f":"IF('Handläggning och uppföljning'!B31=\"Ja, i huvudsak\",'Handläggning och uppföljning'!D31,\"\")","v":""}]
[null,{"$f":"IF('Handläggning och uppföljning'!B32=\"Ja, i huvudsak\",'Handläggning och uppföljning'!A32,\"\")","v":""},{"$f":"IF('Handläggning och uppföljning'!B32=\"Ja, i huvudsak\",'Handläggning och uppföljning'!C32,\"\")","v":""},{"$f":"IF('Handläggning och uppföljning'!B32=\"Ja, i huvudsak\",'Handläggning och uppföljning'!D32,\"\")","v":""}]
[null,{"$f":"IF('Handläggning och uppföljning'!B33=\"Ja, i huvudsak\",'Handläggning och uppföljning'!A33,\"\")","v":""},{"$f":"IF('Handläggning och uppföljning'!B33=\"Ja, i huvudsak\",'Handläggning och uppföljning'!C33,\"\")","v":""},{"$f":"IF('Handläggning och uppföljning'!B33=\"Ja, i huvudsak\",'Handläggning och uppföljning'!D33,\"\")","v":""}]
[null,{"$f":"IF('Handläggning och uppföljning'!B34=\"Ja, i huvudsak\",'Handläggning och uppföljning'!A34,\"\")","v":""},{"$f":"IF('Handläggning och uppföljning'!B34=\"Ja, i huvudsak\",'Handläggning och uppföljning'!C34,\"\")","v":""},{"$f":"IF('Handläggning och uppföljning'!B34=\"Ja, i huvudsak\",'Handläggning och uppföljning'!D34,\"\")","v":""}]
[null,{"$f":"IF('Handläggning och uppföljning'!B35=\"Ja, i huvudsak\",'Handläggning och uppföljning'!A35,\"\")","v":""},{"$f":"IF('Handläggning och uppföljning'!B35=\"Ja, i huvudsak\",'Handläggning och uppföljning'!C35,\"\")","v":""},{"$f":"IF('Handläggning och uppföljning'!B35=\"Ja, i huvudsak\",'Handläggning och uppföljning'!D35,\"\")","v":""}]
[null,{"$f":"IF('Handläggning och uppföljning'!B36=\"Ja, i huvudsak\",'Handläggning och uppföljning'!A36,\"\")","v":""},{"$f":"IF('Handläggning och uppföljning'!B36=\"Ja, i huvudsak\",'Handläggning och uppföljning'!C36,\"\")","v":""},{"$f":"IF('Handläggning och uppföljning'!B36=\"Ja, i huvudsak\",'Handläggning och uppföljning'!D36,\"\")","v":""}]
[null,{"$f":"IF('Handläggning och uppföljning'!B37=\"Ja, i huvudsak\",'Handläggning och uppföljning'!A37,\"\")","v":""},{"$f":"IF('Handläggning och uppföljning'!B37=\"Ja, i huvudsak\",'Handläggning och uppföljning'!C37,\"\")","v":""},{"$f":"IF('Handläggning och uppföljning'!B37=\"Ja, i huvudsak\",'Handläggning och uppföljning'!D37,\"\")","v":""}]
[null,{"$f":"IF('Handläggning och uppföljning'!B38=\"Ja, i huvudsak\",'Handläggning och uppföljning'!A38,\"\")","v":""},{"$f":"IF('Handläggning och uppföljning'!B38=\"Ja, i huvudsak\",'Handläggning och uppföljning'!C38,\"\")","v":""},{"$f":"IF('Handläggning och uppföljning'!B38=\"Ja, i huvudsak\",'Handläggning och uppföljning'!D38,\"\")","v":""}]
[null,{"$f":"IF('Handläggning och uppföljning'!B39=\"Ja, i huvudsak\",'Handläggning och uppföljning'!A39,\"\")","v":""},{"$f":"IF('Handläggning och uppföljning'!B39=\"Ja, i huvudsak\",'Handläggning och uppföljning'!C39,\"\")","v":""},{"$f":"IF('Handläggning och uppföljning'!B39=\"Ja, i huvudsak\",'Handläggning och uppföljning'!D39,\"\")","v":""}]
[null,{"$f":"IF('Handläggning och uppföljning'!B40=\"Ja, i huvudsak\",'Handläggning och uppföljning'!A40,\"\")","v":""},{"$f":"IF('Handläggning och uppföljning'!B40=\"Ja, i huvudsak\",'Handläggning och uppföljning'!C40,\"\")","v":""},{"$f":"IF('Handläggning och uppföljning'!B40=\"Ja, i huvudsak\",'Handläggning och uppföljning'!D40,\"\")","v":""}]
[null,{"$f":"IF('Handläggning och uppföljning'!B41=\"Ja, i huvudsak\",'Handläggning och uppföljning'!A41,\"\")","v":""},{"$f":"IF('Handläggning och uppföljning'!B41=\"Ja, i huvudsak\",'Handläggning och uppföljning'!C41,\"\")","v":""},{"$f":"IF('Handläggning och uppföljning'!B41=\"Ja, i huvudsak\",'Handläggning och uppföljning'!D41,\"\")","v":""}]
[null,{"$f":"IF('Handläggning och uppföljning'!B42=\"Ja, i huvudsak\",'Handläggning och uppföljning'!A42,\"\")","v":""},{"$f":"IF('Handläggning och uppföljning'!B42=\"Ja, i huvudsak\",'Handläggning och uppföljning'!C42,\"\")","v":""},{"$f":"IF('Handläggning och uppföljning'!B42=\"Ja, i huvudsak\",'Handläggning och uppföljning'!D42,\"\")","v":""}]
[null,{"$f":"IF('Handläggning och uppföljning'!B43=\"Ja, i huvudsak\",'Handläggning och uppföljning'!A43,\"\")","v":""},{"$f":"IF('Handläggning och uppföljning'!B43=\"Ja, i huvudsak\",'Handläggning och uppföljning'!C43,\"\")","v":""},{"$f":"IF('Handläggning och uppföljning'!B43=\"Ja, i huvudsak\",'Handläggning och uppföljning'!D43,\"\")","v":""}]
[null,{"$f":"IF('Handläggning och uppföljning'!B44=\"Ja, i huvudsak\",'Handläggning och uppföljning'!A44,\"\")","v":""},{"$f":"IF('Handläggning och uppföljning'!B44=\"Ja, i huvudsak\",'Handläggning och uppföljning'!C44,\"\")","v":""},{"$f":"IF('Handläggning och uppföljning'!B44=\"Ja, i huvudsak\",'Handläggning och uppföljning'!D44,\"\")","v":""}]
[null,{"$f":"IF('Handläggning och uppföljning'!B45=\"Ja, i huvudsak\",'Handläggning och uppföljning'!A45,\"\")","v":""},{"$f":"IF('Handläggning och uppföljning'!B45=\"Ja, i huvudsak\",'Handläggning och uppföljning'!C45,\"\")","v":""},{"$f":"IF('Handläggning och uppföljning'!B45=\"Ja, i huvudsak\",'Handläggning och uppföljning'!D45,\"\")","v":""}]
[null,{"$f":"IF('Handläggning och uppföljning'!B46=\"Ja, i huvudsak\",'Handläggning och uppföljning'!A46,\"\")","v":""},{"$f":"IF('Handläggning och uppföljning'!B46=\"Ja, i huvudsak\",'Handläggning och uppföljning'!C46,\"\")","v":""},{"$f":"IF('Handläggning och uppföljning'!B46=\"Ja, i huvudsak\",'Handläggning och uppföljning'!D46,\"\")","v":""}]
[null,{"$f":"IF('Handläggning och uppföljning'!B47=\"Ja, i huvudsak\",'Handläggning och uppföljning'!A47,\"\")","v":""},{"$f":"IF('Handläggning och uppföljning'!B47=\"Ja, i huvudsak\",'Handläggning och uppföljning'!C47,\"\")","v":""},{"$f":"IF('Handläggning och uppföljning'!B47=\"Ja, i huvudsak\",'Handläggning och uppföljning'!D47,\"\")","v":""}]
[null,{"$f":"IF('Handläggning och uppföljning'!B48=\"Ja, i huvudsak\",'Handläggning och uppföljning'!A48,\"\")","v":""},{"$f":"IF('Handläggning och uppföljning'!B48=\"Ja, i huvudsak\",'Handläggning och uppföljning'!C48,\"\")","v":""},{"$f":"IF('Handläggning och uppföljning'!B48=\"Ja, i huvudsak\",'Handläggning och uppföljning'!D48,\"\")","v":""}]
[null,{"$f":"IF('Handläggning och uppföljning'!B49=\"Ja, i huvudsak\",'Handläggning och uppföljning'!A49,\"\")","v":""},{"$f":"IF('Handläggning och uppföljning'!B49=\"Ja, i huvudsak\",'Handläggning och uppföljning'!C49,\"\")","v":""},{"$f":"IF('Handläggning och uppföljning'!B49=\"Ja, i huvudsak\",'Handläggning och uppföljning'!D49,\"\")","v":""}]
[null,{"$f":"IF('Handläggning och uppföljning'!B50=\"Ja, i huvudsak\",'Handläggning och uppföljning'!A50,\"\")","v":""},{"$f":"IF('Handläggning och uppföljning'!B50=\"Ja, i huvudsak\",'Handläggning och uppföljning'!C50,\"\")","v":""},{"$f":"IF('Handläggning och uppföljning'!B50=\"Ja, i huvudsak\",'Handläggning och uppföljning'!D50,\"\")","v":""}]
[null,{"$f":"IF('Handläggning och uppföljning'!B51=\"Ja, i huvudsak\",'Handläggning och uppföljning'!A51,\"\")","v":""},{"$f":"IF('Handläggning och uppföljning'!B51=\"Ja, i huvudsak\",'Handläggning och uppföljning'!C51,\"\")","v":""},{"$f":"IF('Handläggning och uppföljning'!B51=\"Ja, i huvudsak\",'Handläggning och uppföljning'!D51,\"\")","v":""}]
[null,{"$f":"IF('Handläggning och uppföljning'!B52=\"Ja, i huvudsak\",'Handläggning och uppföljning'!A52,\"\")","v":""},{"$f":"IF('Handläggning och uppföljning'!B52=\"Ja, i huvudsak\",'Handläggning och uppföljning'!C52,\"\")","v":""},{"$f":"IF('Handläggning och uppföljning'!B52=\"Ja, i huvudsak\",'Handläggning och uppföljning'!D52,\"\")","v":""}]
[null,{"$f":"IF('Handläggning och uppföljning'!B53=\"Ja, i huvudsak\",'Handläggning och uppföljning'!A53,\"\")","v":""},{"$f":"IF('Handläggning och uppföljning'!B53=\"Ja, i huvudsak\",'Handläggning och uppföljning'!C53,\"\")","v":""},{"$f":"IF('Handläggning och uppföljning'!B53=\"Ja, i huvudsak\",'Handläggning och uppföljning'!D53,\"\")","v":""}]
[null,{"$f":"IF('Handläggning och uppföljning'!B54=\"Ja, i huvudsak\",'Handläggning och uppföljning'!A54,\"\")","v":""},{"$f":"IF('Handläggning och uppföljning'!B54=\"Ja, i huvudsak\",'Handläggning och uppföljning'!C54,\"\")","v":""},{"$f":"IF('Handläggning och uppföljning'!B54=\"Ja, i huvudsak\",'Handläggning och uppföljning'!D54,\"\")","v":""}]
[null,{"$f":"IF('Handläggning och uppföljning'!B55=\"Ja, i huvudsak\",'Handläggning och uppföljning'!A55,\"\")","v":""},{"$f":"IF('Handläggning och uppföljning'!B55=\"Ja, i huvudsak\",'Handläggning och uppföljning'!C55,\"\")","v":""},{"$f":"IF('Handläggning och uppföljning'!B55=\"Ja, i huvudsak\",'Handläggning och uppföljning'!D55,\"\")","v":""}]
[null,{"$f":"IF('Handläggning och uppföljning'!B56=\"Ja, i huvudsak\",'Handläggning och uppföljning'!A56,\"\")","v":""},{"$f":"IF('Handläggning och uppföljning'!B56=\"Ja, i huvudsak\",'Handläggning och uppföljning'!C56,\"\")","v":""},{"$f":"IF('Handläggning och uppföljning'!B56=\"Ja, i huvudsak\",'Handläggning och uppföljning'!D56,\"\")","v":""}]
[null,{"$f":"IF('Handläggning och uppföljning'!B57=\"Ja, i huvudsak\",'Handläggning och uppföljning'!A57,\"\")","v":""},{"$f":"IF('Handläggning och uppföljning'!B57=\"Ja, i huvudsak\",'Handläggning och uppföljning'!C57,\"\")","v":""},{"$f":"IF('Handläggning och uppföljning'!B57=\"Ja, i huvudsak\",'Handläggning och uppföljning'!D57,\"\")","v":""}]
[null,{"$f":"IF('Handläggning och uppföljning'!B58=\"Ja, i huvudsak\",'Handläggning och uppföljning'!A58,\"\")","v":""},{"$f":"IF('Handläggning och uppföljning'!B58=\"Ja, i huvudsak\",'Handläggning och uppföljning'!C58,\"\")","v":""},{"$f":"IF('Handläggning och uppföljning'!B58=\"Ja, i huvudsak\",'Handläggning och uppföljning'!D58,\"\")","v":""}]
[null,{"$f":"IF('Handläggning och uppföljning'!B59=\"Ja, i huvudsak\",'Handläggning och uppföljning'!A59,\"\")","v":""},{"$f":"IF('Handläggning och uppföljning'!B59=\"Ja, i huvudsak\",'Handläggning och uppföljning'!C59,\"\")","v":""},{"$f":"IF('Handläggning och uppföljning'!B59=\"Ja, i huvudsak\",'Handläggning och uppföljning'!D59,\"\")","v":""}]
[null,{"$f":"IF('Handläggning och uppföljning'!B60=\"Ja, i huvudsak\",'Handläggning och uppföljning'!A60,\"\")","v":""},{"$f":"IF('Handläggning och uppföljning'!B60=\"Ja, i huvudsak\",'Handläggning och uppföljning'!C60,\"\")","v":""},{"$f":"IF('Handläggning och uppföljning'!B60=\"Ja, i huvudsak\",'Handläggning och uppföljning'!D60,\"\")","v":""}]
[null,{"$f":"IF('Handläggning och uppföljning'!B61=\"Ja, i huvudsak\",'Handläggning och uppföljning'!A61,\"\")","v":""},{"$f":"IF('Handläggning och uppföljning'!B61=\"Ja, i huvudsak\",'Handläggning och uppföljning'!C61,\"\")","v":""},{"$f":"IF('Handläggning och uppföljning'!B61=\"Ja, i huvudsak\",'Handläggning och uppföljning'!D61,\"\")","v":""}]
[null,{"$f":"IF('Handläggning och uppföljning'!B62=\"Ja, i huvudsak\",'Handläggning och uppföljning'!A62,\"\")","v":""},{"$f":"IF('Handläggning och uppföljning'!B62=\"Ja, i huvudsak\",'Handläggning och uppföljning'!C62,\"\")","v":""},{"$f":"IF('Handläggning och uppföljning'!B62=\"Ja, i huvudsak\",'Handläggning och uppföljning'!D62,\"\")","v":""}]
[null,{"$f":"IF('Handläggning och uppföljning'!B63=\"Ja, i huvudsak\",'Handläggning och uppföljning'!A63,\"\")","v":""},{"$f":"IF('Handläggning och uppföljning'!B63=\"Ja, i huvudsak\",'Handläggning och uppföljning'!C63,\"\")","v":""},{"$f":"IF('Handläggning och uppföljning'!B63=\"Ja, i huvudsak\",'Handläggning och uppföljning'!D63,\"\")","v":""}]
[null,{"$f":"IF('Handläggning och uppföljning'!B64=\"Ja, i huvudsak\",'Handläggning och uppföljning'!A64,\"\")","v":""},{"$f":"IF('Handläggning och uppföljning'!B64=\"Ja, i huvudsak\",'Handläggning och uppföljning'!C64,\"\")","v":""},{"$f":"IF('Handläggning och uppföljning'!B64=\"Ja, i huvudsak\",'Handläggning och uppföljning'!D64,\"\")","v":""}]
[null,{"$f":"IF('Handläggning och uppföljning'!B65=\"Ja, i huvudsak\",'Handläggning och uppföljning'!A65,\"\")","v":""},{"$f":"IF('Handläggning och uppföljning'!B65=\"Ja, i huvudsak\",'Handläggning och uppföljning'!C65,\"\")","v":""},{"$f":"IF('Handläggning och uppföljning'!B65=\"Ja, i huvudsak\",'Handläggning och uppföljning'!D65,\"\")","v":""}]
[null,{"$f":"IF('Handläggning och uppföljning'!B66=\"Ja, i huvudsak\",'Handläggning och uppföljning'!A66,\"\")","v":""},{"$f":"IF('Handläggning och uppföljning'!B66=\"Ja, i huvudsak\",'Handläggning och uppföljning'!C66,\"\")","v":""},{"$f":"IF('Handläggning och uppföljning'!B66=\"Ja, i huvudsak\",'Handläggning och uppföljning'!D66,\"\")","v":""}]
[null,{"$f":"IF('Handläggning och uppföljning'!B67=\"Ja, i huvudsak\",'Handläggning och uppföljning'!A67,\"\")","v":""},{"$f":"IF('Handläggning och uppföljning'!B67=\"Ja, i huvudsak\",'Handläggning och uppföljning'!C67,\"\")","v":""},{"$f":"IF('Handläggning och uppföljning'!B67=\"Ja, i huvudsak\",'Handläggning och uppföljning'!D67,\"\")","v":""}]
[null,{"$f":"IF('Handläggning och uppföljning'!B68=\"Ja, i huvudsak\",'Handläggning och uppföljning'!A68,\"\")","v":""},{"$f":"IF('Handläggning och uppföljning'!B68=\"Ja, i huvudsak\",'Handläggning och uppföljning'!C68,\"\")","v":""},{"$f":"IF('Handläggning och uppföljning'!B68=\"Ja, i huvudsak\",'Handläggning och uppföljning'!D68,\"\")","v":""}]
[null,{"$f":"IF('Handläggning och uppföljning'!B69=\"Ja, i huvudsak\",'Handläggning och uppföljning'!A69,\"\")","v":""},{"$f":"IF('Handläggning och uppföljning'!B69=\"Ja, i huvudsak\",'Handläggning och uppföljning'!C69,\"\")","v":""},{"$f":"IF('Handläggning och uppföljning'!B69=\"Ja, i huvudsak\",'Handläggning och uppföljning'!D69,\"\")","v":""}]
[null,{"$f":"IF('Handläggning och uppföljning'!B70=\"Ja, i huvudsak\",'Handläggning och uppföljning'!A70,\"\")","v":""},{"$f":"IF('Handläggning och uppföljning'!B70=\"Ja, i huvudsak\",'Handläggning och uppföljning'!C70,\"\")","v":""},{"$f":"IF('Handläggning och uppföljning'!B70=\"Ja, i huvudsak\",'Handläggning och uppföljning'!D70,\"\")","v":""}]
[null,{"$f":"IF('Handläggning och uppföljning'!B71=\"Ja, i huvudsak\",'Handläggning och uppföljning'!A71,\"\")","v":""},{"$f":"IF('Handläggning och uppföljning'!B71=\"Ja, i huvudsak\",'Handläggning och uppföljning'!C71,\"\")","v":""},{"$f":"IF('Handläggning och uppföljning'!B71=\"Ja, i huvudsak\",'Handläggning och uppföljning'!D71,\"\")","v":""}]
[null,{"$f":"IF('Handläggning och uppföljning'!B72=\"Ja, i huvudsak\",'Handläggning och uppföljning'!A72,\"\")","v":""},{"$f":"IF('Handläggning och uppföljning'!B72=\"Ja, i huvudsak\",'Handläggning och uppföljning'!C72,\"\")","v":""},{"$f":"IF('Handläggning och uppföljning'!B72=\"Ja, i huvudsak\",'Handläggning och uppföljning'!D72,\"\")","v":""}]
[null,{"$f":"IF('Handläggning och uppföljning'!B73=\"Ja, i huvudsak\",'Handläggning och uppföljning'!A73,\"\")","v":""},{"$f":"IF('Handläggning och uppföljning'!B73=\"Ja, i huvudsak\",'Handläggning och uppföljning'!C73,\"\")","v":""},{"$f":"IF('Handläggning och uppföljning'!B73=\"Ja, i huvudsak\",'Handläggning och uppföljning'!D73,\"\")","v":""}]
[null,{"$f":"IF('Handläggning och uppföljning'!B74=\"Ja, i huvudsak\",'Handläggning och uppföljning'!A74,\"\")","v":""},{"$f":"IF('Handläggning och uppföljning'!B74=\"Ja, i huvudsak\",'Handläggning och uppföljning'!C74,\"\")","v":""},{"$f":"IF('Handläggning och uppföljning'!B74=\"Ja, i huvudsak\",'Handläggning och uppföljning'!D74,\"\")","v":""}]
[null,{"$f":"IF('Handläggning och uppföljning'!B75=\"Ja, i huvudsak\",'Handläggning och uppföljning'!A75,\"\")","v":""},{"$f":"IF('Handläggning och uppföljning'!B75=\"Ja, i huvudsak\",'Handläggning och uppföljning'!C75,\"\")","v":""},{"$f":"IF('Handläggning och uppföljning'!B75=\"Ja, i huvudsak\",'Handläggning och uppföljning'!D75,\"\")","v":""}]
[null,{"$f":"IF('Handläggning och uppföljning'!B76=\"Ja, i huvudsak\",'Handläggning och uppföljning'!A76,\"\")","v":""},{"$f":"IF('Handläggning och uppföljning'!B76=\"Ja, i huvudsak\",'Handläggning och uppföljning'!C76,\"\")","v":""},{"$f":"IF('Handläggning och uppföljning'!B76=\"Ja, i huvudsak\",'Handläggning och uppföljning'!D76,\"\")","v":""}]
[null,{"$f":"IF('Handläggning och uppföljning'!B77=\"Ja, i huvudsak\",'Handläggning och uppföljning'!A77,\"\")","v":""},{"$f":"IF('Handläggning och uppföljning'!B77=\"Ja, i huvudsak\",'Handläggning och uppföljning'!C77,\"\")","v":""},{"$f":"IF('Handläggning och uppföljning'!B77=\"Ja, i huvudsak\",'Handläggning och uppföljning'!D77,\"\")","v":""}]
[null,{"$f":"IF('Handläggning och uppföljning'!B78=\"Ja, i huvudsak\",'Handläggning och uppföljning'!A78,\"\")","v":""},{"$f":"IF('Handläggning och uppföljning'!B78=\"Ja, i huvudsak\",'Handläggning och uppföljning'!C78,\"\")","v":""},{"$f":"IF('Handläggning och uppföljning'!B78=\"Ja, i huvudsak\",'Handläggning och uppföljning'!D78,\"\")","v":""}]
[null,{"$f":"IF('Handläggning och uppföljning'!B79=\"Ja, i huvudsak\",'Handläggning och uppföljning'!A79,\"\")","v":""},{"$f":"IF('Handläggning och uppföljning'!B79=\"Ja, i huvudsak\",'Handläggning och uppföljning'!C79,\"\")","v":""},{"$f":"IF('Handläggning och uppföljning'!B79=\"Ja, i huvudsak\",'Handläggning och uppföljning'!D79,\"\")","v":""}]
[null,{"$f":"IF('Handläggning och uppföljning'!B80=\"Ja, i huvudsak\",'Handläggning och uppföljning'!A80,\"\")","v":""},{"$f":"IF('Handläggning och uppföljning'!B80=\"Ja, i huvudsak\",'Handläggning och uppföljning'!C80,\"\")","v":""},{"$f":"IF('Handläggning och uppföljning'!B80=\"Ja, i huvudsak\",'Handläggning och uppföljning'!D80,\"\")","v":""}]
[null,{"$f":"IF('Handläggning och uppföljning'!B81=\"Ja, i huvudsak\",'Handläggning och uppföljning'!A81,\"\")","v":""},{"$f":"IF('Handläggning och uppföljning'!B81=\"Ja, i huvudsak\",'Handläggning och uppföljning'!C81,\"\")","v":""},{"$f":"IF('Handläggning och uppföljning'!B81=\"Ja, i huvudsak\",'Handläggning och uppföljning'!D81,\"\")","v":""}]
[null,{"$f":"IF('Handläggning och uppföljning'!B82=\"Ja, i huvudsak\",'Handläggning och uppföljning'!A82,\"\")","v":""},{"$f":"IF('Handläggning och uppföljning'!B82=\"Ja, i huvudsak\",'Handläggning och uppföljning'!C82,\"\")","v":""},{"$f":"IF('Handläggning och uppföljning'!B82=\"Ja, i huvudsak\",'Handläggning och uppföljning'!D82,\"\")","v":""}]
[null,{"$f":"IF('Handläggning och uppföljning'!B83=\"Ja, i huvudsak\",'Handläggning och uppföljning'!A83,\"\")","v":""},{"$f":"IF('Handläggning och uppföljning'!B83=\"Ja, i huvudsak\",'Handläggning och uppföljning'!C83,\"\")","v":""},{"$f":"IF('Handläggning och uppföljning'!B83=\"Ja, i huvudsak\",'Handläggning och uppföljning'!D83,\"\")","v":""}]
[null,{"$f":"IF('Handläggning och uppföljning'!B84=\"Ja, i huvudsak\",'Handläggning och uppföljning'!A84,\"\")","v":""},{"$f":"IF('Handläggning och uppföljning'!B84=\"Ja, i huvudsak\",'Handläggning och uppföljning'!C84,\"\")","v":""},{"$f":"IF('Handläggning och uppföljning'!B84=\"Ja, i huvudsak\",'Handläggning och uppföljning'!D84,\"\")","v":""}]
[null,{"$f":"IF('Handläggning och uppföljning'!B85=\"Ja, i huvudsak\",'Handläggning och uppföljning'!A85,\"\")","v":""},{"$f":"IF('Handläggning och uppföljning'!B85=\"Ja, i huvudsak\",'Handläggning och uppföljning'!C85,\"\")","v":""},{"$f":"IF('Handläggning och uppföljning'!B85=\"Ja, i huvudsak\",'Handläggning och uppföljning'!D85,\"\")","v":""}]
[null,{"$f":"IF('Handläggning och uppföljning'!B86=\"Ja, i huvudsak\",'Handläggning och uppföljning'!A86,\"\")","v":""},{"$f":"IF('Handläggning och uppföljning'!B86=\"Ja, i huvudsak\",'Handläggning och uppföljning'!C86,\"\")","v":""},{"$f":"IF('Handläggning och uppföljning'!B86=\"Ja, i huvudsak\",'Handläggning och uppföljning'!D86,\"\")","v":""}]
[null,{"$f":"IF('Handläggning och uppföljning'!B87=\"Ja, i huvudsak\",'Handläggning och uppföljning'!A87,\"\")","v":""},{"$f":"IF('Handläggning och uppföljning'!B87=\"Ja, i huvudsak\",'Handläggning och uppföljning'!C87,\"\")","v":""},{"$f":"IF('Handläggning och uppföljning'!B87=\"Ja, i huvudsak\",'Handläggning och uppföljning'!D87,\"\")","v":""}]
[null,{"$f":"IF('Handläggning och uppföljning'!B88=\"Ja, i huvudsak\",'Handläggning och uppföljning'!A88,\"\")","v":""},{"$f":"IF('Handläggning och uppföljning'!B88=\"Ja, i huvudsak\",'Handläggning och uppföljning'!C88,\"\")","v":""},{"$f":"IF('Handläggning och uppföljning'!B88=\"Ja, i huvudsak\",'Handläggning och uppföljning'!D88,\"\")","v":""}]
[null,{"$f":"IF('Handläggning och uppföljning'!B89=\"Ja, i huvudsak\",'Handläggning och uppföljning'!A89,\"\")","v":""},{"$f":"IF('Handläggning och uppföljning'!B89=\"Ja, i huvudsak\",'Handläggning och uppföljning'!C89,\"\")","v":""},{"$f":"IF('Handläggning och uppföljning'!B89=\"Ja, i huvudsak\",'Handläggning och uppföljning'!D89,\"\")","v":""}]
[null,{"$f":"IF('Handläggning och uppföljning'!B90=\"Ja, i huvudsak\",'Handläggning och uppföljning'!A90,\"\")","v":""},{"$f":"IF('Handläggning och uppföljning'!B90=\"Ja, i huvudsak\",'Handläggning och uppföljning'!C90,\"\")","v":""},{"$f":"IF('Handläggning och uppföljning'!B90=\"Ja, i huvudsak\",'Handläggning och uppföljning'!D90,\"\")","v":""}]
[null,{"$f":"IF('Handläggning och uppföljning'!B91=\"Ja, i huvudsak\",'Handläggning och uppföljning'!A91,\"\")","v":""},{"$f":"IF('Handläggning och uppföljning'!B91=\"Ja, i huvudsak\",'Handläggning och uppföljning'!C91,\"\")","v":""},{"$f":"IF('Handläggning och uppföljning'!B91=\"Ja, i huvudsak\",'Handläggning och uppföljning'!D91,\"\")","v":""}]
[null,{"$f":"IF('Handläggning och uppföljning'!B92=\"Ja, i huvudsak\",'Handläggning och uppföljning'!A92,\"\")","v":""},{"$f":"IF('Handläggning och uppföljning'!B92=\"Ja, i huvudsak\",'Handläggning och uppföljning'!C92,\"\")","v":""},{"$f":"IF('Handläggning och uppföljning'!B92=\"Ja, i huvudsak\",'Handläggning och uppföljning'!D92,\"\")","v":""}]
[null,{"$f":"IF('Handläggning och uppföljning'!B93=\"Ja, i huvudsak\",'Handläggning och uppföljning'!A93,\"\")","v":""},{"$f":"IF('Handläggning och uppföljning'!B93=\"Ja, i huvudsak\",'Handläggning och uppföljning'!C93,\"\")","v":""},{"$f":"IF('Handläggning och uppföljning'!B93=\"Ja, i huvudsak\",'Handläggning och uppföljning'!D93,\"\")","v":""}]
[null,{"$f":"IF('Handläggning och uppföljning'!B94=\"Ja, i huvudsak\",'Handläggning och uppföljning'!A94,\"\")","v":""},{"$f":"IF('Handläggning och uppföljning'!B94=\"Ja, i huvudsak\",'Handläggning och uppföljning'!C94,\"\")","v":""},{"$f":"IF('Handläggning och uppföljning'!B94=\"Ja, i huvudsak\",'Handläggning och uppföljning'!D94,\"\")","v":""}]
[null,{"$f":"IF('Handläggning och uppföljning'!B95=\"Ja, i huvudsak\",'Handläggning och uppföljning'!A95,\"\")","v":""},{"$f":"IF('Handläggning och uppföljning'!B95=\"Ja, i huvudsak\",'Handläggning och uppföljning'!C95,\"\")","v":""},{"$f":"IF('Handläggning och uppföljning'!B95=\"Ja, i huvudsak\",'Handläggning och uppföljning'!D95,\"\")","v":""}]
[null,{"$f":"IF('Handläggning och uppföljning'!B96=\"Ja, i huvudsak\",'Handläggning och uppföljning'!A96,\"\")","v":""},{"$f":"IF('Handläggning och uppföljning'!B96=\"Ja, i huvudsak\",'Handläggning och uppföljning'!C96,\"\")","v":""},{"$f":"IF('Handläggning och uppföljning'!B96=\"Ja, i huvudsak\",'Handläggning och uppföljning'!D96,\"\")","v":""}]
[null,{"$f":"IF('Handläggning och uppföljning'!B97=\"Ja, i huvudsak\",'Handläggning och uppföljning'!A97,\"\")","v":""},{"$f":"IF('Handläggning och uppföljning'!B97=\"Ja, i huvudsak\",'Handläggning och uppföljning'!C97,\"\")","v":""},{"$f":"IF('Handläggning och uppföljning'!B97=\"Ja, i huvudsak\",'Handläggning och uppföljning'!D97,\"\")","v":""}]
[null,{"$f":"IF('Handläggning och uppföljning'!B98=\"Ja, i huvudsak\",'Handläggning och uppföljning'!A98,\"\")","v":""},{"$f":"IF('Handläggning och uppföljning'!B98=\"Ja, i huvudsak\",'Handläggning och uppföljning'!C98,\"\")","v":""},{"$f":"IF('Handläggning och uppföljning'!B98=\"Ja, i huvudsak\",'Handläggning och uppföljning'!D98,\"\")","v":""}]
[null,{"$f":"IF('Handläggning och uppföljning'!B99=\"Ja, i huvudsak\",'Handläggning och uppföljning'!A99,\"\")","v":""},{"$f":"IF('Handläggning och uppföljning'!B99=\"Ja, i huvudsak\",'Handläggning och uppföljning'!C99,\"\")","v":""},{"$f":"IF('Handläggning och uppföljning'!B99=\"Ja, i huvudsak\",'Handläggning och uppföljning'!D99,\"\")","v":""}]
[null,{"$f":"IF('Handläggning och uppföljning'!B100=\"Ja, i huvudsak\",'Handläggning och uppföljning'!A100,\"\")","v":""},{"$f":"IF('Handläggning och uppföljning'!B100=\"Ja, i huvudsak\",'Handläggning och uppföljning'!C100,\"\")","v":""},{"$f":"IF('Handläggning och uppföljning'!B100=\"Ja, i huvudsak\",'Handläggning och uppföljning'!D100,\"\")","v":""}]
[null,{"$f":"IF('Handläggning och uppföljning'!B101=\"Ja, i huvudsak\",'Handläggning och uppföljning'!A101,\"\")","v":""},{"$f":"IF('Handläggning och uppföljning'!B101=\"Ja, i huvudsak\",'Handläggning och uppföljning'!C101,\"\")","v":""},{"$f":"IF('Handläggning och uppföljning'!B101=\"Ja, i huvudsak\",'Handläggning och uppföljning'!D101,\"\")","v":""}]
[null,{"$f":"IF('Handläggning och uppföljning'!B102=\"Ja, i huvudsak\",'Handläggning och uppföljning'!A102,\"\")","v":""},{"$f":"IF('Handläggning och uppföljning'!B102=\"Ja, i huvudsak\",'Handläggning och uppföljning'!C102,\"\")","v":""},{"$f":"IF('Handläggning och uppföljning'!B102=\"Ja, i huvudsak\",'Handläggning och uppföljning'!D102,\"\")","v":""}]
[null,{"$f":"IF('Handläggning och uppföljning'!B103=\"Ja, i huvudsak\",'Handläggning och uppföljning'!A103,\"\")","v":""},{"$f":"IF('Handläggning och uppföljning'!B103=\"Ja, i huvudsak\",'Handläggning och uppföljning'!C103,\"\")","v":""},{"$f":"IF('Handläggning och uppföljning'!B103=\"Ja, i huvudsak\",'Handläggning och uppföljning'!D103,\"\")","v":""}]
[null,{"$f":"IF('Handläggning och uppföljning'!B104=\"Ja, i huvudsak\",'Handläggning och uppföljning'!A104,\"\")","v":""},{"$f":"IF('Handläggning och uppföljning'!B104=\"Ja, i huvudsak\",'Handläggning och uppföljning'!C104,\"\")","v":""},{"$f":"IF('Handläggning och uppföljning'!B104=\"Ja, i huvudsak\",'Handläggning och uppföljning'!D104,\"\")","v":""}]
[null,{"$f":"IF('Handläggning och uppföljning'!B105=\"Ja, i huvudsak\",'Handläggning och uppföljning'!A105,\"\")","v":""},{"$f":"IF('Handläggning och uppföljning'!B105=\"Ja, i huvudsak\",'Handläggning och uppföljning'!C105,\"\")","v":""},{"$f":"IF('Handläggning och uppföljning'!B105=\"Ja, i huvudsak\",'Handläggning och uppföljning'!D105,\"\")","v":""}]
[null,{"$f":"IF('Handläggning och uppföljning'!B106=\"Ja, i huvudsak\",'Handläggning och uppföljning'!A106,\"\")","v":""},{"$f":"IF('Handläggning och uppföljning'!B106=\"Ja, i huvudsak\",'Handläggning och uppföljning'!C106,\"\")","v":""},{"$f":"IF('Handläggning och uppföljning'!B106=\"Ja, i huvudsak\",'Handläggning och uppföljning'!D106,\"\")","v":""}]
[null,{"$f":"IF('Handläggning och uppföljning'!B107=\"Ja, i huvudsak\",'Handläggning och uppföljning'!A107,\"\")","v":""},{"$f":"IF('Handläggning och uppföljning'!B107=\"Ja, i huvudsak\",'Handläggning och uppföljning'!C107,\"\")","v":""},{"$f":"IF('Handläggning och uppföljning'!B107=\"Ja, i huvudsak\",'Handläggning och uppföljning'!D107,\"\")","v":""}]
[null,{"$f":"IF('Handläggning och uppföljning'!B108=\"Ja, i huvudsak\",'Handläggning och uppföljning'!A108,\"\")","v":""},{"$f":"IF('Handläggning och uppföljning'!B108=\"Ja, i huvudsak\",'Handläggning och uppföljning'!C108,\"\")","v":""},{"$f":"IF('Handläggning och uppföljning'!B108=\"Ja, i huvudsak\",'Handläggning och uppföljning'!D108,\"\")","v":""}]
[null,{"$f":"IF('Handläggning och uppföljning'!B109=\"Ja, i huvudsak\",'Handläggning och uppföljning'!A109,\"\")","v":""},{"$f":"IF('Handläggning och uppföljning'!B109=\"Ja, i huvudsak\",'Handläggning och uppföljning'!C109,\"\")","v":""},{"$f":"IF('Handläggning och uppföljning'!B109=\"Ja, i huvudsak\",'Handläggning och uppföljning'!D109,\"\")","v":""}]
[null,{"$f":"IF('Handläggning och uppföljning'!B110=\"Ja, i huvudsak\",'Handläggning och uppföljning'!A110,\"\")","v":""},{"$f":"IF('Handläggning och uppföljning'!B110=\"Ja, i huvudsak\",'Handläggning och uppföljning'!C110,\"\")","v":""},{"$f":"IF('Handläggning och uppföljning'!B110=\"Ja, i huvudsak\",'Handläggning och uppföljning'!D110,\"\")","v":""}]
[null,{"$f":"IF('Handläggning och uppföljning'!B111=\"Ja, i huvudsak\",'Handläggning och uppföljning'!A111,\"\")","v":""},{"$f":"IF('Handläggning och uppföljning'!B111=\"Ja, i huvudsak\",'Handläggning och uppföljning'!C111,\"\")","v":""},{"$f":"IF('Handläggning och uppföljning'!B111=\"Ja, i huvudsak\",'Handläggning och uppföljning'!D111,\"\")","v":""}]
[null,{"$f":"IF('Handläggning och uppföljning'!B112=\"Ja, i huvudsak\",'Handläggning och uppföljning'!A112,\"\")","v":""},{"$f":"IF('Handläggning och uppföljning'!B112=\"Ja, i huvudsak\",'Handläggning och uppföljning'!C112,\"\")","v":""},{"$f":"IF('Handläggning och uppföljning'!B112=\"Ja, i huvudsak\",'Handläggning och uppföljning'!D112,\"\")","v":""}]
[null,{"$f":"IF('Handläggning och uppföljning'!B113=\"Ja, i huvudsak\",'Handläggning och uppföljning'!A113,\"\")","v":""},{"$f":"IF('Handläggning och uppföljning'!B113=\"Ja, i huvudsak\",'Handläggning och uppföljning'!C113,\"\")","v":""},{"$f":"IF('Handläggning och uppföljning'!B113=\"Ja, i huvudsak\",'Handläggning och uppföljning'!D113,\"\")","v":""}]
[null,{"$f":"IF('Handläggning och uppföljning'!B114=\"Ja, i huvudsak\",'Handläggning och uppföljning'!A114,\"\")","v":""},{"$f":"IF('Handläggning och uppföljning'!B114=\"Ja, i huvudsak\",'Handläggning och uppföljning'!C114,\"\")","v":""},{"$f":"IF('Handläggning och uppföljning'!B114=\"Ja, i huvudsak\",'Handläggning och uppföljning'!D114,\"\")","v":""}]
[null,{"$f":"IF('Handläggning och uppföljning'!B115=\"Ja, i huvudsak\",'Handläggning och uppföljning'!A115,\"\")","v":""},{"$f":"IF('Handläggning och uppföljning'!B115=\"Ja, i huvudsak\",'Handläggning och uppföljning'!C115,\"\")","v":""},{"$f":"IF('Handläggning och uppföljning'!B115=\"Ja, i huvudsak\",'Handläggning och uppföljning'!D115,\"\")","v":""}]
[null,{"$f":"IF('Handläggning och uppföljning'!B116=\"Ja, i huvudsak\",'Handläggning och uppföljning'!A116,\"\")","v":""},{"$f":"IF('Handläggning och uppföljning'!B116=\"Ja, i huvudsak\",'Handläggning och uppföljning'!C116,\"\")","v":""},{"$f":"IF('Handläggning och uppföljning'!B116=\"Ja, i huvudsak\",'Handläggning och uppföljning'!D116,\"\")","v":""}]
[null,{"$f":"IF('Handläggning och uppföljning'!B117=\"Ja, i huvudsak\",'Handläggning och uppföljning'!A117,\"\")","v":""},{"$f":"IF('Handläggning och uppföljning'!B117=\"Ja, i huvudsak\",'Handläggning och uppföljning'!C117,\"\")","v":""},{"$f":"IF('Handläggning och uppföljning'!B117=\"Ja, i huvudsak\",'Handläggning och uppföljning'!D117,\"\")","v":""}]
[null,{"$f":"IF('Handläggning och uppföljning'!B118=\"Ja, i huvudsak\",'Handläggning och uppföljning'!A118,\"\")","v":""},{"$f":"IF('Handläggning och uppföljning'!B118=\"Ja, i huvudsak\",'Handläggning och uppföljning'!C118,\"\")","v":""},{"$f":"IF('Handläggning och uppföljning'!B118=\"Ja, i huvudsak\",'Handläggning och uppföljning'!D118,\"\")","v":""}]
[null,{"$f":"IF('Handläggning och uppföljning'!B119=\"Ja, i huvudsak\",'Handläggning och uppföljning'!A119,\"\")","v":""},{"$f":"IF('Handläggning och uppföljning'!B119=\"Ja, i huvudsak\",'Handläggning och uppföljning'!C119,\"\")","v":""},{"$f":"IF('Handläggning och uppföljning'!B119=\"Ja, i huvudsak\",'Handläggning och uppföljning'!D119,\"\")","v":""}]
[null,{"$f":"IF('Handläggning och uppföljning'!B120=\"Ja, i huvudsak\",'Handläggning och uppföljning'!A120,\"\")","v":""},{"$f":"IF('Handläggning och uppföljning'!B120=\"Ja, i huvudsak\",'Handläggning och uppföljning'!C120,\"\")","v":""},{"$f":"IF('Handläggning och uppföljning'!B120=\"Ja, i huvudsak\",'Handläggning och uppföljning'!D120,\"\")","v":""}]
[null,{"$f":"IF('Handläggning och uppföljning'!B121=\"Ja, i huvudsak\",'Handläggning och uppföljning'!A121,\"\")","v":""},{"$f":"IF('Handläggning och uppföljning'!B121=\"Ja, i huvudsak\",'Handläggning och uppföljning'!C121,\"\")","v":""},{"$f":"IF('Handläggning och uppföljning'!B121=\"Ja, i huvudsak\",'Handläggning och uppföljning'!D121,\"\")","v":""}]
[null,{"$f":"IF('Handläggning och uppföljning'!B122=\"Ja, i huvudsak\",'Handläggning och uppföljning'!A122,\"\")","v":""},{"$f":"IF('Handläggning och uppföljning'!B122=\"Ja, i huvudsak\",'Handläggning och uppföljning'!C122,\"\")","v":""},{"$f":"IF('Handläggning och uppföljning'!B122=\"Ja, i huvudsak\",'Handläggning och uppföljning'!D122,\"\")","v":""}]
[null,{"$f":"IF('Handläggning och uppföljning'!B123=\"Ja, i huvudsak\",'Handläggning och uppföljning'!A123,\"\")","v":""},{"$f":"IF('Handläggning och uppföljning'!B123=\"Ja, i huvudsak\",'Handläggning och uppföljning'!C123,\"\")","v":""},{"$f":"IF('Handläggning och uppföljning'!B123=\"Ja, i huvudsak\",'Handläggning och uppföljning'!D123,\"\")","v":""}]
[null,{"$f":"IF('Handläggning och uppföljning'!B124=\"Ja, i huvudsak\",'Handläggning och uppföljning'!A124,\"\")","v":""},{"$f":"IF('Handläggning och uppföljning'!B124=\"Ja, i huvudsak\",'Handläggning och uppföljning'!C124,\"\")","v":""},{"$f":"IF('Handläggning och uppföljning'!B124=\"Ja, i huvudsak\",'Handläggning och uppföljning'!D124,\"\")","v":""}]
[null,{"$f":"IF('Handläggning och uppföljning'!B125=\"Ja, i huvudsak\",'Handläggning och uppföljning'!A125,\"\")","v":""},{"$f":"IF('Handläggning och uppföljning'!B125=\"Ja, i huvudsak\",'Handläggning och uppföljning'!C125,\"\")","v":""},{"$f":"IF('Handläggning och uppföljning'!B125=\"Ja, i huvudsak\",'Handläggning och uppföljning'!D125,\"\")","v":""}]
[null,{"$f":"IF('Handläggning och uppföljning'!B126=\"Ja, i huvudsak\",'Handläggning och uppföljning'!A126,\"\")","v":""},{"$f":"IF('Handläggning och uppföljning'!B126=\"Ja, i huvudsak\",'Handläggning och uppföljning'!C126,\"\")","v":""},{"$f":"IF('Handläggning och uppföljning'!B126=\"Ja, i huvudsak\",'Handläggning och uppföljning'!D126,\"\")","v":""}]
[null,{"$f":"IF('Handläggning och uppföljning'!B127=\"Ja, i huvudsak\",'Handläggning och uppföljning'!A127,\"\")","v":""},{"$f":"IF('Handläggning och uppföljning'!B127=\"Ja, i huvudsak\",'Handläggning och uppföljning'!C127,\"\")","v":""},{"$f":"IF('Handläggning och uppföljning'!B127=\"Ja, i huvudsak\",'Handläggning och uppföljning'!D127,\"\")","v":""}]
[null,{"$f":"IF('Handläggning och uppföljning'!B128=\"Ja, i huvudsak\",'Handläggning och uppföljning'!A128,\"\")","v":""},{"$f":"IF('Handläggning och uppföljning'!B128=\"Ja, i huvudsak\",'Handläggning och uppföljning'!C128,\"\")","v":""},{"$f":"IF('Handläggning och uppföljning'!B128=\"Ja, i huvudsak\",'Handläggning och uppföljning'!D128,\"\")","v":""}]
[null,{"$f":"IF('Handläggning och uppföljning'!B129=\"Ja, i huvudsak\",'Handläggning och uppföljning'!A129,\"\")","v":""},{"$f":"IF('Handläggning och uppföljning'!B129=\"Ja, i huvudsak\",'Handläggning och uppföljning'!C129,\"\")","v":""},{"$f":"IF('Handläggning och uppföljning'!B129=\"Ja, i huvudsak\",'Handläggning och uppföljning'!D129,\"\")","v":""}]
[null,{"$f":"IF('Handläggning och uppföljning'!B130=\"Ja, i huvudsak\",'Handläggning och uppföljning'!A130,\"\")","v":""},{"$f":"IF('Handläggning och uppföljning'!B130=\"Ja, i huvudsak\",'Handläggning och uppföljning'!C130,\"\")","v":""},{"$f":"IF('Handläggning och uppföljning'!B130=\"Ja, i huvudsak\",'Handläggning och uppföljning'!D130,\"\")","v":""}]
[null,{"$f":"IF('Handläggning och uppföljning'!B131=\"Ja, i huvudsak\",'Handläggning och uppföljning'!A131,\"\")","v":""},{"$f":"IF('Handläggning och uppföljning'!B131=\"Ja, i huvudsak\",'Handläggning och uppföljning'!C131,\"\")","v":""},{"$f":"IF('Handläggning och uppföljning'!B131=\"Ja, i huvudsak\",'Handläggning och uppföljning'!D131,\"\")","v":""}]
[null,{"$f":"IF('Handläggning och uppföljning'!B132=\"Ja, i huvudsak\",'Handläggning och uppföljning'!A132,\"\")","v":""},{"$f":"IF('Handläggning och uppföljning'!B132=\"Ja, i huvudsak\",'Handläggning och uppföljning'!C132,\"\")","v":""},{"$f":"IF('Handläggning och uppföljning'!B132=\"Ja, i huvudsak\",'Handläggning och uppföljning'!D132,\"\")","v":""}]
[null,{"$f":"IF('Handläggning och uppföljning'!B133=\"Ja, i huvudsak\",'Handläggning och uppföljning'!A133,\"\")","v":""},{"$f":"IF('Handläggning och uppföljning'!B133=\"Ja, i huvudsak\",'Handläggning och uppföljning'!C133,\"\")","v":""},{"$f":"IF('Handläggning och uppföljning'!B133=\"Ja, i huvudsak\",'Handläggning och uppföljning'!D133,\"\")","v":""}]
[null,{"$f":"IF('Handläggning och uppföljning'!B134=\"Ja, i huvudsak\",'Handläggning och uppföljning'!A134,\"\")","v":""},{"$f":"IF('Handläggning och uppföljning'!B134=\"Ja, i huvudsak\",'Handläggning och uppföljning'!C134,\"\")","v":""},{"$f":"IF('Handläggning och uppföljning'!B134=\"Ja, i huvudsak\",'Handläggning och uppföljning'!D134,\"\")","v":""}]
[null,{"$f":"IF('Handläggning och uppföljning'!B135=\"Ja, i huvudsak\",'Handläggning och uppföljning'!A135,\"\")","v":""},{"$f":"IF('Handläggning och uppföljning'!B135=\"Ja, i huvudsak\",'Handläggning och uppföljning'!C135,\"\")","v":""},{"$f":"IF('Handläggning och uppföljning'!B135=\"Ja, i huvudsak\",'Handläggning och uppföljning'!D135,\"\")","v":""}]
[null,{"$f":"IF('Handläggning och uppföljning'!B136=\"Ja, i huvudsak\",'Handläggning och uppföljning'!A136,\"\")","v":""},{"$f":"IF('Handläggning och uppföljning'!B136=\"Ja, i huvudsak\",'Handläggning och uppföljning'!C136,\"\")","v":""},{"$f":"IF('Handläggning och uppföljning'!B136=\"Ja, i huvudsak\",'Handläggning och uppföljning'!D136,\"\")","v":""}]
[null,{"$f":"IF('Handläggning och uppföljning'!B137=\"Ja, i huvudsak\",'Handläggning och uppföljning'!A137,\"\")","v":""},{"$f":"IF('Handläggning och uppföljning'!B137=\"Ja, i huvudsak\",'Handläggning och uppföljning'!C137,\"\")","v":""},{"$f":"IF('Handläggning och uppföljning'!B137=\"Ja, i huvudsak\",'Handläggning och uppföljning'!D137,\"\")","v":""}]
[null,{"$f":"IF('Handläggning och uppföljning'!B138=\"Ja, i huvudsak\",'Handläggning och uppföljning'!A138,\"\")","v":""},{"$f":"IF('Handläggning och uppföljning'!B138=\"Ja, i huvudsak\",'Handläggning och uppföljning'!C138,\"\")","v":""},{"$f":"IF('Handläggning och uppföljning'!B138=\"Ja, i huvudsak\",'Handläggning och uppföljning'!D138,\"\")","v":""}]
[null,{"$f":"IF('Handläggning och uppföljning'!B139=\"Ja, i huvudsak\",'Handläggning och uppföljning'!A139,\"\")","v":""},{"$f":"IF('Handläggning och uppföljning'!B139=\"Ja, i huvudsak\",'Handläggning och uppföljning'!C139,\"\")","v":""},{"$f":"IF('Handläggning och uppföljning'!B139=\"Ja, i huvudsak\",'Handläggning och uppföljning'!D139,\"\")","v":""}]
[null,{"$f":"IF('Handläggning och uppföljning'!B140=\"Ja, i huvudsak\",'Handläggning och uppföljning'!A140,\"\")","v":""},{"$f":"IF('Handläggning och uppföljning'!B140=\"Ja, i huvudsak\",'Handläggning och uppföljning'!C140,\"\")","v":""},{"$f":"IF('Handläggning och uppföljning'!B140=\"Ja, i huvudsak\",'Handläggning och uppföljning'!D140,\"\")","v":""}]
[null,{"$f":"IF('Handläggning och uppföljning'!B141=\"Ja, i huvudsak\",'Handläggning och uppföljning'!A141,\"\")","v":""},{"$f":"IF('Handläggning och uppföljning'!B141=\"Ja, i huvudsak\",'Handläggning och uppföljning'!C141,\"\")","v":""},{"$f":"IF('Handläggning och uppföljning'!B141=\"Ja, i huvudsak\",'Handläggning och uppföljning'!D141,\"\")","v":""}]
[null,{"$f":"IF('Handläggning och uppföljning'!B142=\"Ja, i huvudsak\",'Handläggning och uppföljning'!A142,\"\")","v":""},{"$f":"IF('Handläggning och uppföljning'!B142=\"Ja, i huvudsak\",'Handläggning och uppföljning'!C142,\"\")","v":""},{"$f":"IF('Handläggning och uppföljning'!B142=\"Ja, i huvudsak\",'Handläggning och uppföljning'!D142,\"\")","v":""}]
[null,{"$f":"IF('Handläggning och uppföljning'!B143=\"Ja, i huvudsak\",'Handläggning och uppföljning'!A143,\"\")","v":""},{"$f":"IF('Handläggning och uppföljning'!B143=\"Ja, i huvudsak\",'Handläggning och uppföljning'!C143,\"\")","v":""},{"$f":"IF('Handläggning och uppföljning'!B143=\"Ja, i huvudsak\",'Handläggning och uppföljning'!D143,\"\")","v":""}]
[null,{"$f":"IF('Handläggning och uppföljning'!B144=\"Ja, i huvudsak\",'Handläggning och uppföljning'!A144,\"\")","v":""},{"$f":"IF('Handläggning och uppföljning'!B144=\"Ja, i huvudsak\",'Handläggning och uppföljning'!C144,\"\")","v":""},{"$f":"IF('Handläggning och uppföljning'!B144=\"Ja, i huvudsak\",'Handläggning och uppföljning'!D144,\"\")","v":""}]
[null,{"$f":"IF('Handläggning och uppföljning'!B145=\"Ja, i huvudsak\",'Handläggning och uppföljning'!A145,\"\")","v":""},{"$f":"IF('Handläggning och uppföljning'!B145=\"Ja, i huvudsak\",'Handläggning och uppföljning'!C145,\"\")","v":""},{"$f":"IF('Handläggning och uppföljning'!B145=\"Ja, i huvudsak\",'Handläggning och uppföljning'!D145,\"\")","v":""}]
[null,{"$f":"IF('Handläggning och uppföljning'!B146=\"Ja, i huvudsak\",'Handläggning och uppföljning'!A146,\"\")","v":""},{"$f":"IF('Handläggning och uppföljning'!B146=\"Ja, i huvudsak\",'Handläggning och uppföljning'!C146,\"\")","v":""},{"$f":"IF('Handläggning och uppföljning'!B146=\"Ja, i huvudsak\",'Handläggning och uppföljning'!D146,\"\")","v":""}]
[null,{"$f":"IF('Handläggning och uppföljning'!B147=\"Ja, i huvudsak\",'Handläggning och uppföljning'!A147,\"\")","v":""},{"$f":"IF('Handläggning och uppföljning'!B147=\"Ja, i huvudsak\",'Handläggning och uppföljning'!C147,\"\")","v":""},{"$f":"IF('Handläggning och uppföljning'!B147=\"Ja, i huvudsak\",'Handläggning och uppföljning'!D147,\"\")","v":""}]
[null,{"$f":"IF('Handläggning och uppföljning'!B148=\"Ja, i huvudsak\",'Handläggning och uppföljning'!A148,\"\")","v":""},{"$f":"IF('Handläggning och uppföljning'!B148=\"Ja, i huvudsak\",'Handläggning och uppföljning'!C148,\"\")","v":""},{"$f":"IF('Handläggning och uppföljning'!B148=\"Ja, i huvudsak\",'Handläggning och uppföljning'!D148,\"\")","v":""}]
[null,{"$f":"IF('Handläggning och uppföljning'!B149=\"Ja, i huvudsak\",'Handläggning och uppföljning'!A149,\"\")","v":""},{"$f":"IF('Handläggning och uppföljning'!B149=\"Ja, i huvudsak\",'Handläggning och uppföljning'!C149,\"\")","v":""},{"$f":"IF('Handläggning och uppföljning'!B149=\"Ja, i huvudsak\",'Handläggning och uppföljning'!D149,\"\")","v":""}]
[null,{"$f":"IF('Handläggning och uppföljning'!B150=\"Ja, i huvudsak\",'Handläggning och uppföljning'!A150,\"\")","v":""},{"$f":"IF('Handläggning och uppföljning'!B150=\"Ja, i huvudsak\",'Handläggning och uppföljning'!C150,\"\")","v":""},{"$f":"IF('Handläggning och uppföljning'!B150=\"Ja, i huvudsak\",'Handläggning och uppföljning'!D150,\"\")","v":""}]
[null,{"$f":"IF('Handläggning och uppföljning'!B151=\"Ja, i huvudsak\",'Handläggning och uppföljning'!A151,\"\")","v":""},{"$f":"IF('Handläggning och uppföljning'!B151=\"Ja, i huvudsak\",'Handläggning och uppföljning'!C151,\"\")","v":""},{"$f":"IF('Handläggning och uppföljning'!B151=\"Ja, i huvudsak\",'Handläggning och uppföljning'!D151,\"\")","v":""}]
[null,{"$f":"IF('Handläggning och uppföljning'!B152=\"Ja, i huvudsak\",'Handläggning och uppföljning'!A152,\"\")","v":""},{"$f":"IF('Handläggning och uppföljning'!B152=\"Ja, i huvudsak\",'Handläggning och uppföljning'!C152,\"\")","v":""},{"$f":"IF('Handläggning och uppföljning'!B152=\"Ja, i huvudsak\",'Handläggning och uppföljning'!D152,\"\")","v":""}]
[null,{"$f":"IF('Handläggning och uppföljning'!B153=\"Ja, i huvudsak\",'Handläggning och uppföljning'!A153,\"\")","v":""},{"$f":"IF('Handläggning och uppföljning'!B153=\"Ja, i huvudsak\",'Handläggning och uppföljning'!C153,\"\")","v":""},{"$f":"IF('Handläggning och uppföljning'!B153=\"Ja, i huvudsak\",'Handläggning och uppföljning'!D153,\"\")","v":""}]
[null,{"$f":"IF('Handläggning och uppföljning'!B154=\"Ja, i huvudsak\",'Handläggning och uppföljning'!A154,\"\")","v":""},{"$f":"IF('Handläggning och uppföljning'!B154=\"Ja, i huvudsak\",'Handläggning och uppföljning'!C154,\"\")","v":""},{"$f":"IF('Handläggning och uppföljning'!B154=\"Ja, i huvudsak\",'Handläggning och uppföljning'!D154,\"\")","v":""}]
[null,{"$f":"IF('Handläggning och uppföljning'!B155=\"Ja, i huvudsak\",'Handläggning och uppföljning'!A155,\"\")","v":""},{"$f":"IF('Handläggning och uppföljning'!B155=\"Ja, i huvudsak\",'Handläggning och uppföljning'!C155,\"\")","v":""},{"$f":"IF('Handläggning och uppföljning'!B155=\"Ja, i huvudsak\",'Handläggning och uppföljning'!D155,\"\")","v":""}]
[null,{"$f":"IF('Handläggning och uppföljning'!B156=\"Ja, i huvudsak\",'Handläggning och uppföljning'!A156,\"\")","v":""},{"$f":"IF('Handläggning och uppföljning'!B156=\"Ja, i huvudsak\",'Handläggning och uppföljning'!C156,\"\")","v":""},{"$f":"IF('Handläggning och uppföljning'!B156=\"Ja, i huvudsak\",'Handläggning och uppföljning'!D156,\"\")","v":""}]
[null,{"$f":"IF('Handläggning och uppföljning'!B157=\"Ja, i huvudsak\",'Handläggning och uppföljning'!A157,\"\")","v":""},{"$f":"IF('Handläggning och uppföljning'!B157=\"Ja, i huvudsak\",'Handläggning och uppföljning'!C157,\"\")","v":""},{"$f":"IF('Handläggning och uppföljning'!B157=\"Ja, i huvudsak\",'Handläggning och uppföljning'!D157,\"\")","v":""}]
[null,{"$f":"IF('Handläggning och uppföljning'!B158=\"Ja, i huvudsak\",'Handläggning och uppföljning'!A158,\"\")","v":""},{"$f":"IF('Handläggning och uppföljning'!B158=\"Ja, i huvudsak\",'Handläggning och uppföljning'!C158,\"\")","v":""},{"$f":"IF('Handläggning och uppföljning'!B158=\"Ja, i huvudsak\",'Handläggning och uppföljning'!D158,\"\")","v":""}]
[null,{"$f":"IF('Handläggning och uppföljning'!B159=\"Ja, i huvudsak\",'Handläggning och uppföljning'!A159,\"\")","v":""},{"$f":"IF('Handläggning och uppföljning'!B159=\"Ja, i huvudsak\",'Handläggning och uppföljning'!C159,\"\")","v":""},{"$f":"IF('Handläggning och uppföljning'!B159=\"Ja, i huvudsak\",'Handläggning och uppföljning'!D159,\"\")","v":""}]
[null,{"$f":"IF('Handläggning och uppföljning'!B160=\"Ja, i huvudsak\",'Handläggning och uppföljning'!A160,\"\")","v":""},{"$f":"IF('Handläggning och uppföljning'!B160=\"Ja, i huvudsak\",'Handläggning och uppföljning'!C160,\"\")","v":""},{"$f":"IF('Handläggning och uppföljning'!B160=\"Ja, i huvudsak\",'Handläggning och uppföljning'!D160,\"\")","v":""}]
[null,{"$f":"IF('Handläggning och uppföljning'!B161=\"Ja, i huvudsak\",'Handläggning och uppföljning'!A161,\"\")","v":""},{"$f":"IF('Handläggning och uppföljning'!B161=\"Ja, i huvudsak\",'Handläggning och uppföljning'!C161,\"\")","v":""},{"$f":"IF('Handläggning och uppföljning'!B161=\"Ja, i huvudsak\",'Handläggning och uppföljning'!D161,\"\")","v":""}]
[null,{"$f":"IF('Handläggning och uppföljning'!B162=\"Ja, i huvudsak\",'Handläggning och uppföljning'!A162,\"\")","v":""},{"$f":"IF('Handläggning och uppföljning'!B162=\"Ja, i huvudsak\",'Handläggning och uppföljning'!C162,\"\")","v":""},{"$f":"IF('Handläggning och uppföljning'!B162=\"Ja, i huvudsak\",'Handläggning och uppföljning'!D162,\"\")","v":""}]
[null,{"$f":"IF('Handläggning och uppföljning'!B163=\"Ja, i huvudsak\",'Handläggning och uppföljning'!A163,\"\")","v":""},{"$f":"IF('Handläggning och uppföljning'!B163=\"Ja, i huvudsak\",'Handläggning och uppföljning'!C163,\"\")","v":""},{"$f":"IF('Handläggning och uppföljning'!B163=\"Ja, i huvudsak\",'Handläggning och uppföljning'!D163,\"\")","v":""}]
[null,{"$f":"IF('Handläggning och uppföljning'!B164=\"Ja, i huvudsak\",'Handläggning och uppföljning'!A164,\"\")","v":""},{"$f":"IF('Handläggning och uppföljning'!B164=\"Ja, i huvudsak\",'Handläggning och uppföljning'!C164,\"\")","v":""},{"$f":"IF('Handläggning och uppföljning'!B164=\"Ja, i huvudsak\",'Handläggning och uppföljning'!D164,\"\")","v":""}]
[null,{"$f":"IF('Handläggning och uppföljning'!B165=\"Ja, i huvudsak\",'Handläggning och uppföljning'!A165,\"\")","v":""},{"$f":"IF('Handläggning och uppföljning'!B165=\"Ja, i huvudsak\",'Handläggning och uppföljning'!C165,\"\")","v":""},{"$f":"IF('Handläggning och uppföljning'!B165=\"Ja, i huvudsak\",'Handläggning och uppföljning'!D165,\"\")","v":""}]
[null,{"$f":"IF('Handläggning och uppföljning'!B166=\"Ja, i huvudsak\",'Handläggning och uppföljning'!A166,\"\")","v":""},{"$f":"IF('Handläggning och uppföljning'!B166=\"Ja, i huvudsak\",'Handläggning och uppföljning'!C166,\"\")","v":""},{"$f":"IF('Handläggning och uppföljning'!B166=\"Ja, i huvudsak\",'Handläggning och uppföljning'!D166,\"\")","v":""}]
[null,{"$f":"IF('Handläggning och uppföljning'!B167=\"Ja, i huvudsak\",'Handläggning och uppföljning'!A167,\"\")","v":""},{"$f":"IF('Handläggning och uppföljning'!B167=\"Ja, i huvudsak\",'Handläggning och uppföljning'!C167,\"\")","v":""},{"$f":"IF('Handläggning och uppföljning'!B167=\"Ja, i huvudsak\",'Handläggning och uppföljning'!D167,\"\")","v":""}]
[null,{"$f":"IF('Handläggning och uppföljning'!B168=\"Ja, i huvudsak\",'Handläggning och uppföljning'!A168,\"\")","v":""},{"$f":"IF('Handläggning och uppföljning'!B168=\"Ja, i huvudsak\",'Handläggning och uppföljning'!C168,\"\")","v":""},{"$f":"IF('Handläggning och uppföljning'!B168=\"Ja, i huvudsak\",'Handläggning och uppföljning'!D168,\"\")","v":""}]
[null,{"$f":"IF(Insatser!B4=\"Ja, i huvudsak\",Insatser!A4,\"\")","v":""},{"$f":"IF(Insatser!B4=\"Ja, i huvudsak\",Insatser!C4,\"\")","v":""},{"$f":"IF(Insatser!B4=\"Ja, i huvudsak\",Insatser!D4,\"\")","v":""}]
[null,{"$f":"IF(Insatser!B5=\"Ja, i huvudsak\",Insatser!A5,\"\")","v":""},{"$f":"IF(Insatser!B5=\"Ja, i huvudsak\",Insatser!C5,\"\")","v":""},{"$f":"IF(Insatser!B5=\"Ja, i huvudsak\",Insatser!D5,\"\")","v":""}]
[null,{"$f":"IF(Insatser!B6=\"Ja, i huvudsak\",Insatser!A6,\"\")","v":""},{"$f":"IF(Insatser!B6=\"Ja, i huvudsak\",Insatser!C6,\"\")","v":""},{"$f":"IF(Insatser!B6=\"Ja, i huvudsak\",Insatser!D6,\"\")","v":""}]
[null,{"$f":"IF(Insatser!B7=\"Ja, i huvudsak\",Insatser!A7,\"\")","v":""},{"$f":"IF(Insatser!B7=\"Ja, i huvudsak\",Insatser!C7,\"\")","v":""},{"$f":"IF(Insatser!B7=\"Ja, i huvudsak\",Insatser!D7,\"\")","v":""}]
[null,{"$f":"IF(Insatser!B8=\"Ja, i huvudsak\",Insatser!A8,\"\")","v":""},{"$f":"IF(Insatser!B8=\"Ja, i huvudsak\",Insatser!C8,\"\")","v":""},{"$f":"IF(Insatser!B8=\"Ja, i huvudsak\",Insatser!D8,\"\")","v":""}]
[null,{"$f":"IF(Insatser!B9=\"Ja, i huvudsak\",Insatser!A9,\"\")","v":""},{"$f":"IF(Insatser!B9=\"Ja, i huvudsak\",Insatser!C9,\"\")","v":""},{"$f":"IF(Insatser!B9=\"Ja, i huvudsak\",Insatser!D9,\"\")","v":""}]
[null,{"$f":"IF(Insatser!B10=\"Ja, i huvudsak\",Insatser!A10,\"\")","v":""},{"$f":"IF(Insatser!B10=\"Ja, i huvudsak\",Insatser!C10,\"\")","v":""},{"$f":"IF(Insatser!B10=\"Ja, i huvudsak\",Insatser!D10,\"\")","v":""}]
[null,{"$f":"IF(Insatser!B11=\"Ja, i huvudsak\",Insatser!A11,\"\")","v":""},{"$f":"IF(Insatser!B11=\"Ja, i huvudsak\",Insatser!C11,\"\")","v":""},{"$f":"IF(Insatser!B11=\"Ja, i huvudsak\",Insatser!D11,\"\")","v":""}]
[null,{"$f":"IF(Insatser!B12=\"Ja, i huvudsak\",Insatser!A12,\"\")","v":""},{"$f":"IF(Insatser!B12=\"Ja, i huvudsak\",Insatser!C12,\"\")","v":""},{"$f":"IF(Insatser!B12=\"Ja, i huvudsak\",Insatser!D12,\"\")","v":""}]
[null,{"$f":"IF(Insatser!B13=\"Ja, i huvudsak\",Insatser!A13,\"\")","v":""},{"$f":"IF(Insatser!B13=\"Ja, i huvudsak\",Insatser!C13,\"\")","v":""},{"$f":"IF(Insatser!B13=\"Ja, i huvudsak\",Insatser!D13,\"\")","v":""}]
[null,{"$f":"IF(Insatser!B14=\"Ja, i huvudsak\",Insatser!A14,\"\")","v":""},{"$f":"IF(Insatser!B14=\"Ja, i huvudsak\",Insatser!C14,\"\")","v":""},{"$f":"IF(Insatser!B14=\"Ja, i huvudsak\",Insatser!D14,\"\")","v":""}]
[null,{"$f":"IF(Insatser!B15=\"Ja, i huvudsak\",Insatser!A15,\"\")","v":""},{"$f":"IF(Insatser!B15=\"Ja, i huvudsak\",Insatser!C15,\"\")","v":""},{"$f":"IF(Insatser!B15=\"Ja, i huvudsak\",Insatser!D15,\"\")","v":""}]
[null,{"$f":"IF(Insatser!B16=\"Ja, i huvudsak\",Insatser!A16,\"\")","v":""},{"$f":"IF(Insatser!B16=\"Ja, i huvudsak\",Insatser!C16,\"\")","v":""},{"$f":"IF(Insatser!B16=\"Ja, i huvudsak\",Insatser!D16,\"\")","v":""}]
[null,{"$f":"IF(Insatser!B17=\"Ja, i huvudsak\",Insatser!A17,\"\")","v":""},{"$f":"IF(Insatser!B17=\"Ja, i huvudsak\",Insatser!C17,\"\")","v":""},{"$f":"IF(Insatser!B17=\"Ja, i huvudsak\",Insatser!D17,\"\")","v":""}]
[null,{"$f":"IF(Insatser!B18=\"Ja, i huvudsak\",Insatser!A18,\"\")","v":""},{"$f":"IF(Insatser!B18=\"Ja, i huvudsak\",Insatser!C18,\"\")","v":""},{"$f":"IF(Insatser!B18=\"Ja, i huvudsak\",Insatser!D18,\"\")","v":""}]
[null,{"$f":"IF(Insatser!B19=\"Ja, i huvudsak\",Insatser!A19,\"\")","v":""},{"$f":"IF(Insatser!B19=\"Ja, i huvudsak\",Insatser!C19,\"\")","v":""},{"$f":"IF(Insatser!B19=\"Ja, i huvudsak\",Insatser!D19,\"\")","v":""}]
[null,{"$f":"IF(Insatser!B20=\"Ja, i huvudsak\",Insatser!A20,\"\")","v":""},{"$f":"IF(Insatser!B20=\"Ja, i huvudsak\",Insatser!C20,\"\")","v":""},{"$f":"IF(Insatser!B20=\"Ja, i huvudsak\",Insatser!D20,\"\")","v":""}]
[null,{"$f":"IF(Insatser!B21=\"Ja, i huvudsak\",Insatser!A21,\"\")","v":""},{"$f":"IF(Insatser!B21=\"Ja, i huvudsak\",Insatser!C21,\"\")","v":""},{"$f":"IF(Insatser!B21=\"Ja, i huvudsak\",Insatser!D21,\"\")","v":""}]
[null,{"$f":"IF(Insatser!B22=\"Ja, i huvudsak\",Insatser!A22,\"\")","v":""},{"$f":"IF(Insatser!B22=\"Ja, i huvudsak\",Insatser!C22,\"\")","v":""},{"$f":"IF(Insatser!B22=\"Ja, i huvudsak\",Insatser!D22,\"\")","v":""}]
[null,{"$f":"IF(Insatser!B23=\"Ja, i huvudsak\",Insatser!A23,\"\")","v":""},{"$f":"IF(Insatser!B23=\"Ja, i huvudsak\",Insatser!C23,\"\")","v":""},{"$f":"IF(Insatser!B23=\"Ja, i huvudsak\",Insatser!D23,\"\")","v":""}]
[null,{"$f":"IF(Insatser!B24=\"Ja, i huvudsak\",Insatser!A24,\"\")","v":""},{"$f":"IF(Insatser!B24=\"Ja, i huvudsak\",Insatser!C24,\"\")","v":""},{"$f":"IF(Insatser!B24=\"Ja, i huvudsak\",Insatser!D24,\"\")","v":""}]
[null,{"$f":"IF(Insatser!B25=\"Ja, i huvudsak\",Insatser!A25,\"\")","v":""},{"$f":"IF(Insatser!B25=\"Ja, i huvudsak\",Insatser!C25,\"\")","v":""},{"$f":"IF(Insatser!B25=\"Ja, i huvudsak\",Insatser!D25,\"\")","v":""}]
[null,{"$f":"IF(Insatser!B26=\"Ja, i huvudsak\",Insatser!A26,\"\")","v":""},{"$f":"IF(Insatser!B26=\"Ja, i huvudsak\",Insatser!C26,\"\")","v":""},{"$f":"IF(Insatser!B26=\"Ja, i huvudsak\",Insatser!D26,\"\")","v":""}]
[null,{"$f":"IF(Insatser!B27=\"Ja, i huvudsak\",Insatser!A27,\"\")","v":""},{"$f":"IF(Insatser!B27=\"Ja, i huvudsak\",Insatser!C27,\"\")","v":""},{"$f":"IF(Insatser!B27=\"Ja, i huvudsak\",Insatser!D27,\"\")","v":""}]
[null,{"$f":"IF(Insatser!B28=\"Ja, i huvudsak\",Insatser!A28,\"\")","v":""},{"$f":"IF(Insatser!B28=\"Ja, i huvudsak\",Insatser!C28,\"\")","v":""},{"$f":"IF(Insatser!B28=\"Ja, i huvudsak\",Insatser!D28,\"\")","v":""}]
[null,{"$f":"IF(Insatser!B29=\"Ja, i huvudsak\",Insatser!A29,\"\")","v":""},{"$f":"IF(Insatser!B29=\"Ja, i huvudsak\",Insatser!C29,\"\")","v":""},{"$f":"IF(Insatser!B29=\"Ja, i huvudsak\",Insatser!D29,\"\")","v":""}]
[null,{"$f":"IF(Insatser!B30=\"Ja, i huvudsak\",Insatser!A30,\"\")","v":""},{"$f":"IF(Insatser!B30=\"Ja, i huvudsak\",Insatser!C30,\"\")","v":""},{"$f":"IF(Insatser!B30=\"Ja, i huvudsak\",Insatser!D30,\"\")","v":""}]
[null,{"$f":"IF(Insatser!B31=\"Ja, i huvudsak\",Insatser!A31,\"\")","v":""},{"$f":"IF(Insatser!B31=\"Ja, i huvudsak\",Insatser!C31,\"\")","v":""},{"$f":"IF(Insatser!B31=\"Ja, i huvudsak\",Insatser!D31,\"\")","v":""}]
[null,{"$f":"IF(Insatser!B32=\"Ja, i huvudsak\",Insatser!A32,\"\")","v":""},{"$f":"IF(Insatser!B32=\"Ja, i huvudsak\",Insatser!C32,\"\")","v":""},{"$f":"IF(Insatser!B32=\"Ja, i huvudsak\",Insatser!D32,\"\")","v":""}]
[null,{"$f":"IF(Insatser!B33=\"Ja, i huvudsak\",Insatser!A33,\"\")","v":""},{"$f":"IF(Insatser!B33=\"Ja, i huvudsak\",Insatser!C33,\"\")","v":""},{"$f":"IF(Insatser!B33=\"Ja, i huvudsak\",Insatser!D33,\"\")","v":""}]
[null,{"$f":"IF(Insatser!B34=\"Ja, i huvudsak\",Insatser!A34,\"\")","v":""},{"$f":"IF(Insatser!B34=\"Ja, i huvudsak\",Insatser!C34,\"\")","v":""},{"$f":"IF(Insatser!B34=\"Ja, i huvudsak\",Insatser!D34,\"\")","v":""}]
[null,{"$f":"IF(Insatser!B35=\"Ja, i huvudsak\",Insatser!A35,\"\")","v":""},{"$f":"IF(Insatser!B35=\"Ja, i huvudsak\",Insatser!C35,\"\")","v":""},{"$f":"IF(Insatser!B35=\"Ja, i huvudsak\",Insatser!D35,\"\")","v":""}]
[null,{"$f":"IF(Insatser!B36=\"Ja, i huvudsak\",Insatser!A36,\"\")","v":""},{"$f":"IF(Insatser!B36=\"Ja, i huvudsak\",Insatser!C36,\"\")","v":""},{"$f":"IF(Insatser!B36=\"Ja, i huvudsak\",Insatser!D36,\"\")","v":""}]
[null,{"$f":"IF(Insatser!B37=\"Ja, i huvudsak\",Insatser!A37,\"\")","v":""},{"$f":"IF(Insatser!B37=\"Ja, i huvudsak\",Insatser!C37,\"\")","v":""},{"$f":"IF(Insatser!B37=\"Ja, i huvudsak\",Insatser!D37,\"\")","v":""}]
[null,{"$f":"IF(Insatser!B38=\"Ja, i huvudsak\",Insatser!A38,\"\")","v":""},{"$f":"IF(Insatser!B38=\"Ja, i huvudsak\",Insatser!C38,\"\")","v":""},{"$f":"IF(Insatser!B38=\"Ja, i huvudsak\",Insatser!D38,\"\")","v":""}]
[null,{"$f":"IF(Insatser!B39=\"Ja, i huvudsak\",Insatser!A39,\"\")","v":""},{"$f":"IF(Insatser!B39=\"Ja, i huvudsak\",Insatser!C39,\"\")","v":""},{"$f":"IF(Insatser!B39=\"Ja, i huvudsak\",Insatser!D39,\"\")","v":""}]
[null,{"$f":"IF(Insatser!B40=\"Ja, i huvudsak\",Insatser!A40,\"\")","v":""},{"$f":"IF(Insatser!B40=\"Ja, i huvudsak\",Insatser!C40,\"\")","v":""},{"$f":"IF(Insatser!B40=\"Ja, i huvudsak\",Insatser!D40,\"\")","v":""}]
[null,{"$f":"IF(Insatser!B41=\"Ja, i huvudsak\",Insatser!A41,\"\")","v":""},{"$f":"IF(Insatser!B41=\"Ja, i huvudsak\",Insatser!C41,\"\")","v":""},{"$f":"IF(Insatser!B41=\"Ja, i huvudsak\",Insatser!D41,\"\")","v":""}]
[null,{"$f":"IF(Insatser!B42=\"Ja, i huvudsak\",Insatser!A42,\"\")","v":""},{"$f":"IF(Insatser!B42=\"Ja, i huvudsak\",Insatser!C42,\"\")","v":""},{"$f":"IF(Insatser!B42=\"Ja, i huvudsak\",Insatser!D42,\"\")","v":""}]
[null,{"$f":"IF(Insatser!B43=\"Ja, i huvudsak\",Insatser!A43,\"\")","v":""},{"$f":"IF(Insatser!B43=\"Ja, i huvudsak\",Insatser!C43,\"\")","v":""},{"$f":"IF(Insatser!B43=\"Ja, i huvudsak\",Insatser!D43,\"\")","v":""}]
[null,{"$f":"IF(Insatser!B44=\"Ja, i huvudsak\",Insatser!A44,\"\")","v":""},{"$f":"IF(Insatser!B44=\"Ja, i huvudsak\",Insatser!C44,\"\")","v":""},{"$f":"IF(Insatser!B44=\"Ja, i huvudsak\",Insatser!D44,\"\")","v":""}]
[null,{"$f":"IF(Insatser!B45=\"Ja, i huvudsak\",Insatser!A45,\"\")","v":""},{"$f":"IF(Insatser!B45=\"Ja, i huvudsak\",Insatser!C45,\"\")","v":""},{"$f":"IF(Insatser!B45=\"Ja, i huvudsak\",Insatser!D45,\"\")","v":""}]
[null,{"$f":"IF(Insatser!B46=\"Ja, i huvudsak\",Insatser!A46,\"\")","v":""},{"$f":"IF(Insatser!B46=\"Ja, i huvudsak\",Insatser!C46,\"\")","v":""},{"$f":"IF(Insatser!B46=\"Ja, i huvudsak\",Insatser!D46,\"\")","v":""}]
[null,{"$f":"IF(Insatser!B47=\"Ja, i huvudsak\",Insatser!A47,\"\")","v":""},{"$f":"IF(Insatser!B47=\"Ja, i huvudsak\",Insatser!C47,\"\")","v":""},{"$f":"IF(Insatser!B47=\"Ja, i huvudsak\",Insatser!D47,\"\")","v":""}]
[null,{"$f":"IF(Insatser!B48=\"Ja, i huvudsak\",Insatser!A48,\"\")","v":""},{"$f":"IF(Insatser!B48=\"Ja, i huvudsak\",Insatser!C48,\"\")","v":""},{"$f":"IF(Insatser!B48=\"Ja, i huvudsak\",Insatser!D48,\"\")","v":""}]
[null,{"$f":"IF(Insatser!B49=\"Ja, i huvudsak\",Insatser!A49,\"\")","v":""},{"$f":"IF(Insatser!B49=\"Ja, i huvudsak\",Insatser!C49,\"\")","v":""},{"$f":"IF(Insatser!B49=\"Ja, i huvudsak\",Insatser!D49,\"\")","v":""}]
[null,{"$f":"IF(Insatser!B50=\"Ja, i huvudsak\",Insatser!A50,\"\")","v":""},{"$f":"IF(Insatser!B50=\"Ja, i huvudsak\",Insatser!C50,\"\")","v":""},{"$f":"IF(Insatser!B50=\"Ja, i huvudsak\",Insatser!D50,\"\")","v":""}]
[null,{"$f":"IF(Insatser!B51=\"Ja, i huvudsak\",Insatser!A51,\"\")","v":""},{"$f":"IF(Insatser!B51=\"Ja, i huvudsak\",Insatser!C51,\"\")","v":""},{"$f":"IF(Insatser!B51=\"Ja, i huvudsak\",Insatser!D51,\"\")","v":""}]
[null,{"$f":"IF(Insatser!B52=\"Ja, i huvudsak\",Insatser!A52,\"\")","v":""},{"$f":"IF(Insatser!B52=\"Ja, i huvudsak\",Insatser!C52,\"\")","v":""},{"$f":"IF(Insatser!B52=\"Ja, i huvudsak\",Insatser!D52,\"\")","v":""}]
[null,{"$f":"IF(Insatser!B53=\"Ja, i huvudsak\",Insatser!A53,\"\")","v":""},{"$f":"IF(Insatser!B53=\"Ja, i huvudsak\",Insatser!C53,\"\")","v":""},{"$f":"IF(Insatser!B53=\"Ja, i huvudsak\",Insatser!D53,\"\")","v":""}]
[null,{"$f":"IF(Insatser!B54=\"Ja, i huvudsak\",Insatser!A54,\"\")","v":""},{"$f":"IF(Insatser!B54=\"Ja, i huvudsak\",Insatser!C54,\"\")","v":""},{"$f":"IF(Insatser!B54=\"Ja, i huvudsak\",Insatser!D54,\"\")","v":""}]
[null,{"$f":"IF(Insatser!B55=\"Ja, i huvudsak\",Insatser!A55,\"\")","v":""},{"$f":"IF(Insatser!B55=\"Ja, i huvudsak\",Insatser!C55,\"\")","v":""},{"$f":"IF(Insatser!B55=\"Ja, i huvudsak\",Insatser!D55,\"\")","v":""}]
[null,{"$f":"IF(Insatser!B56=\"Ja, i huvudsak\",Insatser!A56,\"\")","v":""},{"$f":"IF(Insatser!B56=\"Ja, i huvudsak\",Insatser!C56,\"\")","v":""},{"$f":"IF(Insatser!B56=\"Ja, i huvudsak\",Insatser!D56,\"\")","v":""}]
[null,{"$f":"IF(Insatser!B57=\"Ja, i huvudsak\",Insatser!A57,\"\")","v":""},{"$f":"IF(Insatser!B57=\"Ja, i huvudsak\",Insatser!C57,\"\")","v":""},{"$f":"IF(Insatser!B57=\"Ja, i huvudsak\",Insatser!D57,\"\")","v":""}]
[null,{"$f":"IF(Insatser!B58=\"Ja, i huvudsak\",Insatser!A58,\"\")","v":""},{"$f":"IF(Insatser!B58=\"Ja, i huvudsak\",Insatser!C58,\"\")","v":""},{"$f":"IF(Insatser!B58=\"Ja, i huvudsak\",Insatser!D58,\"\")","v":""}]
[null,{"$f":"IF(Insatser!B59=\"Ja, i huvudsak\",Insatser!A59,\"\")","v":""},{"$f":"IF(Insatser!B59=\"Ja, i huvudsak\",Insatser!C59,\"\")","v":""},{"$f":"IF(Insatser!B59=\"Ja, i huvudsak\",Insatser!D59,\"\")","v":""}]
[null,{"$f":"IF(Insatser!B60=\"Ja, i huvudsak\",Insatser!A60,\"\")","v":""},{"$f":"IF(Insatser!B60=\"Ja, i huvudsak\",Insatser!C60,\"\")","v":""},{"$f":"IF(Insatser!B60=\"Ja, i huvudsak\",Insatser!D60,\"\")","v":""}]
[null,{"$f":"IF(Insatser!B61=\"Ja, i huvudsak\",Insatser!A61,\"\")","v":""},{"$f":"IF(Insatser!B61=\"Ja, i huvudsak\",Insatser!C61,\"\")","v":""},{"$f":"IF(Insatser!B61=\"Ja, i huvudsak\",Insatser!D61,\"\")","v":""}]
[null,{"$f":"IF(Insatser!B62=\"Ja, i huvudsak\",Insatser!A62,\"\")","v":""},{"$f":"IF(Insatser!B62=\"Ja, i huvudsak\",Insatser!C62,\"\")","v":""},{"$f":"IF(Insatser!B62=\"Ja, i huvudsak\",Insatser!D62,\"\")","v":""}]
[null,{"$f":"IF(Insatser!B63=\"Ja, i huvudsak\",Insatser!A63,\"\")","v":""},{"$f":"IF(Insatser!B63=\"Ja, i huvudsak\",Insatser!C63,\"\")","v":""},{"$f":"IF(Insatser!B63=\"Ja, i huvudsak\",Insatser!D63,\"\")","v":""}]
[null,{"$f":"IF(Insatser!B64=\"Ja, i huvudsak\",Insatser!A64,\"\")","v":""},{"$f":"IF(Insatser!B64=\"Ja, i huvudsak\",Insatser!C64,\"\")","v":""},{"$f":"IF(Insatser!B64=\"Ja, i huvudsak\",Insatser!D64,\"\")","v":""}]
[null,{"$f":"IF(Insatser!B65=\"Ja, i huvudsak\",Insatser!A65,\"\")","v":""},{"$f":"IF(Insatser!B65=\"Ja, i huvudsak\",Insatser!C65,\"\")","v":""},{"$f":"IF(Insatser!B65=\"Ja, i huvudsak\",Insatser!D65,\"\")","v":""}]
[null,{"$f":"IF(Insatser!B66=\"Ja, i huvudsak\",Insatser!A66,\"\")","v":""},{"$f":"IF(Insatser!B66=\"Ja, i huvudsak\",Insatser!C66,\"\")","v":""},{"$f":"IF(Insatser!B66=\"Ja, i huvudsak\",Insatser!D66,\"\")","v":""}]
[null,{"$f":"IF(Insatser!B67=\"Ja, i huvudsak\",Insatser!A67,\"\")","v":""},{"$f":"IF(Insatser!B67=\"Ja, i huvudsak\",Insatser!C67,\"\")","v":""},{"$f":"IF(Insatser!B67=\"Ja, i huvudsak\",Insatser!D67,\"\")","v":""}]
[null,{"$f":"IF(Insatser!B68=\"Ja, i huvudsak\",Insatser!A68,\"\")","v":""},{"$f":"IF(Insatser!B68=\"Ja, i huvudsak\",Insatser!C68,\"\")","v":""},{"$f":"IF(Insatser!B68=\"Ja, i huvudsak\",Insatser!D68,\"\")","v":""}]
[null,{"$f":"IF(Insatser!B69=\"Ja, i huvudsak\",Insatser!A69,\"\")","v":""},{"$f":"IF(Insatser!B69=\"Ja, i huvudsak\",Insatser!C69,\"\")","v":""},{"$f":"IF(Insatser!B69=\"Ja, i huvudsak\",Insatser!D69,\"\")","v":""}]
[null,{"$f":"IF(Insatser!B70=\"Ja, i huvudsak\",Insatser!A70,\"\")","v":""},{"$f":"IF(Insatser!B70=\"Ja, i huvudsak\",Insatser!C70,\"\")","v":""},{"$f":"IF(Insatser!B70=\"Ja, i huvudsak\",Insatser!D70,\"\")","v":""}]
[null,{"$f":"IF(Insatser!B71=\"Ja, i huvudsak\",Insatser!A71,\"\")","v":""},{"$f":"IF(Insatser!B71=\"Ja, i huvudsak\",Insatser!C71,\"\")","v":""},{"$f":"IF(Insatser!B71=\"Ja, i huvudsak\",Insatser!D71,\"\")","v":""}]
[null,{"$f":"IF(Insatser!B72=\"Ja, i huvudsak\",Insatser!A72,\"\")","v":""},{"$f":"IF(Insatser!B72=\"Ja, i huvudsak\",Insatser!C72,\"\")","v":""},{"$f":"IF(Insatser!B72=\"Ja, i huvudsak\",Insatser!D72,\"\")","v":""}]
[null,{"$f":"IF(Insatser!B73=\"Ja, i huvudsak\",Insatser!A73,\"\")","v":""},{"$f":"IF(Insatser!B73=\"Ja, i huvudsak\",Insatser!C73,\"\")","v":""},{"$f":"IF(Insatser!B73=\"Ja, i huvudsak\",Insatser!D73,\"\")","v":""}]
[null,{"$f":"IF(Insatser!B74=\"Ja, i huvudsak\",Insatser!A74,\"\")","v":""},{"$f":"IF(Insatser!B74=\"Ja, i huvudsak\",Insatser!C74,\"\")","v":""},{"$f":"IF(Insatser!B74=\"Ja, i huvudsak\",Insatser!D74,\"\")","v":""}]
[null,{"$f":"IF(Insatser!B75=\"Ja, i huvudsak\",Insatser!A75,\"\")","v":""},{"$f":"IF(Insatser!B75=\"Ja, i huvudsak\",Insatser!C75,\"\")","v":""},{"$f":"IF(Insatser!B75=\"Ja, i huvudsak\",Insatser!D75,\"\")","v":""}]
[null,{"$f":"IF(Insatser!B76=\"Ja, i huvudsak\",Insatser!A76,\"\")","v":""},{"$f":"IF(Insatser!B76=\"Ja, i huvudsak\",Insatser!C76,\"\")","v":""},{"$f":"IF(Insatser!B76=\"Ja, i huvudsak\",Insatser!D76,\"\")","v":""}]
[null,{"$f":"IF(Insatser!B77=\"Ja, i huvudsak\",Insatser!A77,\"\")","v":""},{"$f":"IF(Insatser!B77=\"Ja, i huvudsak\",Insatser!C77,\"\")","v":""},{"$f":"IF(Insatser!B77=\"Ja, i huvudsak\",Insatser!D77,\"\")","v":""}]
[null,{"$f":"IF(Insatser!B78=\"Ja, i huvudsak\",Insatser!A78,\"\")","v":""},{"$f":"IF(Insatser!B78=\"Ja, i huvudsak\",Insatser!C78,\"\")","v":""},{"$f":"IF(Insatser!B78=\"Ja, i huvudsak\",Insatser!D78,\"\")","v":""}]
[null,{"$f":"IF(Insatser!B79=\"Ja, i huvudsak\",Insatser!A79,\"\")","v":""},{"$f":"IF(Insatser!B79=\"Ja, i huvudsak\",Insatser!C79,\"\")","v":""},{"$f":"IF(Insatser!B79=\"Ja, i huvudsak\",Insatser!D79,\"\")","v":""}]
[null,{"$f":"IF(Insatser!B80=\"Ja, i huvudsak\",Insatser!A80,\"\")","v":""},{"$f":"IF(Insatser!B80=\"Ja, i huvudsak\",Insatser!C80,\"\")","v":""},{"$f":"IF(Insatser!B80=\"Ja, i huvudsak\",Insatser!D80,\"\")","v":""}]
[null,{"$f":"IF(Insatser!B81=\"Ja, i huvudsak\",Insatser!A81,\"\")","v":""},{"$f":"IF(Insatser!B81=\"Ja, i huvudsak\",Insatser!C81,\"\")","v":""},{"$f":"IF(Insatser!B81=\"Ja, i huvudsak\",Insatser!D81,\"\")","v":""}]
[null,{"$f":"IF(Insatser!B82=\"Ja, i huvudsak\",Insatser!A82,\"\")","v":""},{"$f":"IF(Insatser!B82=\"Ja, i huvudsak\",Insatser!C82,\"\")","v":""},{"$f":"IF(Insatser!B82=\"Ja, i huvudsak\",Insatser!D82,\"\")","v":""}]
[null,{"$f":"IF(Insatser!B83=\"Ja, i huvudsak\",Insatser!A83,\"\")","v":""},{"$f":"IF(Insatser!B83=\"Ja, i huvudsak\",Insatser!C83,\"\")","v":""},{"$f":"IF(Insatser!B83=\"Ja, i huvudsak\",Insatser!D83,\"\")","v":""}]
[null,{"$f":"IF(Insatser!B84=\"Ja, i huvudsak\",Insatser!A84,\"\")","v":""},{"$f":"IF(Insatser!B84=\"Ja, i huvudsak\",Insatser!C84,\"\")","v":""},{"$f":"IF(Insatser!B84=\"Ja, i huvudsak\",Insatser!D84,\"\")","v":""}]
[null,{"$f":"IF(Insatser!B85=\"Ja, i huvudsak\",Insatser!A85,\"\")","v":""},{"$f":"IF(Insatser!B85=\"Ja, i huvudsak\",Insatser!C85,\"\")","v":""},{"$f":"IF(Insatser!B85=\"Ja, i huvudsak\",Insatser!D85,\"\")","v":""}]
[null,{"$f":"IF(Insatser!B86=\"Ja, i huvudsak\",Insatser!A86,\"\")","v":""},{"$f":"IF(Insatser!B86=\"Ja, i huvudsak\",Insatser!C86,\"\")","v":""},{"$f":"IF(Insatser!B86=\"Ja, i huvudsak\",Insatser!D86,\"\")","v":""}]
[null,{"$f":"IF(Insatser!B87=\"Ja, i huvudsak\",Insatser!A87,\"\")","v":""},{"$f":"IF(Insatser!B87=\"Ja, i huvudsak\",Insatser!C87,\"\")","v":""},{"$f":"IF(Insatser!B87=\"Ja, i huvudsak\",Insatser!D87,\"\")","v":""}]
[null,{"$f":"IF(Insatser!B88=\"Ja, i huvudsak\",Insatser!A88,\"\")","v":""},{"$f":"IF(Insatser!B88=\"Ja, i huvudsak\",Insatser!C88,\"\")","v":""},{"$f":"IF(Insatser!B88=\"Ja, i huvudsak\",Insatser!D88,\"\")","v":""}]
[null,{"$f":"IF(Insatser!B89=\"Ja, i huvudsak\",Insatser!A89,\"\")","v":""},{"$f":"IF(Insatser!B89=\"Ja, i huvudsak\",Insatser!C89,\"\")","v":""},{"$f":"IF(Insatser!B89=\"Ja, i huvudsak\",Insatser!D89,\"\")","v":""}]
[null,{"$f":"IF(Insatser!B90=\"Ja, i huvudsak\",Insatser!A90,\"\")","v":""},{"$f":"IF(Insatser!B90=\"Ja, i huvudsak\",Insatser!C90,\"\")","v":""},{"$f":"IF(Insatser!B90=\"Ja, i huvudsak\",Insatser!D90,\"\")","v":""}]
[null,{"$f":"IF(Insatser!B91=\"Ja, i huvudsak\",Insatser!A91,\"\")","v":""},{"$f":"IF(Insatser!B91=\"Ja, i huvudsak\",Insatser!C91,\"\")","v":""},{"$f":"IF(Insatser!B91=\"Ja, i huvudsak\",Insatser!D91,\"\")","v":""}]
[null,{"$f":"IF(Insatser!B92=\"Ja, i huvudsak\",Insatser!A92,\"\")","v":""},{"$f":"IF(Insatser!B92=\"Ja, i huvudsak\",Insatser!C92,\"\")","v":""},{"$f":"IF(Insatser!B92=\"Ja, i huvudsak\",Insatser!D92,\"\")","v":""}]
[null,{"$f":"IF(Insatser!B93=\"Ja, i huvudsak\",Insatser!A93,\"\")","v":""},{"$f":"IF(Insatser!B93=\"Ja, i huvudsak\",Insatser!C93,\"\")","v":""},{"$f":"IF(Insatser!B93=\"Ja, i huvudsak\",Insatser!D93,\"\")","v":""}]
[null,{"$f":"IF(Insatser!B94=\"Ja, i huvudsak\",Insatser!A94,\"\")","v":""},{"$f":"IF(Insatser!B94=\"Ja, i huvudsak\",Insatser!C94,\"\")","v":""},{"$f":"IF(Insatser!B94=\"Ja, i huvudsak\",Insatser!D94,\"\")","v":""}]
[null,{"$f":"IF(Insatser!B95=\"Ja, i huvudsak\",Insatser!A95,\"\")","v":""},{"$f":"IF(Insatser!B95=\"Ja, i huvudsak\",Insatser!C95,\"\")","v":""},{"$f":"IF(Insatser!B95=\"Ja, i huvudsak\",Insatser!D95,\"\")","v":""}]
[null,{"$f":"IF(Insatser!B96=\"Ja, i huvudsak\",Insatser!A96,\"\")","v":""},{"$f":"IF(Insatser!B96=\"Ja, i huvudsak\",Insatser!C96,\"\")","v":""},{"$f":"IF(Insatser!B96=\"Ja, i huvudsak\",Insatser!D96,\"\")","v":""}]
[null,{"$f":"IF(Insatser!B97=\"Ja, i huvudsak\",Insatser!A97,\"\")","v":""},{"$f":"IF(Insatser!B97=\"Ja, i huvudsak\",Insatser!C97,\"\")","v":""},{"$f":"IF(Insatser!B97=\"Ja, i huvudsak\",Insatser!D97,\"\")","v":""}]
[null,{"$f":"IF(Insatser!B98=\"Ja, i huvudsak\",Insatser!A98,\"\")","v":""},{"$f":"IF(Insatser!B98=\"Ja, i huvudsak\",Insatser!C98,\"\")","v":""},{"$f":"IF(Insatser!B98=\"Ja, i huvudsak\",Insatser!D98,\"\")","v":""}]
[null,{"$f":"IF(Insatser!B99=\"Ja, i huvudsak\",Insatser!A99,\"\")","v":""},{"$f":"IF(Insatser!B99=\"Ja, i huvudsak\",Insatser!C99,\"\")","v":""},{"$f":"IF(Insatser!B99=\"Ja, i huvudsak\",Insatser!D99,\"\")","v":""}]
[null,{"$f":"IF(Insatser!B100=\"Ja, i huvudsak\",Insatser!A100,\"\")","v":""},{"$f":"IF(Insatser!B100=\"Ja, i huvudsak\",Insatser!C100,\"\")","v":""},{"$f":"IF(Insatser!B100=\"Ja, i huvudsak\",Insatser!D100,\"\")","v":""}]
[null,{"$f":"IF(Insatser!B101=\"Ja, i huvudsak\",Insatser!A101,\"\")","v":""},{"$f":"IF(Insatser!B101=\"Ja, i huvudsak\",Insatser!C101,\"\")","v":""},{"$f":"IF(Insatser!B101=\"Ja, i huvudsak\",Insatser!D101,\"\")","v":""}]
[null,{"$f":"IF(Insatser!B102=\"Ja, i huvudsak\",Insatser!A102,\"\")","v":""},{"$f":"IF(Insatser!B102=\"Ja, i huvudsak\",Insatser!C102,\"\")","v":""},{"$f":"IF(Insatser!B102=\"Ja, i huvudsak\",Insatser!D102,\"\")","v":""}]
[null,{"$f":"IF(Insatser!B103=\"Ja, i huvudsak\",Insatser!A103,\"\")","v":""},{"$f":"IF(Insatser!B103=\"Ja, i huvudsak\",Insatser!C103,\"\")","v":""},{"$f":"IF(Insatser!B103=\"Ja, i huvudsak\",Insatser!D103,\"\")","v":""}]
[null,{"$f":"IF(Insatser!B104=\"Ja, i huvudsak\",Insatser!A104,\"\")","v":""},{"$f":"IF(Insatser!B104=\"Ja, i huvudsak\",Insatser!C104,\"\")","v":""},{"$f":"IF(Insatser!B104=\"Ja, i huvudsak\",Insatser!D104,\"\")","v":""}]
[null,{"$f":"IF(Insatser!B105=\"Ja, i huvudsak\",Insatser!A105,\"\")","v":""},{"$f":"IF(Insatser!B105=\"Ja, i huvudsak\",Insatser!C105,\"\")","v":""},{"$f":"IF(Insatser!B105=\"Ja, i huvudsak\",Insatser!D105,\"\")","v":""}]
[null,{"$f":"IF(Insatser!B106=\"Ja, i huvudsak\",Insatser!A106,\"\")","v":""},{"$f":"IF(Insatser!B106=\"Ja, i huvudsak\",Insatser!C106,\"\")","v":""},{"$f":"IF(Insatser!B106=\"Ja, i huvudsak\",Insatser!D106,\"\")","v":""}]
[null,{"$f":"IF(Insatser!B107=\"Ja, i huvudsak\",Insatser!A107,\"\")","v":""},{"$f":"IF(Insatser!B107=\"Ja, i huvudsak\",Insatser!C107,\"\")","v":""},{"$f":"IF(Insatser!B107=\"Ja, i huvudsak\",Insatser!D107,\"\")","v":""}]
[null,{"$f":"IF(Insatser!B108=\"Ja, i huvudsak\",Insatser!A108,\"\")","v":""},{"$f":"IF(Insatser!B108=\"Ja, i huvudsak\",Insatser!C108,\"\")","v":""},{"$f":"IF(Insatser!B108=\"Ja, i huvudsak\",Insatser!D108,\"\")","v":""}]
[null,{"$f":"IF(Insatser!B109=\"Ja, i huvudsak\",Insatser!A109,\"\")","v":""},{"$f":"IF(Insatser!B109=\"Ja, i huvudsak\",Insatser!C109,\"\")","v":""},{"$f":"IF(Insatser!B109=\"Ja, i huvudsak\",Insatser!D109,\"\")","v":""}]
[null,{"$f":"IF(Insatser!B110=\"Ja, i huvudsak\",Insatser!A110,\"\")","v":""},{"$f":"IF(Insatser!B110=\"Ja, i huvudsak\",Insatser!C110,\"\")","v":""},{"$f":"IF(Insatser!B110=\"Ja, i huvudsak\",Insatser!D110,\"\")","v":""}]
[null,{"$f":"IF(Insatser!B111=\"Ja, i huvudsak\",Insatser!A111,\"\")","v":""},{"$f":"IF(Insatser!B111=\"Ja, i huvudsak\",Insatser!C111,\"\")","v":""},{"$f":"IF(Insatser!B111=\"Ja, i huvudsak\",Insatser!D111,\"\")","v":""}]
[null,{"$f":"IF(Insatser!B112=\"Ja, i huvudsak\",Insatser!A112,\"\")","v":""},{"$f":"IF(Insatser!B112=\"Ja, i huvudsak\",Insatser!C112,\"\")","v":""},{"$f":"IF(Insatser!B112=\"Ja, i huvudsak\",Insatser!D112,\"\")","v":""}]
[null,{"$f":"IF(Insatser!B113=\"Ja, i huvudsak\",Insatser!A113,\"\")","v":""},{"$f":"IF(Insatser!B113=\"Ja, i huvudsak\",Insatser!C113,\"\")","v":""},{"$f":"IF(Insatser!B113=\"Ja, i huvudsak\",Insatser!D113,\"\")","v":""}]
[null,{"$f":"IF(Insatser!B114=\"Ja, i huvudsak\",Insatser!A114,\"\")","v":""},{"$f":"IF(Insatser!B114=\"Ja, i huvudsak\",Insatser!C114,\"\")","v":""},{"$f":"IF(Insatser!B114=\"Ja, i huvudsak\",Insatser!D114,\"\")","v":""}]
[null,{"$f":"IF(Insatser!B115=\"Ja, i huvudsak\",Insatser!A115,\"\")","v":""},{"$f":"IF(Insatser!B115=\"Ja, i huvudsak\",Insatser!C115,\"\")","v":""},{"$f":"IF(Insatser!B115=\"Ja, i huvudsak\",Insatser!D115,\"\")","v":""}]
[null,{"$f":"IF(Insatser!B116=\"Ja, i huvudsak\",Insatser!A116,\"\")","v":""},{"$f":"IF(Insatser!B116=\"Ja, i huvudsak\",Insatser!C116,\"\")","v":""},{"$f":"IF(Insatser!B116=\"Ja, i huvudsak\",Insatser!D116,\"\")","v":""}]
[null,{"$f":"IF(Insatser!B117=\"Ja, i huvudsak\",Insatser!A117,\"\")","v":""},{"$f":"IF(Insatser!B117=\"Ja, i huvudsak\",Insatser!C117,\"\")","v":""},{"$f":"IF(Insatser!B117=\"Ja, i huvudsak\",Insatser!D117,\"\")","v":""}]
[null,{"$f":"IF(Insatser!B118=\"Ja, i huvudsak\",Insatser!A118,\"\")","v":""},{"$f":"IF(Insatser!B118=\"Ja, i huvudsak\",Insatser!C118,\"\")","v":""},{"$f":"IF(Insatser!B118=\"Ja, i huvudsak\",Insatser!D118,\"\")","v":""}]
[null,{"$f":"IF(Insatser!B119=\"Ja, i huvudsak\",Insatser!A119,\"\")","v":""},{"$f":"IF(Insatser!B119=\"Ja, i huvudsak\",Insatser!C119,\"\")","v":""},{"$f":"IF(Insatser!B119=\"Ja, i huvudsak\",Insatser!D119,\"\")","v":""}]
[null,{"$f":"IF(Insatser!B120=\"Ja, i huvudsak\",Insatser!A120,\"\")","v":""},{"$f":"IF(Insatser!B120=\"Ja, i huvudsak\",Insatser!C120,\"\")","v":""},{"$f":"IF(Insatser!B120=\"Ja, i huvudsak\",Insatser!D120,\"\")","v":""}]
[null,{"$f":"IF(Insatser!B121=\"Ja, i huvudsak\",Insatser!A121,\"\")","v":""},{"$f":"IF(Insatser!B121=\"Ja, i huvudsak\",Insatser!C121,\"\")","v":""},{"$f":"IF(Insatser!B121=\"Ja, i huvudsak\",Insatser!D121,\"\")","v":""}]
[null,{"$f":"IF(Insatser!B122=\"Ja, i huvudsak\",Insatser!A122,\"\")","v":""},{"$f":"IF(Insatser!B122=\"Ja, i huvudsak\",Insatser!C122,\"\")","v":""},{"$f":"IF(Insatser!B122=\"Ja, i huvudsak\",Insatser!D122,\"\")","v":""}]
[null,{"$f":"IF(Insatser!B123=\"Ja, i huvudsak\",Insatser!A123,\"\")","v":""},{"$f":"IF(Insatser!B123=\"Ja, i huvudsak\",Insatser!C123,\"\")","v":""},{"$f":"IF(Insatser!B123=\"Ja, i huvudsak\",Insatser!D123,\"\")","v":""}]
[null,{"$f":"IF(Insatser!B124=\"Ja, i huvudsak\",Insatser!A124,\"\")","v":""},{"$f":"IF(Insatser!B124=\"Ja, i huvudsak\",Insatser!C124,\"\")","v":""},{"$f":"IF(Insatser!B124=\"Ja, i huvudsak\",Insatser!D124,\"\")","v":""}]
[null,{"$f":"IF(Insatser!B125=\"Ja, i huvudsak\",Insatser!A125,\"\")","v":""},{"$f":"IF(Insatser!B125=\"Ja, i huvudsak\",Insatser!C125,\"\")","v":""},{"$f":"IF(Insatser!B125=\"Ja, i huvudsak\",Insatser!D125,\"\")","v":""}]
[null,{"$f":"IF(Insatser!B126=\"Ja, i huvudsak\",Insatser!A126,\"\")","v":""},{"$f":"IF(Insatser!B126=\"Ja, i huvudsak\",Insatser!C126,\"\")","v":""},{"$f":"IF(Insatser!B126=\"Ja, i huvudsak\",Insatser!D126,\"\")","v":""}]
[null,{"$f":"IF(Insatser!B127=\"Ja, i huvudsak\",Insatser!A127,\"\")","v":""},{"$f":"IF(Insatser!B127=\"Ja, i huvudsak\",Insatser!C127,\"\")","v":""},{"$f":"IF(Insatser!B127=\"Ja, i huvudsak\",Insatser!D127,\"\")","v":""}]
[null,{"$f":"IF(Insatser!B128=\"Ja, i huvudsak\",Insatser!A128,\"\")","v":""},{"$f":"IF(Insatser!B128=\"Ja, i huvudsak\",Insatser!C128,\"\")","v":""},{"$f":"IF(Insatser!B128=\"Ja, i huvudsak\",Insatser!D128,\"\")","v":""}]
[null,{"$f":"IF(Insatser!B129=\"Ja, i huvudsak\",Insatser!A129,\"\")","v":""},{"$f":"IF(Insatser!B129=\"Ja, i huvudsak\",Insatser!C129,\"\")","v":""},{"$f":"IF(Insatser!B129=\"Ja, i huvudsak\",Insatser!D129,\"\")","v":""}]
[null,{"$f":"IF(Insatser!B130=\"Ja, i huvudsak\",Insatser!A130,\"\")","v":""},{"$f":"IF(Insatser!B130=\"Ja, i huvudsak\",Insatser!C130,\"\")","v":""},{"$f":"IF(Insatser!B130=\"Ja, i huvudsak\",Insatser!D130,\"\")","v":""}]
[null,{"$f":"IF(Insatser!B131=\"Ja, i huvudsak\",Insatser!A131,\"\")","v":""},{"$f":"IF(Insatser!B131=\"Ja, i huvudsak\",Insatser!C131,\"\")","v":""},{"$f":"IF(Insatser!B131=\"Ja, i huvudsak\",Insatser!D131,\"\")","v":""}]
[null,{"$f":"IF(Insatser!B132=\"Ja, i huvudsak\",Insatser!A132,\"\")","v":""},{"$f":"IF(Insatser!B132=\"Ja, i huvudsak\",Insatser!C132,\"\")","v":""},{"$f":"IF(Insatser!B132=\"Ja, i huvudsak\",Insatser!D132,\"\")","v":""}]
[null,{"$f":"IF(Insatser!B133=\"Ja, i huvudsak\",Insatser!A133,\"\")","v":""},{"$f":"IF(Insatser!B133=\"Ja, i huvudsak\",Insatser!C133,\"\")","v":""},{"$f":"IF(Insatser!B133=\"Ja, i huvudsak\",Insatser!D133,\"\")","v":""}]
[null,{"$f":"IF(Insatser!B134=\"Ja, i huvudsak\",Insatser!A134,\"\")","v":""},{"$f":"IF(Insatser!B134=\"Ja, i huvudsak\",Insatser!C134,\"\")","v":""},{"$f":"IF(Insatser!B134=\"Ja, i huvudsak\",Insatser!D134,\"\")","v":""}]
[null,{"$f":"IF(Insatser!B135=\"Ja, i huvudsak\",Insatser!A135,\"\")","v":""},{"$f":"IF(Insatser!B135=\"Ja, i huvudsak\",Insatser!C135,\"\")","v":""},{"$f":"IF(Insatser!B135=\"Ja, i huvudsak\",Insatser!D135,\"\")","v":""}]
[null,{"$f":"IF(Insatser!B136=\"Ja, i huvudsak\",Insatser!A136,\"\")","v":""},{"$f":"IF(Insatser!B136=\"Ja, i huvudsak\",Insatser!C136,\"\")","v":""},{"$f":"IF(Insatser!B136=\"Ja, i huvudsak\",Insatser!D136,\"\")","v":""}]
[null,{"$f":"IF(Insatser!B137=\"Ja, i huvudsak\",Insatser!A137,\"\")","v":""},{"$f":"IF(Insatser!B137=\"Ja, i huvudsak\",Insatser!C137,\"\")","v":""},{"$f":"IF(Insatser!B137=\"Ja, i huvudsak\",Insatser!D137,\"\")","v":""}]
[null,{"$f":"IF(Insatser!B138=\"Ja, i huvudsak\",Insatser!A138,\"\")","v":""},{"$f":"IF(Insatser!B138=\"Ja, i huvudsak\",Insatser!C138,\"\")","v":""},{"$f":"IF(Insatser!B138=\"Ja, i huvudsak\",Insatser!D138,\"\")","v":""}]
[null,{"$f":"IF(Insatser!B139=\"Ja, i huvudsak\",Insatser!A139,\"\")","v":""},{"$f":"IF(Insatser!B139=\"Ja, i huvudsak\",Insatser!C139,\"\")","v":""},{"$f":"IF(Insatser!B139=\"Ja, i huvudsak\",Insatser!D139,\"\")","v":""}]
[null,{"$f":"IF(Insatser!B140=\"Ja, i huvudsak\",Insatser!A140,\"\")","v":""},{"$f":"IF(Insatser!B140=\"Ja, i huvudsak\",Insatser!C140,\"\")","v":""},{"$f":"IF(Insatser!B140=\"Ja, i huvudsak\",Insatser!D140,\"\")","v":""}]
[null,{"$f":"IF(Insatser!B141=\"Ja, i huvudsak\",Insatser!A141,\"\")","v":""},{"$f":"IF(Insatser!B141=\"Ja, i huvudsak\",Insatser!C141,\"\")","v":""},{"$f":"IF(Insatser!B141=\"Ja, i huvudsak\",Insatser!D141,\"\")","v":""}]
[null,{"$f":"IF(Insatser!B142=\"Ja, i huvudsak\",Insatser!A142,\"\")","v":""},{"$f":"IF(Insatser!B142=\"Ja, i huvudsak\",Insatser!C142,\"\")","v":""},{"$f":"IF(Insatser!B142=\"Ja, i huvudsak\",Insatser!D142,\"\")","v":""}]
[null,{"$f":"IF(Insatser!B143=\"Ja, i huvudsak\",Insatser!A143,\"\")","v":""},{"$f":"IF(Insatser!B143=\"Ja, i huvudsak\",Insatser!C143,\"\")","v":""},{"$f":"IF(Insatser!B143=\"Ja, i huvudsak\",Insatser!D143,\"\")","v":""}]
[null,{"$f":"IF(Insatser!B144=\"Ja, i huvudsak\",Insatser!A144,\"\")","v":""},{"$f":"IF(Insatser!B144=\"Ja, i huvudsak\",Insatser!C144,\"\")","v":""},{"$f":"IF(Insatser!B144=\"Ja, i huvudsak\",Insatser!D144,\"\")","v":""}]
[null,{"$f":"IF(Insatser!B145=\"Ja, i huvudsak\",Insatser!A145,\"\")","v":""},{"$f":"IF(Insatser!B145=\"Ja, i huvudsak\",Insatser!C145,\"\")","v":""},{"$f":"IF(Insatser!B145=\"Ja, i huvudsak\",Insatser!D145,\"\")","v":""}]
[null,{"$f":"IF(Insatser!B146=\"Ja, i huvudsak\",Insatser!A146,\"\")","v":""},{"$f":"IF(Insatser!B146=\"Ja, i huvudsak\",Insatser!C146,\"\")","v":""},{"$f":"IF(Insatser!B146=\"Ja, i huvudsak\",Insatser!D146,\"\")","v":""}]
[null,{"$f":"IF(Insatser!B147=\"Ja, i huvudsak\",Insatser!A147,\"\")","v":""},{"$f":"IF(Insatser!B147=\"Ja, i huvudsak\",Insatser!C147,\"\")","v":""},{"$f":"IF(Insatser!B147=\"Ja, i huvudsak\",Insatser!D147,\"\")","v":""}]
[null,{"$f":"IF(Insatser!B148=\"Ja, i huvudsak\",Insatser!A148,\"\")","v":""},{"$f":"IF(Insatser!B148=\"Ja, i huvudsak\",Insatser!C148,\"\")","v":""},{"$f":"IF(Insatser!B148=\"Ja, i huvudsak\",Insatser!D148,\"\")","v":""}]
[null,{"$f":"IF(Insatser!B149=\"Ja, i huvudsak\",Insatser!A149,\"\")","v":""},{"$f":"IF(Insatser!B149=\"Ja, i huvudsak\",Insatser!C149,\"\")","v":""},{"$f":"IF(Insatser!B149=\"Ja, i huvudsak\",Insatser!D149,\"\")","v":""}]
[null,{"$f":"IF(Insatser!B150=\"Ja, i huvudsak\",Insatser!A150,\"\")","v":""},{"$f":"IF(Insatser!B150=\"Ja, i huvudsak\",Insatser!C150,\"\")","v":""},{"$f":"IF(Insatser!B150=\"Ja, i huvudsak\",Insatser!D150,\"\")","v":""}]
[null,{"$f":"IF(Insatser!B151=\"Ja, i huvudsak\",Insatser!A151,\"\")","v":""},{"$f":"IF(Insatser!B151=\"Ja, i huvudsak\",Insatser!C151,\"\")","v":""},{"$f":"IF(Insatser!B151=\"Ja, i huvudsak\",Insatser!D151,\"\")","v":""}]
[null,{"$f":"IF(Insatser!B152=\"Ja, i huvudsak\",Insatser!A152,\"\")","v":""},{"$f":"IF(Insatser!B152=\"Ja, i huvudsak\",Insatser!C152,\"\")","v":""},{"$f":"IF(Insatser!B152=\"Ja, i huvudsak\",Insatser!D152,\"\")","v":""}]
[null,{"$f":"IF(Insatser!B153=\"Ja, i huvudsak\",Insatser!A153,\"\")","v":""},{"$f":"IF(Insatser!B153=\"Ja, i huvudsak\",Insatser!C153,\"\")","v":""},{"$f":"IF(Insatser!B153=\"Ja, i huvudsak\",Insatser!D153,\"\")","v":""}]
[null,{"$f":"IF(Insatser!B154=\"Ja, i huvudsak\",Insatser!A154,\"\")","v":""},{"$f":"IF(Insatser!B154=\"Ja, i huvudsak\",Insatser!C154,\"\")","v":""},{"$f":"IF(Insatser!B154=\"Ja, i huvudsak\",Insatser!D154,\"\")","v":""}]
[null,{"$f":"IF(Insatser!B155=\"Ja, i huvudsak\",Insatser!A155,\"\")","v":""},{"$f":"IF(Insatser!B155=\"Ja, i huvudsak\",Insatser!C155,\"\")","v":""},{"$f":"IF(Insatser!B155=\"Ja, i huvudsak\",Insatser!D155,\"\")","v":""}]
[null,{"$f":"IF(Insatser!B156=\"Ja, i huvudsak\",Insatser!A156,\"\")","v":""},{"$f":"IF(Insatser!B156=\"Ja, i huvudsak\",Insatser!C156,\"\")","v":""},{"$f":"IF(Insatser!B156=\"Ja, i huvudsak\",Insatser!D156,\"\")","v":""}]
[null,{"$f":"IF(Insatser!B157=\"Ja, i huvudsak\",Insatser!A157,\"\")","v":""},{"$f":"IF(Insatser!B157=\"Ja, i huvudsak\",Insatser!C157,\"\")","v":""},{"$f":"IF(Insatser!B157=\"Ja, i huvudsak\",Insatser!D157,\"\")","v":""}]
[null,{"$f":"IF(Insatser!B158=\"Ja, i huvudsak\",Insatser!A158,\"\")","v":""},{"$f":"IF(Insatser!B158=\"Ja, i huvudsak\",Insatser!C158,\"\")","v":""},{"$f":"IF(Insatser!B158=\"Ja, i huvudsak\",Insatser!D158,\"\")","v":""}]
[null,{"$f":"IF(Insatser!B159=\"Ja, i huvudsak\",Insatser!A159,\"\")","v":""},{"$f":"IF(Insatser!B159=\"Ja, i huvudsak\",Insatser!C159,\"\")","v":""},{"$f":"IF(Insatser!B159=\"Ja, i huvudsak\",Insatser!D159,\"\")","v":""}]
[null,{"$f":"IF(Insatser!B160=\"Ja, i huvudsak\",Insatser!A160,\"\")","v":""},{"$f":"IF(Insatser!B160=\"Ja, i huvudsak\",Insatser!C160,\"\")","v":""},{"$f":"IF(Insatser!B160=\"Ja, i huvudsak\",Insatser!D160,\"\")","v":""}]
[null,{"$f":"IF(Insatser!B161=\"Ja, i huvudsak\",Insatser!A161,\"\")","v":""},{"$f":"IF(Insatser!B161=\"Ja, i huvudsak\",Insatser!C161,\"\")","v":""},{"$f":"IF(Insatser!B161=\"Ja, i huvudsak\",Insatser!D161,\"\")","v":""}]
[null,{"$f":"IF(Insatser!B162=\"Ja, i huvudsak\",Insatser!A162,\"\")","v":""},{"$f":"IF(Insatser!B162=\"Ja, i huvudsak\",Insatser!C162,\"\")","v":""},{"$f":"IF(Insatser!B162=\"Ja, i huvudsak\",Insatser!D162,\"\")","v":""}]
[null,{"$f":"IF(Insatser!B163=\"Ja, i huvudsak\",Insatser!A163,\"\")","v":""},{"$f":"IF(Insatser!B163=\"Ja, i huvudsak\",Insatser!C163,\"\")","v":""},{"$f":"IF(Insatser!B163=\"Ja, i huvudsak\",Insatser!D163,\"\")","v":""}]
[null,{"$f":"IF(Insatser!B164=\"Ja, i huvudsak\",Insatser!A164,\"\")","v":""},{"$f":"IF(Insatser!B164=\"Ja, i huvudsak\",Insatser!C164,\"\")","v":""},{"$f":"IF(Insatser!B164=\"Ja, i huvudsak\",Insatser!D164,\"\")","v":""}]
[null,{"$f":"IF(Insatser!B165=\"Ja, i huvudsak\",Insatser!A165,\"\")","v":""},{"$f":"IF(Insatser!B165=\"Ja, i huvudsak\",Insatser!C165,\"\")","v":""},{"$f":"IF(Insatser!B165=\"Ja, i huvudsak\",Insatser!D165,\"\")","v":""}]
[null,{"$f":"IF(Insatser!B166=\"Ja, i huvudsak\",Insatser!A166,\"\")","v":""},{"$f":"IF(Insatser!B166=\"Ja, i huvudsak\",Insatser!C166,\"\")","v":""},{"$f":"IF(Insatser!B166=\"Ja, i huvudsak\",Insatser!D166,\"\")","v":""}]
[null,{"$f":"IF(Insatser!B167=\"Ja, i huvudsak\",Insatser!A167,\"\")","v":""},{"$f":"IF(Insatser!B167=\"Ja, i huvudsak\",Insatser!C167,\"\")","v":""},{"$f":"IF(Insatser!B167=\"Ja, i huvudsak\",Insatser!D167,\"\")","v":""}]
[null,{"$f":"IF(Insatser!B168=\"Ja, i huvudsak\",Insatser!A168,\"\")","v":""},{"$f":"IF(Insatser!B168=\"Ja, i huvudsak\",Insatser!C168,\"\")","v":""},{"$f":"IF(Insatser!B168=\"Ja, i huvudsak\",Insatser!D168,\"\")","v":""}]
[null,{"$f":"IF(Insatser!B169=\"Ja, i huvudsak\",Insatser!A169,\"\")","v":""},{"$f":"IF(Insatser!B169=\"Ja, i huvudsak\",Insatser!C169,\"\")","v":""},{"$f":"IF(Insatser!B169=\"Ja, i huvudsak\",Insatser!D169,\"\")","v":""}]
[null,{"$f":"IF(Insatser!B170=\"Ja, i huvudsak\",Insatser!A170,\"\")","v":""},{"$f":"IF(Insatser!B170=\"Ja, i huvudsak\",Insatser!C170,\"\")","v":""},{"$f":"IF(Insatser!B170=\"Ja, i huvudsak\",Insatser!D170,\"\")","v":""}]
[null,{"$f":"IF(Insatser!B171=\"Ja, i huvudsak\",Insatser!A171,\"\")","v":""},{"$f":"IF(Insatser!B171=\"Ja, i huvudsak\",Insatser!C171,\"\")","v":""},{"$f":"IF(Insatser!B171=\"Ja, i huvudsak\",Insatser!D171,\"\")","v":""}]
[null,{"$f":"IF(Insatser!B172=\"Ja, i huvudsak\",Insatser!A172,\"\")","v":""},{"$f":"IF(Insatser!B172=\"Ja, i huvudsak\",Insatser!C172,\"\")","v":""},{"$f":"IF(Insatser!B172=\"Ja, i huvudsak\",Insatser!D172,\"\")","v":""}]
[null,"VET EJ","KOMMENTAR","LÄSHÄNVISNINGAR"]
[null,{"$f":"IF('Styrning och kompetens'!B4=\"Vet ej\",'Styrning och kompetens'!A4,\"\")","v":""},{"$f":"IF('Styrning och kompetens'!B4=\"Vet ej\",'Styrning och kompetens'!C4,\"\")","v":""},{"$f":"IF('Styrning och kompetens'!B4=\"Vet ej\",IF(ISBLANK('Styrning och kompetens'!D4),\"\",'Styrning och kompetens'!D4),\"\")","v":""}]
[null,{"$f":"IF('Styrning och kompetens'!B5=\"Vet ej\",'Styrning och kompetens'!A5,\"\")","v":""},{"$f":"IF('Styrning och kompetens'!B5=\"Vet ej\",'Styrning och kompetens'!C5,\"\")","v":""},{"$f":"IF('Styrning och kompetens'!B5=\"Vet ej\",IF(ISBLANK('Styrning och kompetens'!D5),\"\",'Styrning och kompetens'!D5),\"\")","v":""}]
[null,{"$f":"IF('Styrning och kompetens'!B6=\"Vet ej\",'Styrning och kompetens'!A6,\"\")","v":""},{"$f":"IF('Styrning och kompetens'!B6=\"Vet ej\",'Styrning och kompetens'!C6,\"\")","v":""},{"$f":"IF('Styrning och kompetens'!B6=\"Vet ej\",IF(ISBLANK('Styrning och kompetens'!D6),\"\",'Styrning och kompetens'!D6),\"\")","v":""}]
[null,{"$f":"IF('Styrning och kompetens'!B7=\"Vet ej\",'Styrning och kompetens'!A7,\"\")","v":""},{"$f":"IF('Styrning och kompetens'!B7=\"Vet ej\",'Styrning och kompetens'!C7,\"\")","v":""},{"$f":"IF('Styrning och kompetens'!B7=\"Vet ej\",IF(ISBLANK('Styrning och kompetens'!D7),\"\",'Styrning och kompetens'!D7),\"\")","v":""}]
[null,{"$f":"IF('Styrning och kompetens'!B8=\"Vet ej\",'Styrning och kompetens'!A8,\"\")","v":""},{"$f":"IF('Styrning och kompetens'!B8=\"Vet ej\",'Styrning och kompetens'!C8,\"\")","v":""},{"$f":"IF('Styrning och kompetens'!B8=\"Vet ej\",IF(ISBLANK('Styrning och kompetens'!D8),\"\",'Styrning och kompetens'!D8),\"\")","v":""}]
[null,{"$f":"IF('Styrning och kompetens'!B9=\"Vet ej\",'Styrning och kompetens'!A9,\"\")","v":""},{"$f":"IF('Styrning och kompetens'!B9=\"Vet ej\",'Styrning och kompetens'!C9,\"\")","v":""},{"$f":"IF('Styrning och kompetens'!B9=\"Vet ej\",IF(ISBLANK('Styrning och kompetens'!D9),\"\",'Styrning och kompetens'!D9),\"\")","v":""}]
[null,{"$f":"IF('Styrning och kompetens'!B10=\"Vet ej\",'Styrning och kompetens'!A10,\"\")","v":""},{"$f":"IF('Styrning och kompetens'!B10=\"Vet ej\",'Styrning och kompetens'!C10,\"\")","v":""},{"$f":"IF('Styrning och kompetens'!B10=\"Vet ej\",IF(ISBLANK('Styrning och kompetens'!D10),\"\",'Styrning och kompetens'!D10),\"\")","v":""}]
[null,{"$f":"IF('Styrning och kompetens'!B11=\"Vet ej\",'Styrning och kompetens'!A11,\"\")","v":""},{"$f":"IF('Styrning och kompetens'!B11=\"Vet ej\",'Styrning och kompetens'!C11,\"\")","v":""},{"$f":"IF('Styrning och kompetens'!B11=\"Vet ej\",IF(ISBLANK('Styrning och kompetens'!D11),\"\",'Styrning och kompetens'!D11),\"\")","v":""}]
[null,{"$f":"IF('Styrning och kompetens'!B12=\"Vet ej\",'Styrning och kompetens'!A12,\"\")","v":""},{"$f":"IF('Styrning och kompetens'!B12=\"Vet ej\",'Styrning och kompetens'!C12,\"\")","v":""},{"$f":"IF('Styrning och kompetens'!B12=\"Vet ej\",IF(ISBLANK('Styrning och kompetens'!D12),\"\",'Styrning och kompetens'!D12),\"\")","v":""}]
[null,{"$f":"IF('Styrning och kompetens'!B13=\"Vet ej\",'Styrning och kompetens'!A13,\"\")","v":""},{"$f":"IF('Styrning och kompetens'!B13=\"Vet ej\",'Styrning och kompetens'!C13,\"\")","v":""},{"$f":"IF('Styrning och kompetens'!B13=\"Vet ej\",IF(ISBLANK('Styrning och kompetens'!D13),\"\",'Styrning och kompetens'!D13),\"\")","v":""}]
[null,{"$f":"IF('Styrning och kompetens'!B14=\"Vet ej\",'Styrning och kompetens'!A14,\"\")","v":""},{"$f":"IF('Styrning och kompetens'!B14=\"Vet ej\",'Styrning och kompetens'!C14,\"\")","v":""},{"$f":"IF('Styrning och kompetens'!B14=\"Vet ej\",IF(ISBLANK('Styrning och kompetens'!D14),\"\",'Styrning och kompetens'!D14),\"\")","v":""}]
[null,{"$f":"IF('Styrning och kompetens'!B15=\"Vet ej\",'Styrning och kompetens'!A15,\"\")","v":""},{"$f":"IF('Styrning och kompetens'!B15=\"Vet ej\",'Styrning och kompetens'!C15,\"\")","v":""},{"$f":"IF('Styrning och kompetens'!B15=\"Vet ej\",IF(ISBLANK('Styrning och kompetens'!D15),\"\",'Styrning och kompetens'!D15),\"\")","v":""}]
[null,{"$f":"IF('Styrning och kompetens'!B16=\"Vet ej\",'Styrning och kompetens'!A16,\"\")","v":""},{"$f":"IF('Styrning och kompetens'!B16=\"Vet ej\",'Styrning och kompetens'!C16,\"\")","v":""},{"$f":"IF('Styrning och kompetens'!B16=\"Vet ej\",IF(ISBLANK('Styrning och kompetens'!D16),\"\",'Styrning och kompetens'!D16),\"\")","v":""}]
[null,{"$f":"IF('Styrning och kompetens'!B17=\"Vet ej\",'Styrning och kompetens'!A17,\"\")","v":""},{"$f":"IF('Styrning och kompetens'!B17=\"Vet ej\",'Styrning och kompetens'!C17,\"\")","v":""},{"$f":"IF('Styrning och kompetens'!B17=\"Vet ej\",IF(ISBLANK('Styrning och kompetens'!D17),\"\",'Styrning och kompetens'!D17),\"\")","v":""}]
[null,{"$f":"IF('Styrning och kompetens'!B18=\"Vet ej\",'Styrning och kompetens'!A18,\"\")","v":""},{"$f":"IF('Styrning och kompetens'!B18=\"Vet ej\",'Styrning och kompetens'!C18,\"\")","v":""},{"$f":"IF('Styrning och kompetens'!B18=\"Vet ej\",IF(ISBLANK('Styrning och kompetens'!D18),\"\",'Styrning och kompetens'!D18),\"\")","v":""}]
[null,{"$f":"IF('Styrning och kompetens'!B19=\"Vet ej\",'Styrning och kompetens'!A19,\"\")","v":""},{"$f":"IF('Styrning och kompetens'!B19=\"Vet ej\",'Styrning och kompetens'!C19,\"\")","v":""},{"$f":"IF('Styrning och kompetens'!B19=\"Vet ej\",IF(ISBLANK('Styrning och kompetens'!D19),\"\",'Styrning och kompetens'!D19),\"\")","v":""}]
[null,{"$f":"IF('Styrning och kompetens'!B20=\"Vet ej\",'Styrning och kompetens'!A20,\"\")","v":""},{"$f":"IF('Styrning och kompetens'!B20=\"Vet ej\",'Styrning och kompetens'!C20,\"\")","v":""},{"$f":"IF('Styrning och kompetens'!B20=\"Vet ej\",IF(ISBLANK('Styrning och kompetens'!D20),\"\",'Styrning och kompetens'!D20),\"\")","v":""}]
[null,{"$f":"IF('Styrning och kompetens'!B21=\"Vet ej\",'Styrning och kompetens'!A21,\"\")","v":""},{"$f":"IF('Styrning och kompetens'!B21=\"Vet ej\",'Styrning och kompetens'!C21,\"\")","v":""},{"$f":"IF('Styrning och kompetens'!B21=\"Vet ej\",IF(ISBLANK('Styrning och kompetens'!D21),\"\",'Styrning och kompetens'!D21),\"\")","v":""}]
[null,{"$f":"IF('Styrning och kompetens'!B22=\"Vet ej\",'Styrning och kompetens'!A22,\"\")","v":""},{"$f":"IF('Styrning och kompetens'!B22=\"Vet ej\",'Styrning och kompetens'!C22,\"\")","v":""},{"$f":"IF('Styrning och kompetens'!B22=\"Vet ej\",IF(ISBLANK('Styrning och kompetens'!D22),\"\",'Styrning och kompetens'!D22),\"\")","v":""}]
[null,{"$f":"IF('Styrning och kompetens'!B23=\"Vet ej\",'Styrning och kompetens'!A23,\"\")","v":""},{"$f":"IF('Styrning och kompetens'!B23=\"Vet ej\",'Styrning och kompetens'!C23,\"\")","v":""},{"$f":"IF('Styrning och kompetens'!B23=\"Vet ej\",IF(ISBLANK('Styrning och kompetens'!D23),\"\",'Styrning och kompetens'!D23),\"\")","v":""}]
[null,{"$f":"IF('Styrning och kompetens'!B24=\"Vet ej\",'Styrning och kompetens'!A24,\"\")","v":""},{"$f":"IF('Styrning och kompetens'!B24=\"Vet ej\",'Styrning och kompetens'!C24,\"\")","v":""},{"$f":"IF('Styrning och kompetens'!B24=\"Vet ej\",IF(ISBLANK('Styrning och kompetens'!D24),\"\",'Styrning och kompetens'!D24),\"\")","v":""}]
[null,{"$f":"IF('Styrning och kompetens'!B25=\"Vet ej\",'Styrning och kompetens'!A25,\"\")","v":""},{"$f":"IF('Styrning och kompetens'!B25=\"Vet ej\",'Styrning och kompetens'!C25,\"\")","v":""},{"$f":"IF('Styrning och kompetens'!B25=\"Vet ej\",IF(ISBLANK('Styrning och kompetens'!D25),\"\",'Styrning och kompetens'!D25),\"\")","v":""}]
[null,{"$f":"IF('Styrning och kompetens'!B26=\"Vet ej\",'Styrning och kompetens'!A26,\"\")","v":""},{"$f":"IF('Styrning och kompetens'!B26=\"Vet ej\",'Styrning och kompetens'!C26,\"\")","v":""},{"$f":"IF('Styrning och kompetens'!B26=\"Vet ej\",IF(ISBLANK('Styrning och kompetens'!D26),\"\",'Styrning och kompetens'!D26),\"\")","v":""}]
[null,{"$f":"IF('Styrning och kompetens'!B27=\"Vet ej\",'Styrning och kompetens'!A27,\"\")","v":""},{"$f":"IF('Styrning och kompetens'!B27=\"Vet ej\",'Styrning och kompetens'!C27,\"\")","v":""},{"$f":"IF('Styrning och kompetens'!B27=\"Vet ej\",IF(ISBLANK('Styrning och kompetens'!D27),\"\",'Styrning och kompetens'!D27),\"\")","v":""}]
[null,{"$f":"IF('Styrning och kompetens'!B28=\"Vet ej\",'Styrning och kompetens'!A28,\"\")","v":""},{"$f":"IF('Styrning och kompetens'!B28=\"Vet ej\",'Styrning och kompetens'!C28,\"\")","v":""},{"$f":"IF('Styrning och kompetens'!B28=\"Vet ej\",IF(ISBLANK('Styrning och kompetens'!D28),\"\",'Styrning och kompetens'!D28),\"\")","v":""}]
[null,{"$f":"IF('Styrning och kompetens'!B29=\"Vet ej\",'Styrning och kompetens'!A29,\"\")","v":""},{"$f":"IF('Styrning och kompetens'!B29=\"Vet ej\",'Styrning och kompetens'!C29,\"\")","v":""},{"$f":"IF('Styrning och kompetens'!B29=\"Vet ej\",IF(ISBLANK('Styrning och kompetens'!D29),\"\",'Styrning och kompetens'!D29),\"\")","v":""}]
[null,{"$f":"IF('Styrning och kompetens'!B30=\"Vet ej\",'Styrning och kompetens'!A30,\"\")","v":""},{"$f":"IF('Styrning och kompetens'!B30=\"Vet ej\",'Styrning och kompetens'!C30,\"\")","v":""},{"$f":"IF('Styrning och kompetens'!B30=\"Vet ej\",IF(ISBLANK('Styrning och kompetens'!D30),\"\",'Styrning och kompetens'!D30),\"\")","v":""}]
[null,{"$f":"IF('Styrning och kompetens'!B31=\"Vet ej\",'Styrning och kompetens'!A31,\"\")","v":""},{"$f":"IF('Styrning och kompetens'!B31=\"Vet ej\",'Styrning och kompetens'!C31,\"\")","v":""},{"$f":"IF('Styrning och kompetens'!B31=\"Vet ej\",IF(ISBLANK('Styrning och kompetens'!D31),\"\",'Styrning och kompetens'!D31),\"\")","v":""}]
[null,{"$f":"IF('Styrning och kompetens'!B32=\"Vet ej\",'Styrning och kompetens'!A32,\"\")","v":""},{"$f":"IF('Styrning och kompetens'!B32=\"Vet ej\",'Styrning och kompetens'!C32,\"\")","v":""},{"$f":"IF('Styrning och kompetens'!B32=\"Vet ej\",IF(ISBLANK('Styrning och kompetens'!D32),\"\",'Styrning och kompetens'!D32),\"\")","v":""}]
[null,{"$f":"IF('Styrning och kompetens'!B33=\"Vet ej\",'Styrning och kompetens'!A33,\"\")","v":""},{"$f":"IF('Styrning och kompetens'!B33=\"Vet ej\",'Styrning och kompetens'!C33,\"\")","v":""},{"$f":"IF('Styrning och kompetens'!B33=\"Vet ej\",IF(ISBLANK('Styrning och kompetens'!D33),\"\",'Styrning och kompetens'!D33),\"\")","v":""}]
[null,{"$f":"IF('Styrning och kompetens'!B34=\"Vet ej\",'Styrning och kompetens'!A34,\"\")","v":""},{"$f":"IF('Styrning och kompetens'!B34=\"Vet ej\",'Styrning och kompetens'!C34,\"\")","v":""},{"$f":"IF('Styrning och kompetens'!B34=\"Vet ej\",IF(ISBLANK('Styrning och kompetens'!D34),\"\",'Styrning och kompetens'!D34),\"\")","v":""}]
[null,{"$f":"IF('Styrning och kompetens'!B35=\"Vet ej\",'Styrning och kompetens'!A35,\"\")","v":""},{"$f":"IF('Styrning och kompetens'!B35=\"Vet ej\",'Styrning och kompetens'!C35,\"\")","v":""},{"$f":"IF('Styrning och kompetens'!B35=\"Vet ej\",IF(ISBLANK('Styrning och kompetens'!D35),\"\",'Styrning och kompetens'!D35),\"\")","v":""}]
[null,{"$f":"IF('Styrning och kompetens'!B36=\"Vet ej\",'Styrning och kompetens'!A36,\"\")","v":""},{"$f":"IF('Styrning och kompetens'!B36=\"Vet ej\",'Styrning och kompetens'!C36,\"\")","v":""},{"$f":"IF('Styrning och kompetens'!B36=\"Vet ej\",IF(ISBLANK('Styrning och kompetens'!D36),\"\",'Styrning och kompetens'!D36),\"\")","v":""}]
[null,{"$f":"IF('Styrning och kompetens'!B37=\"Vet ej\",'Styrning och kompetens'!A37,\"\")","v":""},{"$f":"IF('Styrning och kompetens'!B37=\"Vet ej\",'Styrning och kompetens'!C37,\"\")","v":""},{"$f":"IF('Styrning och kompetens'!B37=\"Vet ej\",IF(ISBLANK('Styrning och kompetens'!D37),\"\",'Styrning och kompetens'!D37),\"\")","v":""}]
[null,{"$f":"IF('Styrning och kompetens'!B38=\"Vet ej\",'Styrning och kompetens'!A38,\"\")","v":""},{"$f":"IF('Styrning och kompetens'!B38=\"Vet ej\",'Styrning och kompetens'!C38,\"\")","v":""},{"$f":"IF('Styrning och kompetens'!B38=\"Vet ej\",IF(ISBLANK('Styrning och kompetens'!D38),\"\",'Styrning och kompetens'!D38),\"\")","v":""}]
[null,{"$f":"IF('Styrning och kompetens'!B39=\"Vet ej\",'Styrning och kompetens'!A39,\"\")","v":""},{"$f":"IF('Styrning och kompetens'!B39=\"Vet ej\",'Styrning och kompetens'!C39,\"\")","v":""},{"$f":"IF('Styrning och kompetens'!B39=\"Vet ej\",IF(ISBLANK('Styrning och kompetens'!D39),\"\",'Styrning och kompetens'!D39),\"\")","v":""}]
[null,{"$f":"IF('Styrning och kompetens'!B40=\"Vet ej\",'Styrning och kompetens'!A40,\"\")","v":""},{"$f":"IF('Styrning och kompetens'!B40=\"Vet ej\",'Styrning och kompetens'!C40,\"\")","v":""},{"$f":"IF('Styrning och kompetens'!B40=\"Vet ej\",IF(ISBLANK('Styrning och kompetens'!D40),\"\",'Styrning och kompetens'!D40),\"\")","v":""}]
[null,{"$f":"IF('Styrning och kompetens'!B41=\"Vet ej\",'Styrning och kompetens'!A41,\"\")","v":""},{"$f":"IF('Styrning och kompetens'!B41=\"Vet ej\",'Styrning och kompetens'!C41,\"\")","v":""},{"$f":"IF('Styrning och kompetens'!B41=\"Vet ej\",IF(ISBLANK('Styrning och kompetens'!D41),\"\",'Styrning och kompetens'!D41),\"\")","v":""}]
[null,{"$f":"IF('Styrning och kompetens'!B42=\"Vet ej\",'Styrning och kompetens'!A42,\"\")","v":""},{"$f":"IF('Styrning och kompetens'!B42=\"Vet ej\",'Styrning och kompetens'!C42,\"\")","v":""},{"$f":"IF('Styrning och kompetens'!B42=\"Vet ej\",IF(ISBLANK('Styrning och kompetens'!D42),\"\",'Styrning och kompetens'!D42),\"\")","v":""}]
[null,{"$f":"IF('Styrning och kompetens'!B43=\"Vet ej\",'Styrning och kompetens'!A43,\"\")","v":""},{"$f":"IF('Styrning och kompetens'!B43=\"Vet ej\",'Styrning och kompetens'!C43,\"\")","v":""},{"$f":"IF('Styrning och kompetens'!B43=\"Vet ej\",IF(ISBLANK('Styrning och kompetens'!D43),\"\",'Styrning och kompetens'!D43),\"\")","v":""}]
[null,{"$f":"IF('Styrning och kompetens'!B44=\"Vet ej\",'Styrning och kompetens'!A44,\"\")","v":""},{"$f":"IF('Styrning och kompetens'!B44=\"Vet ej\",'Styrning och kompetens'!C44,\"\")","v":""},{"$f":"IF('Styrning och kompetens'!B44=\"Vet ej\",IF(ISBLANK('Styrning och kompetens'!D44),\"\",'Styrning och kompetens'!D44),\"\")","v":""}]
[null,{"$f":"IF('Styrning och kompetens'!B45=\"Vet ej\",'Styrning och kompetens'!A45,\"\")","v":""},{"$f":"IF('Styrning och kompetens'!B45=\"Vet ej\",'Styrning och kompetens'!C45,\"\")","v":""},{"$f":"IF('Styrning och kompetens'!B45=\"Vet ej\",IF(ISBLANK('Styrning och kompetens'!D45),\"\",'Styrning och kompetens'!D45),\"\")","v":""}]
[null,{"$f":"IF('Styrning och kompetens'!B46=\"Vet ej\",'Styrning och kompetens'!A46,\"\")","v":""},{"$f":"IF('Styrning och kompetens'!B46=\"Vet ej\",'Styrning och kompetens'!C46,\"\")","v":""},{"$f":"IF('Styrning och kompetens'!B46=\"Vet ej\",IF(ISBLANK('Styrning och kompetens'!D46),\"\",'Styrning och kompetens'!D46),\"\")","v":""}]
[null,{"$f":"IF('Styrning och kompetens'!B47=\"Vet ej\",'Styrning och kompetens'!A47,\"\")","v":""},{"$f":"IF('Styrning och kompetens'!B47=\"Vet ej\",'Styrning och kompetens'!C47,\"\")","v":""},{"$f":"IF('Styrning och kompetens'!B47=\"Vet ej\",IF(ISBLANK('Styrning och kompetens'!D47),\"\",'Styrning och kompetens'!D47),\"\")","v":""}]
[null,{"$f":"IF('Styrning och kompetens'!B48=\"Vet ej\",'Styrning och kompetens'!A48,\"\")","v":""},{"$f":"IF('Styrning och kompetens'!B48=\"Vet ej\",'Styrning och kompetens'!C48,\"\")","v":""},{"$f":"IF('Styrning och kompetens'!B48=\"Vet ej\",IF(ISBLANK('Styrning och kompetens'!D48),\"\",'Styrning och kompetens'!D48),\"\")","v":""}]
[null,{"$f":"IF('Styrning och kompetens'!B49=\"Vet ej\",'Styrning och kompetens'!A49,\"\")","v":""},{"$f":"IF('Styrning och kompetens'!B49=\"Vet ej\",'Styrning och kompetens'!C49,\"\")","v":""},{"$f":"IF('Styrning och kompetens'!B49=\"Vet ej\",IF(ISBLANK('Styrning och kompetens'!D49),\"\",'Styrning och kompetens'!D49),\"\")","v":""}]
[null,{"$f":"IF('Styrning och kompetens'!B50=\"Vet ej\",'Styrning och kompetens'!A50,\"\")","v":""},{"$f":"IF('Styrning och kompetens'!B50=\"Vet ej\",'Styrning och kompetens'!C50,\"\")","v":""},{"$f":"IF('Styrning och kompetens'!B50=\"Vet ej\",IF(ISBLANK('Styrning och kompetens'!D50),\"\",'Styrning och kompetens'!D50),\"\")","v":""}]
[null,{"$f":"IF('Styrning och kompetens'!B51=\"Vet ej\",'Styrning och kompetens'!A51,\"\")","v":""},{"$f":"IF('Styrning och kompetens'!B51=\"Vet ej\",'Styrning och kompetens'!C51,\"\")","v":""},{"$f":"IF('Styrning och kompetens'!B51=\"Vet ej\",IF(ISBLANK('Styrning och kompetens'!D51),\"\",'Styrning och kompetens'!D51),\"\")","v":""}]
[null,{"$f":"IF('Styrning och kompetens'!B52=\"Vet ej\",'Styrning och kompetens'!A52,\"\")","v":""},{"$f":"IF('Styrning och kompetens'!B52=\"Vet ej\",'Styrning och kompetens'!C52,\"\")","v":""},{"$f":"IF('Styrning och kompetens'!B52=\"Vet ej\",IF(ISBLANK('Styrning och kompetens'!D52),\"\",'Styrning och kompetens'!D52),\"\")","v":""}]
[null,{"$f":"IF('Styrning och kompetens'!B53=\"Vet ej\",'Styrning och kompetens'!A53,\"\")","v":""},{"$f":"IF('Styrning och kompetens'!B53=\"Vet ej\",'Styrning och kompetens'!C53,\"\")","v":""},{"$f":"IF('Styrning och kompetens'!B53=\"Vet ej\",IF(ISBLANK('Styrning och kompetens'!D53),\"\",'Styrning och kompetens'!D53),\"\")","v":""}]
[null,{"$f":"IF('Styrning och kompetens'!B54=\"Vet ej\",'Styrning och kompetens'!A54,\"\")","v":""},{"$f":"IF('Styrning och kompetens'!B54=\"Vet ej\",'Styrning och kompetens'!C54,\"\")","v":""},{"$f":"IF('Styrning och kompetens'!B54=\"Vet ej\",IF(ISBLANK('Styrning och kompetens'!D54),\"\",'Styrning och kompetens'!D54),\"\")","v":""}]
[null,{"$f":"IF('Styrning och kompetens'!B55=\"Vet ej\",'Styrning och kompetens'!A55,\"\")","v":""},{"$f":"IF('Styrning och kompetens'!B55=\"Vet ej\",'Styrning och kompetens'!C55,\"\")","v":""},{"$f":"IF('Styrning och kompetens'!B55=\"Vet ej\",IF(ISBLANK('Styrning och kompetens'!D55),\"\",'Styrning och kompetens'!D55),\"\")","v":""}]
[null,{"$f":"IF('Styrning och kompetens'!B56=\"Vet ej\",'Styrning och kompetens'!A56,\"\")","v":""},{"$f":"IF('Styrning och kompetens'!B56=\"Vet ej\",'Styrning och kompetens'!C56,\"\")","v":""},{"$f":"IF('Styrning och kompetens'!B56=\"Vet ej\",IF(ISBLANK('Styrning och kompetens'!D56),\"\",'Styrning och kompetens'!D56),\"\")","v":""}]
[null,{"$f":"IF('Styrning och kompetens'!B57=\"Vet ej\",'Styrning och kompetens'!A57,\"\")","v":""},{"$f":"IF('Styrning och kompetens'!B57=\"Vet ej\",'Styrning och kompetens'!C57,\"\")","v":""},{"$f":"IF('Styrning och kompetens'!B57=\"Vet ej\",IF(ISBLANK('Styrning och kompetens'!D57),\"\",'Styrning och kompetens'!D57),\"\")","v":""}]
[null,{"$f":"IF('Styrning och kompetens'!B58=\"Vet ej\",'Styrning och kompetens'!A58,\"\")","v":""},{"$f":"IF('Styrning och kompetens'!B58=\"Vet ej\",'Styrning och kompetens'!C58,\"\")","v":""},{"$f":"IF('Styrning och kompetens'!B58=\"Vet ej\",IF(ISBLANK('Styrning och kompetens'!D58),\"\",'Styrning och kompetens'!D58),\"\")","v":""}]
[null,{"$f":"IF('Styrning och kompetens'!B59=\"Vet ej\",'Styrning och kompetens'!A59,\"\")","v":""},{"$f":"IF('Styrning och kompetens'!B59=\"Vet ej\",'Styrning och kompetens'!C59,\"\")","v":""},{"$f":"IF('Styrning och kompetens'!B59=\"Vet ej\",IF(ISBLANK('Styrning och kompetens'!D59),\"\",'Styrning och kompetens'!D59),\"\")","v":""}]
[null,{"$f":"IF('Styrning och kompetens'!B60=\"Vet ej\",'Styrning och kompetens'!A60,\"\")","v":""},{"$f":"IF('Styrning och kompetens'!B60=\"Vet ej\",'Styrning och kompetens'!C60,\"\")","v":""},{"$f":"IF('Styrning och kompetens'!B60=\"Vet ej\",IF(ISBLANK('Styrning och kompetens'!D60),\"\",'Styrning och kompetens'!D60),\"\")","v":""}]
[null,{"$f":"IF('Styrning och kompetens'!B61=\"Vet ej\",'Styrning och kompetens'!A61,\"\")","v":""},{"$f":"IF('Styrning och kompetens'!B61=\"Vet ej\",'Styrning och kompetens'!C61,\"\")","v":""},{"$f":"IF('Styrning och kompetens'!B61=\"Vet ej\",IF(ISBLANK('Styrning och kompetens'!D61),\"\",'Styrning och kompetens'!D61),\"\")","v":""}]
[null,{"$f":"IF('Styrning och kompetens'!B62=\"Vet ej\",'Styrning och kompetens'!A62,\"\")","v":""},{"$f":"IF('Styrning och kompetens'!B62=\"Vet ej\",'Styrning och kompetens'!C62,\"\")","v":""},{"$f":"IF('Styrning och kompetens'!B62=\"Vet ej\",IF(ISBLANK('Styrning och kompetens'!D62),\"\",'Styrning och kompetens'!D62),\"\")","v":""}]
[null,{"$f":"IF('Styrning och kompetens'!B63=\"Vet ej\",'Styrning och kompetens'!A63,\"\")","v":""},{"$f":"IF('Styrning och kompetens'!B63=\"Vet ej\",'Styrning och kompetens'!C63,\"\")","v":""},{"$f":"IF('Styrning och kompetens'!B63=\"Vet ej\",IF(ISBLANK('Styrning och kompetens'!D63),\"\",'Styrning och kompetens'!D63),\"\")","v":""}]
[null,{"$f":"IF('Styrning och kompetens'!B64=\"Vet ej\",'Styrning och kompetens'!A64,\"\")","v":""},{"$f":"IF('Styrning och kompetens'!B64=\"Vet ej\",'Styrning och kompetens'!C64,\"\")","v":""},{"$f":"IF('Styrning och kompetens'!B64=\"Vet ej\",IF(ISBLANK('Styrning och kompetens'!D64),\"\",'Styrning och kompetens'!D64),\"\")","v":""}]
[null,{"$f":"IF('Styrning och kompetens'!B65=\"Vet ej\",'Styrning och kompetens'!A65,\"\")","v":""},{"$f":"IF('Styrning och kompetens'!B65=\"Vet ej\",'Styrning och kompetens'!C65,\"\")","v":""},{"$f":"IF('Styrning och kompetens'!B65=\"Vet ej\",IF(ISBLANK('Styrning och kompetens'!D65),\"\",'Styrning och kompetens'!D65),\"\")","v":""}]
[null,{"$f":"IF('Styrning och kompetens'!B66=\"Vet ej\",'Styrning och kompetens'!A66,\"\")","v":""},{"$f":"IF('Styrning och kompetens'!B66=\"Vet ej\",'Styrning och kompetens'!C66,\"\")","v":""},{"$f":"IF('Styrning och kompetens'!B66=\"Vet ej\",IF(ISBLANK('Styrning och kompetens'!D66),\"\",'Styrning och kompetens'!D66),\"\")","v":""}]
[null,{"$f":"IF('Styrning och kompetens'!B67=\"Vet ej\",'Styrning och kompetens'!A67,\"\")","v":""},{"$f":"IF('Styrning och kompetens'!B67=\"Vet ej\",'Styrning och kompetens'!C67,\"\")","v":""},{"$f":"IF('Styrning och kompetens'!B67=\"Vet ej\",IF(ISBLANK('Styrning och kompetens'!D67),\"\",'Styrning och kompetens'!D67),\"\")","v":""}]
[null,{"$f":"IF('Styrning och kompetens'!B68=\"Vet ej\",'Styrning och kompetens'!A68,\"\")","v":""},{"$f":"IF('Styrning och kompetens'!B68=\"Vet ej\",'Styrning och kompetens'!C68,\"\")","v":""},{"$f":"IF('Styrning och kompetens'!B68=\"Vet ej\",IF(ISBLANK('Styrning och kompetens'!D68),\"\",'Styrning och kompetens'!D68),\"\")","v":""}]
[null,{"$f":"IF('Styrning och kompetens'!B69=\"Vet ej\",'Styrning och kompetens'!A69,\"\")","v":""},{"$f":"IF('Styrning och kompetens'!B69=\"Vet ej\",'Styrning och kompetens'!C69,\"\")","v":""},{"$f":"IF('Styrning och kompetens'!B69=\"Vet ej\",IF(ISBLANK('Styrning och kompetens'!D69),\"\",'Styrning och kompetens'!D69),\"\")","v":""}]
[null,{"$f":"IF('Styrning och kompetens'!B70=\"Vet ej\",'Styrning och kompetens'!A70,\"\")","v":""},{"$f":"IF('Styrning och kompetens'!B70=\"Vet ej\",'Styrning och kompetens'!C70,\"\")","v":""},{"$f":"IF('Styrning och kompetens'!B70=\"Vet ej\",IF(ISBLANK('Styrning och kompetens'!D70),\"\",'Styrning och kompetens'!D70),\"\")","v":""}]
[null,{"$f":"IF('Styrning och kompetens'!B71=\"Vet ej\",'Styrning och kompetens'!A71,\"\")","v":""},{"$f":"IF('Styrning och kompetens'!B71=\"Vet ej\",'Styrning och kompetens'!C71,\"\")","v":""},{"$f":"IF('Styrning och kompetens'!B71=\"Vet ej\",IF(ISBLANK('Styrning och kompetens'!D71),\"\",'Styrning och kompetens'!D71),\"\")","v":""}]
[null,{"$f":"IF('Styrning och kompetens'!B72=\"Vet ej\",'Styrning och kompetens'!A72,\"\")","v":""},{"$f":"IF('Styrning och kompetens'!B72=\"Vet ej\",'Styrning och kompetens'!C72,\"\")","v":""},{"$f":"IF('Styrning och kompetens'!B72=\"Vet ej\",IF(ISBLANK('Styrning och kompetens'!D72),\"\",'Styrning och kompetens'!D72),\"\")","v":""}]
[null,{"$f":"IF('Styrning och kompetens'!B73=\"Vet ej\",'Styrning och kompetens'!A73,\"\")","v":""},{"$f":"IF('Styrning och kompetens'!B73=\"Vet ej\",'Styrning och kompetens'!C73,\"\")","v":""},{"$f":"IF('Styrning och kompetens'!B73=\"Vet ej\",IF(ISBLANK('Styrning och kompetens'!D73),\"\",'Styrning och kompetens'!D73),\"\")","v":""}]
[null,{"$f":"IF('Styrning och kompetens'!B74=\"Vet ej\",'Styrning och kompetens'!A74,\"\")","v":""},{"$f":"IF('Styrning och kompetens'!B74=\"Vet ej\",'Styrning och kompetens'!C74,\"\")","v":""},{"$f":"IF('Styrning och kompetens'!B74=\"Vet ej\",IF(ISBLANK('Styrning och kompetens'!D74),\"\",'Styrning och kompetens'!D74),\"\")","v":""}]
[null,{"$f":"IF('Styrning och kompetens'!B75=\"Vet ej\",'Styrning och kompetens'!A75,\"\")","v":""},{"$f":"IF('Styrning och kompetens'!B75=\"Vet ej\",'Styrning och kompetens'!C75,\"\")","v":""},{"$f":"IF('Styrning och kompetens'!B75=\"Vet ej\",IF(ISBLANK('Styrning och kompetens'!D75),\"\",'Styrning och kompetens'!D75),\"\")","v":""}]
[null,{"$f":"IF('Styrning och kompetens'!B76=\"Vet ej\",'Styrning och kompetens'!A76,\"\")","v":""},{"$f":"IF('Styrning och kompetens'!B76=\"Vet ej\",'Styrning och kompetens'!C76,\"\")","v":""},{"$f":"IF('Styrning och kompetens'!B76=\"Vet ej\",IF(ISBLANK('Styrning och kompetens'!D76),\"\",'Styrning och kompetens'!D76),\"\")","v":""}]
[null,{"$f":"IF('Styrning och kompetens'!B77=\"Vet ej\",'Styrning och kompetens'!A77,\"\")","v":""},{"$f":"IF('Styrning och kompetens'!B77=\"Vet ej\",'Styrning och kompetens'!C77,\"\")","v":""},{"$f":"IF('Styrning och kompetens'!B77=\"Vet ej\",IF(ISBLANK('Styrning och kompetens'!D77),\"\",'Styrning och kompetens'!D77),\"\")","v":""}]
[null,{"$f":"IF('Styrning och kompetens'!B78=\"Vet ej\",'Styrning och kompetens'!A78,\"\")","v":""},{"$f":"IF('Styrning och kompetens'!B78=\"Vet ej\",'Styrning och kompetens'!C78,\"\")","v":""},{"$f":"IF('Styrning och kompetens'!B78=\"Vet ej\",IF(ISBLANK('Styrning och kompetens'!D78),\"\",'Styrning och kompetens'!D78),\"\")","v":""}]
[null,{"$f":"IF('Styrning och kompetens'!B79=\"Vet ej\",'Styrning och kompetens'!A79,\"\")","v":""},{"$f":"IF('Styrning och kompetens'!B79=\"Vet ej\",'Styrning och kompetens'!C79,\"\")","v":""},{"$f":"IF('Styrning och kompetens'!B79=\"Vet ej\",IF(ISBLANK('Styrning och kompetens'!D79),\"\",'Styrning och kompetens'!D79),\"\")","v":""}]
[null,{"$f":"IF('Styrning och kompetens'!B80=\"Vet ej\",'Styrning och kompetens'!A80,\"\")","v":""},{"$f":"IF('Styrning och kompetens'!B80=\"Vet ej\",'Styrning och kompetens'!C80,\"\")","v":""},{"$f":"IF('Styrning och kompetens'!B80=\"Vet ej\",IF(ISBLANK('Styrning och kompetens'!D80),\"\",'Styrning och kompetens'!D80),\"\")","v":""}]
[null,{"$f":"IF('Styrning och kompetens'!B81=\"Vet ej\",'Styrning och kompetens'!A81,\"\")","v":""},{"$f":"IF('Styrning och kompetens'!B81=\"Vet ej\",'Styrning och kompetens'!C81,\"\")","v":""},{"$f":"IF('Styrning och kompetens'!B81=\"Vet ej\",IF(ISBLANK('Styrning och kompetens'!D81),\"\",'Styrning och kompetens'!D81),\"\")","v":""}]
[null,{"$f":"IF('Styrning och kompetens'!B82=\"Vet ej\",'Styrning och kompetens'!A82,\"\")","v":""},{"$f":"IF('Styrning och kompetens'!B82=\"Vet ej\",'Styrning och kompetens'!C82,\"\")","v":""},{"$f":"IF('Styrning och kompetens'!B82=\"Vet ej\",IF(ISBLANK('Styrning och kompetens'!D82),\"\",'Styrning och kompetens'!D82),\"\")","v":""}]
[null,{"$f":"IF('Styrning och kompetens'!B83=\"Vet ej\",'Styrning och kompetens'!A83,\"\")","v":""},{"$f":"IF('Styrning och kompetens'!B83=\"Vet ej\",'Styrning och kompetens'!C83,\"\")","v":""},{"$f":"IF('Styrning och kompetens'!B83=\"Vet ej\",IF(ISBLANK('Styrning och kompetens'!D83),\"\",'Styrning och kompetens'!D83),\"\")","v":""}]
[null,{"$f":"IF('Styrning och kompetens'!B84=\"Vet ej\",'Styrning och kompetens'!A84,\"\")","v":""},{"$f":"IF('Styrning och kompetens'!B84=\"Vet ej\",'Styrning och kompetens'!C84,\"\")","v":""},{"$f":"IF('Styrning och kompetens'!B84=\"Vet ej\",IF(ISBLANK('Styrning och kompetens'!D84),\"\",'Styrning och kompetens'!D84),\"\")","v":""}]
[null,{"$f":"IF('Styrning och kompetens'!B85=\"Vet ej\",'Styrning och kompetens'!A85,\"\")","v":""},{"$f":"IF('Styrning och kompetens'!B85=\"Vet ej\",'Styrning och kompetens'!C85,\"\")","v":""},{"$f":"IF('Styrning och kompetens'!B85=\"Vet ej\",IF(ISBLANK('Styrning och kompetens'!D85),\"\",'Styrning och kompetens'!D85),\"\")","v":""}]
[null,{"$f":"IF('Styrning och kompetens'!B86=\"Vet ej\",'Styrning och kompetens'!A86,\"\")","v":""},{"$f":"IF('Styrning och kompetens'!B86=\"Vet ej\",'Styrning och kompetens'!C86,\"\")","v":""},{"$f":"IF('Styrning och kompetens'!B86=\"Vet ej\",IF(ISBLANK('Styrning och kompetens'!D86),\"\",'Styrning och kompetens'!D86),\"\")","v":""}]
[null,{"$f":"IF('Styrning och kompetens'!B87=\"Vet ej\",'Styrning och kompetens'!A87,\"\")","v":""},{"$f":"IF('Styrning och kompetens'!B87=\"Vet ej\",'Styrning och kompetens'!C87,\"\")","v":""},{"$f":"IF('Styrning och kompetens'!B87=\"Vet ej\",IF(ISBLANK('Styrning och kompetens'!D87),\"\",'Styrning och kompetens'!D87),\"\")","v":""}]
[null,{"$f":"IF('Styrning och kompetens'!B88=\"Vet ej\",'Styrning och kompetens'!A88,\"\")","v":""},{"$f":"IF('Styrning och kompetens'!B88=\"Vet ej\",'Styrning och kompetens'!C88,\"\")","v":""},{"$f":"IF('Styrning och kompetens'!B88=\"Vet ej\",IF(ISBLANK('Styrning och kompetens'!D88),\"\",'Styrning och kompetens'!D88),\"\")","v":""}]
[null,{"$f":"IF('Styrning och kompetens'!B89=\"Vet ej\",'Styrning och kompetens'!A89,\"\")","v":""},{"$f":"IF('Styrning och kompetens'!B89=\"Vet ej\",'Styrning och kompetens'!C89,\"\")","v":""},{"$f":"IF('Styrning och kompetens'!B89=\"Vet ej\",IF(ISBLANK('Styrning och kompetens'!D89),\"\",'Styrning och kompetens'!D89),\"\")","v":""}]
[null,{"$f":"IF('Styrning och kompetens'!B90=\"Vet ej\",'Styrning och kompetens'!A90,\"\")","v":""},{"$f":"IF('Styrning och kompetens'!B90=\"Vet ej\",'Styrning och kompetens'!C90,\"\")","v":""},{"$f":"IF('Styrning och kompetens'!B90=\"Vet ej\",IF(ISBLANK('Styrning och kompetens'!D90),\"\",'Styrning och kompetens'!D90),\"\")","v":""}]
[null,{"$f":"IF('Styrning och kompetens'!B91=\"Vet ej\",'Styrning och kompetens'!A91,\"\")","v":""},{"$f":"IF('Styrning och kompetens'!B91=\"Vet ej\",'Styrning och kompetens'!C91,\"\")","v":""},{"$f":"IF('Styrning och kompetens'!B91=\"Vet ej\",IF(ISBLANK('Styrning och kompetens'!D91),\"\",'Styrning och kompetens'!D91),\"\")","v":""}]
[null,{"$f":"IF('Styrning och kompetens'!B92=\"Vet ej\",'Styrning och kompetens'!A92,\"\")","v":""},{"$f":"IF('Styrning och kompetens'!B92=\"Vet ej\",'Styrning och kompetens'!C92,\"\")","v":""},{"$f":"IF('Styrning och kompetens'!B92=\"Vet ej\",IF(ISBLANK('Styrning och kompetens'!D92),\"\",'Styrning och kompetens'!D92),\"\")","v":""}]
[null,{"$f":"IF('Styrning och kompetens'!B93=\"Vet ej\",'Styrning och kompetens'!A93,\"\")","v":""},{"$f":"IF('Styrning och kompetens'!B93=\"Vet ej\",'Styrning och kompetens'!C93,\"\")","v":""},{"$f":"IF('Styrning och kompetens'!B93=\"Vet ej\",IF(ISBLANK('Styrning och kompetens'!D93),\"\",'Styrning och kompetens'!D93),\"\")","v":""}]
[null,{"$f":"IF('Styrning och kompetens'!B94=\"Vet ej\",'Styrning och kompetens'!A94,\"\")","v":""},{"$f":"IF('Styrning och kompetens'!B94=\"Vet ej\",'Styrning och kompetens'!C94,\"\")","v":""},{"$f":"IF('Styrning och kompetens'!B94=\"Vet ej\",IF(ISBLANK('Styrning och kompetens'!D94),\"\",'Styrning och kompetens'!D94),\"\")","v":""}]
[null,{"$f":"IF('Styrning och kompetens'!B95=\"Vet ej\",'Styrning och kompetens'!A95,\"\")","v":""},{"$f":"IF('Styrning och kompetens'!B95=\"Vet ej\",'Styrning och kompetens'!C95,\"\")","v":""},{"$f":"IF('Styrning och kompetens'!B95=\"Vet ej\",IF(ISBLANK('Styrning och kompetens'!D95),\"\",'Styrning och kompetens'!D95),\"\")","v":""}]
[null,{"$f":"IF('Styrning och kompetens'!B96=\"Vet ej\",'Styrning och kompetens'!A96,\"\")","v":""},{"$f":"IF('Styrning och kompetens'!B96=\"Vet ej\",'Styrning och kompetens'!C96,\"\")","v":""},{"$f":"IF('Styrning och kompetens'!B96=\"Vet ej\",IF(ISBLANK('Styrning och kompetens'!D96),\"\",'Styrning och kompetens'!D96),\"\")","v":""}]
[null,{"$f":"IF('Styrning och kompetens'!B97=\"Vet ej\",'Styrning och kompetens'!A97,\"\")","v":""},{"$f":"IF('Styrning och kompetens'!B97=\"Vet ej\",'Styrning och kompetens'!C97,\"\")","v":""},{"$f":"IF('Styrning och kompetens'!B97=\"Vet ej\",IF(ISBLANK('Styrning och kompetens'!D97),\"\",'Styrning och kompetens'!D97),\"\")","v":""}]
[null,{"$f":"IF('Styrning och kompetens'!B98=\"Vet ej\",'Styrning och kompetens'!A98,\"\")","v":""},{"$f":"IF('Styrning och kompetens'!B98=\"Vet ej\",'Styrning och kompetens'!C98,\"\")","v":""},{"$f":"IF('Styrning och kompetens'!B98=\"Vet ej\",IF(ISBLANK('Styrning och kompetens'!D98),\"\",'Styrning och kompetens'!D98),\"\")","v":""}]
[null,{"$f":"IF('Styrning och kompetens'!B99=\"Vet ej\",'Styrning och kompetens'!A99,\"\")","v":""},{"$f":"IF('Styrning och kompetens'!B99=\"Vet ej\",'Styrning och kompetens'!C99,\"\")","v":""},{"$f":"IF('Styrning och kompetens'!B99=\"Vet ej\",IF(ISBLANK('Styrning och kompetens'!D99),\"\",'Styrning och kompetens'!D99),\"\")","v":""}]
[null,{"$f":"IF('Styrning och kompetens'!B100=\"Vet ej\",'Styrning och kompetens'!A100,\"\")","v":""},{"$f":"IF('Styrning och kompetens'!B100=\"Vet ej\",'Styrning och kompetens'!C100,\"\")","v":""},{"$f":"IF('Styrning och kompetens'!B100=\"Vet ej\",IF(ISBLANK('Styrning och kompetens'!D100),\"\",'Styrning och kompetens'!D100),\"\")","v":""}]
[null,{"$f":"IF('Styrning och kompetens'!B101=\"Vet ej\",'Styrning och kompetens'!A101,\"\")","v":""},{"$f":"IF('Styrning och kompetens'!B101=\"Vet ej\",'Styrning och kompetens'!C101,\"\")","v":""},{"$f":"IF('Styrning och kompetens'!B101=\"Vet ej\",IF(ISBLANK('Styrning och kompetens'!D101),\"\",'Styrning och kompetens'!D101),\"\")","v":""}]
[null,{"$f":"IF('Styrning och kompetens'!B102=\"Vet ej\",'Styrning och kompetens'!A102,\"\")","v":""},{"$f":"IF('Styrning och kompetens'!B102=\"Vet ej\",'Styrning och kompetens'!C102,\"\")","v":""},{"$f":"IF('Styrning och kompetens'!B102=\"Vet ej\",IF(ISBLANK('Styrning och kompetens'!D102),\"\",'Styrning och kompetens'!D102),\"\")","v":""}]
[null,{"$f":"IF('Styrning och kompetens'!B103=\"Vet ej\",'Styrning och kompetens'!A103,\"\")","v":""},{"$f":"IF('Styrning och kompetens'!B103=\"Vet ej\",'Styrning och kompetens'!C103,\"\")","v":""},{"$f":"IF('Styrning och kompetens'!B103=\"Vet ej\",IF(ISBLANK('Styrning och kompetens'!D103),\"\",'Styrning och kompetens'!D103),\"\")","v":""}]
[null,{"$f":"IF('Styrning och kompetens'!B104=\"Vet ej\",'Styrning och kompetens'!A104,\"\")","v":""},{"$f":"IF('Styrning och kompetens'!B104=\"Vet ej\",'Styrning och kompetens'!C104,\"\")","v":""},{"$f":"IF('Styrning och kompetens'!B104=\"Vet ej\",IF(ISBLANK('Styrning och kompetens'!D104),\"\",'Styrning och kompetens'!D104),\"\")","v":""}]
[null,{"$f":"IF('Styrning och kompetens'!B105=\"Vet ej\",'Styrning och kompetens'!A105,\"\")","v":""},{"$f":"IF('Styrning och kompetens'!B105=\"Vet ej\",'Styrning och kompetens'!C105,\"\")","v":""},{"$f":"IF('Styrning och kompetens'!B105=\"Vet ej\",IF(ISBLANK('Styrning och kompetens'!D105),\"\",'Styrning och kompetens'!D105),\"\")","v":""}]
[null,{"$f":"IF('Styrning och kompetens'!B106=\"Vet ej\",'Styrning och kompetens'!A106,\"\")","v":""},{"$f":"IF('Styrning och kompetens'!B106=\"Vet ej\",'Styrning och kompetens'!C106,\"\")","v":""},{"$f":"IF('Styrning och kompetens'!B106=\"Vet ej\",IF(ISBLANK('Styrning och kompetens'!D106),\"\",'Styrning och kompetens'!D106),\"\")","v":""}]
[null,{"$f":"IF('Styrning och kompetens'!B107=\"Vet ej\",'Styrning och kompetens'!A107,\"\")","v":""},{"$f":"IF('Styrning och kompetens'!B107=\"Vet ej\",'Styrning och kompetens'!C107,\"\")","v":""},{"$f":"IF('Styrning och kompetens'!B107=\"Vet ej\",IF(ISBLANK('Styrning och kompetens'!D107),\"\",'Styrning och kompetens'!D107),\"\")","v":""}]
[null,{"$f":"IF('Styrning och kompetens'!B108=\"Vet ej\",'Styrning och kompetens'!A108,\"\")","v":""},{"$f":"IF('Styrning och kompetens'!B108=\"Vet ej\",'Styrning och kompetens'!C108,\"\")","v":""},{"$f":"IF('Styrning och kompetens'!B108=\"Vet ej\",IF(ISBLANK('Styrning och kompetens'!D108),\"\",'Styrning och kompetens'!D108),\"\")","v":""}]
[null,{"$f":"IF('Styrning och kompetens'!B109=\"Vet ej\",'Styrning och kompetens'!A109,\"\")","v":""},{"$f":"IF('Styrning och kompetens'!B109=\"Vet ej\",'Styrning och kompetens'!C109,\"\")","v":""},{"$f":"IF('Styrning och kompetens'!B109=\"Vet ej\",IF(ISBLANK('Styrning och kompetens'!D109),\"\",'Styrning och kompetens'!D109),\"\")","v":""}]
[null,{"$f":"IF('Styrning och kompetens'!B110=\"Vet ej\",'Styrning och kompetens'!A110,\"\")","v":""},{"$f":"IF('Styrning och kompetens'!B110=\"Vet ej\",'Styrning och kompetens'!C110,\"\")","v":""},{"$f":"IF('Styrning och kompetens'!B110=\"Vet ej\",IF(ISBLANK('Styrning och kompetens'!D110),\"\",'Styrning och kompetens'!D110),\"\")","v":""}]
[null,{"$f":"IF('Styrning och kompetens'!B111=\"Vet ej\",'Styrning och kompetens'!A111,\"\")","v":""},{"$f":"IF('Styrning och kompetens'!B111=\"Vet ej\",'Styrning och kompetens'!C111,\"\")","v":""},{"$f":"IF('Styrning och kompetens'!B111=\"Vet ej\",IF(ISBLANK('Styrning och kompetens'!D111),\"\",'Styrning och kompetens'!D111),\"\")","v":""}]
[null,{"$f":"IF('Styrning och kompetens'!B112=\"Vet ej\",'Styrning och kompetens'!A112,\"\")","v":""},{"$f":"IF('Styrning och kompetens'!B112=\"Vet ej\",'Styrning och kompetens'!C112,\"\")","v":""},{"$f":"IF('Styrning och kompetens'!B112=\"Vet ej\",IF(ISBLANK('Styrning och kompetens'!D112),\"\",'Styrning och kompetens'!D112),\"\")","v":""}]
[null,{"$f":"IF('Styrning och kompetens'!B113=\"Vet ej\",'Styrning och kompetens'!A113,\"\")","v":""},{"$f":"IF('Styrning och kompetens'!B113=\"Vet ej\",'Styrning och kompetens'!C113,\"\")","v":""},{"$f":"IF('Styrning och kompetens'!B113=\"Vet ej\",IF(ISBLANK('Styrning och kompetens'!D113),\"\",'Styrning och kompetens'!D113),\"\")","v":""}]
[null,{"$f":"IF('Styrning och kompetens'!B114=\"Vet ej\",'Styrning och kompetens'!A114,\"\")","v":""},{"$f":"IF('Styrning och kompetens'!B114=\"Vet ej\",'Styrning och kompetens'!C114,\"\")","v":""},{"$f":"IF('Styrning och kompetens'!B114=\"Vet ej\",IF(ISBLANK('Styrning och kompetens'!D114),\"\",'Styrning och kompetens'!D114),\"\")","v":""}]
[null,{"$f":"IF('Styrning och kompetens'!B115=\"Vet ej\",'Styrning och kompetens'!A115,\"\")","v":""},{"$f":"IF('Styrning och kompetens'!B115=\"Vet ej\",'Styrning och kompetens'!C115,\"\")","v":""},{"$f":"IF('Styrning och kompetens'!B115=\"Vet ej\",IF(ISBLANK('Styrning och kompetens'!D115),\"\",'Styrning och kompetens'!D115),\"\")","v":""}]
[null,{"$f":"IF('Styrning och kompetens'!B116=\"Vet ej\",'Styrning och kompetens'!A116,\"\")","v":""},{"$f":"IF('Styrning och kompetens'!B116=\"Vet ej\",'Styrning och kompetens'!C116,\"\")","v":""},{"$f":"IF('Styrning och kompetens'!B116=\"Vet ej\",IF(ISBLANK('Styrning och kompetens'!D116),\"\",'Styrning och kompetens'!D116),\"\")","v":""}]
[null,{"$f":"IF('Styrning och kompetens'!B117=\"Vet ej\",'Styrning och kompetens'!A117,\"\")","v":""},{"$f":"IF('Styrning och kompetens'!B117=\"Vet ej\",'Styrning och kompetens'!C117,\"\")","v":""},{"$f":"IF('Styrning och kompetens'!B117=\"Vet ej\",IF(ISBLANK('Styrning och kompetens'!D117),\"\",'Styrning och kompetens'!D117),\"\")","v":""}]
[null,{"$f":"IF('Styrning och kompetens'!B118=\"Vet ej\",'Styrning och kompetens'!A118,\"\")","v":""},{"$f":"IF('Styrning och kompetens'!B118=\"Vet ej\",'Styrning och kompetens'!C118,\"\")","v":""},{"$f":"IF('Styrning och kompetens'!B118=\"Vet ej\",IF(ISBLANK('Styrning och kompetens'!D118),\"\",'Styrning och kompetens'!D118),\"\")","v":""}]
[null,{"$f":"IF('Styrning och kompetens'!B119=\"Vet ej\",'Styrning och kompetens'!A119,\"\")","v":""},{"$f":"IF('Styrning och kompetens'!B119=\"Vet ej\",'Styrning och kompetens'!C119,\"\")","v":""},{"$f":"IF('Styrning och kompetens'!B119=\"Vet ej\",IF(ISBLANK('Styrning och kompetens'!D119),\"\",'Styrning och kompetens'!D119),\"\")","v":""}]
[null,{"$f":"IF('Styrning och kompetens'!B120=\"Vet ej\",'Styrning och kompetens'!A120,\"\")","v":""},{"$f":"IF('Styrning och kompetens'!B120=\"Vet ej\",'Styrning och kompetens'!C120,\"\")","v":""},{"$f":"IF('Styrning och kompetens'!B120=\"Vet ej\",IF(ISBLANK('Styrning och kompetens'!D120),\"\",'Styrning och kompetens'!D120),\"\")","v":""}]
[null,{"$f":"IF('Styrning och kompetens'!B121=\"Vet ej\",'Styrning och kompetens'!A121,\"\")","v":""},{"$f":"IF('Styrning och kompetens'!B121=\"Vet ej\",'Styrning och kompetens'!C121,\"\")","v":""},{"$f":"IF('Styrning och kompetens'!B121=\"Vet ej\",IF(ISBLANK('Styrning och kompetens'!D121),\"\",'Styrning och kompetens'!D121),\"\")","v":""}]
[null,{"$f":"IF('Styrning och kompetens'!B122=\"Vet ej\",'Styrning och kompetens'!A122,\"\")","v":""},{"$f":"IF('Styrning och kompetens'!B122=\"Vet ej\",'Styrning och kompetens'!C122,\"\")","v":""},{"$f":"IF('Styrning och kompetens'!B122=\"Vet ej\",IF(ISBLANK('Styrning och kompetens'!D122),\"\",'Styrning och kompetens'!D122),\"\")","v":""}]
[null,{"$f":"IF('Styrning och kompetens'!B123=\"Vet ej\",'Styrning och kompetens'!A123,\"\")","v":""},{"$f":"IF('Styrning och kompetens'!B123=\"Vet ej\",'Styrning och kompetens'!C123,\"\")","v":""},{"$f":"IF('Styrning och kompetens'!B123=\"Vet ej\",IF(ISBLANK('Styrning och kompetens'!D123),\"\",'Styrning och kompetens'!D123),\"\")","v":""}]
[null,{"$f":"IF('Styrning och kompetens'!B124=\"Vet ej\",'Styrning och kompetens'!A124,\"\")","v":""},{"$f":"IF('Styrning och kompetens'!B124=\"Vet ej\",'Styrning och kompetens'!C124,\"\")","v":""},{"$f":"IF('Styrning och kompetens'!B124=\"Vet ej\",IF(ISBLANK('Styrning och kompetens'!D124),\"\",'Styrning och kompetens'!D124),\"\")","v":""}]
[null,{"$f":"IF('Styrning och kompetens'!B125=\"Vet ej\",'Styrning och kompetens'!A125,\"\")","v":""},{"$f":"IF('Styrning och kompetens'!B125=\"Vet ej\",'Styrning och kompetens'!C125,\"\")","v":""},{"$f":"IF('Styrning och kompetens'!B125=\"Vet ej\",IF(ISBLANK('Styrning och kompetens'!D125),\"\",'Styrning och kompetens'!D125),\"\")","v":""}]
[null,{"$f":"IF('Styrning och kompetens'!B126=\"Vet ej\",'Styrning och kompetens'!A126,\"\")","v":""},{"$f":"IF('Styrning och kompetens'!B126=\"Vet ej\",'Styrning och kompetens'!C126,\"\")","v":""},{"$f":"IF('Styrning och kompetens'!B126=\"Vet ej\",IF(ISBLANK('Styrning och kompetens'!D126),\"\",'Styrning och kompetens'!D126),\"\")","v":""}]
[null,{"$f":"IF('Styrning och kompetens'!B127=\"Vet ej\",'Styrning och kompetens'!A127,\"\")","v":""},{"$f":"IF('Styrning och kompetens'!B127=\"Vet ej\",'Styrning och kompetens'!C127,\"\")","v":""},{"$f":"IF('Styrning och kompetens'!B127=\"Vet ej\",IF(ISBLANK('Styrning och kompetens'!D127),\"\",'Styrning och kompetens'!D127),\"\")","v":""}]
[null,{"$f":"IF('Styrning och kompetens'!B128=\"Vet ej\",'Styrning och kompetens'!A128,\"\")","v":""},{"$f":"IF('Styrning och kompetens'!B128=\"Vet ej\",'Styrning och kompetens'!C128,\"\")","v":""},{"$f":"IF('Styrning och kompetens'!B128=\"Vet ej\",IF(ISBLANK('Styrning och kompetens'!D128),\"\",'Styrning och kompetens'!D128),\"\")","v":""}]
[null,{"$f":"IF('Styrning och kompetens'!B129=\"Vet ej\",'Styrning och kompetens'!A129,\"\")","v":""},{"$f":"IF('Styrning och kompetens'!B129=\"Vet ej\",'Styrning och kompetens'!C129,\"\")","v":""},{"$f":"IF('Styrning och kompetens'!B129=\"Vet ej\",IF(ISBLANK('Styrning och kompetens'!D129),\"\",'Styrning och kompetens'!D129),\"\")","v":""}]
[null,{"$f":"IF('Styrning och kompetens'!B130=\"Vet ej\",'Styrning och kompetens'!A130,\"\")","v":""},{"$f":"IF('Styrning och kompetens'!B130=\"Vet ej\",'Styrning och kompetens'!C130,\"\")","v":""},{"$f":"IF('Styrning och kompetens'!B130=\"Vet ej\",IF(ISBLANK('Styrning och kompetens'!D130),\"\",'Styrning och kompetens'!D130),\"\")","v":""}]
[null,{"$f":"IF('Styrning och kompetens'!B131=\"Vet ej\",'Styrning och kompetens'!A131,\"\")","v":""},{"$f":"IF('Styrning och kompetens'!B131=\"Vet ej\",'Styrning och kompetens'!C131,\"\")","v":""},{"$f":"IF('Styrning och kompetens'!B131=\"Vet ej\",IF(ISBLANK('Styrning och kompetens'!D131),\"\",'Styrning och kompetens'!D131),\"\")","v":""}]
[null,{"$f":"IF('Styrning och kompetens'!B132=\"Vet ej\",'Styrning och kompetens'!A132,\"\")","v":""},{"$f":"IF('Styrning och kompetens'!B132=\"Vet ej\",'Styrning och kompetens'!C132,\"\")","v":""},{"$f":"IF('Styrning och kompetens'!B132=\"Vet ej\",IF(ISBLANK('Styrning och kompetens'!D132),\"\",'Styrning och kompetens'!D132),\"\")","v":""}]
[null,{"$f":"IF('Styrning och kompetens'!B133=\"Vet ej\",'Styrning och kompetens'!A133,\"\")","v":""},{"$f":"IF('Styrning och kompetens'!B133=\"Vet ej\",'Styrning och kompetens'!C133,\"\")","v":""},{"$f":"IF('Styrning och kompetens'!B133=\"Vet ej\",IF(ISBLANK('Styrning och kompetens'!D133),\"\",'Styrning och kompetens'!D133),\"\")","v":""}]
[null,{"$f":"IF('Styrning och kompetens'!B134=\"Vet ej\",'Styrning och kompetens'!A134,\"\")","v":""},{"$f":"IF('Styrning och kompetens'!B134=\"Vet ej\",'Styrning och kompetens'!C134,\"\")","v":""},{"$f":"IF('Styrning och kompetens'!B134=\"Vet ej\",IF(ISBLANK('Styrning och kompetens'!D134),\"\",'Styrning och kompetens'!D134),\"\")","v":""}]
[null,{"$f":"IF('Styrning och kompetens'!B135=\"Vet ej\",'Styrning och kompetens'!A135,\"\")","v":""},{"$f":"IF('Styrning och kompetens'!B135=\"Vet ej\",'Styrning och kompetens'!C135,\"\")","v":""},{"$f":"IF('Styrning och kompetens'!B135=\"Vet ej\",IF(ISBLANK('Styrning och kompetens'!D135),\"\",'Styrning och kompetens'!D135),\"\")","v":""}]
[null,{"$f":"IF('Styrning och kompetens'!B136=\"Vet ej\",'Styrning och kompetens'!A136,\"\")","v":""},{"$f":"IF('Styrning och kompetens'!B136=\"Vet ej\",'Styrning och kompetens'!C136,\"\")","v":""},{"$f":"IF('Styrning och kompetens'!B136=\"Vet ej\",IF(ISBLANK('Styrning och kompetens'!D136),\"\",'Styrning och kompetens'!D136),\"\")","v":""}]
[null,{"$f":"IF('Styrning och kompetens'!B137=\"Vet ej\",'Styrning och kompetens'!A137,\"\")","v":""},{"$f":"IF('Styrning och kompetens'!B137=\"Vet ej\",'Styrning och kompetens'!C137,\"\")","v":""},{"$f":"IF('Styrning och kompetens'!B137=\"Vet ej\",IF(ISBLANK('Styrning och kompetens'!D137),\"\",'Styrning och kompetens'!D137),\"\")","v":""}]
[null,{"$f":"IF('Styrning och kompetens'!B138=\"Vet ej\",'Styrning och kompetens'!A138,\"\")","v":""},{"$f":"IF('Styrning och kompetens'!B138=\"Vet ej\",'Styrning och kompetens'!C138,\"\")","v":""},{"$f":"IF('Styrning och kompetens'!B138=\"Vet ej\",IF(ISBLANK('Styrning och kompetens'!D138),\"\",'Styrning och kompetens'!D138),\"\")","v":""}]
[null,{"$f":"IF('Styrning och kompetens'!B139=\"Vet ej\",'Styrning och kompetens'!A139,\"\")","v":""},{"$f":"IF('Styrning och kompetens'!B139=\"Vet ej\",'Styrning och kompetens'!C139,\"\")","v":""},{"$f":"IF('Styrning och kompetens'!B139=\"Vet ej\",IF(ISBLANK('Styrning och kompetens'!D139),\"\",'Styrning och kompetens'!D139),\"\")","v":""}]
[null,{"$f":"IF('Styrning och kompetens'!B140=\"Vet ej\",'Styrning och kompetens'!A140,\"\")","v":""},{"$f":"IF('Styrning och kompetens'!B140=\"Vet ej\",'Styrning och kompetens'!C140,\"\")","v":""},{"$f":"IF('Styrning och kompetens'!B140=\"Vet ej\",IF(ISBLANK('Styrning och kompetens'!D140),\"\",'Styrning och kompetens'!D140),\"\")","v":""}]
[null,{"$f":"IF('Styrning och kompetens'!B141=\"Vet ej\",'Styrning och kompetens'!A141,\"\")","v":""},{"$f":"IF('Styrning och kompetens'!B141=\"Vet ej\",'Styrning och kompetens'!C141,\"\")","v":""},{"$f":"IF('Styrning och kompetens'!B141=\"Vet ej\",IF(ISBLANK('Styrning och kompetens'!D141),\"\",'Styrning och kompetens'!D141),\"\")","v":""}]
[null,{"$f":"IF('Styrning och kompetens'!B142=\"Vet ej\",'Styrning och kompetens'!A142,\"\")","v":""},{"$f":"IF('Styrning och kompetens'!B142=\"Vet ej\",'Styrning och kompetens'!C142,\"\")","v":""},{"$f":"IF('Styrning och kompetens'!B142=\"Vet ej\",IF(ISBLANK('Styrning och kompetens'!D142),\"\",'Styrning och kompetens'!D142),\"\")","v":""}]
[null,{"$f":"IF('Styrning och kompetens'!B143=\"Vet ej\",'Styrning och kompetens'!A143,\"\")","v":""},{"$f":"IF('Styrning och kompetens'!B143=\"Vet ej\",'Styrning och kompetens'!C143,\"\")","v":""},{"$f":"IF('Styrning och kompetens'!B143=\"Vet ej\",IF(ISBLANK('Styrning och kompetens'!D143),\"\",'Styrning och kompetens'!D143),\"\")","v":""}]
[null,{"$f":"IF('Styrning och kompetens'!B144=\"Vet ej\",'Styrning och kompetens'!A144,\"\")","v":""},{"$f":"IF('Styrning och kompetens'!B144=\"Vet ej\",'Styrning och kompetens'!C144,\"\")","v":""},{"$f":"IF('Styrning och kompetens'!B144=\"Vet ej\",IF(ISBLANK('Styrning och kompetens'!D144),\"\",'Styrning och kompetens'!D144),\"\")","v":""}]
[null,{"$f":"IF('Styrning och kompetens'!B145=\"Vet ej\",'Styrning och kompetens'!A145,\"\")","v":""},{"$f":"IF('Styrning och kompetens'!B145=\"Vet ej\",'Styrning och kompetens'!C145,\"\")","v":""},{"$f":"IF('Styrning och kompetens'!B145=\"Vet ej\",IF(ISBLANK('Styrning och kompetens'!D145),\"\",'Styrning och kompetens'!D145),\"\")","v":""}]
[null,{"$f":"IF('Styrning och kompetens'!B146=\"Vet ej\",'Styrning och kompetens'!A146,\"\")","v":""},{"$f":"IF('Styrning och kompetens'!B146=\"Vet ej\",'Styrning och kompetens'!C146,\"\")","v":""},{"$f":"IF('Styrning och kompetens'!B146=\"Vet ej\",IF(ISBLANK('Styrning och kompetens'!D146),\"\",'Styrning och kompetens'!D146),\"\")","v":""}]
[null,{"$f":"IF('Styrning och kompetens'!B147=\"Vet ej\",'Styrning och kompetens'!A147,\"\")","v":""},{"$f":"IF('Styrning och kompetens'!B147=\"Vet ej\",'Styrning och kompetens'!C147,\"\")","v":""},{"$f":"IF('Styrning och kompetens'!B147=\"Vet ej\",IF(ISBLANK('Styrning och kompetens'!D147),\"\",'Styrning och kompetens'!D147),\"\")","v":""}]
[null,{"$f":"IF('Styrning och kompetens'!B148=\"Vet ej\",'Styrning och kompetens'!A148,\"\")","v":""},{"$f":"IF('Styrning och kompetens'!B148=\"Vet ej\",'Styrning och kompetens'!C148,\"\")","v":""},{"$f":"IF('Styrning och kompetens'!B148=\"Vet ej\",IF(ISBLANK('Styrning och kompetens'!D148),\"\",'Styrning och kompetens'!D148),\"\")","v":""}]
[null,{"$f":"IF('Styrning och kompetens'!B149=\"Vet ej\",'Styrning och kompetens'!A149,\"\")","v":""},{"$f":"IF('Styrning och kompetens'!B149=\"Vet ej\",'Styrning och kompetens'!C149,\"\")","v":""},{"$f":"IF('Styrning och kompetens'!B149=\"Vet ej\",IF(ISBLANK('Styrning och kompetens'!D149),\"\",'Styrning och kompetens'!D149),\"\")","v":""}]
[null,{"$f":"IF('Styrning och kompetens'!B150=\"Vet ej\",'Styrning och kompetens'!A150,\"\")","v":""},{"$f":"IF('Styrning och kompetens'!B150=\"Vet ej\",'Styrning och kompetens'!C150,\"\")","v":""},{"$f":"IF('Styrning och kompetens'!B150=\"Vet ej\",IF(ISBLANK('Styrning och kompetens'!D150),\"\",'Styrning och kompetens'!D150),\"\")","v":""}]
[null,{"$f":"IF('Styrning och kompetens'!B151=\"Vet ej\",'Styrning och kompetens'!A151,\"\")","v":""},{"$f":"IF('Styrning och kompetens'!B151=\"Vet ej\",'Styrning och kompetens'!C151,\"\")","v":""},{"$f":"IF('Styrning och kompetens'!B151=\"Vet ej\",IF(ISBLANK('Styrning och kompetens'!D151),\"\",'Styrning och kompetens'!D151),\"\")","v":""}]
[null,{"$f":"IF('Styrning och kompetens'!B152=\"Vet ej\",'Styrning och kompetens'!A152,\"\")","v":""},{"$f":"IF('Styrning och kompetens'!B152=\"Vet ej\",'Styrning och kompetens'!C152,\"\")","v":""},{"$f":"IF('Styrning och kompetens'!B152=\"Vet ej\",IF(ISBLANK('Styrning och kompetens'!D152),\"\",'Styrning och kompetens'!D152),\"\")","v":""}]
[null,{"$f":"IF('Styrning och kompetens'!B153=\"Vet ej\",'Styrning och kompetens'!A153,\"\")","v":""},{"$f":"IF('Styrning och kompetens'!B153=\"Vet ej\",'Styrning och kompetens'!C153,\"\")","v":""},{"$f":"IF('Styrning och kompetens'!B153=\"Vet ej\",IF(ISBLANK('Styrning och kompetens'!D153),\"\",'Styrning och kompetens'!D153),\"\")","v":""}]
[null,{"$f":"IF('Styrning och kompetens'!B154=\"Vet ej\",'Styrning och kompetens'!A154,\"\")","v":""},{"$f":"IF('Styrning och kompetens'!B154=\"Vet ej\",'Styrning och kompetens'!C154,\"\")","v":""},{"$f":"IF('Styrning och kompetens'!B154=\"Vet ej\",IF(ISBLANK('Styrning och kompetens'!D154),\"\",'Styrning och kompetens'!D154),\"\")","v":""}]
[null,{"$f":"IF('Styrning och kompetens'!B155=\"Vet ej\",'Styrning och kompetens'!A155,\"\")","v":""},{"$f":"IF('Styrning och kompetens'!B155=\"Vet ej\",'Styrning och kompetens'!C155,\"\")","v":""},{"$f":"IF('Styrning och kompetens'!B155=\"Vet ej\",IF(ISBLANK('Styrning och kompetens'!D155),\"\",'Styrning och kompetens'!D155),\"\")","v":""}]
[null,{"$f":"IF('Styrning och kompetens'!B156=\"Vet ej\",'Styrning och kompetens'!A156,\"\")","v":""},{"$f":"IF('Styrning och kompetens'!B156=\"Vet ej\",'Styrning och kompetens'!C156,\"\")","v":""},{"$f":"IF('Styrning och kompetens'!B156=\"Vet ej\",IF(ISBLANK('Styrning och kompetens'!D156),\"\",'Styrning och kompetens'!D156),\"\")","v":""}]
[null,{"$f":"IF('Styrning och kompetens'!B157=\"Vet ej\",'Styrning och kompetens'!A157,\"\")","v":""},{"$f":"IF('Styrning och kompetens'!B157=\"Vet ej\",'Styrning och kompetens'!C157,\"\")","v":""},{"$f":"IF('Styrning och kompetens'!B157=\"Vet ej\",IF(ISBLANK('Styrning och kompetens'!D157),\"\",'Styrning och kompetens'!D157),\"\")","v":""}]
[null,{"$f":"IF('Styrning och kompetens'!B158=\"Vet ej\",'Styrning och kompetens'!A158,\"\")","v":""},{"$f":"IF('Styrning och kompetens'!B158=\"Vet ej\",'Styrning och kompetens'!C158,\"\")","v":""},{"$f":"IF('Styrning och kompetens'!B158=\"Vet ej\",IF(ISBLANK('Styrning och kompetens'!D158),\"\",'Styrning och kompetens'!D158),\"\")","v":""}]
[null,{"$f":"IF('Styrning och kompetens'!B159=\"Vet ej\",'Styrning och kompetens'!A159,\"\")","v":""},{"$f":"IF('Styrning och kompetens'!B159=\"Vet ej\",'Styrning och kompetens'!C159,\"\")","v":""},{"$f":"IF('Styrning och kompetens'!B159=\"Vet ej\",IF(ISBLANK('Styrning och kompetens'!D159),\"\",'Styrning och kompetens'!D159),\"\")","v":""}]
[null,{"$f":"IF('Styrning och kompetens'!B160=\"Vet ej\",'Styrning och kompetens'!A160,\"\")","v":""},{"$f":"IF('Styrning och kompetens'!B160=\"Vet ej\",'Styrning och kompetens'!C160,\"\")","v":""},{"$f":"IF('Styrning och kompetens'!B160=\"Vet ej\",IF(ISBLANK('Styrning och kompetens'!D160),\"\",'Styrning och kompetens'!D160),\"\")","v":""}]
[null,{"$f":"IF('Styrning och kompetens'!B161=\"Vet ej\",'Styrning och kompetens'!A161,\"\")","v":""},{"$f":"IF('Styrning och kompetens'!B161=\"Vet ej\",'Styrning och kompetens'!C161,\"\")","v":""},{"$f":"IF('Styrning och kompetens'!B161=\"Vet ej\",IF(ISBLANK('Styrning och kompetens'!D161),\"\",'Styrning och kompetens'!D161),\"\")","v":""}]
[null,{"$f":"IF('Styrning och kompetens'!B162=\"Vet ej\",'Styrning och kompetens'!A162,\"\")","v":""},{"$f":"IF('Styrning och kompetens'!B162=\"Vet ej\",'Styrning och kompetens'!C162,\"\")","v":""},{"$f":"IF('Styrning och kompetens'!B162=\"Vet ej\",IF(ISBLANK('Styrning och kompetens'!D162),\"\",'Styrning och kompetens'!D162),\"\")","v":""}]
[null,{"$f":"IF('Styrning och kompetens'!B163=\"Vet ej\",'Styrning och kompetens'!A163,\"\")","v":""},{"$f":"IF('Styrning och kompetens'!B163=\"Vet ej\",'Styrning och kompetens'!C163,\"\")","v":""},{"$f":"IF('Styrning och kompetens'!B163=\"Vet ej\",IF(ISBLANK('Styrning och kompetens'!D163),\"\",'Styrning och kompetens'!D163),\"\")","v":""}]
[null,{"$f":"IF('Styrning och kompetens'!B164=\"Vet ej\",'Styrning och kompetens'!A164,\"\")","v":""},{"$f":"IF('Styrning och kompetens'!B164=\"Vet ej\",'Styrning och kompetens'!C164,\"\")","v":""},{"$f":"IF('Styrning och kompetens'!B164=\"Vet ej\",IF(ISBLANK('Styrning och kompetens'!D164),\"\",'Styrning och kompetens'!D164),\"\")","v":""}]
[null,{"$f":"IF('Styrning och kompetens'!B165=\"Vet ej\",'Styrning och kompetens'!A165,\"\")","v":""},{"$f":"IF('Styrning och kompetens'!B165=\"Vet ej\",'Styrning och kompetens'!C165,\"\")","v":""},{"$f":"IF('Styrning och kompetens'!B165=\"Vet ej\",IF(ISBLANK('Styrning och kompetens'!D165),\"\",'Styrning och kompetens'!D165),\"\")","v":""}]
[null,{"$f":"IF('Styrning och kompetens'!B166=\"Vet ej\",'Styrning och kompetens'!A166,\"\")","v":""},{"$f":"IF('Styrning och kompetens'!B166=\"Vet ej\",'Styrning och kompetens'!C166,\"\")","v":""},{"$f":"IF('Styrning och kompetens'!B166=\"Vet ej\",IF(ISBLANK('Styrning och kompetens'!D166),\"\",'Styrning och kompetens'!D166),\"\")","v":""}]
[null,{"$f":"IF('Styrning och kompetens'!B167=\"Vet ej\",'Styrning och kompetens'!A167,\"\")","v":""},{"$f":"IF('Styrning och kompetens'!B167=\"Vet ej\",'Styrning och kompetens'!C167,\"\")","v":""},{"$f":"IF('Styrning och kompetens'!B167=\"Vet ej\",IF(ISBLANK('Styrning och kompetens'!D167),\"\",'Styrning och kompetens'!D167),\"\")","v":""}]
[null,{"$f":"IF('Styrning och kompetens'!B168=\"Vet ej\",'Styrning och kompetens'!A168,\"\")","v":""},{"$f":"IF('Styrning och kompetens'!B168=\"Vet ej\",'Styrning och kompetens'!C168,\"\")","v":""},{"$f":"IF('Styrning och kompetens'!B168=\"Vet ej\",IF(ISBLANK('Styrning och kompetens'!D168),\"\",'Styrning och kompetens'!D168),\"\")","v":""}]
[null,{"$f":"IF('Styrning och kompetens'!B169=\"Vet ej\",'Styrning och kompetens'!A169,\"\")","v":""},{"$f":"IF('Styrning och kompetens'!B169=\"Vet ej\",'Styrning och kompetens'!C169,\"\")","v":""},{"$f":"IF('Styrning och kompetens'!B169=\"Vet ej\",IF(ISBLANK('Styrning och kompetens'!D169),\"\",'Styrning och kompetens'!D169),\"\")","v":""}]
[null,{"$f":"IF('Handläggning och uppföljning'!B4=\"Vet ej\",'Handläggning och uppföljning'!A4,\"\")","v":""},{"$f":"IF('Handläggning och uppföljning'!B4=\"Vet ej\",'Handläggning och uppföljning'!C4,\"\")","v":""},{"$f":"IF('Handläggning och uppföljning'!B4=\"Vet ej\",IF(ISBLANK('Handläggning och uppföljning'!D4),\"\",'Handläggning och uppföljning'!D4),\"\")","v":""}]
[null,{"$f":"IF('Handläggning och uppföljning'!B5=\"Vet ej\",'Handläggning och uppföljning'!A5,\"\")","v":""},{"$f":"IF('Handläggning och uppföljning'!B5=\"Vet ej\",'Handläggning och uppföljning'!C5,\"\")","v":""},{"$f":"IF('Handläggning och uppföljning'!B5=\"Vet ej\",IF(ISBLANK('Handläggning och uppföljning'!D5),\"\",'Handläggning och uppföljning'!D5),\"\")","v":""}]
[null,{"$f":"IF('Handläggning och uppföljning'!B6=\"Vet ej\",'Handläggning och uppföljning'!A6,\"\")","v":""},{"$f":"IF('Handläggning och uppföljning'!B6=\"Vet ej\",'Handläggning och uppföljning'!C6,\"\")","v":""},{"$f":"IF('Handläggning och uppföljning'!B6=\"Vet ej\",IF(ISBLANK('Handläggning och uppföljning'!D6),\"\",'Handläggning och uppföljning'!D6),\"\")","v":""}]
[null,{"$f":"IF('Handläggning och uppföljning'!B7=\"Vet ej\",'Handläggning och uppföljning'!A7,\"\")","v":""},{"$f":"IF('Handläggning och uppföljning'!B7=\"Vet ej\",'Handläggning och uppföljning'!C7,\"\")","v":""},{"$f":"IF('Handläggning och uppföljning'!B7=\"Vet ej\",IF(ISBLANK('Handläggning och uppföljning'!D7),\"\",'Handläggning och uppföljning'!D7),\"\")","v":""}]
[null,{"$f":"IF('Handläggning och uppföljning'!B8=\"Vet ej\",'Handläggning och uppföljning'!A8,\"\")","v":""},{"$f":"IF('Handläggning och uppföljning'!B8=\"Vet ej\",'Handläggning och uppföljning'!C8,\"\")","v":""},{"$f":"IF('Handläggning och uppföljning'!B8=\"Vet ej\",IF(ISBLANK('Handläggning och uppföljning'!D8),\"\",'Handläggning och uppföljning'!D8),\"\")","v":""}]
[null,{"$f":"IF('Handläggning och uppföljning'!B9=\"Vet ej\",'Handläggning och uppföljning'!A9,\"\")","v":""},{"$f":"IF('Handläggning och uppföljning'!B9=\"Vet ej\",'Handläggning och uppföljning'!C9,\"\")","v":""},{"$f":"IF('Handläggning och uppföljning'!B9=\"Vet ej\",IF(ISBLANK('Handläggning och uppföljning'!D9),\"\",'Handläggning och uppföljning'!D9),\"\")","v":""}]
[null,{"$f":"IF('Handläggning och uppföljning'!B10=\"Vet ej\",'Handläggning och uppföljning'!A10,\"\")","v":""},{"$f":"IF('Handläggning och uppföljning'!B10=\"Vet ej\",'Handläggning och uppföljning'!C10,\"\")","v":""},{"$f":"IF('Handläggning och uppföljning'!B10=\"Vet ej\",IF(ISBLANK('Handläggning och uppföljning'!D10),\"\",'Handläggning och uppföljning'!D10),\"\")","v":""}]
[null,{"$f":"IF('Handläggning och uppföljning'!B11=\"Vet ej\",'Handläggning och uppföljning'!A11,\"\")","v":""},{"$f":"IF('Handläggning och uppföljning'!B11=\"Vet ej\",'Handläggning och uppföljning'!C11,\"\")","v":""},{"$f":"IF('Handläggning och uppföljning'!B11=\"Vet ej\",IF(ISBLANK('Handläggning och uppföljning'!D11),\"\",'Handläggning och uppföljning'!D11),\"\")","v":""}]
[null,{"$f":"IF('Handläggning och uppföljning'!B12=\"Vet ej\",'Handläggning och uppföljning'!A12,\"\")","v":""},{"$f":"IF('Handläggning och uppföljning'!B12=\"Vet ej\",'Handläggning och uppföljning'!C12,\"\")","v":""},{"$f":"IF('Handläggning och uppföljning'!B12=\"Vet ej\",IF(ISBLANK('Handläggning och uppföljning'!D12),\"\",'Handläggning och uppföljning'!D12),\"\")","v":""}]
[null,{"$f":"IF('Handläggning och uppföljning'!B13=\"Vet ej\",'Handläggning och uppföljning'!A13,\"\")","v":""},{"$f":"IF('Handläggning och uppföljning'!B13=\"Vet ej\",'Handläggning och uppföljning'!C13,\"\")","v":""},{"$f":"IF('Handläggning och uppföljning'!B13=\"Vet ej\",IF(ISBLANK('Handläggning och uppföljning'!D13),\"\",'Handläggning och uppföljning'!D13),\"\")","v":""}]
[null,{"$f":"IF('Handläggning och uppföljning'!B14=\"Vet ej\",'Handläggning och uppföljning'!A14,\"\")","v":""},{"$f":"IF('Handläggning och uppföljning'!B14=\"Vet ej\",'Handläggning och uppföljning'!C14,\"\")","v":""},{"$f":"IF('Handläggning och uppföljning'!B14=\"Vet ej\",IF(ISBLANK('Handläggning och uppföljning'!D14),\"\",'Handläggning och uppföljning'!D14),\"\")","v":""}]
[null,{"$f":"IF('Handläggning och uppföljning'!B15=\"Vet ej\",'Handläggning och uppföljning'!A15,\"\")","v":""},{"$f":"IF('Handläggning och uppföljning'!B15=\"Vet ej\",'Handläggning och uppföljning'!C15,\"\")","v":""},{"$f":"IF('Handläggning och uppföljning'!B15=\"Vet ej\",IF(ISBLANK('Handläggning och uppföljning'!D15),\"\",'Handläggning och uppföljning'!D15),\"\")","v":""}]
[null,{"$f":"IF('Handläggning och uppföljning'!B16=\"Vet ej\",'Handläggning och uppföljning'!A16,\"\")","v":""},{"$f":"IF('Handläggning och uppföljning'!B16=\"Vet ej\",'Handläggning och uppföljning'!C16,\"\")","v":""},{"$f":"IF('Handläggning och uppföljning'!B16=\"Vet ej\",IF(ISBLANK('Handläggning och uppföljning'!D16),\"\",'Handläggning och uppföljning'!D16),\"\")","v":""}]
[null,{"$f":"IF('Handläggning och uppföljning'!B17=\"Vet ej\",'Handläggning och uppföljning'!A17,\"\")","v":""},{"$f":"IF('Handläggning och uppföljning'!B17=\"Vet ej\",'Handläggning och uppföljning'!C17,\"\")","v":""},{"$f":"IF('Handläggning och uppföljning'!B17=\"Vet ej\",IF(ISBLANK('Handläggning och uppföljning'!D17),\"\",'Handläggning och uppföljning'!D17),\"\")","v":""}]
[null,{"$f":"IF('Handläggning och uppföljning'!B18=\"Vet ej\",'Handläggning och uppföljning'!A18,\"\")","v":""},{"$f":"IF('Handläggning och uppföljning'!B18=\"Vet ej\",'Handläggning och uppföljning'!C18,\"\")","v":""},{"$f":"IF('Handläggning och uppföljning'!B18=\"Vet ej\",IF(ISBLANK('Handläggning och uppföljning'!D18),\"\",'Handläggning och uppföljning'!D18),\"\")","v":""}]
[null,{"$f":"IF('Handläggning och uppföljning'!B19=\"Vet ej\",'Handläggning och uppföljning'!A19,\"\")","v":""},{"$f":"IF('Handläggning och uppföljning'!B19=\"Vet ej\",'Handläggning och uppföljning'!C19,\"\")","v":""},{"$f":"IF('Handläggning och uppföljning'!B19=\"Vet ej\",IF(ISBLANK('Handläggning och uppföljning'!D19),\"\",'Handläggning och uppföljning'!D19),\"\")","v":""}]
[null,{"$f":"IF('Handläggning och uppföljning'!B20=\"Vet ej\",'Handläggning och uppföljning'!A20,\"\")","v":""},{"$f":"IF('Handläggning och uppföljning'!B20=\"Vet ej\",'Handläggning och uppföljning'!C20,\"\")","v":""},{"$f":"IF('Handläggning och uppföljning'!B20=\"Vet ej\",IF(ISBLANK('Handläggning och uppföljning'!D20),\"\",'Handläggning och uppföljning'!D20),\"\")","v":""}]
[null,{"$f":"IF('Handläggning och uppföljning'!B21=\"Vet ej\",'Handläggning och uppföljning'!A21,\"\")","v":""},{"$f":"IF('Handläggning och uppföljning'!B21=\"Vet ej\",'Handläggning och uppföljning'!C21,\"\")","v":""},{"$f":"IF('Handläggning och uppföljning'!B21=\"Vet ej\",IF(ISBLANK('Handläggning och uppföljning'!D21),\"\",'Handläggning och uppföljning'!D21),\"\")","v":""}]
[null,{"$f":"IF('Handläggning och uppföljning'!B22=\"Vet ej\",'Handläggning och uppföljning'!A22,\"\")","v":""},{"$f":"IF('Handläggning och uppföljning'!B22=\"Vet ej\",'Handläggning och uppföljning'!C22,\"\")","v":""},{"$f":"IF('Handläggning och uppföljning'!B22=\"Vet ej\",IF(ISBLANK('Handläggning och uppföljning'!D22),\"\",'Handläggning och uppföljning'!D22),\"\")","v":""}]
[null,{"$f":"IF('Handläggning och uppföljning'!B23=\"Vet ej\",'Handläggning och uppföljning'!A23,\"\")","v":""},{"$f":"IF('Handläggning och uppföljning'!B23=\"Vet ej\",'Handläggning och uppföljning'!C23,\"\")","v":""},{"$f":"IF('Handläggning och uppföljning'!B23=\"Vet ej\",IF(ISBLANK('Handläggning och uppföljning'!D23),\"\",'Handläggning och uppföljning'!D23),\"\")","v":""}]
[null,{"$f":"IF('Handläggning och uppföljning'!B24=\"Vet ej\",'Handläggning och uppföljning'!A24,\"\")","v":""},{"$f":"IF('Handläggning och uppföljning'!B24=\"Vet ej\",'Handläggning och uppföljning'!C24,\"\")","v":""},{"$f":"IF('Handläggning och uppföljning'!B24=\"Vet ej\",IF(ISBLANK('Handläggning och uppföljning'!D24),\"\",'Handläggning och uppföljning'!D24),\"\")","v":""}]
[null,{"$f":"IF('Handläggning och uppföljning'!B25=\"Vet ej\",'Handläggning och uppföljning'!A25,\"\")","v":""},{"$f":"IF('Handläggning och uppföljning'!B25=\"Vet ej\",'Handläggning och uppföljning'!C25,\"\")","v":""},{"$f":"IF('Handläggning och uppföljning'!B25=\"Vet ej\",IF(ISBLANK('Handläggning och uppföljning'!D25),\"\",'Handläggning och uppföljning'!D25),\"\")","v":""}]
[null,{"$f":"IF('Handläggning och uppföljning'!B26=\"Vet ej\",'Handläggning och uppföljning'!A26,\"\")","v":""},{"$f":"IF('Handläggning och uppföljning'!B26=\"Vet ej\",'Handläggning och uppföljning'!C26,\"\")","v":""},{"$f":"IF('Handläggning och uppföljning'!B26=\"Vet ej\",IF(ISBLANK('Handläggning och uppföljning'!D26),\"\",'Handläggning och uppföljning'!D26),\"\")","v":""}]
[null,{"$f":"IF('Handläggning och uppföljning'!B27=\"Vet ej\",'Handläggning och uppföljning'!A27,\"\")","v":""},{"$f":"IF('Handläggning och uppföljning'!B27=\"Vet ej\",'Handläggning och uppföljning'!C27,\"\")","v":""},{"$f":"IF('Handläggning och uppföljning'!B27=\"Vet ej\",IF(ISBLANK('Handläggning och uppföljning'!D27),\"\",'Handläggning och uppföljning'!D27),\"\")","v":""}]
[null,{"$f":"IF('Handläggning och uppföljning'!B28=\"Vet ej\",'Handläggning och uppföljning'!A28,\"\")","v":""},{"$f":"IF('Handläggning och uppföljning'!B28=\"Vet ej\",'Handläggning och uppföljning'!C28,\"\")","v":""},{"$f":"IF('Handläggning och uppföljning'!B28=\"Vet ej\",IF(ISBLANK('Handläggning och uppföljning'!D28),\"\",'Handläggning och uppföljning'!D28),\"\")","v":""}]
[null,{"$f":"IF('Handläggning och uppföljning'!B29=\"Vet ej\",'Handläggning och uppföljning'!A29,\"\")","v":""},{"$f":"IF('Handläggning och uppföljning'!B29=\"Vet ej\",'Handläggning och uppföljning'!C29,\"\")","v":""},{"$f":"IF('Handläggning och uppföljning'!B29=\"Vet ej\",IF(ISBLANK('Handläggning och uppföljning'!D29),\"\",'Handläggning och uppföljning'!D29),\"\")","v":""}]
[null,{"$f":"IF('Handläggning och uppföljning'!B30=\"Vet ej\",'Handläggning och uppföljning'!A30,\"\")","v":""},{"$f":"IF('Handläggning och uppföljning'!B30=\"Vet ej\",'Handläggning och uppföljning'!C30,\"\")","v":""},{"$f":"IF('Handläggning och uppföljning'!B30=\"Vet ej\",IF(ISBLANK('Handläggning och uppföljning'!D30),\"\",'Handläggning och uppföljning'!D30),\"\")","v":""}]
[null,{"$f":"IF('Handläggning och uppföljning'!B31=\"Vet ej\",'Handläggning och uppföljning'!A31,\"\")","v":""},{"$f":"IF('Handläggning och uppföljning'!B31=\"Vet ej\",'Handläggning och uppföljning'!C31,\"\")","v":""},{"$f":"IF('Handläggning och uppföljning'!B31=\"Vet ej\",IF(ISBLANK('Handläggning och uppföljning'!D31),\"\",'Handläggning och uppföljning'!D31),\"\")","v":""}]
[null,{"$f":"IF('Handläggning och uppföljning'!B32=\"Vet ej\",'Handläggning och uppföljning'!A32,\"\")","v":""},{"$f":"IF('Handläggning och uppföljning'!B32=\"Vet ej\",'Handläggning och uppföljning'!C32,\"\")","v":""},{"$f":"IF('Handläggning och uppföljning'!B32=\"Vet ej\",IF(ISBLANK('Handläggning och uppföljning'!D32),\"\",'Handläggning och uppföljning'!D32),\"\")","v":""}]
[null,{"$f":"IF('Handläggning och uppföljning'!B33=\"Vet ej\",'Handläggning och uppföljning'!A33,\"\")","v":""},{"$f":"IF('Handläggning och uppföljning'!B33=\"Vet ej\",'Handläggning och uppföljning'!C33,\"\")","v":""},{"$f":"IF('Handläggning och uppföljning'!B33=\"Vet ej\",IF(ISBLANK('Handläggning och uppföljning'!D33),\"\",'Handläggning och uppföljning'!D33),\"\")","v":""}]
[null,{"$f":"IF('Handläggning och uppföljning'!B34=\"Vet ej\",'Handläggning och uppföljning'!A34,\"\")","v":""},{"$f":"IF('Handläggning och uppföljning'!B34=\"Vet ej\",'Handläggning och uppföljning'!C34,\"\")","v":""},{"$f":"IF('Handläggning och uppföljning'!B34=\"Vet ej\",IF(ISBLANK('Handläggning och uppföljning'!D34),\"\",'Handläggning och uppföljning'!D34),\"\")","v":""}]
[null,{"$f":"IF('Handläggning och uppföljning'!B35=\"Vet ej\",'Handläggning och uppföljning'!A35,\"\")","v":""},{"$f":"IF('Handläggning och uppföljning'!B35=\"Vet ej\",'Handläggning och uppföljning'!C35,\"\")","v":""},{"$f":"IF('Handläggning och uppföljning'!B35=\"Vet ej\",IF(ISBLANK('Handläggning och uppföljning'!D35),\"\",'Handläggning och uppföljning'!D35),\"\")","v":""}]
[null,{"$f":"IF('Handläggning och uppföljning'!B36=\"Vet ej\",'Handläggning och uppföljning'!A36,\"\")","v":""},{"$f":"IF('Handläggning och uppföljning'!B36=\"Vet ej\",'Handläggning och uppföljning'!C36,\"\")","v":""},{"$f":"IF('Handläggning och uppföljning'!B36=\"Vet ej\",IF(ISBLANK('Handläggning och uppföljning'!D36),\"\",'Handläggning och uppföljning'!D36),\"\")","v":""}]
[null,{"$f":"IF('Handläggning och uppföljning'!B37=\"Vet ej\",'Handläggning och uppföljning'!A37,\"\")","v":""},{"$f":"IF('Handläggning och uppföljning'!B37=\"Vet ej\",'Handläggning och uppföljning'!C37,\"\")","v":""},{"$f":"IF('Handläggning och uppföljning'!B37=\"Vet ej\",IF(ISBLANK('Handläggning och uppföljning'!D37),\"\",'Handläggning och uppföljning'!D37),\"\")","v":""}]
[null,{"$f":"IF('Handläggning och uppföljning'!B38=\"Vet ej\",'Handläggning och uppföljning'!A38,\"\")","v":""},{"$f":"IF('Handläggning och uppföljning'!B38=\"Vet ej\",'Handläggning och uppföljning'!C38,\"\")","v":""},{"$f":"IF('Handläggning och uppföljning'!B38=\"Vet ej\",IF(ISBLANK('Handläggning och uppföljning'!D38),\"\",'Handläggning och uppföljning'!D38),\"\")","v":""}]
[null,{"$f":"IF('Handläggning och uppföljning'!B39=\"Vet ej\",'Handläggning och uppföljning'!A39,\"\")","v":""},{"$f":"IF('Handläggning och uppföljning'!B39=\"Vet ej\",'Handläggning och uppföljning'!C39,\"\")","v":""},{"$f":"IF('Handläggning och uppföljning'!B39=\"Vet ej\",IF(ISBLANK('Handläggning och uppföljning'!D39),\"\",'Handläggning och uppföljning'!D39),\"\")","v":""}]
[null,{"$f":"IF('Handläggning och uppföljning'!B40=\"Vet ej\",'Handläggning och uppföljning'!A40,\"\")","v":""},{"$f":"IF('Handläggning och uppföljning'!B40=\"Vet ej\",'Handläggning och uppföljning'!C40,\"\")","v":""},{"$f":"IF('Handläggning och uppföljning'!B40=\"Vet ej\",IF(ISBLANK('Handläggning och uppföljning'!D40),\"\",'Handläggning och uppföljning'!D40),\"\")","v":""}]
[null,{"$f":"IF('Handläggning och uppföljning'!B41=\"Vet ej\",'Handläggning och uppföljning'!A41,\"\")","v":""},{"$f":"IF('Handläggning och uppföljning'!B41=\"Vet ej\",'Handläggning och uppföljning'!C41,\"\")","v":""},{"$f":"IF('Handläggning och uppföljning'!B41=\"Vet ej\",IF(ISBLANK('Handläggning och uppföljning'!D41),\"\",'Handläggning och uppföljning'!D41),\"\")","v":""}]
[null,{"$f":"IF('Handläggning och uppföljning'!B42=\"Vet ej\",'Handläggning och uppföljning'!A42,\"\")","v":""},{"$f":"IF('Handläggning och uppföljning'!B42=\"Vet ej\",'Handläggning och uppföljning'!C42,\"\")","v":""},{"$f":"IF('Handläggning och uppföljning'!B42=\"Vet ej\",IF(ISBLANK('Handläggning och uppföljning'!D42),\"\",'Handläggning och uppföljning'!D42),\"\")","v":""}]
[null,{"$f":"IF('Handläggning och uppföljning'!B43=\"Vet ej\",'Handläggning och uppföljning'!A43,\"\")","v":""},{"$f":"IF('Handläggning och uppföljning'!B43=\"Vet ej\",'Handläggning och uppföljning'!C43,\"\")","v":""},{"$f":"IF('Handläggning och uppföljning'!B43=\"Vet ej\",IF(ISBLANK('Handläggning och uppföljning'!D43),\"\",'Handläggning och uppföljning'!D43),\"\")","v":""}]
[null,{"$f":"IF('Handläggning och uppföljning'!B44=\"Vet ej\",'Handläggning och uppföljning'!A44,\"\")","v":""},{"$f":"IF('Handläggning och uppföljning'!B44=\"Vet ej\",'Handläggning och uppföljning'!C44,\"\")","v":""},{"$f":"IF('Handläggning och uppföljning'!B44=\"Vet ej\",IF(ISBLANK('Handläggning och uppföljning'!D44),\"\",'Handläggning och uppföljning'!D44),\"\")","v":""}]
[null,{"$f":"IF('Handläggning och uppföljning'!B45=\"Vet ej\",'Handläggning och uppföljning'!A45,\"\")","v":""},{"$f":"IF('Handläggning och uppföljning'!B45=\"Vet ej\",'Handläggning och uppföljning'!C45,\"\")","v":""},{"$f":"IF('Handläggning och uppföljning'!B45=\"Vet ej\",IF(ISBLANK('Handläggning och uppföljning'!D45),\"\",'Handläggning och uppföljning'!D45),\"\")","v":""}]
[null,{"$f":"IF('Handläggning och uppföljning'!B46=\"Vet ej\",'Handläggning och uppföljning'!A46,\"\")","v":""},{"$f":"IF('Handläggning och uppföljning'!B46=\"Vet ej\",'Handläggning och uppföljning'!C46,\"\")","v":""},{"$f":"IF('Handläggning och uppföljning'!B46=\"Vet ej\",IF(ISBLANK('Handläggning och uppföljning'!D46),\"\",'Handläggning och uppföljning'!D46),\"\")","v":""}]
[null,{"$f":"IF('Handläggning och uppföljning'!B47=\"Vet ej\",'Handläggning och uppföljning'!A47,\"\")","v":""},{"$f":"IF('Handläggning och uppföljning'!B47=\"Vet ej\",'Handläggning och uppföljning'!C47,\"\")","v":""},{"$f":"IF('Handläggning och uppföljning'!B47=\"Vet ej\",IF(ISBLANK('Handläggning och uppföljning'!D47),\"\",'Handläggning och uppföljning'!D47),\"\")","v":""}]
[null,{"$f":"IF('Handläggning och uppföljning'!B48=\"Vet ej\",'Handläggning och uppföljning'!A48,\"\")","v":""},{"$f":"IF('Handläggning och uppföljning'!B48=\"Vet ej\",'Handläggning och uppföljning'!C48,\"\")","v":""},{"$f":"IF('Handläggning och uppföljning'!B48=\"Vet ej\",IF(ISBLANK('Handläggning och uppföljning'!D48),\"\",'Handläggning och uppföljning'!D48),\"\")","v":""}]
[null,{"$f":"IF('Handläggning och uppföljning'!B49=\"Vet ej\",'Handläggning och uppföljning'!A49,\"\")","v":""},{"$f":"IF('Handläggning och uppföljning'!B49=\"Vet ej\",'Handläggning och uppföljning'!C49,\"\")","v":""},{"$f":"IF('Handläggning och uppföljning'!B49=\"Vet ej\",IF(ISBLANK('Handläggning och uppföljning'!D49),\"\",'Handläggning och uppföljning'!D49),\"\")","v":""}]
[null,{"$f":"IF('Handläggning och uppföljning'!B50=\"Vet ej\",'Handläggning och uppföljning'!A50,\"\")","v":""},{"$f":"IF('Handläggning och uppföljning'!B50=\"Vet ej\",'Handläggning och uppföljning'!C50,\"\")","v":""},{"$f":"IF('Handläggning och uppföljning'!B50=\"Vet ej\",IF(ISBLANK('Handläggning och uppföljning'!D50),\"\",'Handläggning och uppföljning'!D50),\"\")","v":""}]
[null,{"$f":"IF('Handläggning och uppföljning'!B51=\"Vet ej\",'Handläggning och uppföljning'!A51,\"\")","v":""},{"$f":"IF('Handläggning och uppföljning'!B51=\"Vet ej\",'Handläggning och uppföljning'!C51,\"\")","v":""},{"$f":"IF('Handläggning och uppföljning'!B51=\"Vet ej\",IF(ISBLANK('Handläggning och uppföljning'!D51),\"\",'Handläggning och uppföljning'!D51),\"\")","v":""}]
[null,{"$f":"IF('Handläggning och uppföljning'!B52=\"Vet ej\",'Handläggning och uppföljning'!A52,\"\")","v":""},{"$f":"IF('Handläggning och uppföljning'!B52=\"Vet ej\",'Handläggning och uppföljning'!C52,\"\")","v":""},{"$f":"IF('Handläggning och uppföljning'!B52=\"Vet ej\",IF(ISBLANK('Handläggning och uppföljning'!D52),\"\",'Handläggning och uppföljning'!D52),\"\")","v":""}]
[null,{"$f":"IF('Handläggning och uppföljning'!B53=\"Vet ej\",'Handläggning och uppföljning'!A53,\"\")","v":""},{"$f":"IF('Handläggning och uppföljning'!B53=\"Vet ej\",'Handläggning och uppföljning'!C53,\"\")","v":""},{"$f":"IF('Handläggning och uppföljning'!B53=\"Vet ej\",IF(ISBLANK('Handläggning och uppföljning'!D53),\"\",'Handläggning och uppföljning'!D53),\"\")","v":""}]
[null,{"$f":"IF('Handläggning och uppföljning'!B54=\"Vet ej\",'Handläggning och uppföljning'!A54,\"\")","v":""},{"$f":"IF('Handläggning och uppföljning'!B54=\"Vet ej\",'Handläggning och uppföljning'!C54,\"\")","v":""},{"$f":"IF('Handläggning och uppföljning'!B54=\"Vet ej\",IF(ISBLANK('Handläggning och uppföljning'!D54),\"\",'Handläggning och uppföljning'!D54),\"\")","v":""}]
[null,{"$f":"IF('Handläggning och uppföljning'!B55=\"Vet ej\",'Handläggning och uppföljning'!A55,\"\")","v":""},{"$f":"IF('Handläggning och uppföljning'!B55=\"Vet ej\",'Handläggning och uppföljning'!C55,\"\")","v":""},{"$f":"IF('Handläggning och uppföljning'!B55=\"Vet ej\",IF(ISBLANK('Handläggning och uppföljning'!D55),\"\",'Handläggning och uppföljning'!D55),\"\")","v":""}]
[null,{"$f":"IF('Handläggning och uppföljning'!B56=\"Vet ej\",'Handläggning och uppföljning'!A56,\"\")","v":""},{"$f":"IF('Handläggning och uppföljning'!B56=\"Vet ej\",'Handläggning och uppföljning'!C56,\"\")","v":""},{"$f":"IF('Handläggning och uppföljning'!B56=\"Vet ej\",IF(ISBLANK('Handläggning och uppföljning'!D56),\"\",'Handläggning och uppföljning'!D56),\"\")","v":""}]
[null,{"$f":"IF('Handläggning och uppföljning'!B57=\"Vet ej\",'Handläggning och uppföljning'!A57,\"\")","v":""},{"$f":"IF('Handläggning och uppföljning'!B57=\"Vet ej\",'Handläggning och uppföljning'!C57,\"\")","v":""},{"$f":"IF('Handläggning och uppföljning'!B57=\"Vet ej\",IF(ISBLANK('Handläggning och uppföljning'!D57),\"\",'Handläggning och uppföljning'!D57),\"\")","v":""}]
[null,{"$f":"IF('Handläggning och uppföljning'!B58=\"Vet ej\",'Handläggning och uppföljning'!A58,\"\")","v":""},{"$f":"IF('Handläggning och uppföljning'!B58=\"Vet ej\",'Handläggning och uppföljning'!C58,\"\")","v":""},{"$f":"IF('Handläggning och uppföljning'!B58=\"Vet ej\",IF(ISBLANK('Handläggning och uppföljning'!D58),\"\",'Handläggning och uppföljning'!D58),\"\")","v":""}]
[null,{"$f":"IF('Handläggning och uppföljning'!B59=\"Vet ej\",'Handläggning och uppföljning'!A59,\"\")","v":""},{"$f":"IF('Handläggning och uppföljning'!B59=\"Vet ej\",'Handläggning och uppföljning'!C59,\"\")","v":""},{"$f":"IF('Handläggning och uppföljning'!B59=\"Vet ej\",IF(ISBLANK('Handläggning och uppföljning'!D59),\"\",'Handläggning och uppföljning'!D59),\"\")","v":""}]
[null,{"$f":"IF('Handläggning och uppföljning'!B60=\"Vet ej\",'Handläggning och uppföljning'!A60,\"\")","v":""},{"$f":"IF('Handläggning och uppföljning'!B60=\"Vet ej\",'Handläggning och uppföljning'!C60,\"\")","v":""},{"$f":"IF('Handläggning och uppföljning'!B60=\"Vet ej\",IF(ISBLANK('Handläggning och uppföljning'!D60),\"\",'Handläggning och uppföljning'!D60),\"\")","v":""}]
[null,{"$f":"IF('Handläggning och uppföljning'!B61=\"Vet ej\",'Handläggning och uppföljning'!A61,\"\")","v":""},{"$f":"IF('Handläggning och uppföljning'!B61=\"Vet ej\",'Handläggning och uppföljning'!C61,\"\")","v":""},{"$f":"IF('Handläggning och uppföljning'!B61=\"Vet ej\",IF(ISBLANK('Handläggning och uppföljning'!D61),\"\",'Handläggning och uppföljning'!D61),\"\")","v":""}]
[null,{"$f":"IF('Handläggning och uppföljning'!B62=\"Vet ej\",'Handläggning och uppföljning'!A62,\"\")","v":""},{"$f":"IF('Handläggning och uppföljning'!B62=\"Vet ej\",'Handläggning och uppföljning'!C62,\"\")","v":""},{"$f":"IF('Handläggning och uppföljning'!B62=\"Vet ej\",IF(ISBLANK('Handläggning och uppföljning'!D62),\"\",'Handläggning och uppföljning'!D62),\"\")","v":""}]
[null,{"$f":"IF('Handläggning och uppföljning'!B63=\"Vet ej\",'Handläggning och uppföljning'!A63,\"\")","v":""},{"$f":"IF('Handläggning och uppföljning'!B63=\"Vet ej\",'Handläggning och uppföljning'!C63,\"\")","v":""},{"$f":"IF('Handläggning och uppföljning'!B63=\"Vet ej\",IF(ISBLANK('Handläggning och uppföljning'!D63),\"\",'Handläggning och uppföljning'!D63),\"\")","v":""}]
[null,{"$f":"IF('Handläggning och uppföljning'!B64=\"Vet ej\",'Handläggning och uppföljning'!A64,\"\")","v":""},{"$f":"IF('Handläggning och uppföljning'!B64=\"Vet ej\",'Handläggning och uppföljning'!C64,\"\")","v":""},{"$f":"IF('Handläggning och uppföljning'!B64=\"Vet ej\",IF(ISBLANK('Handläggning och uppföljning'!D64),\"\",'Handläggning och uppföljning'!D64),\"\")","v":""}]
[null,{"$f":"IF('Handläggning och uppföljning'!B65=\"Vet ej\",'Handläggning och uppföljning'!A65,\"\")","v":""},{"$f":"IF('Handläggning och uppföljning'!B65=\"Vet ej\",'Handläggning och uppföljning'!C65,\"\")","v":""},{"$f":"IF('Handläggning och uppföljning'!B65=\"Vet ej\",IF(ISBLANK('Handläggning och uppföljning'!D65),\"\",'Handläggning och uppföljning'!D65),\"\")","v":""}]
[null,{"$f":"IF('Handläggning och uppföljning'!B66=\"Vet ej\",'Handläggning och uppföljning'!A66,\"\")","v":""},{"$f":"IF('Handläggning och uppföljning'!B66=\"Vet ej\",'Handläggning och uppföljning'!C66,\"\")","v":""},{"$f":"IF('Handläggning och uppföljning'!B66=\"Vet ej\",IF(ISBLANK('Handläggning och uppföljning'!D66),\"\",'Handläggning och uppföljning'!D66),\"\")","v":""}]
[null,{"$f":"IF('Handläggning och uppföljning'!B67=\"Vet ej\",'Handläggning och uppföljning'!A67,\"\")","v":""},{"$f":"IF('Handläggning och uppföljning'!B67=\"Vet ej\",'Handläggning och uppföljning'!C67,\"\")","v":""},{"$f":"IF('Handläggning och uppföljning'!B67=\"Vet ej\",IF(ISBLANK('Handläggning och uppföljning'!D67),\"\",'Handläggning och uppföljning'!D67),\"\")","v":""}]
[null,{"$f":"IF('Handläggning och uppföljning'!B68=\"Vet ej\",'Handläggning och uppföljning'!A68,\"\")","v":""},{"$f":"IF('Handläggning och uppföljning'!B68=\"Vet ej\",'Handläggning och uppföljning'!C68,\"\")","v":""},{"$f":"IF('Handläggning och uppföljning'!B68=\"Vet ej\",IF(ISBLANK('Handläggning och uppföljning'!D68),\"\",'Handläggning och uppföljning'!D68),\"\")","v":""}]
[null,{"$f":"IF('Handläggning och uppföljning'!B69=\"Vet ej\",'Handläggning och uppföljning'!A69,\"\")","v":""},{"$f":"IF('Handläggning och uppföljning'!B69=\"Vet ej\",'Handläggning och uppföljning'!C69,\"\")","v":""},{"$f":"IF('Handläggning och uppföljning'!B69=\"Vet ej\",IF(ISBLANK('Handläggning och uppföljning'!D69),\"\",'Handläggning och uppföljning'!D69),\"\")","v":""}]
[null,{"$f":"IF('Handläggning och uppföljning'!B70=\"Vet ej\",'Handläggning och uppföljning'!A70,\"\")","v":""},{"$f":"IF('Handläggning och uppföljning'!B70=\"Vet ej\",'Handläggning och uppföljning'!C70,\"\")","v":""},{"$f":"IF('Handläggning och uppföljning'!B70=\"Vet ej\",IF(ISBLANK('Handläggning och uppföljning'!D70),\"\",'Handläggning och uppföljning'!D70),\"\")","v":""}]
[null,{"$f":"IF('Handläggning och uppföljning'!B71=\"Vet ej\",'Handläggning och uppföljning'!A71,\"\")","v":""},{"$f":"IF('Handläggning och uppföljning'!B71=\"Vet ej\",'Handläggning och uppföljning'!C71,\"\")","v":""},{"$f":"IF('Handläggning och uppföljning'!B71=\"Vet ej\",IF(ISBLANK('Handläggning och uppföljning'!D71),\"\",'Handläggning och uppföljning'!D71),\"\")","v":""}]
[null,{"$f":"IF('Handläggning och uppföljning'!B72=\"Vet ej\",'Handläggning och uppföljning'!A72,\"\")","v":""},{"$f":"IF('Handläggning och uppföljning'!B72=\"Vet ej\",'Handläggning och uppföljning'!C72,\"\")","v":""},{"$f":"IF('Handläggning och uppföljning'!B72=\"Vet ej\",IF(ISBLANK('Handläggning och uppföljning'!D72),\"\",'Handläggning och uppföljning'!D72),\"\")","v":""}]
[null,{"$f":"IF('Handläggning och uppföljning'!B73=\"Vet ej\",'Handläggning och uppföljning'!A73,\"\")","v":""},{"$f":"IF('Handläggning och uppföljning'!B73=\"Vet ej\",'Handläggning och uppföljning'!C73,\"\")","v":""},{"$f":"IF('Handläggning och uppföljning'!B73=\"Vet ej\",IF(ISBLANK('Handläggning och uppföljning'!D73),\"\",'Handläggning och uppföljning'!D73),\"\")","v":""}]
[null,{"$f":"IF('Handläggning och uppföljning'!B74=\"Vet ej\",'Handläggning och uppföljning'!A74,\"\")","v":""},{"$f":"IF('Handläggning och uppföljning'!B74=\"Vet ej\",'Handläggning och uppföljning'!C74,\"\")","v":""},{"$f":"IF('Handläggning och uppföljning'!B74=\"Vet ej\",IF(ISBLANK('Handläggning och uppföljning'!D74),\"\",'Handläggning och uppföljning'!D74),\"\")","v":""}]
[null,{"$f":"IF('Handläggning och uppföljning'!B75=\"Vet ej\",'Handläggning och uppföljning'!A75,\"\")","v":""},{"$f":"IF('Handläggning och uppföljning'!B75=\"Vet ej\",'Handläggning och uppföljning'!C75,\"\")","v":""},{"$f":"IF('Handläggning och uppföljning'!B75=\"Vet ej\",IF(ISBLANK('Handläggning och uppföljning'!D75),\"\",'Handläggning och uppföljning'!D75),\"\")","v":""}]
[null,{"$f":"IF('Handläggning och uppföljning'!B76=\"Vet ej\",'Handläggning och uppföljning'!A76,\"\")","v":""},{"$f":"IF('Handläggning och uppföljning'!B76=\"Vet ej\",'Handläggning och uppföljning'!C76,\"\")","v":""},{"$f":"IF('Handläggning och uppföljning'!B76=\"Vet ej\",IF(ISBLANK('Handläggning och uppföljning'!D76),\"\",'Handläggning och uppföljning'!D76),\"\")","v":""}]
[null,{"$f":"IF('Handläggning och uppföljning'!B77=\"Vet ej\",'Handläggning och uppföljning'!A77,\"\")","v":""},{"$f":"IF('Handläggning och uppföljning'!B77=\"Vet ej\",'Handläggning och uppföljning'!C77,\"\")","v":""},{"$f":"IF('Handläggning och uppföljning'!B77=\"Vet ej\",IF(ISBLANK('Handläggning och uppföljning'!D77),\"\",'Handläggning och uppföljning'!D77),\"\")","v":""}]
[null,{"$f":"IF('Handläggning och uppföljning'!B78=\"Vet ej\",'Handläggning och uppföljning'!A78,\"\")","v":""},{"$f":"IF('Handläggning och uppföljning'!B78=\"Vet ej\",'Handläggning och uppföljning'!C78,\"\")","v":""},{"$f":"IF('Handläggning och uppföljning'!B78=\"Vet ej\",IF(ISBLANK('Handläggning och uppföljning'!D78),\"\",'Handläggning och uppföljning'!D78),\"\")","v":""}]
[null,{"$f":"IF('Handläggning och uppföljning'!B79=\"Vet ej\",'Handläggning och uppföljning'!A79,\"\")","v":""},{"$f":"IF('Handläggning och uppföljning'!B79=\"Vet ej\",'Handläggning och uppföljning'!C79,\"\")","v":""},{"$f":"IF('Handläggning och uppföljning'!B79=\"Vet ej\",IF(ISBLANK('Handläggning och uppföljning'!D79),\"\",'Handläggning och uppföljning'!D79),\"\")","v":""}]
[null,{"$f":"IF('Handläggning och uppföljning'!B80=\"Vet ej\",'Handläggning och uppföljning'!A80,\"\")","v":""},{"$f":"IF('Handläggning och uppföljning'!B80=\"Vet ej\",'Handläggning och uppföljning'!C80,\"\")","v":""},{"$f":"IF('Handläggning och uppföljning'!B80=\"Vet ej\",IF(ISBLANK('Handläggning och uppföljning'!D80),\"\",'Handläggning och uppföljning'!D80),\"\")","v":""}]
[null,{"$f":"IF('Handläggning och uppföljning'!B81=\"Vet ej\",'Handläggning och uppföljning'!A81,\"\")","v":""},{"$f":"IF('Handläggning och uppföljning'!B81=\"Vet ej\",'Handläggning och uppföljning'!C81,\"\")","v":""},{"$f":"IF('Handläggning och uppföljning'!B81=\"Vet ej\",IF(ISBLANK('Handläggning och uppföljning'!D81),\"\",'Handläggning och uppföljning'!D81),\"\")","v":""}]
[null,{"$f":"IF('Handläggning och uppföljning'!B82=\"Vet ej\",'Handläggning och uppföljning'!A82,\"\")","v":""},{"$f":"IF('Handläggning och uppföljning'!B82=\"Vet ej\",'Handläggning och uppföljning'!C82,\"\")","v":""},{"$f":"IF('Handläggning och uppföljning'!B82=\"Vet ej\",IF(ISBLANK('Handläggning och uppföljning'!D82),\"\",'Handläggning och uppföljning'!D82),\"\")","v":""}]
[null,{"$f":"IF('Handläggning och uppföljning'!B83=\"Vet ej\",'Handläggning och uppföljning'!A83,\"\")","v":""},{"$f":"IF('Handläggning och uppföljning'!B83=\"Vet ej\",'Handläggning och uppföljning'!C83,\"\")","v":""},{"$f":"IF('Handläggning och uppföljning'!B83=\"Vet ej\",IF(ISBLANK('Handläggning och uppföljning'!D83),\"\",'Handläggning och uppföljning'!D83),\"\")","v":""}]
[null,{"$f":"IF('Handläggning och uppföljning'!B84=\"Vet ej\",'Handläggning och uppföljning'!A84,\"\")","v":""},{"$f":"IF('Handläggning och uppföljning'!B84=\"Vet ej\",'Handläggning och uppföljning'!C84,\"\")","v":""},{"$f":"IF('Handläggning och uppföljning'!B84=\"Vet ej\",IF(ISBLANK('Handläggning och uppföljning'!D84),\"\",'Handläggning och uppföljning'!D84),\"\")","v":""}]
[null,{"$f":"IF('Handläggning och uppföljning'!B85=\"Vet ej\",'Handläggning och uppföljning'!A85,\"\")","v":""},{"$f":"IF('Handläggning och uppföljning'!B85=\"Vet ej\",'Handläggning och uppföljning'!C85,\"\")","v":""},{"$f":"IF('Handläggning och uppföljning'!B85=\"Vet ej\",IF(ISBLANK('Handläggning och uppföljning'!D85),\"\",'Handläggning och uppföljning'!D85),\"\")","v":""}]
[null,{"$f":"IF('Handläggning och uppföljning'!B86=\"Vet ej\",'Handläggning och uppföljning'!A86,\"\")","v":""},{"$f":"IF('Handläggning och uppföljning'!B86=\"Vet ej\",'Handläggning och uppföljning'!C86,\"\")","v":""},{"$f":"IF('Handläggning och uppföljning'!B86=\"Vet ej\",IF(ISBLANK('Handläggning och uppföljning'!D86),\"\",'Handläggning och uppföljning'!D86),\"\")","v":""}]
[null,{"$f":"IF('Handläggning och uppföljning'!B87=\"Vet ej\",'Handläggning och uppföljning'!A87,\"\")","v":""},{"$f":"IF('Handläggning och uppföljning'!B87=\"Vet ej\",'Handläggning och uppföljning'!C87,\"\")","v":""},{"$f":"IF('Handläggning och uppföljning'!B87=\"Vet ej\",IF(ISBLANK('Handläggning och uppföljning'!D87),\"\",'Handläggning och uppföljning'!D87),\"\")","v":""}]
[null,{"$f":"IF('Handläggning och uppföljning'!B88=\"Vet ej\",'Handläggning och uppföljning'!A88,\"\")","v":""},{"$f":"IF('Handläggning och uppföljning'!B88=\"Vet ej\",'Handläggning och uppföljning'!C88,\"\")","v":""},{"$f":"IF('Handläggning och uppföljning'!B88=\"Vet ej\",IF(ISBLANK('Handläggning och uppföljning'!D88),\"\",'Handläggning och uppföljning'!D88),\"\")","v":""}]
[null,{"$f":"IF('Handläggning och uppföljning'!B89=\"Vet ej\",'Handläggning och uppföljning'!A89,\"\")","v":""},{"$f":"IF('Handläggning och uppföljning'!B89=\"Vet ej\",'Handläggning och uppföljning'!C89,\"\")","v":""},{"$f":"IF('Handläggning och uppföljning'!B89=\"Vet ej\",IF(ISBLANK('Handläggning och uppföljning'!D89),\"\",'Handläggning och uppföljning'!D89),\"\")","v":""}]
[null,{"$f":"IF('Handläggning och uppföljning'!B90=\"Vet ej\",'Handläggning och uppföljning'!A90,\"\")","v":""},{"$f":"IF('Handläggning och uppföljning'!B90=\"Vet ej\",'Handläggning och uppföljning'!C90,\"\")","v":""},{"$f":"IF('Handläggning och uppföljning'!B90=\"Vet ej\",IF(ISBLANK('Handläggning och uppföljning'!D90),\"\",'Handläggning och uppföljning'!D90),\"\")","v":""}]
[null,{"$f":"IF('Handläggning och uppföljning'!B91=\"Vet ej\",'Handläggning och uppföljning'!A91,\"\")","v":""},{"$f":"IF('Handläggning och uppföljning'!B91=\"Vet ej\",'Handläggning och uppföljning'!C91,\"\")","v":""},{"$f":"IF('Handläggning och uppföljning'!B91=\"Vet ej\",IF(ISBLANK('Handläggning och uppföljning'!D91),\"\",'Handläggning och uppföljning'!D91),\"\")","v":""}]
[null,{"$f":"IF('Handläggning och uppföljning'!B92=\"Vet ej\",'Handläggning och uppföljning'!A92,\"\")","v":""},{"$f":"IF('Handläggning och uppföljning'!B92=\"Vet ej\",'Handläggning och uppföljning'!C92,\"\")","v":""},{"$f":"IF('Handläggning och uppföljning'!B92=\"Vet ej\",IF(ISBLANK('Handläggning och uppföljning'!D92),\"\",'Handläggning och uppföljning'!D92),\"\")","v":""}]
[null,{"$f":"IF('Handläggning och uppföljning'!B93=\"Vet ej\",'Handläggning och uppföljning'!A93,\"\")","v":""},{"$f":"IF('Handläggning och uppföljning'!B93=\"Vet ej\",'Handläggning och uppföljning'!C93,\"\")","v":""},{"$f":"IF('Handläggning och uppföljning'!B93=\"Vet ej\",IF(ISBLANK('Handläggning och uppföljning'!D93),\"\",'Handläggning och uppföljning'!D93),\"\")","v":""}]
[null,{"$f":"IF('Handläggning och uppföljning'!B94=\"Vet ej\",'Handläggning och uppföljning'!A94,\"\")","v":""},{"$f":"IF('Handläggning och uppföljning'!B94=\"Vet ej\",'Handläggning och uppföljning'!C94,\"\")","v":""},{"$f":"IF('Handläggning och uppföljning'!B94=\"Vet ej\",IF(ISBLANK('Handläggning och uppföljning'!D94),\"\",'Handläggning och uppföljning'!D94),\"\")","v":""}]
[null,{"$f":"IF('Handläggning och uppföljning'!B95=\"Vet ej\",'Handläggning och uppföljning'!A95,\"\")","v":""},{"$f":"IF('Handläggning och uppföljning'!B95=\"Vet ej\",'Handläggning och uppföljning'!C95,\"\")","v":""},{"$f":"IF('Handläggning och uppföljning'!B95=\"Vet ej\",IF(ISBLANK('Handläggning och uppföljning'!D95),\"\",'Handläggning och uppföljning'!D95),\"\")","v":""}]
[null,{"$f":"IF('Handläggning och uppföljning'!B96=\"Vet ej\",'Handläggning och uppföljning'!A96,\"\")","v":""},{"$f":"IF('Handläggning och uppföljning'!B96=\"Vet ej\",'Handläggning och uppföljning'!C96,\"\")","v":""},{"$f":"IF('Handläggning och uppföljning'!B96=\"Vet ej\",IF(ISBLANK('Handläggning och uppföljning'!D96),\"\",'Handläggning och uppföljning'!D96),\"\")","v":""}]
[null,{"$f":"IF('Handläggning och uppföljning'!B97=\"Vet ej\",'Handläggning och uppföljning'!A97,\"\")","v":""},{"$f":"IF('Handläggning och uppföljning'!B97=\"Vet ej\",'Handläggning och uppföljning'!C97,\"\")","v":""},{"$f":"IF('Handläggning och uppföljning'!B97=\"Vet ej\",IF(ISBLANK('Handläggning och uppföljning'!D97),\"\",'Handläggning och uppföljning'!D97),\"\")","v":""}]
[null,{"$f":"IF('Handläggning och uppföljning'!B98=\"Vet ej\",'Handläggning och uppföljning'!A98,\"\")","v":""},{"$f":"IF('Handläggning och uppföljning'!B98=\"Vet ej\",'Handläggning och uppföljning'!C98,\"\")","v":""},{"$f":"IF('Handläggning och uppföljning'!B98=\"Vet ej\",IF(ISBLANK('Handläggning och uppföljning'!D98),\"\",'Handläggning och uppföljning'!D98),\"\")","v":""}]
[null,{"$f":"IF('Handläggning och uppföljning'!B99=\"Vet ej\",'Handläggning och uppföljning'!A99,\"\")","v":""},{"$f":"IF('Handläggning och uppföljning'!B99=\"Vet ej\",'Handläggning och uppföljning'!C99,\"\")","v":""},{"$f":"IF('Handläggning och uppföljning'!B99=\"Vet ej\",IF(ISBLANK('Handläggning och uppföljning'!D99),\"\",'Handläggning och uppföljning'!D99),\"\")","v":""}]
[null,{"$f":"IF('Handläggning och uppföljning'!B100=\"Vet ej\",'Handläggning och uppföljning'!A100,\"\")","v":""},{"$f":"IF('Handläggning och uppföljning'!B100=\"Vet ej\",'Handläggning och uppföljning'!C100,\"\")","v":""},{"$f":"IF('Handläggning och uppföljning'!B100=\"Vet ej\",IF(ISBLANK('Handläggning och uppföljning'!D100),\"\",'Handläggning och uppföljning'!D100),\"\")","v":""}]
[null,{"$f":"IF('Handläggning och uppföljning'!B101=\"Vet ej\",'Handläggning och uppföljning'!A101,\"\")","v":""},{"$f":"IF('Handläggning och uppföljning'!B101=\"Vet ej\",'Handläggning och uppföljning'!C101,\"\")","v":""},{"$f":"IF('Handläggning och uppföljning'!B101=\"Vet ej\",IF(ISBLANK('Handläggning och uppföljning'!D101),\"\",'Handläggning och uppföljning'!D101),\"\")","v":""}]
[null,{"$f":"IF('Handläggning och uppföljning'!B102=\"Vet ej\",'Handläggning och uppföljning'!A102,\"\")","v":""},{"$f":"IF('Handläggning och uppföljning'!B102=\"Vet ej\",'Handläggning och uppföljning'!C102,\"\")","v":""},{"$f":"IF('Handläggning och uppföljning'!B102=\"Vet ej\",IF(ISBLANK('Handläggning och uppföljning'!D102),\"\",'Handläggning och uppföljning'!D102),\"\")","v":""}]
[null,{"$f":"IF('Handläggning och uppföljning'!B103=\"Vet ej\",'Handläggning och uppföljning'!A103,\"\")","v":""},{"$f":"IF('Handläggning och uppföljning'!B103=\"Vet ej\",'Handläggning och uppföljning'!C103,\"\")","v":""},{"$f":"IF('Handläggning och uppföljning'!B103=\"Vet ej\",IF(ISBLANK('Handläggning och uppföljning'!D103),\"\",'Handläggning och uppföljning'!D103),\"\")","v":""}]
[null,{"$f":"IF('Handläggning och uppföljning'!B104=\"Vet ej\",'Handläggning och uppföljning'!A104,\"\")","v":""},{"$f":"IF('Handläggning och uppföljning'!B104=\"Vet ej\",'Handläggning och uppföljning'!C104,\"\")","v":""},{"$f":"IF('Handläggning och uppföljning'!B104=\"Vet ej\",IF(ISBLANK('Handläggning och uppföljning'!D104),\"\",'Handläggning och uppföljning'!D104),\"\")","v":""}]
[null,{"$f":"IF('Handläggning och uppföljning'!B105=\"Vet ej\",'Handläggning och uppföljning'!A105,\"\")","v":""},{"$f":"IF('Handläggning och uppföljning'!B105=\"Vet ej\",'Handläggning och uppföljning'!C105,\"\")","v":""},{"$f":"IF('Handläggning och uppföljning'!B105=\"Vet ej\",IF(ISBLANK('Handläggning och uppföljning'!D105),\"\",'Handläggning och uppföljning'!D105),\"\")","v":""}]
[null,{"$f":"IF('Handläggning och uppföljning'!B106=\"Vet ej\",'Handläggning och uppföljning'!A106,\"\")","v":""},{"$f":"IF('Handläggning och uppföljning'!B106=\"Vet ej\",'Handläggning och uppföljning'!C106,\"\")","v":""},{"$f":"IF('Handläggning och uppföljning'!B106=\"Vet ej\",IF(ISBLANK('Handläggning och uppföljning'!D106),\"\",'Handläggning och uppföljning'!D106),\"\")","v":""}]
[null,{"$f":"IF('Handläggning och uppföljning'!B107=\"Vet ej\",'Handläggning och uppföljning'!A107,\"\")","v":""},{"$f":"IF('Handläggning och uppföljning'!B107=\"Vet ej\",'Handläggning och uppföljning'!C107,\"\")","v":""},{"$f":"IF('Handläggning och uppföljning'!B107=\"Vet ej\",IF(ISBLANK('Handläggning och uppföljning'!D107),\"\",'Handläggning och uppföljning'!D107),\"\")","v":""}]
[null,{"$f":"IF('Handläggning och uppföljning'!B108=\"Vet ej\",'Handläggning och uppföljning'!A108,\"\")","v":""},{"$f":"IF('Handläggning och uppföljning'!B108=\"Vet ej\",'Handläggning och uppföljning'!C108,\"\")","v":""},{"$f":"IF('Handläggning och uppföljning'!B108=\"Vet ej\",IF(ISBLANK('Handläggning och uppföljning'!D108),\"\",'Handläggning och uppföljning'!D108),\"\")","v":""}]
[null,{"$f":"IF('Handläggning och uppföljning'!B109=\"Vet ej\",'Handläggning och uppföljning'!A109,\"\")","v":""},{"$f":"IF('Handläggning och uppföljning'!B109=\"Vet ej\",'Handläggning och uppföljning'!C109,\"\")","v":""},{"$f":"IF('Handläggning och uppföljning'!B109=\"Vet ej\",IF(ISBLANK('Handläggning och uppföljning'!D109),\"\",'Handläggning och uppföljning'!D109),\"\")","v":""}]
[null,{"$f":"IF('Handläggning och uppföljning'!B110=\"Vet ej\",'Handläggning och uppföljning'!A110,\"\")","v":""},{"$f":"IF('Handläggning och uppföljning'!B110=\"Vet ej\",'Handläggning och uppföljning'!C110,\"\")","v":""},{"$f":"IF('Handläggning och uppföljning'!B110=\"Vet ej\",IF(ISBLANK('Handläggning och uppföljning'!D110),\"\",'Handläggning och uppföljning'!D110),\"\")","v":""}]
[null,{"$f":"IF('Handläggning och uppföljning'!B111=\"Vet ej\",'Handläggning och uppföljning'!A111,\"\")","v":""},{"$f":"IF('Handläggning och uppföljning'!B111=\"Vet ej\",'Handläggning och uppföljning'!C111,\"\")","v":""},{"$f":"IF('Handläggning och uppföljning'!B111=\"Vet ej\",IF(ISBLANK('Handläggning och uppföljning'!D111),\"\",'Handläggning och uppföljning'!D111),\"\")","v":""}]
[null,{"$f":"IF('Handläggning och uppföljning'!B112=\"Vet ej\",'Handläggning och uppföljning'!A112,\"\")","v":""},{"$f":"IF('Handläggning och uppföljning'!B112=\"Vet ej\",'Handläggning och uppföljning'!C112,\"\")","v":""},{"$f":"IF('Handläggning och uppföljning'!B112=\"Vet ej\",IF(ISBLANK('Handläggning och uppföljning'!D112),\"\",'Handläggning och uppföljning'!D112),\"\")","v":""}]
[null,{"$f":"IF('Handläggning och uppföljning'!B113=\"Vet ej\",'Handläggning och uppföljning'!A113,\"\")","v":""},{"$f":"IF('Handläggning och uppföljning'!B113=\"Vet ej\",'Handläggning och uppföljning'!C113,\"\")","v":""},{"$f":"IF('Handläggning och uppföljning'!B113=\"Vet ej\",IF(ISBLANK('Handläggning och uppföljning'!D113),\"\",'Handläggning och uppföljning'!D113),\"\")","v":""}]
[null,{"$f":"IF('Handläggning och uppföljning'!B114=\"Vet ej\",'Handläggning och uppföljning'!A114,\"\")","v":""},{"$f":"IF('Handläggning och uppföljning'!B114=\"Vet ej\",'Handläggning och uppföljning'!C114,\"\")","v":""},{"$f":"IF('Handläggning och uppföljning'!B114=\"Vet ej\",IF(ISBLANK('Handläggning och uppföljning'!D114),\"\",'Handläggning och uppföljning'!D114),\"\")","v":""}]
[null,{"$f":"IF('Handläggning och uppföljning'!B115=\"Vet ej\",'Handläggning och uppföljning'!A115,\"\")","v":""},{"$f":"IF('Handläggning och uppföljning'!B115=\"Vet ej\",'Handläggning och uppföljning'!C115,\"\")","v":""},{"$f":"IF('Handläggning och uppföljning'!B115=\"Vet ej\",IF(ISBLANK('Handläggning och uppföljning'!D115),\"\",'Handläggning och uppföljning'!D115),\"\")","v":""}]
[null,{"$f":"IF('Handläggning och uppföljning'!B116=\"Vet ej\",'Handläggning och uppföljning'!A116,\"\")","v":""},{"$f":"IF('Handläggning och uppföljning'!B116=\"Vet ej\",'Handläggning och uppföljning'!C116,\"\")","v":""},{"$f":"IF('Handläggning och uppföljning'!B116=\"Vet ej\",IF(ISBLANK('Handläggning och uppföljning'!D116),\"\",'Handläggning och uppföljning'!D116),\"\")","v":""}]
[null,{"$f":"IF('Handläggning och uppföljning'!B117=\"Vet ej\",'Handläggning och uppföljning'!A117,\"\")","v":""},{"$f":"IF('Handläggning och uppföljning'!B117=\"Vet ej\",'Handläggning och uppföljning'!C117,\"\")","v":""},{"$f":"IF('Handläggning och uppföljning'!B117=\"Vet ej\",IF(ISBLANK('Handläggning och uppföljning'!D117),\"\",'Handläggning och uppföljning'!D117),\"\")","v":""}]
[null,{"$f":"IF('Handläggning och uppföljning'!B118=\"Vet ej\",'Handläggning och uppföljning'!A118,\"\")","v":""},{"$f":"IF('Handläggning och uppföljning'!B118=\"Vet ej\",'Handläggning och uppföljning'!C118,\"\")","v":""},{"$f":"IF('Handläggning och uppföljning'!B118=\"Vet ej\",IF(ISBLANK('Handläggning och uppföljning'!D118),\"\",'Handläggning och uppföljning'!D118),\"\")","v":""}]
[null,{"$f":"IF('Handläggning och uppföljning'!B119=\"Vet ej\",'Handläggning och uppföljning'!A119,\"\")","v":""},{"$f":"IF('Handläggning och uppföljning'!B119=\"Vet ej\",'Handläggning och uppföljning'!C119,\"\")","v":""},{"$f":"IF('Handläggning och uppföljning'!B119=\"Vet ej\",IF(ISBLANK('Handläggning och uppföljning'!D119),\"\",'Handläggning och uppföljning'!D119),\"\")","v":""}]
[null,{"$f":"IF('Handläggning och uppföljning'!B120=\"Vet ej\",'Handläggning och uppföljning'!A120,\"\")","v":""},{"$f":"IF('Handläggning och uppföljning'!B120=\"Vet ej\",'Handläggning och uppföljning'!C120,\"\")","v":""},{"$f":"IF('Handläggning och uppföljning'!B120=\"Vet ej\",IF(ISBLANK('Handläggning och uppföljning'!D120),\"\",'Handläggning och uppföljning'!D120),\"\")","v":""}]
[null,{"$f":"IF('Handläggning och uppföljning'!B121=\"Vet ej\",'Handläggning och uppföljning'!A121,\"\")","v":""},{"$f":"IF('Handläggning och uppföljning'!B121=\"Vet ej\",'Handläggning och uppföljning'!C121,\"\")","v":""},{"$f":"IF('Handläggning och uppföljning'!B121=\"Vet ej\",IF(ISBLANK('Handläggning och uppföljning'!D121),\"\",'Handläggning och uppföljning'!D121),\"\")","v":""}]
[null,{"$f":"IF('Handläggning och uppföljning'!B122=\"Vet ej\",'Handläggning och uppföljning'!A122,\"\")","v":""},{"$f":"IF('Handläggning och uppföljning'!B122=\"Vet ej\",'Handläggning och uppföljning'!C122,\"\")","v":""},{"$f":"IF('Handläggning och uppföljning'!B122=\"Vet ej\",IF(ISBLANK('Handläggning och uppföljning'!D122),\"\",'Handläggning och uppföljning'!D122),\"\")","v":""}]
[null,{"$f":"IF('Handläggning och uppföljning'!B123=\"Vet ej\",'Handläggning och uppföljning'!A123,\"\")","v":""},{"$f":"IF('Handläggning och uppföljning'!B123=\"Vet ej\",'Handläggning och uppföljning'!C123,\"\")","v":""},{"$f":"IF('Handläggning och uppföljning'!B123=\"Vet ej\",IF(ISBLANK('Handläggning och uppföljning'!D123),\"\",'Handläggning och uppföljning'!D123),\"\")","v":""}]
[null,{"$f":"IF('Handläggning och uppföljning'!B124=\"Vet ej\",'Handläggning och uppföljning'!A124,\"\")","v":""},{"$f":"IF('Handläggning och uppföljning'!B124=\"Vet ej\",'Handläggning och uppföljning'!C124,\"\")","v":""},{"$f":"IF('Handläggning och uppföljning'!B124=\"Vet ej\",IF(ISBLANK('Handläggning och uppföljning'!D124),\"\",'Handläggning och uppföljning'!D124),\"\")","v":""}]
[null,{"$f":"IF('Handläggning och uppföljning'!B125=\"Vet ej\",'Handläggning och uppföljning'!A125,\"\")","v":""},{"$f":"IF('Handläggning och uppföljning'!B125=\"Vet ej\",'Handläggning och uppföljning'!C125,\"\")","v":""},{"$f":"IF('Handläggning och uppföljning'!B125=\"Vet ej\",IF(ISBLANK('Handläggning och uppföljning'!D125),\"\",'Handläggning och uppföljning'!D125),\"\")","v":""}]
[null,{"$f":"IF('Handläggning och uppföljning'!B126=\"Vet ej\",'Handläggning och uppföljning'!A126,\"\")","v":""},{"$f":"IF('Handläggning och uppföljning'!B126=\"Vet ej\",'Handläggning och uppföljning'!C126,\"\")","v":""},{"$f":"IF('Handläggning och uppföljning'!B126=\"Vet ej\",IF(ISBLANK('Handläggning och uppföljning'!D126),\"\",'Handläggning och uppföljning'!D126),\"\")","v":""}]
[null,{"$f":"IF('Handläggning och uppföljning'!B127=\"Vet ej\",'Handläggning och uppföljning'!A127,\"\")","v":""},{"$f":"IF('Handläggning och uppföljning'!B127=\"Vet ej\",'Handläggning och uppföljning'!C127,\"\")","v":""},{"$f":"IF('Handläggning och uppföljning'!B127=\"Vet ej\",IF(ISBLANK('Handläggning och uppföljning'!D127),\"\",'Handläggning och uppföljning'!D127),\"\")","v":""}]
[null,{"$f":"IF('Handläggning och uppföljning'!B128=\"Vet ej\",'Handläggning och uppföljning'!A128,\"\")","v":""},{"$f":"IF('Handläggning och uppföljning'!B128=\"Vet ej\",'Handläggning och uppföljning'!C128,\"\")","v":""},{"$f":"IF('Handläggning och uppföljning'!B128=\"Vet ej\",IF(ISBLANK('Handläggning och uppföljning'!D128),\"\",'Handläggning och uppföljning'!D128),\"\")","v":""}]
[null,{"$f":"IF('Handläggning och uppföljning'!B129=\"Vet ej\",'Handläggning och uppföljning'!A129,\"\")","v":""},{"$f":"IF('Handläggning och uppföljning'!B129=\"Vet ej\",'Handläggning och uppföljning'!C129,\"\")","v":""},{"$f":"IF('Handläggning och uppföljning'!B129=\"Vet ej\",IF(ISBLANK('Handläggning och uppföljning'!D129),\"\",'Handläggning och uppföljning'!D129),\"\")","v":""}]
[null,{"$f":"IF('Handläggning och uppföljning'!B130=\"Vet ej\",'Handläggning och uppföljning'!A130,\"\")","v":""},{"$f":"IF('Handläggning och uppföljning'!B130=\"Vet ej\",'Handläggning och uppföljning'!C130,\"\")","v":""},{"$f":"IF('Handläggning och uppföljning'!B130=\"Vet ej\",IF(ISBLANK('Handläggning och uppföljning'!D130),\"\",'Handläggning och uppföljning'!D130),\"\")","v":""}]
[null,{"$f":"IF('Handläggning och uppföljning'!B131=\"Vet ej\",'Handläggning och uppföljning'!A131,\"\")","v":""},{"$f":"IF('Handläggning och uppföljning'!B131=\"Vet ej\",'Handläggning och uppföljning'!C131,\"\")","v":""},{"$f":"IF('Handläggning och uppföljning'!B131=\"Vet ej\",IF(ISBLANK('Handläggning och uppföljning'!D131),\"\",'Handläggning och uppföljning'!D131),\"\")","v":""}]
[null,{"$f":"IF('Handläggning och uppföljning'!B132=\"Vet ej\",'Handläggning och uppföljning'!A132,\"\")","v":""},{"$f":"IF('Handläggning och uppföljning'!B132=\"Vet ej\",'Handläggning och uppföljning'!C132,\"\")","v":""},{"$f":"IF('Handläggning och uppföljning'!B132=\"Vet ej\",IF(ISBLANK('Handläggning och uppföljning'!D132),\"\",'Handläggning och uppföljning'!D132),\"\")","v":""}]
[null,{"$f":"IF('Handläggning och uppföljning'!B133=\"Vet ej\",'Handläggning och uppföljning'!A133,\"\")","v":""},{"$f":"IF('Handläggning och uppföljning'!B133=\"Vet ej\",'Handläggning och uppföljning'!C133,\"\")","v":""},{"$f":"IF('Handläggning och uppföljning'!B133=\"Vet ej\",IF(ISBLANK('Handläggning och uppföljning'!D133),\"\",'Handläggning och uppföljning'!D133),\"\")","v":""}]
[null,{"$f":"IF('Handläggning och uppföljning'!B134=\"Vet ej\",'Handläggning och uppföljning'!A134,\"\")","v":""},{"$f":"IF('Handläggning och uppföljning'!B134=\"Vet ej\",'Handläggning och uppföljning'!C134,\"\")","v":""},{"$f":"IF('Handläggning och uppföljning'!B134=\"Vet ej\",IF(ISBLANK('Handläggning och uppföljning'!D134),\"\",'Handläggning och uppföljning'!D134),\"\")","v":""}]
[null,{"$f":"IF('Handläggning och uppföljning'!B135=\"Vet ej\",'Handläggning och uppföljning'!A135,\"\")","v":""},{"$f":"IF('Handläggning och uppföljning'!B135=\"Vet ej\",'Handläggning och uppföljning'!C135,\"\")","v":""},{"$f":"IF('Handläggning och uppföljning'!B135=\"Vet ej\",IF(ISBLANK('Handläggning och uppföljning'!D135),\"\",'Handläggning och uppföljning'!D135),\"\")","v":""}]
[null,{"$f":"IF('Handläggning och uppföljning'!B136=\"Vet ej\",'Handläggning och uppföljning'!A136,\"\")","v":""},{"$f":"IF('Handläggning och uppföljning'!B136=\"Vet ej\",'Handläggning och uppföljning'!C136,\"\")","v":""},{"$f":"IF('Handläggning och uppföljning'!B136=\"Vet ej\",IF(ISBLANK('Handläggning och uppföljning'!D136),\"\",'Handläggning och uppföljning'!D136),\"\")","v":""}]
[null,{"$f":"IF('Handläggning och uppföljning'!B137=\"Vet ej\",'Handläggning och uppföljning'!A137,\"\")","v":""},{"$f":"IF('Handläggning och uppföljning'!B137=\"Vet ej\",'Handläggning och uppföljning'!C137,\"\")","v":""},{"$f":"IF('Handläggning och uppföljning'!B137=\"Vet ej\",IF(ISBLANK('Handläggning och uppföljning'!D137),\"\",'Handläggning och uppföljning'!D137),\"\")","v":""}]
[null,{"$f":"IF('Handläggning och uppföljning'!B138=\"Vet ej\",'Handläggning och uppföljning'!A138,\"\")","v":""},{"$f":"IF('Handläggning och uppföljning'!B138=\"Vet ej\",'Handläggning och uppföljning'!C138,\"\")","v":""},{"$f":"IF('Handläggning och uppföljning'!B138=\"Vet ej\",IF(ISBLANK('Handläggning och uppföljning'!D138),\"\",'Handläggning och uppföljning'!D138),\"\")","v":""}]
[null,{"$f":"IF('Handläggning och uppföljning'!B139=\"Vet ej\",'Handläggning och uppföljning'!A139,\"\")","v":""},{"$f":"IF('Handläggning och uppföljning'!B139=\"Vet ej\",'Handläggning och uppföljning'!C139,\"\")","v":""},{"$f":"IF('Handläggning och uppföljning'!B139=\"Vet ej\",IF(ISBLANK('Handläggning och uppföljning'!D139),\"\",'Handläggning och uppföljning'!D139),\"\")","v":""}]
[null,{"$f":"IF('Handläggning och uppföljning'!B140=\"Vet ej\",'Handläggning och uppföljning'!A140,\"\")","v":""},{"$f":"IF('Handläggning och uppföljning'!B140=\"Vet ej\",'Handläggning och uppföljning'!C140,\"\")","v":""},{"$f":"IF('Handläggning och uppföljning'!B140=\"Vet ej\",IF(ISBLANK('Handläggning och uppföljning'!D140),\"\",'Handläggning och uppföljning'!D140),\"\")","v":""}]
[null,{"$f":"IF('Handläggning och uppföljning'!B141=\"Vet ej\",'Handläggning och uppföljning'!A141,\"\")","v":""},{"$f":"IF('Handläggning och uppföljning'!B141=\"Vet ej\",'Handläggning och uppföljning'!C141,\"\")","v":""},{"$f":"IF('Handläggning och uppföljning'!B141=\"Vet ej\",IF(ISBLANK('Handläggning och uppföljning'!D141),\"\",'Handläggning och uppföljning'!D141),\"\")","v":""}]
[null,{"$f":"IF('Handläggning och uppföljning'!B142=\"Vet ej\",'Handläggning och uppföljning'!A142,\"\")","v":""},{"$f":"IF('Handläggning och uppföljning'!B142=\"Vet ej\",'Handläggning och uppföljning'!C142,\"\")","v":""},{"$f":"IF('Handläggning och uppföljning'!B142=\"Vet ej\",IF(ISBLANK('Handläggning och uppföljning'!D142),\"\",'Handläggning och uppföljning'!D142),\"\")","v":""}]
[null,{"$f":"IF('Handläggning och uppföljning'!B143=\"Vet ej\",'Handläggning och uppföljning'!A143,\"\")","v":""},{"$f":"IF('Handläggning och uppföljning'!B143=\"Vet ej\",'Handläggning och uppföljning'!C143,\"\")","v":""},{"$f":"IF('Handläggning och uppföljning'!B143=\"Vet ej\",IF(ISBLANK('Handläggning och uppföljning'!D143),\"\",'Handläggning och uppföljning'!D143),\"\")","v":""}]
[null,{"$f":"IF('Handläggning och uppföljning'!B144=\"Vet ej\",'Handläggning och uppföljning'!A144,\"\")","v":""},{"$f":"IF('Handläggning och uppföljning'!B144=\"Vet ej\",'Handläggning och uppföljning'!C144,\"\")","v":""},{"$f":"IF('Handläggning och uppföljning'!B144=\"Vet ej\",IF(ISBLANK('Handläggning och uppföljning'!D144),\"\",'Handläggning och uppföljning'!D144),\"\")","v":""}]
[null,{"$f":"IF('Handläggning och uppföljning'!B145=\"Vet ej\",'Handläggning och uppföljning'!A145,\"\")","v":""},{"$f":"IF('Handläggning och uppföljning'!B145=\"Vet ej\",'Handläggning och uppföljning'!C145,\"\")","v":""},{"$f":"IF('Handläggning och uppföljning'!B145=\"Vet ej\",IF(ISBLANK('Handläggning och uppföljning'!D145),\"\",'Handläggning och uppföljning'!D145),\"\")","v":""}]
[null,{"$f":"IF('Handläggning och uppföljning'!B146=\"Vet ej\",'Handläggning och uppföljning'!A146,\"\")","v":""},{"$f":"IF('Handläggning och uppföljning'!B146=\"Vet ej\",'Handläggning och uppföljning'!C146,\"\")","v":""},{"$f":"IF('Handläggning och uppföljning'!B146=\"Vet ej\",IF(ISBLANK('Handläggning och uppföljning'!D146),\"\",'Handläggning och uppföljning'!D146),\"\")","v":""}]
[null,{"$f":"IF('Handläggning och uppföljning'!B147=\"Vet ej\",'Handläggning och uppföljning'!A147,\"\")","v":""},{"$f":"IF('Handläggning och uppföljning'!B147=\"Vet ej\",'Handläggning och uppföljning'!C147,\"\")","v":""},{"$f":"IF('Handläggning och uppföljning'!B147=\"Vet ej\",IF(ISBLANK('Handläggning och uppföljning'!D147),\"\",'Handläggning och uppföljning'!D147),\"\")","v":""}]
[null,{"$f":"IF('Handläggning och uppföljning'!B148=\"Vet ej\",'Handläggning och uppföljning'!A148,\"\")","v":""},{"$f":"IF('Handläggning och uppföljning'!B148=\"Vet ej\",'Handläggning och uppföljning'!C148,\"\")","v":""},{"$f":"IF('Handläggning och uppföljning'!B148=\"Vet ej\",IF(ISBLANK('Handläggning och uppföljning'!D148),\"\",'Handläggning och uppföljning'!D148),\"\")","v":""}]
[null,{"$f":"IF('Handläggning och uppföljning'!B149=\"Vet ej\",'Handläggning och uppföljning'!A149,\"\")","v":""},{"$f":"IF('Handläggning och uppföljning'!B149=\"Vet ej\",'Handläggning och uppföljning'!C149,\"\")","v":""},{"$f":"IF('Handläggning och uppföljning'!B149=\"Vet ej\",IF(ISBLANK('Handläggning och uppföljning'!D149),\"\",'Handläggning och uppföljning'!D149),\"\")","v":""}]
[null,{"$f":"IF('Handläggning och uppföljning'!B150=\"Vet ej\",'Handläggning och uppföljning'!A150,\"\")","v":""},{"$f":"IF('Handläggning och uppföljning'!B150=\"Vet ej\",'Handläggning och uppföljning'!C150,\"\")","v":""},{"$f":"IF('Handläggning och uppföljning'!B150=\"Vet ej\",IF(ISBLANK('Handläggning och uppföljning'!D150),\"\",'Handläggning och uppföljning'!D150),\"\")","v":""}]
[null,{"$f":"IF('Handläggning och uppföljning'!B151=\"Vet ej\",'Handläggning och uppföljning'!A151,\"\")","v":""},{"$f":"IF('Handläggning och uppföljning'!B151=\"Vet ej\",'Handläggning och uppföljning'!C151,\"\")","v":""},{"$f":"IF('Handläggning och uppföljning'!B151=\"Vet ej\",IF(ISBLANK('Handläggning och uppföljning'!D151),\"\",'Handläggning och uppföljning'!D151),\"\")","v":""}]
[null,{"$f":"IF('Handläggning och uppföljning'!B152=\"Vet ej\",'Handläggning och uppföljning'!A152,\"\")","v":""},{"$f":"IF('Handläggning och uppföljning'!B152=\"Vet ej\",'Handläggning och uppföljning'!C152,\"\")","v":""},{"$f":"IF('Handläggning och uppföljning'!B152=\"Vet ej\",IF(ISBLANK('Handläggning och uppföljning'!D152),\"\",'Handläggning och uppföljning'!D152),\"\")","v":""}]
[null,{"$f":"IF('Handläggning och uppföljning'!B153=\"Vet ej\",'Handläggning och uppföljning'!A153,\"\")","v":""},{"$f":"IF('Handläggning och uppföljning'!B153=\"Vet ej\",'Handläggning och uppföljning'!C153,\"\")","v":""},{"$f":"IF('Handläggning och uppföljning'!B153=\"Vet ej\",IF(ISBLANK('Handläggning och uppföljning'!D153),\"\",'Handläggning och uppföljning'!D153),\"\")","v":""}]
[null,{"$f":"IF('Handläggning och uppföljning'!B154=\"Vet ej\",'Handläggning och uppföljning'!A154,\"\")","v":""},{"$f":"IF('Handläggning och uppföljning'!B154=\"Vet ej\",'Handläggning och uppföljning'!C154,\"\")","v":""},{"$f":"IF('Handläggning och uppföljning'!B154=\"Vet ej\",IF(ISBLANK('Handläggning och uppföljning'!D154),\"\",'Handläggning och uppföljning'!D154),\"\")","v":""}]
[null,{"$f":"IF('Handläggning och uppföljning'!B155=\"Vet ej\",'Handläggning och uppföljning'!A155,\"\")","v":""},{"$f":"IF('Handläggning och uppföljning'!B155=\"Vet ej\",'Handläggning och uppföljning'!C155,\"\")","v":""},{"$f":"IF('Handläggning och uppföljning'!B155=\"Vet ej\",IF(ISBLANK('Handläggning och uppföljning'!D155),\"\",'Handläggning och uppföljning'!D155),\"\")","v":""}]
[null,{"$f":"IF('Handläggning och uppföljning'!B156=\"Vet ej\",'Handläggning och uppföljning'!A156,\"\")","v":""},{"$f":"IF('Handläggning och uppföljning'!B156=\"Vet ej\",'Handläggning och uppföljning'!C156,\"\")","v":""},{"$f":"IF('Handläggning och uppföljning'!B156=\"Vet ej\",IF(ISBLANK('Handläggning och uppföljning'!D156),\"\",'Handläggning och uppföljning'!D156),\"\")","v":""}]
[null,{"$f":"IF('Handläggning och uppföljning'!B157=\"Vet ej\",'Handläggning och uppföljning'!A157,\"\")","v":""},{"$f":"IF('Handläggning och uppföljning'!B157=\"Vet ej\",'Handläggning och uppföljning'!C157,\"\")","v":""},{"$f":"IF('Handläggning och uppföljning'!B157=\"Vet ej\",IF(ISBLANK('Handläggning och uppföljning'!D157),\"\",'Handläggning och uppföljning'!D157),\"\")","v":""}]
[null,{"$f":"IF('Handläggning och uppföljning'!B158=\"Vet ej\",'Handläggning och uppföljning'!A158,\"\")","v":""},{"$f":"IF('Handläggning och uppföljning'!B158=\"Vet ej\",'Handläggning och uppföljning'!C158,\"\")","v":""},{"$f":"IF('Handläggning och uppföljning'!B158=\"Vet ej\",IF(ISBLANK('Handläggning och uppföljning'!D158),\"\",'Handläggning och uppföljning'!D158),\"\")","v":""}]
[null,{"$f":"IF('Handläggning och uppföljning'!B159=\"Vet ej\",'Handläggning och uppföljning'!A159,\"\")","v":""},{"$f":"IF('Handläggning och uppföljning'!B159=\"Vet ej\",'Handläggning och uppföljning'!C159,\"\")","v":""},{"$f":"IF('Handläggning och uppföljning'!B159=\"Vet ej\",IF(ISBLANK('Handläggning och uppföljning'!D159),\"\",'Handläggning och uppföljning'!D159),\"\")","v":""}]
[null,{"$f":"IF('Handläggning och uppföljning'!B160=\"Vet ej\",'Handläggning och uppföljning'!A160,\"\")","v":""},{"$f":"IF('Handläggning och uppföljning'!B160=\"Vet ej\",'Handläggning och uppföljning'!C160,\"\")","v":""},{"$f":"IF('Handläggning och uppföljning'!B160=\"Vet ej\",IF(ISBLANK('Handläggning och uppföljning'!D160),\"\",'Handläggning och uppföljning'!D160),\"\")","v":""}]
[null,{"$f":"IF('Handläggning och uppföljning'!B161=\"Vet ej\",'Handläggning och uppföljning'!A161,\"\")","v":""},{"$f":"IF('Handläggning och uppföljning'!B161=\"Vet ej\",'Handläggning och uppföljning'!C161,\"\")","v":""},{"$f":"IF('Handläggning och uppföljning'!B161=\"Vet ej\",IF(ISBLANK('Handläggning och uppföljning'!D161),\"\",'Handläggning och uppföljning'!D161),\"\")","v":""}]
[null,{"$f":"IF('Handläggning och uppföljning'!B162=\"Vet ej\",'Handläggning och uppföljning'!A162,\"\")","v":""},{"$f":"IF('Handläggning och uppföljning'!B162=\"Vet ej\",'Handläggning och uppföljning'!C162,\"\")","v":""},{"$f":"IF('Handläggning och uppföljning'!B162=\"Vet ej\",IF(ISBLANK('Handläggning och uppföljning'!D162),\"\",'Handläggning och uppföljning'!D162),\"\")","v":""}]
[null,{"$f":"IF('Handläggning och uppföljning'!B163=\"Vet ej\",'Handläggning och uppföljning'!A163,\"\")","v":""},{"$f":"IF('Handläggning och uppföljning'!B163=\"Vet ej\",'Handläggning och uppföljning'!C163,\"\")","v":""},{"$f":"IF('Handläggning och uppföljning'!B163=\"Vet ej\",IF(ISBLANK('Handläggning och uppföljning'!D163),\"\",'Handläggning och uppföljning'!D163),\"\")","v":""}]
[null,{"$f":"IF('Handläggning och uppföljning'!B164=\"Vet ej\",'Handläggning och uppföljning'!A164,\"\")","v":""},{"$f":"IF('Handläggning och uppföljning'!B164=\"Vet ej\",'Handläggning och uppföljning'!C164,\"\")","v":""},{"$f":"IF('Handläggning och uppföljning'!B164=\"Vet ej\",IF(ISBLANK('Handläggning och uppföljning'!D164),\"\",'Handläggning och uppföljning'!D164),\"\")","v":""}]
[null,{"$f":"IF('Handläggning och uppföljning'!B165=\"Vet ej\",'Handläggning och uppföljning'!A165,\"\")","v":""},{"$f":"IF('Handläggning och uppföljning'!B165=\"Vet ej\",'Handläggning och uppföljning'!C165,\"\")","v":""},{"$f":"IF('Handläggning och uppföljning'!B165=\"Vet ej\",IF(ISBLANK('Handläggning och uppföljning'!D165),\"\",'Handläggning och uppföljning'!D165),\"\")","v":""}]
[null,{"$f":"IF('Handläggning och uppföljning'!B166=\"Vet ej\",'Handläggning och uppföljning'!A166,\"\")","v":""},{"$f":"IF('Handläggning och uppföljning'!B166=\"Vet ej\",'Handläggning och uppföljning'!C166,\"\")","v":""},{"$f":"IF('Handläggning och uppföljning'!B166=\"Vet ej\",IF(ISBLANK('Handläggning och uppföljning'!D166),\"\",'Handläggning och uppföljning'!D166),\"\")","v":""}]
[null,{"$f":"IF('Handläggning och uppföljning'!B167=\"Vet ej\",'Handläggning och uppföljning'!A167,\"\")","v":""},{"$f":"IF('Handläggning och uppföljning'!B167=\"Vet ej\",'Handläggning och uppföljning'!C167,\"\")","v":""},{"$f":"IF('Handläggning och uppföljning'!B167=\"Vet ej\",IF(ISBLANK('Handläggning och uppföljning'!D167),\"\",'Handläggning och uppföljning'!D167),\"\")","v":""}]
[null,{"$f":"IF('Handläggning och uppföljning'!B168=\"Vet ej\",'Handläggning och uppföljning'!A168,\"\")","v":""},{"$f":"IF('Handläggning och uppföljning'!B168=\"Vet ej\",'Handläggning och uppföljning'!C168,\"\")","v":""},{"$f":"IF('Handläggning och uppföljning'!B168=\"Vet ej\",IF(ISBLANK('Handläggning och uppföljning'!D168),\"\",'Handläggning och uppföljning'!D168),\"\")","v":""}]
[null,{"$f":"IF('Handläggning och uppföljning'!B169=\"Vet ej\",'Handläggning och uppföljning'!A169,\"\")","v":""},{"$f":"IF('Handläggning och uppföljning'!B169=\"Vet ej\",'Handläggning och uppföljning'!C169,\"\")","v":""},{"$f":"IF('Handläggning och uppföljning'!B169=\"Vet ej\",IF(ISBLANK('Handläggning och uppföljning'!D169),\"\",'Handläggning och uppföljning'!D169),\"\")","v":""}]
[null,{"$f":"IF(Insatser!B4=\"Vet ej\",Insatser!A4,\"\")","v":""},{"$f":"IF(Insatser!B4=\"Vet ej\",Insatser!C4,\"\")","v":""},{"$f":"IF(Insatser!B4=\"Vet ej\",IF(ISBLANK(Insatser!D4),\"\",Insatser!D4),\"\")","v":""}]
[null,{"$f":"IF(Insatser!B5=\"Vet ej\",Insatser!A5,\"\")","v":""},{"$f":"IF(Insatser!B5=\"Vet ej\",Insatser!C5,\"\")","v":""},{"$f":"IF(Insatser!B5=\"Vet ej\",IF(ISBLANK(Insatser!D5),\"\",Insatser!D5),\"\")","v":""}]
[null,{"$f":"IF(Insatser!B6=\"Vet ej\",Insatser!A6,\"\")","v":""},{"$f":"IF(Insatser!B6=\"Vet ej\",Insatser!C6,\"\")","v":""},{"$f":"IF(Insatser!B6=\"Vet ej\",IF(ISBLANK(Insatser!D6),\"\",Insatser!D6),\"\")","v":""}]
[null,{"$f":"IF(Insatser!B7=\"Vet ej\",Insatser!A7,\"\")","v":""},{"$f":"IF(Insatser!B7=\"Vet ej\",Insatser!C7,\"\")","v":""},{"$f":"IF(Insatser!B7=\"Vet ej\",IF(ISBLANK(Insatser!D7),\"\",Insatser!D7),\"\")","v":""}]
[null,{"$f":"IF(Insatser!B8=\"Vet ej\",Insatser!A8,\"\")","v":""},{"$f":"IF(Insatser!B8=\"Vet ej\",Insatser!C8,\"\")","v":""},{"$f":"IF(Insatser!B8=\"Vet ej\",IF(ISBLANK(Insatser!D8),\"\",Insatser!D8),\"\")","v":""}]
[null,{"$f":"IF(Insatser!B9=\"Vet ej\",Insatser!A9,\"\")","v":""},{"$f":"IF(Insatser!B9=\"Vet ej\",Insatser!C9,\"\")","v":""},{"$f":"IF(Insatser!B9=\"Vet ej\",IF(ISBLANK(Insatser!D9),\"\",Insatser!D9),\"\")","v":""}]
[null,{"$f":"IF(Insatser!B10=\"Vet ej\",Insatser!A10,\"\")","v":""},{"$f":"IF(Insatser!B10=\"Vet ej\",Insatser!C10,\"\")","v":""},{"$f":"IF(Insatser!B10=\"Vet ej\",IF(ISBLANK(Insatser!D10),\"\",Insatser!D10),\"\")","v":""}]
[null,{"$f":"IF(Insatser!B11=\"Vet ej\",Insatser!A11,\"\")","v":""},{"$f":"IF(Insatser!B11=\"Vet ej\",Insatser!C11,\"\")","v":""},{"$f":"IF(Insatser!B11=\"Vet ej\",IF(ISBLANK(Insatser!D11),\"\",Insatser!D11),\"\")","v":""}]
[null,{"$f":"IF(Insatser!B12=\"Vet ej\",Insatser!A12,\"\")","v":""},{"$f":"IF(Insatser!B12=\"Vet ej\",Insatser!C12,\"\")","v":""},{"$f":"IF(Insatser!B12=\"Vet ej\",IF(ISBLANK(Insatser!D12),\"\",Insatser!D12),\"\")","v":""}]
[null,{"$f":"IF(Insatser!B13=\"Vet ej\",Insatser!A13,\"\")","v":""},{"$f":"IF(Insatser!B13=\"Vet ej\",Insatser!C13,\"\")","v":""},{"$f":"IF(Insatser!B13=\"Vet ej\",IF(ISBLANK(Insatser!D13),\"\",Insatser!D13),\"\")","v":""}]
[null,{"$f":"IF(Insatser!B14=\"Vet ej\",Insatser!A14,\"\")","v":""},{"$f":"IF(Insatser!B14=\"Vet ej\",Insatser!C14,\"\")","v":""},{"$f":"IF(Insatser!B14=\"Vet ej\",IF(ISBLANK(Insatser!D14),\"\",Insatser!D14),\"\")","v":""}]
[null,{"$f":"IF(Insatser!B15=\"Vet ej\",Insatser!A15,\"\")","v":""},{"$f":"IF(Insatser!B15=\"Vet ej\",Insatser!C15,\"\")","v":""},{"$f":"IF(Insatser!B15=\"Vet ej\",IF(ISBLANK(Insatser!D15),\"\",Insatser!D15),\"\")","v":""}]
[null,{"$f":"IF(Insatser!B16=\"Vet ej\",Insatser!A16,\"\")","v":""},{"$f":"IF(Insatser!B16=\"Vet ej\",Insatser!C16,\"\")","v":""},{"$f":"IF(Insatser!B16=\"Vet ej\",IF(ISBLANK(Insatser!D16),\"\",Insatser!D16),\"\")","v":""}]
[null,{"$f":"IF(Insatser!B17=\"Vet ej\",Insatser!A17,\"\")","v":""},{"$f":"IF(Insatser!B17=\"Vet ej\",Insatser!C17,\"\")","v":""},{"$f":"IF(Insatser!B17=\"Vet ej\",IF(ISBLANK(Insatser!D17),\"\",Insatser!D17),\"\")","v":""}]
[null,{"$f":"IF(Insatser!B18=\"Vet ej\",Insatser!A18,\"\")","v":""},{"$f":"IF(Insatser!B18=\"Vet ej\",Insatser!C18,\"\")","v":""},{"$f":"IF(Insatser!B18=\"Vet ej\",IF(ISBLANK(Insatser!D18),\"\",Insatser!D18),\"\")","v":""}]
[null,{"$f":"IF(Insatser!B19=\"Vet ej\",Insatser!A19,\"\")","v":""},{"$f":"IF(Insatser!B19=\"Vet ej\",Insatser!C19,\"\")","v":""},{"$f":"IF(Insatser!B19=\"Vet ej\",IF(ISBLANK(Insatser!D19),\"\",Insatser!D19),\"\")","v":""}]
[null,{"$f":"IF(Insatser!B20=\"Vet ej\",Insatser!A20,\"\")","v":""},{"$f":"IF(Insatser!B20=\"Vet ej\",Insatser!C20,\"\")","v":""},{"$f":"IF(Insatser!B20=\"Vet ej\",IF(ISBLANK(Insatser!D20),\"\",Insatser!D20),\"\")","v":""}]
[null,{"$f":"IF(Insatser!B21=\"Vet ej\",Insatser!A21,\"\")","v":""},{"$f":"IF(Insatser!B21=\"Vet ej\",Insatser!C21,\"\")","v":""},{"$f":"IF(Insatser!B21=\"Vet ej\",IF(ISBLANK(Insatser!D21),\"\",Insatser!D21),\"\")","v":""}]
[null,{"$f":"IF(Insatser!B22=\"Vet ej\",Insatser!A22,\"\")","v":""},{"$f":"IF(Insatser!B22=\"Vet ej\",Insatser!C22,\"\")","v":""},{"$f":"IF(Insatser!B22=\"Vet ej\",IF(ISBLANK(Insatser!D22),\"\",Insatser!D22),\"\")","v":""}]
[null,{"$f":"IF(Insatser!B23=\"Vet ej\",Insatser!A23,\"\")","v":""},{"$f":"IF(Insatser!B23=\"Vet ej\",Insatser!C23,\"\")","v":""},{"$f":"IF(Insatser!B23=\"Vet ej\",IF(ISBLANK(Insatser!D23),\"\",Insatser!D23),\"\")","v":""}]
[null,{"$f":"IF(Insatser!B24=\"Vet ej\",Insatser!A24,\"\")","v":""},{"$f":"IF(Insatser!B24=\"Vet ej\",Insatser!C24,\"\")","v":""},{"$f":"IF(Insatser!B24=\"Vet ej\",IF(ISBLANK(Insatser!D24),\"\",Insatser!D24),\"\")","v":""}]
[null,{"$f":"IF(Insatser!B25=\"Vet ej\",Insatser!A25,\"\")","v":""},{"$f":"IF(Insatser!B25=\"Vet ej\",Insatser!C25,\"\")","v":""},{"$f":"IF(Insatser!B25=\"Vet ej\",IF(ISBLANK(Insatser!D25),\"\",Insatser!D25),\"\")","v":""}]
[null,{"$f":"IF(Insatser!B26=\"Vet ej\",Insatser!A26,\"\")","v":""},{"$f":"IF(Insatser!B26=\"Vet ej\",Insatser!C26,\"\")","v":""},{"$f":"IF(Insatser!B26=\"Vet ej\",IF(ISBLANK(Insatser!D26),\"\",Insatser!D26),\"\")","v":""}]
[null,{"$f":"IF(Insatser!B27=\"Vet ej\",Insatser!A27,\"\")","v":""},{"$f":"IF(Insatser!B27=\"Vet ej\",Insatser!C27,\"\")","v":""},{"$f":"IF(Insatser!B27=\"Vet ej\",IF(ISBLANK(Insatser!D27),\"\",Insatser!D27),\"\")","v":""}]
[null,{"$f":"IF(Insatser!B28=\"Vet ej\",Insatser!A28,\"\")","v":""},{"$f":"IF(Insatser!B28=\"Vet ej\",Insatser!C28,\"\")","v":""},{"$f":"IF(Insatser!B28=\"Vet ej\",IF(ISBLANK(Insatser!D28),\"\",Insatser!D28),\"\")","v":""}]
[null,{"$f":"IF(Insatser!B29=\"Vet ej\",Insatser!A29,\"\")","v":""},{"$f":"IF(Insatser!B29=\"Vet ej\",Insatser!C29,\"\")","v":""},{"$f":"IF(Insatser!B29=\"Vet ej\",IF(ISBLANK(Insatser!D29),\"\",Insatser!D29),\"\")","v":""}]
[null,{"$f":"IF(Insatser!B30=\"Vet ej\",Insatser!A30,\"\")","v":""},{"$f":"IF(Insatser!B30=\"Vet ej\",Insatser!C30,\"\")","v":""},{"$f":"IF(Insatser!B30=\"Vet ej\",IF(ISBLANK(Insatser!D30),\"\",Insatser!D30),\"\")","v":""}]
[null,{"$f":"IF(Insatser!B31=\"Vet ej\",Insatser!A31,\"\")","v":""},{"$f":"IF(Insatser!B31=\"Vet ej\",Insatser!C31,\"\")","v":""},{"$f":"IF(Insatser!B31=\"Vet ej\",IF(ISBLANK(Insatser!D31),\"\",Insatser!D31),\"\")","v":""}]
[null,{"$f":"IF(Insatser!B32=\"Vet ej\",Insatser!A32,\"\")","v":""},{"$f":"IF(Insatser!B32=\"Vet ej\",Insatser!C32,\"\")","v":""},{"$f":"IF(Insatser!B32=\"Vet ej\",IF(ISBLANK(Insatser!D32),\"\",Insatser!D32),\"\")","v":""}]
[null,{"$f":"IF(Insatser!B33=\"Vet ej\",Insatser!A33,\"\")","v":""},{"$f":"IF(Insatser!B33=\"Vet ej\",Insatser!C33,\"\")","v":""},{"$f":"IF(Insatser!B33=\"Vet ej\",IF(ISBLANK(Insatser!D33),\"\",Insatser!D33),\"\")","v":""}]
[null,{"$f":"IF(Insatser!B34=\"Vet ej\",Insatser!A34,\"\")","v":""},{"$f":"IF(Insatser!B34=\"Vet ej\",Insatser!C34,\"\")","v":""},{"$f":"IF(Insatser!B34=\"Vet ej\",IF(ISBLANK(Insatser!D34),\"\",Insatser!D34),\"\")","v":""}]
[null,{"$f":"IF(Insatser!B35=\"Vet ej\",Insatser!A35,\"\")","v":""},{"$f":"IF(Insatser!B35=\"Vet ej\",Insatser!C35,\"\")","v":""},{"$f":"IF(Insatser!B35=\"Vet ej\",IF(ISBLANK(Insatser!D35),\"\",Insatser!D35),\"\")","v":""}]
[null,{"$f":"IF(Insatser!B36=\"Vet ej\",Insatser!A36,\"\")","v":""},{"$f":"IF(Insatser!B36=\"Vet ej\",Insatser!C36,\"\")","v":""},{"$f":"IF(Insatser!B36=\"Vet ej\",IF(ISBLANK(Insatser!D36),\"\",Insatser!D36),\"\")","v":""}]
[null,{"$f":"IF(Insatser!B37=\"Vet ej\",Insatser!A37,\"\")","v":""},{"$f":"IF(Insatser!B37=\"Vet ej\",Insatser!C37,\"\")","v":""},{"$f":"IF(Insatser!B37=\"Vet ej\",IF(ISBLANK(Insatser!D37),\"\",Insatser!D37),\"\")","v":""}]
[null,{"$f":"IF(Insatser!B38=\"Vet ej\",Insatser!A38,\"\")","v":""},{"$f":"IF(Insatser!B38=\"Vet ej\",Insatser!C38,\"\")","v":""},{"$f":"IF(Insatser!B38=\"Vet ej\",IF(ISBLANK(Insatser!D38),\"\",Insatser!D38),\"\")","v":""}]
[null,{"$f":"IF(Insatser!B39=\"Vet ej\",Insatser!A39,\"\")","v":""},{"$f":"IF(Insatser!B39=\"Vet ej\",Insatser!C39,\"\")","v":""},{"$f":"IF(Insatser!B39=\"Vet ej\",IF(ISBLANK(Insatser!D39),\"\",Insatser!D39),\"\")","v":""}]
[null,{"$f":"IF(Insatser!B40=\"Vet ej\",Insatser!A40,\"\")","v":""},{"$f":"IF(Insatser!B40=\"Vet ej\",Insatser!C40,\"\")","v":""},{"$f":"IF(Insatser!B40=\"Vet ej\",IF(ISBLANK(Insatser!D40),\"\",Insatser!D40),\"\")","v":""}]
[null,{"$f":"IF(Insatser!B41=\"Vet ej\",Insatser!A41,\"\")","v":""},{"$f":"IF(Insatser!B41=\"Vet ej\",Insatser!C41,\"\")","v":""},{"$f":"IF(Insatser!B41=\"Vet ej\",IF(ISBLANK(Insatser!D41),\"\",Insatser!D41),\"\")","v":""}]
[null,{"$f":"IF(Insatser!B42=\"Vet ej\",Insatser!A42,\"\")","v":""},{"$f":"IF(Insatser!B42=\"Vet ej\",Insatser!C42,\"\")","v":""},{"$f":"IF(Insatser!B42=\"Vet ej\",IF(ISBLANK(Insatser!D42),\"\",Insatser!D42),\"\")","v":""}]
[null,{"$f":"IF(Insatser!B43=\"Vet ej\",Insatser!A43,\"\")","v":""},{"$f":"IF(Insatser!B43=\"Vet ej\",Insatser!C43,\"\")","v":""},{"$f":"IF(Insatser!B43=\"Vet ej\",IF(ISBLANK(Insatser!D43),\"\",Insatser!D43),\"\")","v":""}]
[null,{"$f":"IF(Insatser!B44=\"Vet ej\",Insatser!A44,\"\")","v":""},{"$f":"IF(Insatser!B44=\"Vet ej\",Insatser!C44,\"\")","v":""},{"$f":"IF(Insatser!B44=\"Vet ej\",IF(ISBLANK(Insatser!D44),\"\",Insatser!D44),\"\")","v":""}]
[null,{"$f":"IF(Insatser!B45=\"Vet ej\",Insatser!A45,\"\")","v":""},{"$f":"IF(Insatser!B45=\"Vet ej\",Insatser!C45,\"\")","v":""},{"$f":"IF(Insatser!B45=\"Vet ej\",IF(ISBLANK(Insatser!D45),\"\",Insatser!D45),\"\")","v":""}]
[null,{"$f":"IF(Insatser!B46=\"Vet ej\",Insatser!A46,\"\")","v":""},{"$f":"IF(Insatser!B46=\"Vet ej\",Insatser!C46,\"\")","v":""},{"$f":"IF(Insatser!B46=\"Vet ej\",IF(ISBLANK(Insatser!D46),\"\",Insatser!D46),\"\")","v":""}]
[null,{"$f":"IF(Insatser!B47=\"Vet ej\",Insatser!A47,\"\")","v":""},{"$f":"IF(Insatser!B47=\"Vet ej\",Insatser!C47,\"\")","v":""},{"$f":"IF(Insatser!B47=\"Vet ej\",IF(ISBLANK(Insatser!D47),\"\",Insatser!D47),\"\")","v":""}]
[null,{"$f":"IF(Insatser!B48=\"Vet ej\",Insatser!A48,\"\")","v":""},{"$f":"IF(Insatser!B48=\"Vet ej\",Insatser!C48,\"\")","v":""},{"$f":"IF(Insatser!B48=\"Vet ej\",IF(ISBLANK(Insatser!D48),\"\",Insatser!D48),\"\")","v":""}]
[null,{"$f":"IF(Insatser!B49=\"Vet ej\",Insatser!A49,\"\")","v":""},{"$f":"IF(Insatser!B49=\"Vet ej\",Insatser!C49,\"\")","v":""},{"$f":"IF(Insatser!B49=\"Vet ej\",IF(ISBLANK(Insatser!D49),\"\",Insatser!D49),\"\")","v":""}]
[null,{"$f":"IF(Insatser!B50=\"Vet ej\",Insatser!A50,\"\")","v":""},{"$f":"IF(Insatser!B50=\"Vet ej\",Insatser!C50,\"\")","v":""},{"$f":"IF(Insatser!B50=\"Vet ej\",IF(ISBLANK(Insatser!D50),\"\",Insatser!D50),\"\")","v":""}]
[null,{"$f":"IF(Insatser!B51=\"Vet ej\",Insatser!A51,\"\")","v":""},{"$f":"IF(Insatser!B51=\"Vet ej\",Insatser!C51,\"\")","v":""},{"$f":"IF(Insatser!B51=\"Vet ej\",IF(ISBLANK(Insatser!D51),\"\",Insatser!D51),\"\")","v":""}]
[null,{"$f":"IF(Insatser!B52=\"Vet ej\",Insatser!A52,\"\")","v":""},{"$f":"IF(Insatser!B52=\"Vet ej\",Insatser!C52,\"\")","v":""},{"$f":"IF(Insatser!B52=\"Vet ej\",IF(ISBLANK(Insatser!D52),\"\",Insatser!D52),\"\")","v":""}]
[null,{"$f":"IF(Insatser!B53=\"Vet ej\",Insatser!A53,\"\")","v":""},{"$f":"IF(Insatser!B53=\"Vet ej\",Insatser!C53,\"\")","v":""},{"$f":"IF(Insatser!B53=\"Vet ej\",IF(ISBLANK(Insatser!D53),\"\",Insatser!D53),\"\")","v":""}]
[null,{"$f":"IF(Insatser!B54=\"Vet ej\",Insatser!A54,\"\")","v":""},{"$f":"IF(Insatser!B54=\"Vet ej\",Insatser!C54,\"\")","v":""},{"$f":"IF(Insatser!B54=\"Vet ej\",IF(ISBLANK(Insatser!D54),\"\",Insatser!D54),\"\")","v":""}]
[null,{"$f":"IF(Insatser!B55=\"Vet ej\",Insatser!A55,\"\")","v":""},{"$f":"IF(Insatser!B55=\"Vet ej\",Insatser!C55,\"\")","v":""},{"$f":"IF(Insatser!B55=\"Vet ej\",IF(ISBLANK(Insatser!D55),\"\",Insatser!D55),\"\")","v":""}]
[null,{"$f":"IF(Insatser!B56=\"Vet ej\",Insatser!A56,\"\")","v":""},{"$f":"IF(Insatser!B56=\"Vet ej\",Insatser!C56,\"\")","v":""},{"$f":"IF(Insatser!B56=\"Vet ej\",IF(ISBLANK(Insatser!D56),\"\",Insatser!D56),\"\")","v":""}]
[null,{"$f":"IF(Insatser!B57=\"Vet ej\",Insatser!A57,\"\")","v":""},{"$f":"IF(Insatser!B57=\"Vet ej\",Insatser!C57,\"\")","v":""},{"$f":"IF(Insatser!B57=\"Vet ej\",IF(ISBLANK(Insatser!D57),\"\",Insatser!D57),\"\")","v":""}]
[null,{"$f":"IF(Insatser!B58=\"Vet ej\",Insatser!A58,\"\")","v":""},{"$f":"IF(Insatser!B58=\"Vet ej\",Insatser!C58,\"\")","v":""},{"$f":"IF(Insatser!B58=\"Vet ej\",IF(ISBLANK(Insatser!D58),\"\",Insatser!D58),\"\")","v":""}]
[null,{"$f":"IF(Insatser!B59=\"Vet ej\",Insatser!A59,\"\")","v":""},{"$f":"IF(Insatser!B59=\"Vet ej\",Insatser!C59,\"\")","v":""},{"$f":"IF(Insatser!B59=\"Vet ej\",IF(ISBLANK(Insatser!D59),\"\",Insatser!D59),\"\")","v":""}]
[null,{"$f":"IF(Insatser!B60=\"Vet ej\",Insatser!A60,\"\")","v":""},{"$f":"IF(Insatser!B60=\"Vet ej\",Insatser!C60,\"\")","v":""},{"$f":"IF(Insatser!B60=\"Vet ej\",IF(ISBLANK(Insatser!D60),\"\",Insatser!D60),\"\")","v":""}]
[null,{"$f":"IF(Insatser!B61=\"Vet ej\",Insatser!A61,\"\")","v":""},{"$f":"IF(Insatser!B61=\"Vet ej\",Insatser!C61,\"\")","v":""},{"$f":"IF(Insatser!B61=\"Vet ej\",IF(ISBLANK(Insatser!D61),\"\",Insatser!D61),\"\")","v":""}]
[null,{"$f":"IF(Insatser!B62=\"Vet ej\",Insatser!A62,\"\")","v":""},{"$f":"IF(Insatser!B62=\"Vet ej\",Insatser!C62,\"\")","v":""},{"$f":"IF(Insatser!B62=\"Vet ej\",IF(ISBLANK(Insatser!D62),\"\",Insatser!D62),\"\")","v":""}]
[null,{"$f":"IF(Insatser!B63=\"Vet ej\",Insatser!A63,\"\")","v":""},{"$f":"IF(Insatser!B63=\"Vet ej\",Insatser!C63,\"\")","v":""},{"$f":"IF(Insatser!B63=\"Vet ej\",IF(ISBLANK(Insatser!D63),\"\",Insatser!D63),\"\")","v":""}]
[null,{"$f":"IF(Insatser!B64=\"Vet ej\",Insatser!A64,\"\")","v":""},{"$f":"IF(Insatser!B64=\"Vet ej\",Insatser!C64,\"\")","v":""},{"$f":"IF(Insatser!B64=\"Vet ej\",IF(ISBLANK(Insatser!D64),\"\",Insatser!D64),\"\")","v":""}]
[null,{"$f":"IF(Insatser!B65=\"Vet ej\",Insatser!A65,\"\")","v":""},{"$f":"IF(Insatser!B65=\"Vet ej\",Insatser!C65,\"\")","v":""},{"$f":"IF(Insatser!B65=\"Vet ej\",IF(ISBLANK(Insatser!D65),\"\",Insatser!D65),\"\")","v":""}]
[null,{"$f":"IF(Insatser!B66=\"Vet ej\",Insatser!A66,\"\")","v":""},{"$f":"IF(Insatser!B66=\"Vet ej\",Insatser!C66,\"\")","v":""},{"$f":"IF(Insatser!B66=\"Vet ej\",IF(ISBLANK(Insatser!D66),\"\",Insatser!D66),\"\")","v":""}]
[null,{"$f":"IF(Insatser!B67=\"Vet ej\",Insatser!A67,\"\")","v":""},{"$f":"IF(Insatser!B67=\"Vet ej\",Insatser!C67,\"\")","v":""},{"$f":"IF(Insatser!B67=\"Vet ej\",IF(ISBLANK(Insatser!D67),\"\",Insatser!D67),\"\")","v":""}]
[null,{"$f":"IF(Insatser!B68=\"Vet ej\",Insatser!A68,\"\")","v":""},{"$f":"IF(Insatser!B68=\"Vet ej\",Insatser!C68,\"\")","v":""},{"$f":"IF(Insatser!B68=\"Vet ej\",IF(ISBLANK(Insatser!D68),\"\",Insatser!D68),\"\")","v":""}]
[null,{"$f":"IF(Insatser!B69=\"Vet ej\",Insatser!A69,\"\")","v":""},{"$f":"IF(Insatser!B69=\"Vet ej\",Insatser!C69,\"\")","v":""},{"$f":"IF(Insatser!B69=\"Vet ej\",IF(ISBLANK(Insatser!D69),\"\",Insatser!D69),\"\")","v":""}]
[null,{"$f":"IF(Insatser!B70=\"Vet ej\",Insatser!A70,\"\")","v":""},{"$f":"IF(Insatser!B70=\"Vet ej\",Insatser!C70,\"\")","v":""},{"$f":"IF(Insatser!B70=\"Vet ej\",IF(ISBLANK(Insatser!D70),\"\",Insatser!D70),\"\")","v":""}]
[null,{"$f":"IF(Insatser!B71=\"Vet ej\",Insatser!A71,\"\")","v":""},{"$f":"IF(Insatser!B71=\"Vet ej\",Insatser!C71,\"\")","v":""},{"$f":"IF(Insatser!B71=\"Vet ej\",IF(ISBLANK(Insatser!D71),\"\",Insatser!D71),\"\")","v":""}]
[null,{"$f":"IF(Insatser!B72=\"Vet ej\",Insatser!A72,\"\")","v":""},{"$f":"IF(Insatser!B72=\"Vet ej\",Insatser!C72,\"\")","v":""},{"$f":"IF(Insatser!B72=\"Vet ej\",IF(ISBLANK(Insatser!D72),\"\",Insatser!D72),\"\")","v":""}]
[null,{"$f":"IF(Insatser!B73=\"Vet ej\",Insatser!A73,\"\")","v":""},{"$f":"IF(Insatser!B73=\"Vet ej\",Insatser!C73,\"\")","v":""},{"$f":"IF(Insatser!B73=\"Vet ej\",IF(ISBLANK(Insatser!D73),\"\",Insatser!D73),\"\")","v":""}]
[null,{"$f":"IF(Insatser!B74=\"Vet ej\",Insatser!A74,\"\")","v":""},{"$f":"IF(Insatser!B74=\"Vet ej\",Insatser!C74,\"\")","v":""},{"$f":"IF(Insatser!B74=\"Vet ej\",IF(ISBLANK(Insatser!D74),\"\",Insatser!D74),\"\")","v":""}]
[null,{"$f":"IF(Insatser!B75=\"Vet ej\",Insatser!A75,\"\")","v":""},{"$f":"IF(Insatser!B75=\"Vet ej\",Insatser!C75,\"\")","v":""},{"$f":"IF(Insatser!B75=\"Vet ej\",IF(ISBLANK(Insatser!D75),\"\",Insatser!D75),\"\")","v":""}]
[null,{"$f":"IF(Insatser!B76=\"Vet ej\",Insatser!A76,\"\")","v":""},{"$f":"IF(Insatser!B76=\"Vet ej\",Insatser!C76,\"\")","v":""},{"$f":"IF(Insatser!B76=\"Vet ej\",IF(ISBLANK(Insatser!D76),\"\",Insatser!D76),\"\")","v":""}]
[null,{"$f":"IF(Insatser!B77=\"Vet ej\",Insatser!A77,\"\")","v":""},{"$f":"IF(Insatser!B77=\"Vet ej\",Insatser!C77,\"\")","v":""},{"$f":"IF(Insatser!B77=\"Vet ej\",IF(ISBLANK(Insatser!D77),\"\",Insatser!D77),\"\")","v":""}]
[null,{"$f":"IF(Insatser!B78=\"Vet ej\",Insatser!A78,\"\")","v":""},{"$f":"IF(Insatser!B78=\"Vet ej\",Insatser!C78,\"\")","v":""},{"$f":"IF(Insatser!B78=\"Vet ej\",IF(ISBLANK(Insatser!D78),\"\",Insatser!D78),\"\")","v":""}]
[null,{"$f":"IF(Insatser!B79=\"Vet ej\",Insatser!A79,\"\")","v":""},{"$f":"IF(Insatser!B79=\"Vet ej\",Insatser!C79,\"\")","v":""},{"$f":"IF(Insatser!B79=\"Vet ej\",IF(ISBLANK(Insatser!D79),\"\",Insatser!D79),\"\")","v":""}]
[null,{"$f":"IF(Insatser!B80=\"Vet ej\",Insatser!A80,\"\")","v":""},{"$f":"IF(Insatser!B80=\"Vet ej\",Insatser!C80,\"\")","v":""},{"$f":"IF(Insatser!B80=\"Vet ej\",IF(ISBLANK(Insatser!D80),\"\",Insatser!D80),\"\")","v":""}]
[null,{"$f":"IF(Insatser!B81=\"Vet ej\",Insatser!A81,\"\")","v":""},{"$f":"IF(Insatser!B81=\"Vet ej\",Insatser!C81,\"\")","v":""},{"$f":"IF(Insatser!B81=\"Vet ej\",IF(ISBLANK(Insatser!D81),\"\",Insatser!D81),\"\")","v":""}]
[null,{"$f":"IF(Insatser!B82=\"Vet ej\",Insatser!A82,\"\")","v":""},{"$f":"IF(Insatser!B82=\"Vet ej\",Insatser!C82,\"\")","v":""},{"$f":"IF(Insatser!B82=\"Vet ej\",IF(ISBLANK(Insatser!D82),\"\",Insatser!D82),\"\")","v":""}]
[null,{"$f":"IF(Insatser!B83=\"Vet ej\",Insatser!A83,\"\")","v":""},{"$f":"IF(Insatser!B83=\"Vet ej\",Insatser!C83,\"\")","v":""},{"$f":"IF(Insatser!B83=\"Vet ej\",IF(ISBLANK(Insatser!D83),\"\",Insatser!D83),\"\")","v":""}]
[null,{"$f":"IF(Insatser!B84=\"Vet ej\",Insatser!A84,\"\")","v":""},{"$f":"IF(Insatser!B84=\"Vet ej\",Insatser!C84,\"\")","v":""},{"$f":"IF(Insatser!B84=\"Vet ej\",IF(ISBLANK(Insatser!D84),\"\",Insatser!D84),\"\")","v":""}]
[null,{"$f":"IF(Insatser!B85=\"Vet ej\",Insatser!A85,\"\")","v":""},{"$f":"IF(Insatser!B85=\"Vet ej\",Insatser!C85,\"\")","v":""},{"$f":"IF(Insatser!B85=\"Vet ej\",IF(ISBLANK(Insatser!D85),\"\",Insatser!D85),\"\")","v":""}]
[null,{"$f":"IF(Insatser!B86=\"Vet ej\",Insatser!A86,\"\")","v":""},{"$f":"IF(Insatser!B86=\"Vet ej\",Insatser!C86,\"\")","v":""},{"$f":"IF(Insatser!B86=\"Vet ej\",IF(ISBLANK(Insatser!D86),\"\",Insatser!D86),\"\")","v":""}]
[null,{"$f":"IF(Insatser!B87=\"Vet ej\",Insatser!A87,\"\")","v":""},{"$f":"IF(Insatser!B87=\"Vet ej\",Insatser!C87,\"\")","v":""},{"$f":"IF(Insatser!B87=\"Vet ej\",IF(ISBLANK(Insatser!D87),\"\",Insatser!D87),\"\")","v":""}]
[null,{"$f":"IF(Insatser!B88=\"Vet ej\",Insatser!A88,\"\")","v":""},{"$f":"IF(Insatser!B88=\"Vet ej\",Insatser!C88,\"\")","v":""},{"$f":"IF(Insatser!B88=\"Vet ej\",IF(ISBLANK(Insatser!D88),\"\",Insatser!D88),\"\")","v":""}]
[null,{"$f":"IF(Insatser!B89=\"Vet ej\",Insatser!A89,\"\")","v":""},{"$f":"IF(Insatser!B89=\"Vet ej\",Insatser!C89,\"\")","v":""},{"$f":"IF(Insatser!B89=\"Vet ej\",IF(ISBLANK(Insatser!D89),\"\",Insatser!D89),\"\")","v":""}]
[null,{"$f":"IF(Insatser!B90=\"Vet ej\",Insatser!A90,\"\")","v":""},{"$f":"IF(Insatser!B90=\"Vet ej\",Insatser!C90,\"\")","v":""},{"$f":"IF(Insatser!B90=\"Vet ej\",IF(ISBLANK(Insatser!D90),\"\",Insatser!D90),\"\")","v":""}]
[null,{"$f":"IF(Insatser!B91=\"Vet ej\",Insatser!A91,\"\")","v":""},{"$f":"IF(Insatser!B91=\"Vet ej\",Insatser!C91,\"\")","v":""},{"$f":"IF(Insatser!B91=\"Vet ej\",IF(ISBLANK(Insatser!D91),\"\",Insatser!D91),\"\")","v":""}]
[null,{"$f":"IF(Insatser!B92=\"Vet ej\",Insatser!A92,\"\")","v":""},{"$f":"IF(Insatser!B92=\"Vet ej\",Insatser!C92,\"\")","v":""},{"$f":"IF(Insatser!B92=\"Vet ej\",IF(ISBLANK(Insatser!D92),\"\",Insatser!D92),\"\")","v":""}]
[null,{"$f":"IF(Insatser!B93=\"Vet ej\",Insatser!A93,\"\")","v":""},{"$f":"IF(Insatser!B93=\"Vet ej\",Insatser!C93,\"\")","v":""},{"$f":"IF(Insatser!B93=\"Vet ej\",IF(ISBLANK(Insatser!D93),\"\",Insatser!D93),\"\")","v":""}]
[null,{"$f":"IF(Insatser!B94=\"Vet ej\",Insatser!A94,\"\")","v":""},{"$f":"IF(Insatser!B94=\"Vet ej\",Insatser!C94,\"\")","v":""},{"$f":"IF(Insatser!B94=\"Vet ej\",IF(ISBLANK(Insatser!D94),\"\",Insatser!D94),\"\")","v":""}]
[null,{"$f":"IF(Insatser!B95=\"Vet ej\",Insatser!A95,\"\")","v":""},{"$f":"IF(Insatser!B95=\"Vet ej\",Insatser!C95,\"\")","v":""},{"$f":"IF(Insatser!B95=\"Vet ej\",IF(ISBLANK(Insatser!D95),\"\",Insatser!D95),\"\")","v":""}]
[null,{"$f":"IF(Insatser!B96=\"Vet ej\",Insatser!A96,\"\")","v":""},{"$f":"IF(Insatser!B96=\"Vet ej\",Insatser!C96,\"\")","v":""},{"$f":"IF(Insatser!B96=\"Vet ej\",IF(ISBLANK(Insatser!D96),\"\",Insatser!D96),\"\")","v":""}]
[null,{"$f":"IF(Insatser!B97=\"Vet ej\",Insatser!A97,\"\")","v":""},{"$f":"IF(Insatser!B97=\"Vet ej\",Insatser!C97,\"\")","v":""},{"$f":"IF(Insatser!B97=\"Vet ej\",IF(ISBLANK(Insatser!D97),\"\",Insatser!D97),\"\")","v":""}]
[null,{"$f":"IF(Insatser!B98=\"Vet ej\",Insatser!A98,\"\")","v":""},{"$f":"IF(Insatser!B98=\"Vet ej\",Insatser!C98,\"\")","v":""},{"$f":"IF(Insatser!B98=\"Vet ej\",IF(ISBLANK(Insatser!D98),\"\",Insatser!D98),\"\")","v":""}]
[null,{"$f":"IF(Insatser!B99=\"Vet ej\",Insatser!A99,\"\")","v":""},{"$f":"IF(Insatser!B99=\"Vet ej\",Insatser!C99,\"\")","v":""},{"$f":"IF(Insatser!B99=\"Vet ej\",IF(ISBLANK(Insatser!D99),\"\",Insatser!D99),\"\")","v":""}]
[null,{"$f":"IF(Insatser!B100=\"Vet ej\",Insatser!A100,\"\")","v":""},{"$f":"IF(Insatser!B100=\"Vet ej\",Insatser!C100,\"\")","v":""},{"$f":"IF(Insatser!B100=\"Vet ej\",IF(ISBLANK(Insatser!D100),\"\",Insatser!D100),\"\")","v":""}]
[null,{"$f":"IF(Insatser!B101=\"Vet ej\",Insatser!A101,\"\")","v":""},{"$f":"IF(Insatser!B101=\"Vet ej\",Insatser!C101,\"\")","v":""},{"$f":"IF(Insatser!B101=\"Vet ej\",IF(ISBLANK(Insatser!D101),\"\",Insatser!D101),\"\")","v":""}]
[null,{"$f":"IF(Insatser!B102=\"Vet ej\",Insatser!A102,\"\")","v":""},{"$f":"IF(Insatser!B102=\"Vet ej\",Insatser!C102,\"\")","v":""},{"$f":"IF(Insatser!B102=\"Vet ej\",IF(ISBLANK(Insatser!D102),\"\",Insatser!D102),\"\")","v":""}]
[null,{"$f":"IF(Insatser!B103=\"Vet ej\",Insatser!A103,\"\")","v":""},{"$f":"IF(Insatser!B103=\"Vet ej\",Insatser!C103,\"\")","v":""},{"$f":"IF(Insatser!B103=\"Vet ej\",IF(ISBLANK(Insatser!D103),\"\",Insatser!D103),\"\")","v":""}]
[null,{"$f":"IF(Insatser!B104=\"Vet ej\",Insatser!A104,\"\")","v":""},{"$f":"IF(Insatser!B104=\"Vet ej\",Insatser!C104,\"\")","v":""},{"$f":"IF(Insatser!B104=\"Vet ej\",IF(ISBLANK(Insatser!D104),\"\",Insatser!D104),\"\")","v":""}]
[null,{"$f":"IF(Insatser!B105=\"Vet ej\",Insatser!A105,\"\")","v":""},{"$f":"IF(Insatser!B105=\"Vet ej\",Insatser!C105,\"\")","v":""},{"$f":"IF(Insatser!B105=\"Vet ej\",IF(ISBLANK(Insatser!D105),\"\",Insatser!D105),\"\")","v":""}]
[null,{"$f":"IF(Insatser!B106=\"Vet ej\",Insatser!A106,\"\")","v":""},{"$f":"IF(Insatser!B106=\"Vet ej\",Insatser!C106,\"\")","v":""},{"$f":"IF(Insatser!B106=\"Vet ej\",IF(ISBLANK(Insatser!D106),\"\",Insatser!D106),\"\")","v":""}]
[null,{"$f":"IF(Insatser!B107=\"Vet ej\",Insatser!A107,\"\")","v":""},{"$f":"IF(Insatser!B107=\"Vet ej\",Insatser!C107,\"\")","v":""},{"$f":"IF(Insatser!B107=\"Vet ej\",IF(ISBLANK(Insatser!D107),\"\",Insatser!D107),\"\")","v":""}]
[null,{"$f":"IF(Insatser!B108=\"Vet ej\",Insatser!A108,\"\")","v":""},{"$f":"IF(Insatser!B108=\"Vet ej\",Insatser!C108,\"\")","v":""},{"$f":"IF(Insatser!B108=\"Vet ej\",IF(ISBLANK(Insatser!D108),\"\",Insatser!D108),\"\")","v":""}]
[null,{"$f":"IF(Insatser!B109=\"Vet ej\",Insatser!A109,\"\")","v":""},{"$f":"IF(Insatser!B109=\"Vet ej\",Insatser!C109,\"\")","v":""},{"$f":"IF(Insatser!B109=\"Vet ej\",IF(ISBLANK(Insatser!D109),\"\",Insatser!D109),\"\")","v":""}]
[null,{"$f":"IF(Insatser!B110=\"Vet ej\",Insatser!A110,\"\")","v":""},{"$f":"IF(Insatser!B110=\"Vet ej\",Insatser!C110,\"\")","v":""},{"$f":"IF(Insatser!B110=\"Vet ej\",IF(ISBLANK(Insatser!D110),\"\",Insatser!D110),\"\")","v":""}]
[null,{"$f":"IF(Insatser!B111=\"Vet ej\",Insatser!A111,\"\")","v":""},{"$f":"IF(Insatser!B111=\"Vet ej\",Insatser!C111,\"\")","v":""},{"$f":"IF(Insatser!B111=\"Vet ej\",IF(ISBLANK(Insatser!D111),\"\",Insatser!D111),\"\")","v":""}]
[null,{"$f":"IF(Insatser!B112=\"Vet ej\",Insatser!A112,\"\")","v":""},{"$f":"IF(Insatser!B112=\"Vet ej\",Insatser!C112,\"\")","v":""},{"$f":"IF(Insatser!B112=\"Vet ej\",IF(ISBLANK(Insatser!D112),\"\",Insatser!D112),\"\")","v":""}]
[null,{"$f":"IF(Insatser!B113=\"Vet ej\",Insatser!A113,\"\")","v":""},{"$f":"IF(Insatser!B113=\"Vet ej\",Insatser!C113,\"\")","v":""},{"$f":"IF(Insatser!B113=\"Vet ej\",IF(ISBLANK(Insatser!D113),\"\",Insatser!D113),\"\")","v":""}]
[null,{"$f":"IF(Insatser!B114=\"Vet ej\",Insatser!A114,\"\")","v":""},{"$f":"IF(Insatser!B114=\"Vet ej\",Insatser!C114,\"\")","v":""},{"$f":"IF(Insatser!B114=\"Vet ej\",IF(ISBLANK(Insatser!D114),\"\",Insatser!D114),\"\")","v":""}]
[null,{"$f":"IF(Insatser!B115=\"Vet ej\",Insatser!A115,\"\")","v":""},{"$f":"IF(Insatser!B115=\"Vet ej\",Insatser!C115,\"\")","v":""},{"$f":"IF(Insatser!B115=\"Vet ej\",IF(ISBLANK(Insatser!D115),\"\",Insatser!D115),\"\")","v":""}]
[null,{"$f":"IF(Insatser!B116=\"Vet ej\",Insatser!A116,\"\")","v":""},{"$f":"IF(Insatser!B116=\"Vet ej\",Insatser!C116,\"\")","v":""},{"$f":"IF(Insatser!B116=\"Vet ej\",IF(ISBLANK(Insatser!D116),\"\",Insatser!D116),\"\")","v":""}]
[null,{"$f":"IF(Insatser!B117=\"Vet ej\",Insatser!A117,\"\")","v":""},{"$f":"IF(Insatser!B117=\"Vet ej\",Insatser!C117,\"\")","v":""},{"$f":"IF(Insatser!B117=\"Vet ej\",IF(ISBLANK(Insatser!D117),\"\",Insatser!D117),\"\")","v":""}]
[null,{"$f":"IF(Insatser!B118=\"Vet ej\",Insatser!A118,\"\")","v":""},{"$f":"IF(Insatser!B118=\"Vet ej\",Insatser!C118,\"\")","v":""},{"$f":"IF(Insatser!B118=\"Vet ej\",IF(ISBLANK(Insatser!D118),\"\",Insatser!D118),\"\")","v":""}]
[null,{"$f":"IF(Insatser!B119=\"Vet ej\",Insatser!A119,\"\")","v":""},{"$f":"IF(Insatser!B119=\"Vet ej\",Insatser!C119,\"\")","v":""},{"$f":"IF(Insatser!B119=\"Vet ej\",IF(ISBLANK(Insatser!D119),\"\",Insatser!D119),\"\")","v":""}]
[null,{"$f":"IF(Insatser!B120=\"Vet ej\",Insatser!A120,\"\")","v":""},{"$f":"IF(Insatser!B120=\"Vet ej\",Insatser!C120,\"\")","v":""},{"$f":"IF(Insatser!B120=\"Vet ej\",IF(ISBLANK(Insatser!D120),\"\",Insatser!D120),\"\")","v":""}]
[null,{"$f":"IF(Insatser!B121=\"Vet ej\",Insatser!A121,\"\")","v":""},{"$f":"IF(Insatser!B121=\"Vet ej\",Insatser!C121,\"\")","v":""},{"$f":"IF(Insatser!B121=\"Vet ej\",IF(ISBLANK(Insatser!D121),\"\",Insatser!D121),\"\")","v":""}]
[null,{"$f":"IF(Insatser!B122=\"Vet ej\",Insatser!A122,\"\")","v":""},{"$f":"IF(Insatser!B122=\"Vet ej\",Insatser!C122,\"\")","v":""},{"$f":"IF(Insatser!B122=\"Vet ej\",IF(ISBLANK(Insatser!D122),\"\",Insatser!D122),\"\")","v":""}]
[null,{"$f":"IF(Insatser!B123=\"Vet ej\",Insatser!A123,\"\")","v":""},{"$f":"IF(Insatser!B123=\"Vet ej\",Insatser!C123,\"\")","v":""},{"$f":"IF(Insatser!B123=\"Vet ej\",IF(ISBLANK(Insatser!D123),\"\",Insatser!D123),\"\")","v":""}]
[null,{"$f":"IF(Insatser!B124=\"Vet ej\",Insatser!A124,\"\")","v":""},{"$f":"IF(Insatser!B124=\"Vet ej\",Insatser!C124,\"\")","v":""},{"$f":"IF(Insatser!B124=\"Vet ej\",IF(ISBLANK(Insatser!D124),\"\",Insatser!D124),\"\")","v":""}]
[null,{"$f":"IF(Insatser!B125=\"Vet ej\",Insatser!A125,\"\")","v":""},{"$f":"IF(Insatser!B125=\"Vet ej\",Insatser!C125,\"\")","v":""},{"$f":"IF(Insatser!B125=\"Vet ej\",IF(ISBLANK(Insatser!D125),\"\",Insatser!D125),\"\")","v":""}]
[null,{"$f":"IF(Insatser!B126=\"Vet ej\",Insatser!A126,\"\")","v":""},{"$f":"IF(Insatser!B126=\"Vet ej\",Insatser!C126,\"\")","v":""},{"$f":"IF(Insatser!B126=\"Vet ej\",IF(ISBLANK(Insatser!D126),\"\",Insatser!D126),\"\")","v":""}]
[null,{"$f":"IF(Insatser!B127=\"Vet ej\",Insatser!A127,\"\")","v":""},{"$f":"IF(Insatser!B127=\"Vet ej\",Insatser!C127,\"\")","v":""},{"$f":"IF(Insatser!B127=\"Vet ej\",IF(ISBLANK(Insatser!D127),\"\",Insatser!D127),\"\")","v":""}]
[null,{"$f":"IF(Insatser!B128=\"Vet ej\",Insatser!A128,\"\")","v":""},{"$f":"IF(Insatser!B128=\"Vet ej\",Insatser!C128,\"\")","v":""},{"$f":"IF(Insatser!B128=\"Vet ej\",IF(ISBLANK(Insatser!D128),\"\",Insatser!D128),\"\")","v":""}]
[null,{"$f":"IF(Insatser!B129=\"Vet ej\",Insatser!A129,\"\")","v":""},{"$f":"IF(Insatser!B129=\"Vet ej\",Insatser!C129,\"\")","v":""},{"$f":"IF(Insatser!B129=\"Vet ej\",IF(ISBLANK(Insatser!D129),\"\",Insatser!D129),\"\")","v":""}]
[null,{"$f":"IF(Insatser!B130=\"Vet ej\",Insatser!A130,\"\")","v":""},{"$f":"IF(Insatser!B130=\"Vet ej\",Insatser!C130,\"\")","v":""},{"$f":"IF(Insatser!B130=\"Vet ej\",IF(ISBLANK(Insatser!D130),\"\",Insatser!D130),\"\")","v":""}]
[null,{"$f":"IF(Insatser!B131=\"Vet ej\",Insatser!A131,\"\")","v":""},{"$f":"IF(Insatser!B131=\"Vet ej\",Insatser!C131,\"\")","v":""},{"$f":"IF(Insatser!B131=\"Vet ej\",IF(ISBLANK(Insatser!D131),\"\",Insatser!D131),\"\")","v":""}]
[null,{"$f":"IF(Insatser!B132=\"Vet ej\",Insatser!A132,\"\")","v":""},{"$f":"IF(Insatser!B132=\"Vet ej\",Insatser!C132,\"\")","v":""},{"$f":"IF(Insatser!B132=\"Vet ej\",IF(ISBLANK(Insatser!D132),\"\",Insatser!D132),\"\")","v":""}]
[null,{"$f":"IF(Insatser!B133=\"Vet ej\",Insatser!A133,\"\")","v":""},{"$f":"IF(Insatser!B133=\"Vet ej\",Insatser!C133,\"\")","v":""},{"$f":"IF(Insatser!B133=\"Vet ej\",IF(ISBLANK(Insatser!D133),\"\",Insatser!D133),\"\")","v":""}]
[null,{"$f":"IF(Insatser!B134=\"Vet ej\",Insatser!A134,\"\")","v":""},{"$f":"IF(Insatser!B134=\"Vet ej\",Insatser!C134,\"\")","v":""},{"$f":"IF(Insatser!B134=\"Vet ej\",IF(ISBLANK(Insatser!D134),\"\",Insatser!D134),\"\")","v":""}]
[null,{"$f":"IF(Insatser!B135=\"Vet ej\",Insatser!A135,\"\")","v":""},{"$f":"IF(Insatser!B135=\"Vet ej\",Insatser!C135,\"\")","v":""},{"$f":"IF(Insatser!B135=\"Vet ej\",IF(ISBLANK(Insatser!D135),\"\",Insatser!D135),\"\")","v":""}]
[null,{"$f":"IF(Insatser!B136=\"Vet ej\",Insatser!A136,\"\")","v":""},{"$f":"IF(Insatser!B136=\"Vet ej\",Insatser!C136,\"\")","v":""},{"$f":"IF(Insatser!B136=\"Vet ej\",IF(ISBLANK(Insatser!D136),\"\",Insatser!D136),\"\")","v":""}]
[null,{"$f":"IF(Insatser!B137=\"Vet ej\",Insatser!A137,\"\")","v":""},{"$f":"IF(Insatser!B137=\"Vet ej\",Insatser!C137,\"\")","v":""},{"$f":"IF(Insatser!B137=\"Vet ej\",IF(ISBLANK(Insatser!D137),\"\",Insatser!D137),\"\")","v":""}]
[null,{"$f":"IF(Insatser!B138=\"Vet ej\",Insatser!A138,\"\")","v":""},{"$f":"IF(Insatser!B138=\"Vet ej\",Insatser!C138,\"\")","v":""},{"$f":"IF(Insatser!B138=\"Vet ej\",IF(ISBLANK(Insatser!D138),\"\",Insatser!D138),\"\")","v":""}]
[null,{"$f":"IF(Insatser!B139=\"Vet ej\",Insatser!A139,\"\")","v":""},{"$f":"IF(Insatser!B139=\"Vet ej\",Insatser!C139,\"\")","v":""},{"$f":"IF(Insatser!B139=\"Vet ej\",IF(ISBLANK(Insatser!D139),\"\",Insatser!D139),\"\")","v":""}]
[null,{"$f":"IF(Insatser!B140=\"Vet ej\",Insatser!A140,\"\")","v":""},{"$f":"IF(Insatser!B140=\"Vet ej\",Insatser!C140,\"\")","v":""},{"$f":"IF(Insatser!B140=\"Vet ej\",IF(ISBLANK(Insatser!D140),\"\",Insatser!D140),\"\")","v":""}]
[null,{"$f":"IF(Insatser!B141=\"Vet ej\",Insatser!A141,\"\")","v":""},{"$f":"IF(Insatser!B141=\"Vet ej\",Insatser!C141,\"\")","v":""},{"$f":"IF(Insatser!B141=\"Vet ej\",IF(ISBLANK(Insatser!D141),\"\",Insatser!D141),\"\")","v":""}]
[null,{"$f":"IF(Insatser!B142=\"Vet ej\",Insatser!A142,\"\")","v":""},{"$f":"IF(Insatser!B142=\"Vet ej\",Insatser!C142,\"\")","v":""},{"$f":"IF(Insatser!B142=\"Vet ej\",IF(ISBLANK(Insatser!D142),\"\",Insatser!D142),\"\")","v":""}]
[null,{"$f":"IF(Insatser!B143=\"Vet ej\",Insatser!A143,\"\")","v":""},{"$f":"IF(Insatser!B143=\"Vet ej\",Insatser!C143,\"\")","v":""},{"$f":"IF(Insatser!B143=\"Vet ej\",IF(ISBLANK(Insatser!D143),\"\",Insatser!D143),\"\")","v":""}]
[null,{"$f":"IF(Insatser!B144=\"Vet ej\",Insatser!A144,\"\")","v":""},{"$f":"IF(Insatser!B144=\"Vet ej\",Insatser!C144,\"\")","v":""},{"$f":"IF(Insatser!B144=\"Vet ej\",IF(ISBLANK(Insatser!D144),\"\",Insatser!D144),\"\")","v":""}]
[null,{"$f":"IF(Insatser!B145=\"Vet ej\",Insatser!A145,\"\")","v":""},{"$f":"IF(Insatser!B145=\"Vet ej\",Insatser!C145,\"\")","v":""},{"$f":"IF(Insatser!B145=\"Vet ej\",IF(ISBLANK(Insatser!D145),\"\",Insatser!D145),\"\")","v":""}]
[null,{"$f":"IF(Insatser!B146=\"Vet ej\",Insatser!A146,\"\")","v":""},{"$f":"IF(Insatser!B146=\"Vet ej\",Insatser!C146,\"\")","v":""},{"$f":"IF(Insatser!B146=\"Vet ej\",IF(ISBLANK(Insatser!D146),\"\",Insatser!D146),\"\")","v":""}]
[null,{"$f":"IF(Insatser!B147=\"Vet ej\",Insatser!A147,\"\")","v":""},{"$f":"IF(Insatser!B147=\"Vet ej\",Insatser!C147,\"\")","v":""},{"$f":"IF(Insatser!B147=\"Vet ej\",IF(ISBLANK(Insatser!D147),\"\",Insatser!D147),\"\")","v":""}]
[null,{"$f":"IF(Insatser!B148=\"Vet ej\",Insatser!A148,\"\")","v":""},{"$f":"IF(Insatser!B148=\"Vet ej\",Insatser!C148,\"\")","v":""},{"$f":"IF(Insatser!B148=\"Vet ej\",IF(ISBLANK(Insatser!D148),\"\",Insatser!D148),\"\")","v":""}]
[null,{"$f":"IF(Insatser!B149=\"Vet ej\",Insatser!A149,\"\")","v":""},{"$f":"IF(Insatser!B149=\"Vet ej\",Insatser!C149,\"\")","v":""},{"$f":"IF(Insatser!B149=\"Vet ej\",IF(ISBLANK(Insatser!D149),\"\",Insatser!D149),\"\")","v":""}]
[null,{"$f":"IF(Insatser!B150=\"Vet ej\",Insatser!A150,\"\")","v":""},{"$f":"IF(Insatser!B150=\"Vet ej\",Insatser!C150,\"\")","v":""},{"$f":"IF(Insatser!B150=\"Vet ej\",IF(ISBLANK(Insatser!D150),\"\",Insatser!D150),\"\")","v":""}]
[null,{"$f":"IF(Insatser!B151=\"Vet ej\",Insatser!A151,\"\")","v":""},{"$f":"IF(Insatser!B151=\"Vet ej\",Insatser!C151,\"\")","v":""},{"$f":"IF(Insatser!B151=\"Vet ej\",IF(ISBLANK(Insatser!D151),\"\",Insatser!D151),\"\")","v":""}]
[null,{"$f":"IF(Insatser!B152=\"Vet ej\",Insatser!A152,\"\")","v":""},{"$f":"IF(Insatser!B152=\"Vet ej\",Insatser!C152,\"\")","v":""},{"$f":"IF(Insatser!B152=\"Vet ej\",IF(ISBLANK(Insatser!D152),\"\",Insatser!D152),\"\")","v":""}]
[null,{"$f":"IF(Insatser!B153=\"Vet ej\",Insatser!A153,\"\")","v":""},{"$f":"IF(Insatser!B153=\"Vet ej\",Insatser!C153,\"\")","v":""},{"$f":"IF(Insatser!B153=\"Vet ej\",IF(ISBLANK(Insatser!D153),\"\",Insatser!D153),\"\")","v":""}]
[null,{"$f":"IF(Insatser!B154=\"Vet ej\",Insatser!A154,\"\")","v":""},{"$f":"IF(Insatser!B154=\"Vet ej\",Insatser!C154,\"\")","v":""},{"$f":"IF(Insatser!B154=\"Vet ej\",IF(ISBLANK(Insatser!D154),\"\",Insatser!D154),\"\")","v":""}]
[null,{"$f":"IF(Insatser!B155=\"Vet ej\",Insatser!A155,\"\")","v":""},{"$f":"IF(Insatser!B155=\"Vet ej\",Insatser!C155,\"\")","v":""},{"$f":"IF(Insatser!B155=\"Vet ej\",IF(ISBLANK(Insatser!D155),\"\",Insatser!D155),\"\")","v":""}]
[null,{"$f":"IF(Insatser!B156=\"Vet ej\",Insatser!A156,\"\")","v":""},{"$f":"IF(Insatser!B156=\"Vet ej\",Insatser!C156,\"\")","v":""},{"$f":"IF(Insatser!B156=\"Vet ej\",IF(ISBLANK(Insatser!D156),\"\",Insatser!D156),\"\")","v":""}]
[null,{"$f":"IF(Insatser!B157=\"Vet ej\",Insatser!A157,\"\")","v":""},{"$f":"IF(Insatser!B157=\"Vet ej\",Insatser!C157,\"\")","v":""},{"$f":"IF(Insatser!B157=\"Vet ej\",IF(ISBLANK(Insatser!D157),\"\",Insatser!D157),\"\")","v":""}]
[null,{"$f":"IF(Insatser!B158=\"Vet ej\",Insatser!A158,\"\")","v":""},{"$f":"IF(Insatser!B158=\"Vet ej\",Insatser!C158,\"\")","v":""},{"$f":"IF(Insatser!B158=\"Vet ej\",IF(ISBLANK(Insatser!D158),\"\",Insatser!D158),\"\")","v":""}]
[null,{"$f":"IF(Insatser!B159=\"Vet ej\",Insatser!A159,\"\")","v":""},{"$f":"IF(Insatser!B159=\"Vet ej\",Insatser!C159,\"\")","v":""},{"$f":"IF(Insatser!B159=\"Vet ej\",IF(ISBLANK(Insatser!D159),\"\",Insatser!D159),\"\")","v":""}]
[null,{"$f":"IF(Insatser!B160=\"Vet ej\",Insatser!A160,\"\")","v":""},{"$f":"IF(Insatser!B160=\"Vet ej\",Insatser!C160,\"\")","v":""},{"$f":"IF(Insatser!B160=\"Vet ej\",IF(ISBLANK(Insatser!D160),\"\",Insatser!D160),\"\")","v":""}]
[null,{"$f":"IF(Insatser!B161=\"Vet ej\",Insatser!A161,\"\")","v":""},{"$f":"IF(Insatser!B161=\"Vet ej\",Insatser!C161,\"\")","v":""},{"$f":"IF(Insatser!B161=\"Vet ej\",IF(ISBLANK(Insatser!D161),\"\",Insatser!D161),\"\")","v":""}]
[null,{"$f":"IF(Insatser!B162=\"Vet ej\",Insatser!A162,\"\")","v":""},{"$f":"IF(Insatser!B162=\"Vet ej\",Insatser!C162,\"\")","v":""},{"$f":"IF(Insatser!B162=\"Vet ej\",IF(ISBLANK(Insatser!D162),\"\",Insatser!D162),\"\")","v":""}]
[null,{"$f":"IF(Insatser!B163=\"Vet ej\",Insatser!A163,\"\")","v":""},{"$f":"IF(Insatser!B163=\"Vet ej\",Insatser!C163,\"\")","v":""},{"$f":"IF(Insatser!B163=\"Vet ej\",IF(ISBLANK(Insatser!D163),\"\",Insatser!D163),\"\")","v":""}]
[null,{"$f":"IF(Insatser!B164=\"Vet ej\",Insatser!A164,\"\")","v":""},{"$f":"IF(Insatser!B164=\"Vet ej\",Insatser!C164,\"\")","v":""},{"$f":"IF(Insatser!B164=\"Vet ej\",IF(ISBLANK(Insatser!D164),\"\",Insatser!D164),\"\")","v":""}]
[null,{"$f":"IF(Insatser!B165=\"Vet ej\",Insatser!A165,\"\")","v":""},{"$f":"IF(Insatser!B165=\"Vet ej\",Insatser!C165,\"\")","v":""},{"$f":"IF(Insatser!B165=\"Vet ej\",IF(ISBLANK(Insatser!D165),\"\",Insatser!D165),\"\")","v":""}]
[null,{"$f":"IF(Insatser!B166=\"Vet ej\",Insatser!A166,\"\")","v":""},{"$f":"IF(Insatser!B166=\"Vet ej\",Insatser!C166,\"\")","v":""},{"$f":"IF(Insatser!B166=\"Vet ej\",IF(ISBLANK(Insatser!D166),\"\",Insatser!D166),\"\")","v":""}]
[null,{"$f":"IF(Insatser!B167=\"Vet ej\",Insatser!A167,\"\")","v":""},{"$f":"IF(Insatser!B167=\"Vet ej\",Insatser!C167,\"\")","v":""},{"$f":"IF(Insatser!B167=\"Vet ej\",IF(ISBLANK(Insatser!D167),\"\",Insatser!D167),\"\")","v":""}]
[null,{"$f":"IF(Insatser!B168=\"Vet ej\",Insatser!A168,\"\")","v":""},{"$f":"IF(Insatser!B168=\"Vet ej\",Insatser!C168,\"\")","v":""},{"$f":"IF(Insatser!B168=\"Vet ej\",IF(ISBLANK(Insatser!D168),\"\",Insatser!D168),\"\")","v":""}]
[null,{"$f":"IF(Insatser!B169=\"Vet ej\",Insatser!A169,\"\")","v":""},{"$f":"IF(Insatser!B169=\"Vet ej\",Insatser!C169,\"\")","v":""},{"$f":"IF(Insatser!B169=\"Vet ej\",IF(ISBLANK(Insatser!D169),\"\",Insatser!D169),\"\")","v":""}]
[null,{"$f":"IF(Insatser!B170=\"Vet ej\",Insatser!A170,\"\")","v":""},{"$f":"IF(Insatser!B170=\"Vet ej\",Insatser!C170,\"\")","v":""},{"$f":"IF(Insatser!B170=\"Vet ej\",IF(ISBLANK(Insatser!D170),\"\",Insatser!D170),\"\")","v":""}]
[null,"EJ AKTUELLT","KOMMENTAR","LÄSANVISNINGAR"]
[null,{"$f":"IF('Styrning och kompetens'!B4=\"Ej aktuellt\",'Styrning och kompetens'!A4,\"\")","v":""},{"$f":"IF('Styrning och kompetens'!B4=\"Ej aktuellt\",'Styrning och kompetens'!C4,\"\")","v":""},{"$f":"IF('Styrning och kompetens'!B4=\"Ej aktuellt\",IF(ISBLANK('Styrning och kompetens'!D4),\"\",'Styrning och kompetens'!D4),\"\")","v":""}]
[null,{"$f":"IF('Styrning och kompetens'!B5=\"Ej aktuellt\",'Styrning och kompetens'!A5,\"\")","v":""},{"$f":"IF('Styrning och kompetens'!B5=\"Ej aktuellt\",'Styrning och kompetens'!C5,\"\")","v":""},{"$f":"IF('Styrning och kompetens'!B5=\"Ej aktuellt\",IF(ISBLANK('Styrning och kompetens'!D5),\"\",'Styrning och kompetens'!D5),\"\")","v":""}]
[null,{"$f":"IF('Styrning och kompetens'!B6=\"Ej aktuellt\",'Styrning och kompetens'!A6,\"\")","v":""},{"$f":"IF('Styrning och kompetens'!B6=\"Ej aktuellt\",'Styrning och kompetens'!C6,\"\")","v":""},{"$f":"IF('Styrning och kompetens'!B6=\"Ej aktuellt\",IF(ISBLANK('Styrning och kompetens'!D6),\"\",'Styrning och kompetens'!D6),\"\")","v":""}]
[null,{"$f":"IF('Styrning och kompetens'!B7=\"Ej aktuellt\",'Styrning och kompetens'!A7,\"\")","v":""},{"$f":"IF('Styrning och kompetens'!B7=\"Ej aktuellt\",'Styrning och kompetens'!C7,\"\")","v":""},{"$f":"IF('Styrning och kompetens'!B7=\"Ej aktuellt\",IF(ISBLANK('Styrning och kompetens'!D7),\"\",'Styrning och kompetens'!D7),\"\")","v":""}]
[null,{"$f":"IF('Styrning och kompetens'!B8=\"Ej aktuellt\",'Styrning och kompetens'!A8,\"\")","v":""},{"$f":"IF('Styrning och kompetens'!B8=\"Ej aktuellt\",'Styrning och kompetens'!C8,\"\")","v":""},{"$f":"IF('Styrning och kompetens'!B8=\"Ej aktuellt\",IF(ISBLANK('Styrning och kompetens'!D8),\"\",'Styrning och kompetens'!D8),\"\")","v":""}]
[null,{"$f":"IF('Styrning och kompetens'!B9=\"Ej aktuellt\",'Styrning och kompetens'!A9,\"\")","v":""},{"$f":"IF('Styrning och kompetens'!B9=\"Ej aktuellt\",'Styrning och kompetens'!C9,\"\")","v":""},{"$f":"IF('Styrning och kompetens'!B9=\"Ej aktuellt\",IF(ISBLANK('Styrning och kompetens'!D9),\"\",'Styrning och kompetens'!D9),\"\")","v":""}]
[null,{"$f":"IF('Styrning och kompetens'!B10=\"Ej aktuellt\",'Styrning och kompetens'!A10,\"\")","v":""},{"$f":"IF('Styrning och kompetens'!B10=\"Ej aktuellt\",'Styrning och kompetens'!C10,\"\")","v":""},{"$f":"IF('Styrning och kompetens'!B10=\"Ej aktuellt\",IF(ISBLANK('Styrning och kompetens'!D10),\"\",'Styrning och kompetens'!D10),\"\")","v":""}]
[null,{"$f":"IF('Styrning och kompetens'!B11=\"Ej aktuellt\",'Styrning och kompetens'!A11,\"\")","v":""},{"$f":"IF('Styrning och kompetens'!B11=\"Ej aktuellt\",'Styrning och kompetens'!C11,\"\")","v":""},{"$f":"IF('Styrning och kompetens'!B11=\"Ej aktuellt\",IF(ISBLANK('Styrning och kompetens'!D11),\"\",'Styrning och kompetens'!D11),\"\")","v":""}]
[null,{"$f":"IF('Styrning och kompetens'!B12=\"Ej aktuellt\",'Styrning och kompetens'!A12,\"\")","v":""},{"$f":"IF('Styrning och kompetens'!B12=\"Ej aktuellt\",'Styrning och kompetens'!C12,\"\")","v":""},{"$f":"IF('Styrning och kompetens'!B12=\"Ej aktuellt\",IF(ISBLANK('Styrning och kompetens'!D12),\"\",'Styrning och kompetens'!D12),\"\")","v":""}]
[null,{"$f":"IF('Styrning och kompetens'!B13=\"Ej aktuellt\",'Styrning och kompetens'!A13,\"\")","v":""},{"$f":"IF('Styrning och kompetens'!B13=\"Ej aktuellt\",'Styrning och kompetens'!C13,\"\")","v":""},{"$f":"IF('Styrning och kompetens'!B13=\"Ej aktuellt\",IF(ISBLANK('Styrning och kompetens'!D13),\"\",'Styrning och kompetens'!D13),\"\")","v":""}]
[null,{"$f":"IF('Styrning och kompetens'!B14=\"Ej aktuellt\",'Styrning och kompetens'!A14,\"\")","v":""},{"$f":"IF('Styrning och kompetens'!B14=\"Ej aktuellt\",'Styrning och kompetens'!C14,\"\")","v":""},{"$f":"IF('Styrning och kompetens'!B14=\"Ej aktuellt\",IF(ISBLANK('Styrning och kompetens'!D14),\"\",'Styrning och kompetens'!D14),\"\")","v":""}]
[null,{"$f":"IF('Styrning och kompetens'!B15=\"Ej aktuellt\",'Styrning och kompetens'!A15,\"\")","v":""},{"$f":"IF('Styrning och kompetens'!B15=\"Ej aktuellt\",'Styrning och kompetens'!C15,\"\")","v":""},{"$f":"IF('Styrning och kompetens'!B15=\"Ej aktuellt\",IF(ISBLANK('Styrning och kompetens'!D15),\"\",'Styrning och kompetens'!D15),\"\")","v":""}]
[null,{"$f":"IF('Styrning och kompetens'!B16=\"Ej aktuellt\",'Styrning och kompetens'!A16,\"\")","v":""},{"$f":"IF('Styrning och kompetens'!B16=\"Ej aktuellt\",'Styrning och kompetens'!C16,\"\")","v":""},{"$f":"IF('Styrning och kompetens'!B16=\"Ej aktuellt\",IF(ISBLANK('Styrning och kompetens'!D16),\"\",'Styrning och kompetens'!D16),\"\")","v":""}]
[null,{"$f":"IF('Styrning och kompetens'!B17=\"Ej aktuellt\",'Styrning och kompetens'!A17,\"\")","v":""},{"$f":"IF('Styrning och kompetens'!B17=\"Ej aktuellt\",'Styrning och kompetens'!C17,\"\")","v":""},{"$f":"IF('Styrning och kompetens'!B17=\"Ej aktuellt\",IF(ISBLANK('Styrning och kompetens'!D17),\"\",'Styrning och kompetens'!D17),\"\")","v":""}]
[null,{"$f":"IF('Styrning och kompetens'!B18=\"Ej aktuellt\",'Styrning och kompetens'!A18,\"\")","v":""},{"$f":"IF('Styrning och kompetens'!B18=\"Ej aktuellt\",'Styrning och kompetens'!C18,\"\")","v":""},{"$f":"IF('Styrning och kompetens'!B18=\"Ej aktuellt\",IF(ISBLANK('Styrning och kompetens'!D18),\"\",'Styrning och kompetens'!D18),\"\")","v":""}]
[null,{"$f":"IF('Styrning och kompetens'!B19=\"Ej aktuellt\",'Styrning och kompetens'!A19,\"\")","v":""},{"$f":"IF('Styrning och kompetens'!B19=\"Ej aktuellt\",'Styrning och kompetens'!C19,\"\")","v":""},{"$f":"IF('Styrning och kompetens'!B19=\"Ej aktuellt\",IF(ISBLANK('Styrning och kompetens'!D19),\"\",'Styrning och kompetens'!D19),\"\")","v":""}]
[null,{"$f":"IF('Styrning och kompetens'!B20=\"Ej aktuellt\",'Styrning och kompetens'!A20,\"\")","v":""},{"$f":"IF('Styrning och kompetens'!B20=\"Ej aktuellt\",'Styrning och kompetens'!C20,\"\")","v":""},{"$f":"IF('Styrning och kompetens'!B20=\"Ej aktuellt\",IF(ISBLANK('Styrning och kompetens'!D20),\"\",'Styrning och kompetens'!D20),\"\")","v":""}]
[null,{"$f":"IF('Styrning och kompetens'!B21=\"Ej aktuellt\",'Styrning och kompetens'!A21,\"\")","v":""},{"$f":"IF('Styrning och kompetens'!B21=\"Ej aktuellt\",'Styrning och kompetens'!C21,\"\")","v":""},{"$f":"IF('Styrning och kompetens'!B21=\"Ej aktuellt\",IF(ISBLANK('Styrning och kompetens'!D21),\"\",'Styrning och kompetens'!D21),\"\")","v":""}]
[null,{"$f":"IF('Styrning och kompetens'!B22=\"Ej aktuellt\",'Styrning och kompetens'!A22,\"\")","v":""},{"$f":"IF('Styrning och kompetens'!B22=\"Ej aktuellt\",'Styrning och kompetens'!C22,\"\")","v":""},{"$f":"IF('Styrning och kompetens'!B22=\"Ej aktuellt\",IF(ISBLANK('Styrning och kompetens'!D22),\"\",'Styrning och kompetens'!D22),\"\")","v":""}]
[null,{"$f":"IF('Styrning och kompetens'!B23=\"Ej aktuellt\",'Styrning och kompetens'!A23,\"\")","v":""},{"$f":"IF('Styrning och kompetens'!B23=\"Ej aktuellt\",'Styrning och kompetens'!C23,\"\")","v":""},{"$f":"IF('Styrning och kompetens'!B23=\"Ej aktuellt\",IF(ISBLANK('Styrning och kompetens'!D23),\"\",'Styrning och kompetens'!D23),\"\")","v":""}]
[null,{"$f":"IF('Styrning och kompetens'!B24=\"Ej aktuellt\",'Styrning och kompetens'!A24,\"\")","v":""},{"$f":"IF('Styrning och kompetens'!B24=\"Ej aktuellt\",'Styrning och kompetens'!C24,\"\")","v":""},{"$f":"IF('Styrning och kompetens'!B24=\"Ej aktuellt\",IF(ISBLANK('Styrning och kompetens'!D24),\"\",'Styrning och kompetens'!D24),\"\")","v":""}]
[null,{"$f":"IF('Styrning och kompetens'!B25=\"Ej aktuellt\",'Styrning och kompetens'!A25,\"\")","v":""},{"$f":"IF('Styrning och kompetens'!B25=\"Ej aktuellt\",'Styrning och kompetens'!C25,\"\")","v":""},{"$f":"IF('Styrning och kompetens'!B25=\"Ej aktuellt\",IF(ISBLANK('Styrning och kompetens'!D25),\"\",'Styrning och kompetens'!D25),\"\")","v":""}]
[null,{"$f":"IF('Styrning och kompetens'!B26=\"Ej aktuellt\",'Styrning och kompetens'!A26,\"\")","v":""},{"$f":"IF('Styrning och kompetens'!B26=\"Ej aktuellt\",'Styrning och kompetens'!C26,\"\")","v":""},{"$f":"IF('Styrning och kompetens'!B26=\"Ej aktuellt\",IF(ISBLANK('Styrning och kompetens'!D26),\"\",'Styrning och kompetens'!D26),\"\")","v":""}]
[null,{"$f":"IF('Styrning och kompetens'!B27=\"Ej aktuellt\",'Styrning och kompetens'!A27,\"\")","v":""},{"$f":"IF('Styrning och kompetens'!B27=\"Ej aktuellt\",'Styrning och kompetens'!C27,\"\")","v":""},{"$f":"IF('Styrning och kompetens'!B27=\"Ej aktuellt\",IF(ISBLANK('Styrning och kompetens'!D27),\"\",'Styrning och kompetens'!D27),\"\")","v":""}]
[null,{"$f":"IF('Styrning och kompetens'!B28=\"Ej aktuellt\",'Styrning och kompetens'!A28,\"\")","v":""},{"$f":"IF('Styrning och kompetens'!B28=\"Ej aktuellt\",'Styrning och kompetens'!C28,\"\")","v":""},{"$f":"IF('Styrning och kompetens'!B28=\"Ej aktuellt\",IF(ISBLANK('Styrning och kompetens'!D28),\"\",'Styrning och kompetens'!D28),\"\")","v":""}]
[null,{"$f":"IF('Styrning och kompetens'!B29=\"Ej aktuellt\",'Styrning och kompetens'!A29,\"\")","v":""},{"$f":"IF('Styrning och kompetens'!B29=\"Ej aktuellt\",'Styrning och kompetens'!C29,\"\")","v":""},{"$f":"IF('Styrning och kompetens'!B29=\"Ej aktuellt\",IF(ISBLANK('Styrning och kompetens'!D29),\"\",'Styrning och kompetens'!D29),\"\")","v":""}]
[null,{"$f":"IF('Styrning och kompetens'!B30=\"Ej aktuellt\",'Styrning och kompetens'!A30,\"\")","v":""},{"$f":"IF('Styrning och kompetens'!B30=\"Ej aktuellt\",'Styrning och kompetens'!C30,\"\")","v":""},{"$f":"IF('Styrning och kompetens'!B30=\"Ej aktuellt\",IF(ISBLANK('Styrning och kompetens'!D30),\"\",'Styrning och kompetens'!D30),\"\")","v":""}]
[null,{"$f":"IF('Styrning och kompetens'!B31=\"Ej aktuellt\",'Styrning och kompetens'!A31,\"\")","v":""},{"$f":"IF('Styrning och kompetens'!B31=\"Ej aktuellt\",'Styrning och kompetens'!C31,\"\")","v":""},{"$f":"IF('Styrning och kompetens'!B31=\"Ej aktuellt\",IF(ISBLANK('Styrning och kompetens'!D31),\"\",'Styrning och kompetens'!D31),\"\")","v":""}]
[null,{"$f":"IF('Styrning och kompetens'!B32=\"Ej aktuellt\",'Styrning och kompetens'!A32,\"\")","v":""},{"$f":"IF('Styrning och kompetens'!B32=\"Ej aktuellt\",'Styrning och kompetens'!C32,\"\")","v":""},{"$f":"IF('Styrning och kompetens'!B32=\"Ej aktuellt\",IF(ISBLANK('Styrning och kompetens'!D32),\"\",'Styrning och kompetens'!D32),\"\")","v":""}]
[null,{"$f":"IF('Styrning och kompetens'!B33=\"Ej aktuellt\",'Styrning och kompetens'!A33,\"\")","v":""},{"$f":"IF('Styrning och kompetens'!B33=\"Ej aktuellt\",'Styrning och kompetens'!C33,\"\")","v":""},{"$f":"IF('Styrning och kompetens'!B33=\"Ej aktuellt\",IF(ISBLANK('Styrning och kompetens'!D33),\"\",'Styrning och kompetens'!D33),\"\")","v":""}]
[null,{"$f":"IF('Styrning och kompetens'!B34=\"Ej aktuellt\",'Styrning och kompetens'!A34,\"\")","v":""},{"$f":"IF('Styrning och kompetens'!B34=\"Ej aktuellt\",'Styrning och kompetens'!C34,\"\")","v":""},{"$f":"IF('Styrning och kompetens'!B34=\"Ej aktuellt\",IF(ISBLANK('Styrning och kompetens'!D34),\"\",'Styrning och kompetens'!D34),\"\")","v":""}]
[null,{"$f":"IF('Styrning och kompetens'!B35=\"Ej aktuellt\",'Styrning och kompetens'!A35,\"\")","v":""},{"$f":"IF('Styrning och kompetens'!B35=\"Ej aktuellt\",'Styrning och kompetens'!C35,\"\")","v":""},{"$f":"IF('Styrning och kompetens'!B35=\"Ej aktuellt\",IF(ISBLANK('Styrning och kompetens'!D35),\"\",'Styrning och kompetens'!D35),\"\")","v":""}]
[null,{"$f":"IF('Styrning och kompetens'!B36=\"Ej aktuellt\",'Styrning och kompetens'!A36,\"\")","v":""},{"$f":"IF('Styrning och kompetens'!B36=\"Ej aktuellt\",'Styrning och kompetens'!C36,\"\")","v":""},{"$f":"IF('Styrning och kompetens'!B36=\"Ej aktuellt\",IF(ISBLANK('Styrning och kompetens'!D36),\"\",'Styrning och kompetens'!D36),\"\")","v":""}]
[null,{"$f":"IF('Styrning och kompetens'!B37=\"Ej aktuellt\",'Styrning och kompetens'!A37,\"\")","v":""},{"$f":"IF('Styrning och kompetens'!B37=\"Ej aktuellt\",'Styrning och kompetens'!C37,\"\")","v":""},{"$f":"IF('Styrning och kompetens'!B37=\"Ej aktuellt\",IF(ISBLANK('Styrning och kompetens'!D37),\"\",'Styrning och kompetens'!D37),\"\")","v":""}]
[null,{"$f":"IF('Styrning och kompetens'!B38=\"Ej aktuellt\",'Styrning och kompetens'!A38,\"\")","v":""},{"$f":"IF('Styrning och kompetens'!B38=\"Ej aktuellt\",'Styrning och kompetens'!C38,\"\")","v":""},{"$f":"IF('Styrning och kompetens'!B38=\"Ej aktuellt\",IF(ISBLANK('Styrning och kompetens'!D38),\"\",'Styrning och kompetens'!D38),\"\")","v":""}]
[null,{"$f":"IF('Styrning och kompetens'!B39=\"Ej aktuellt\",'Styrning och kompetens'!A39,\"\")","v":""},{"$f":"IF('Styrning och kompetens'!B39=\"Ej aktuellt\",'Styrning och kompetens'!C39,\"\")","v":""},{"$f":"IF('Styrning och kompetens'!B39=\"Ej aktuellt\",IF(ISBLANK('Styrning och kompetens'!D39),\"\",'Styrning och kompetens'!D39),\"\")","v":""}]
[null,{"$f":"IF('Styrning och kompetens'!B40=\"Ej aktuellt\",'Styrning och kompetens'!A40,\"\")","v":""},{"$f":"IF('Styrning och kompetens'!B40=\"Ej aktuellt\",'Styrning och kompetens'!C40,\"\")","v":""},{"$f":"IF('Styrning och kompetens'!B40=\"Ej aktuellt\",IF(ISBLANK('Styrning och kompetens'!D40),\"\",'Styrning och kompetens'!D40),\"\")","v":""}]
[null,{"$f":"IF('Styrning och kompetens'!B41=\"Ej aktuellt\",'Styrning och kompetens'!A41,\"\")","v":""},{"$f":"IF('Styrning och kompetens'!B41=\"Ej aktuellt\",'Styrning och kompetens'!C41,\"\")","v":""},{"$f":"IF('Styrning och kompetens'!B41=\"Ej aktuellt\",IF(ISBLANK('Styrning och kompetens'!D41),\"\",'Styrning och kompetens'!D41),\"\")","v":""}]
[null,{"$f":"IF('Styrning och kompetens'!B42=\"Ej aktuellt\",'Styrning och kompetens'!A42,\"\")","v":""},{"$f":"IF('Styrning och kompetens'!B42=\"Ej aktuellt\",'Styrning och kompetens'!C42,\"\")","v":""},{"$f":"IF('Styrning och kompetens'!B42=\"Ej aktuellt\",IF(ISBLANK('Styrning och kompetens'!D42),\"\",'Styrning och kompetens'!D42),\"\")","v":""}]
[null,{"$f":"IF('Styrning och kompetens'!B43=\"Ej aktuellt\",'Styrning och kompetens'!A43,\"\")","v":""},{"$f":"IF('Styrning och kompetens'!B43=\"Ej aktuellt\",'Styrning och kompetens'!C43,\"\")","v":""},{"$f":"IF('Styrning och kompetens'!B43=\"Ej aktuellt\",IF(ISBLANK('Styrning och kompetens'!D43),\"\",'Styrning och kompetens'!D43),\"\")","v":""}]
[null,{"$f":"IF('Styrning och kompetens'!B44=\"Ej aktuellt\",'Styrning och kompetens'!A44,\"\")","v":""},{"$f":"IF('Styrning och kompetens'!B44=\"Ej aktuellt\",'Styrning och kompetens'!C44,\"\")","v":""},{"$f":"IF('Styrning och kompetens'!B44=\"Ej aktuellt\",IF(ISBLANK('Styrning och kompetens'!D44),\"\",'Styrning och kompetens'!D44),\"\")","v":""}]
[null,{"$f":"IF('Styrning och kompetens'!B45=\"Ej aktuellt\",'Styrning och kompetens'!A45,\"\")","v":""},{"$f":"IF('Styrning och kompetens'!B45=\"Ej aktuellt\",'Styrning och kompetens'!C45,\"\")","v":""},{"$f":"IF('Styrning och kompetens'!B45=\"Ej aktuellt\",IF(ISBLANK('Styrning och kompetens'!D45),\"\",'Styrning och kompetens'!D45),\"\")","v":""}]
[null,{"$f":"IF('Styrning och kompetens'!B46=\"Ej aktuellt\",'Styrning och kompetens'!A46,\"\")","v":""},{"$f":"IF('Styrning och kompetens'!B46=\"Ej aktuellt\",'Styrning och kompetens'!C46,\"\")","v":""},{"$f":"IF('Styrning och kompetens'!B46=\"Ej aktuellt\",IF(ISBLANK('Styrning och kompetens'!D46),\"\",'Styrning och kompetens'!D46),\"\")","v":""}]
[null,{"$f":"IF('Styrning och kompetens'!B47=\"Ej aktuellt\",'Styrning och kompetens'!A47,\"\")","v":""},{"$f":"IF('Styrning och kompetens'!B47=\"Ej aktuellt\",'Styrning och kompetens'!C47,\"\")","v":""},{"$f":"IF('Styrning och kompetens'!B47=\"Ej aktuellt\",IF(ISBLANK('Styrning och kompetens'!D47),\"\",'Styrning och kompetens'!D47),\"\")","v":""}]
[null,{"$f":"IF('Styrning och kompetens'!B48=\"Ej aktuellt\",'Styrning och kompetens'!A48,\"\")","v":""},{"$f":"IF('Styrning och kompetens'!B48=\"Ej aktuellt\",'Styrning och kompetens'!C48,\"\")","v":""},{"$f":"IF('Styrning och kompetens'!B48=\"Ej aktuellt\",IF(ISBLANK('Styrning och kompetens'!D48),\"\",'Styrning och kompetens'!D48),\"\")","v":""}]
[null,{"$f":"IF('Styrning och kompetens'!B49=\"Ej aktuellt\",'Styrning och kompetens'!A49,\"\")","v":""},{"$f":"IF('Styrning och kompetens'!B49=\"Ej aktuellt\",'Styrning och kompetens'!C49,\"\")","v":""},{"$f":"IF('Styrning och kompetens'!B49=\"Ej aktuellt\",IF(ISBLANK('Styrning och kompetens'!D49),\"\",'Styrning och kompetens'!D49),\"\")","v":""}]
[null,{"$f":"IF('Styrning och kompetens'!B50=\"Ej aktuellt\",'Styrning och kompetens'!A50,\"\")","v":""},{"$f":"IF('Styrning och kompetens'!B50=\"Ej aktuellt\",'Styrning och kompetens'!C50,\"\")","v":""},{"$f":"IF('Styrning och kompetens'!B50=\"Ej aktuellt\",IF(ISBLANK('Styrning och kompetens'!D50),\"\",'Styrning och kompetens'!D50),\"\")","v":""}]
[null,{"$f":"IF('Styrning och kompetens'!B51=\"Ej aktuellt\",'Styrning och kompetens'!A51,\"\")","v":""},{"$f":"IF('Styrning och kompetens'!B51=\"Ej aktuellt\",'Styrning och kompetens'!C51,\"\")","v":""},{"$f":"IF('Styrning och kompetens'!B51=\"Ej aktuellt\",IF(ISBLANK('Styrning och kompetens'!D51),\"\",'Styrning och kompetens'!D51),\"\")","v":""}]
[null,{"$f":"IF('Styrning och kompetens'!B52=\"Ej aktuellt\",'Styrning och kompetens'!A52,\"\")","v":""},{"$f":"IF('Styrning och kompetens'!B52=\"Ej aktuellt\",'Styrning och kompetens'!C52,\"\")","v":""},{"$f":"IF('Styrning och kompetens'!B52=\"Ej aktuellt\",IF(ISBLANK('Styrning och kompetens'!D52),\"\",'Styrning och kompetens'!D52),\"\")","v":""}]
[null,{"$f":"IF('Styrning och kompetens'!B53=\"Ej aktuellt\",'Styrning och kompetens'!A53,\"\")","v":""},{"$f":"IF('Styrning och kompetens'!B53=\"Ej aktuellt\",'Styrning och kompetens'!C53,\"\")","v":""},{"$f":"IF('Styrning och kompetens'!B53=\"Ej aktuellt\",IF(ISBLANK('Styrning och kompetens'!D53),\"\",'Styrning och kompetens'!D53),\"\")","v":""}]
[null,{"$f":"IF('Styrning och kompetens'!B54=\"Ej aktuellt\",'Styrning och kompetens'!A54,\"\")","v":""},{"$f":"IF('Styrning och kompetens'!B54=\"Ej aktuellt\",'Styrning och kompetens'!C54,\"\")","v":""},{"$f":"IF('Styrning och kompetens'!B54=\"Ej aktuellt\",IF(ISBLANK('Styrning och kompetens'!D54),\"\",'Styrning och kompetens'!D54),\"\")","v":""}]
[null,{"$f":"IF('Styrning och kompetens'!B55=\"Ej aktuellt\",'Styrning och kompetens'!A55,\"\")","v":""},{"$f":"IF('Styrning och kompetens'!B55=\"Ej aktuellt\",'Styrning och kompetens'!C55,\"\")","v":""},{"$f":"IF('Styrning och kompetens'!B55=\"Ej aktuellt\",IF(ISBLANK('Styrning och kompetens'!D55),\"\",'Styrning och kompetens'!D55),\"\")","v":""}]
[null,{"$f":"IF('Styrning och kompetens'!B56=\"Ej aktuellt\",'Styrning och kompetens'!A56,\"\")","v":""},{"$f":"IF('Styrning och kompetens'!B56=\"Ej aktuellt\",'Styrning och kompetens'!C56,\"\")","v":""},{"$f":"IF('Styrning och kompetens'!B56=\"Ej aktuellt\",IF(ISBLANK('Styrning och kompetens'!D56),\"\",'Styrning och kompetens'!D56),\"\")","v":""}]
[null,{"$f":"IF('Styrning och kompetens'!B57=\"Ej aktuellt\",'Styrning och kompetens'!A57,\"\")","v":""},{"$f":"IF('Styrning och kompetens'!B57=\"Ej aktuellt\",'Styrning och kompetens'!C57,\"\")","v":""},{"$f":"IF('Styrning och kompetens'!B57=\"Ej aktuellt\",IF(ISBLANK('Styrning och kompetens'!D57),\"\",'Styrning och kompetens'!D57),\"\")","v":""}]
[null,{"$f":"IF('Styrning och kompetens'!B58=\"Ej aktuellt\",'Styrning och kompetens'!A58,\"\")","v":""},{"$f":"IF('Styrning och kompetens'!B58=\"Ej aktuellt\",'Styrning och kompetens'!C58,\"\")","v":""},{"$f":"IF('Styrning och kompetens'!B58=\"Ej aktuellt\",IF(ISBLANK('Styrning och kompetens'!D58),\"\",'Styrning och kompetens'!D58),\"\")","v":""}]
[null,{"$f":"IF('Styrning och kompetens'!B59=\"Ej aktuellt\",'Styrning och kompetens'!A59,\"\")","v":""},{"$f":"IF('Styrning och kompetens'!B59=\"Ej aktuellt\",'Styrning och kompetens'!C59,\"\")","v":""},{"$f":"IF('Styrning och kompetens'!B59=\"Ej aktuellt\",IF(ISBLANK('Styrning och kompetens'!D59),\"\",'Styrning och kompetens'!D59),\"\")","v":""}]
[null,{"$f":"IF('Styrning och kompetens'!B60=\"Ej aktuellt\",'Styrning och kompetens'!A60,\"\")","v":""},{"$f":"IF('Styrning och kompetens'!B60=\"Ej aktuellt\",'Styrning och kompetens'!C60,\"\")","v":""},{"$f":"IF('Styrning och kompetens'!B60=\"Ej aktuellt\",IF(ISBLANK('Styrning och kompetens'!D60),\"\",'Styrning och kompetens'!D60),\"\")","v":""}]
[null,{"$f":"IF('Styrning och kompetens'!B61=\"Ej aktuellt\",'Styrning och kompetens'!A61,\"\")","v":""},{"$f":"IF('Styrning och kompetens'!B61=\"Ej aktuellt\",'Styrning och kompetens'!C61,\"\")","v":""},{"$f":"IF('Styrning och kompetens'!B61=\"Ej aktuellt\",IF(ISBLANK('Styrning och kompetens'!D61),\"\",'Styrning och kompetens'!D61),\"\")","v":""}]
[null,{"$f":"IF('Styrning och kompetens'!B62=\"Ej aktuellt\",'Styrning och kompetens'!A62,\"\")","v":""},{"$f":"IF('Styrning och kompetens'!B62=\"Ej aktuellt\",'Styrning och kompetens'!C62,\"\")","v":""},{"$f":"IF('Styrning och kompetens'!B62=\"Ej aktuellt\",IF(ISBLANK('Styrning och kompetens'!D62),\"\",'Styrning och kompetens'!D62),\"\")","v":""}]
[null,{"$f":"IF('Styrning och kompetens'!B63=\"Ej aktuellt\",'Styrning och kompetens'!A63,\"\")","v":""},{"$f":"IF('Styrning och kompetens'!B63=\"Ej aktuellt\",'Styrning och kompetens'!C63,\"\")","v":""},{"$f":"IF('Styrning och kompetens'!B63=\"Ej aktuellt\",IF(ISBLANK('Styrning och kompetens'!D63),\"\",'Styrning och kompetens'!D63),\"\")","v":""}]
[null,{"$f":"IF('Styrning och kompetens'!B64=\"Ej aktuellt\",'Styrning och kompetens'!A64,\"\")","v":""},{"$f":"IF('Styrning och kompetens'!B64=\"Ej aktuellt\",'Styrning och kompetens'!C64,\"\")","v":""},{"$f":"IF('Styrning och kompetens'!B64=\"Ej aktuellt\",IF(ISBLANK('Styrning och kompetens'!D64),\"\",'Styrning och kompetens'!D64),\"\")","v":""}]
[null,{"$f":"IF('Styrning och kompetens'!B65=\"Ej aktuellt\",'Styrning och kompetens'!A65,\"\")","v":""},{"$f":"IF('Styrning och kompetens'!B65=\"Ej aktuellt\",'Styrning och kompetens'!C65,\"\")","v":""},{"$f":"IF('Styrning och kompetens'!B65=\"Ej aktuellt\",IF(ISBLANK('Styrning och kompetens'!D65),\"\",'Styrning och kompetens'!D65),\"\")","v":""}]
[null,{"$f":"IF('Styrning och kompetens'!B66=\"Ej aktuellt\",'Styrning och kompetens'!A66,\"\")","v":""},{"$f":"IF('Styrning och kompetens'!B66=\"Ej aktuellt\",'Styrning och kompetens'!C66,\"\")","v":""},{"$f":"IF('Styrning och kompetens'!B66=\"Ej aktuellt\",IF(ISBLANK('Styrning och kompetens'!D66),\"\",'Styrning och kompetens'!D66),\"\")","v":""}]
[null,{"$f":"IF('Styrning och kompetens'!B67=\"Ej aktuellt\",'Styrning och kompetens'!A67,\"\")","v":""},{"$f":"IF('Styrning och kompetens'!B67=\"Ej aktuellt\",'Styrning och kompetens'!C67,\"\")","v":""},{"$f":"IF('Styrning och kompetens'!B67=\"Ej aktuellt\",IF(ISBLANK('Styrning och kompetens'!D67),\"\",'Styrning och kompetens'!D67),\"\")","v":""}]
[null,{"$f":"IF('Styrning och kompetens'!B68=\"Ej aktuellt\",'Styrning och kompetens'!A68,\"\")","v":""},{"$f":"IF('Styrning och kompetens'!B68=\"Ej aktuellt\",'Styrning och kompetens'!C68,\"\")","v":""},{"$f":"IF('Styrning och kompetens'!B68=\"Ej aktuellt\",IF(ISBLANK('Styrning och kompetens'!D68),\"\",'Styrning och kompetens'!D68),\"\")","v":""}]
[null,{"$f":"IF('Styrning och kompetens'!B69=\"Ej aktuellt\",'Styrning och kompetens'!A69,\"\")","v":""},{"$f":"IF('Styrning och kompetens'!B69=\"Ej aktuellt\",'Styrning och kompetens'!C69,\"\")","v":""},{"$f":"IF('Styrning och kompetens'!B69=\"Ej aktuellt\",IF(ISBLANK('Styrning och kompetens'!D69),\"\",'Styrning och kompetens'!D69),\"\")","v":""}]
[null,{"$f":"IF('Styrning och kompetens'!B70=\"Ej aktuellt\",'Styrning och kompetens'!A70,\"\")","v":""},{"$f":"IF('Styrning och kompetens'!B70=\"Ej aktuellt\",'Styrning och kompetens'!C70,\"\")","v":""},{"$f":"IF('Styrning och kompetens'!B70=\"Ej aktuellt\",IF(ISBLANK('Styrning och kompetens'!D70),\"\",'Styrning och kompetens'!D70),\"\")","v":""}]
[null,{"$f":"IF('Styrning och kompetens'!B71=\"Ej aktuellt\",'Styrning och kompetens'!A71,\"\")","v":""},{"$f":"IF('Styrning och kompetens'!B71=\"Ej aktuellt\",'Styrning och kompetens'!C71,\"\")","v":""},{"$f":"IF('Styrning och kompetens'!B71=\"Ej aktuellt\",IF(ISBLANK('Styrning och kompetens'!D71),\"\",'Styrning och kompetens'!D71),\"\")","v":""}]
[null,{"$f":"IF('Styrning och kompetens'!B72=\"Ej aktuellt\",'Styrning och kompetens'!A72,\"\")","v":""},{"$f":"IF('Styrning och kompetens'!B72=\"Ej aktuellt\",'Styrning och kompetens'!C72,\"\")","v":""},{"$f":"IF('Styrning och kompetens'!B72=\"Ej aktuellt\",IF(ISBLANK('Styrning och kompetens'!D72),\"\",'Styrning och kompetens'!D72),\"\")","v":""}]
[null,{"$f":"IF('Styrning och kompetens'!B73=\"Ej aktuellt\",'Styrning och kompetens'!A73,\"\")","v":""},{"$f":"IF('Styrning och kompetens'!B73=\"Ej aktuellt\",'Styrning och kompetens'!C73,\"\")","v":""},{"$f":"IF('Styrning och kompetens'!B73=\"Ej aktuellt\",IF(ISBLANK('Styrning och kompetens'!D73),\"\",'Styrning och kompetens'!D73),\"\")","v":""}]
[null,{"$f":"IF('Styrning och kompetens'!B74=\"Ej aktuellt\",'Styrning och kompetens'!A74,\"\")","v":""},{"$f":"IF('Styrning och kompetens'!B74=\"Ej aktuellt\",'Styrning och kompetens'!C74,\"\")","v":""},{"$f":"IF('Styrning och kompetens'!B74=\"Ej aktuellt\",IF(ISBLANK('Styrning och kompetens'!D74),\"\",'Styrning och kompetens'!D74),\"\")","v":""}]
[null,{"$f":"IF('Styrning och kompetens'!B75=\"Ej aktuellt\",'Styrning och kompetens'!A75,\"\")","v":""},{"$f":"IF('Styrning och kompetens'!B75=\"Ej aktuellt\",'Styrning och kompetens'!C75,\"\")","v":""},{"$f":"IF('Styrning och kompetens'!B75=\"Ej aktuellt\",IF(ISBLANK('Styrning och kompetens'!D75),\"\",'Styrning och kompetens'!D75),\"\")","v":""}]
[null,{"$f":"IF('Styrning och kompetens'!B76=\"Ej aktuellt\",'Styrning och kompetens'!A76,\"\")","v":""},{"$f":"IF('Styrning och kompetens'!B76=\"Ej aktuellt\",'Styrning och kompetens'!C76,\"\")","v":""},{"$f":"IF('Styrning och kompetens'!B76=\"Ej aktuellt\",IF(ISBLANK('Styrning och kompetens'!D76),\"\",'Styrning och kompetens'!D76),\"\")","v":""}]
[null,{"$f":"IF('Styrning och kompetens'!B77=\"Ej aktuellt\",'Styrning och kompetens'!A77,\"\")","v":""},{"$f":"IF('Styrning och kompetens'!B77=\"Ej aktuellt\",'Styrning och kompetens'!C77,\"\")","v":""},{"$f":"IF('Styrning och kompetens'!B77=\"Ej aktuellt\",IF(ISBLANK('Styrning och kompetens'!D77),\"\",'Styrning och kompetens'!D77),\"\")","v":""}]
[null,{"$f":"IF('Styrning och kompetens'!B78=\"Ej aktuellt\",'Styrning och kompetens'!A78,\"\")","v":""},{"$f":"IF('Styrning och kompetens'!B78=\"Ej aktuellt\",'Styrning och kompetens'!C78,\"\")","v":""},{"$f":"IF('Styrning och kompetens'!B78=\"Ej aktuellt\",IF(ISBLANK('Styrning och kompetens'!D78),\"\",'Styrning och kompetens'!D78),\"\")","v":""}]
[null,{"$f":"IF('Styrning och kompetens'!B79=\"Ej aktuellt\",'Styrning och kompetens'!A79,\"\")","v":""},{"$f":"IF('Styrning och kompetens'!B79=\"Ej aktuellt\",'Styrning och kompetens'!C79,\"\")","v":""},{"$f":"IF('Styrning och kompetens'!B79=\"Ej aktuellt\",IF(ISBLANK('Styrning och kompetens'!D79),\"\",'Styrning och kompetens'!D79),\"\")","v":""}]
[null,{"$f":"IF('Styrning och kompetens'!B80=\"Ej aktuellt\",'Styrning och kompetens'!A80,\"\")","v":""},{"$f":"IF('Styrning och kompetens'!B80=\"Ej aktuellt\",'Styrning och kompetens'!C80,\"\")","v":""},{"$f":"IF('Styrning och kompetens'!B80=\"Ej aktuellt\",IF(ISBLANK('Styrning och kompetens'!D80),\"\",'Styrning och kompetens'!D80),\"\")","v":""}]
[null,{"$f":"IF('Styrning och kompetens'!B81=\"Ej aktuellt\",'Styrning och kompetens'!A81,\"\")","v":""},{"$f":"IF('Styrning och kompetens'!B81=\"Ej aktuellt\",'Styrning och kompetens'!C81,\"\")","v":""},{"$f":"IF('Styrning och kompetens'!B81=\"Ej aktuellt\",IF(ISBLANK('Styrning och kompetens'!D81),\"\",'Styrning och kompetens'!D81),\"\")","v":""}]
[null,{"$f":"IF('Styrning och kompetens'!B82=\"Ej aktuellt\",'Styrning och kompetens'!A82,\"\")","v":""},{"$f":"IF('Styrning och kompetens'!B82=\"Ej aktuellt\",'Styrning och kompetens'!C82,\"\")","v":""},{"$f":"IF('Styrning och kompetens'!B82=\"Ej aktuellt\",IF(ISBLANK('Styrning och kompetens'!D82),\"\",'Styrning och kompetens'!D82),\"\")","v":""}]
[null,{"$f":"IF('Styrning och kompetens'!B83=\"Ej aktuellt\",'Styrning och kompetens'!A83,\"\")","v":""},{"$f":"IF('Styrning och kompetens'!B83=\"Ej aktuellt\",'Styrning och kompetens'!C83,\"\")","v":""},{"$f":"IF('Styrning och kompetens'!B83=\"Ej aktuellt\",IF(ISBLANK('Styrning och kompetens'!D83),\"\",'Styrning och kompetens'!D83),\"\")","v":""}]
[null,{"$f":"IF('Styrning och kompetens'!B84=\"Ej aktuellt\",'Styrning och kompetens'!A84,\"\")","v":""},{"$f":"IF('Styrning och kompetens'!B84=\"Ej aktuellt\",'Styrning och kompetens'!C84,\"\")","v":""},{"$f":"IF('Styrning och kompetens'!B84=\"Ej aktuellt\",IF(ISBLANK('Styrning och kompetens'!D84),\"\",'Styrning och kompetens'!D84),\"\")","v":""}]
[null,{"$f":"IF('Styrning och kompetens'!B85=\"Ej aktuellt\",'Styrning och kompetens'!A85,\"\")","v":""},{"$f":"IF('Styrning och kompetens'!B85=\"Ej aktuellt\",'Styrning och kompetens'!C85,\"\")","v":""},{"$f":"IF('Styrning och kompetens'!B85=\"Ej aktuellt\",IF(ISBLANK('Styrning och kompetens'!D85),\"\",'Styrning och kompetens'!D85),\"\")","v":""}]
[null,{"$f":"IF('Styrning och kompetens'!B86=\"Ej aktuellt\",'Styrning och kompetens'!A86,\"\")","v":""},{"$f":"IF('Styrning och kompetens'!B86=\"Ej aktuellt\",'Styrning och kompetens'!C86,\"\")","v":""},{"$f":"IF('Styrning och kompetens'!B86=\"Ej aktuellt\",IF(ISBLANK('Styrning och kompetens'!D86),\"\",'Styrning och kompetens'!D86),\"\")","v":""}]
[null,{"$f":"IF('Styrning och kompetens'!B87=\"Ej aktuellt\",'Styrning och kompetens'!A87,\"\")","v":""},{"$f":"IF('Styrning och kompetens'!B87=\"Ej aktuellt\",'Styrning och kompetens'!C87,\"\")","v":""},{"$f":"IF('Styrning och kompetens'!B87=\"Ej aktuellt\",IF(ISBLANK('Styrning och kompetens'!D87),\"\",'Styrning och kompetens'!D87),\"\")","v":""}]
[null,{"$f":"IF('Styrning och kompetens'!B88=\"Ej aktuellt\",'Styrning och kompetens'!A88,\"\")","v":""},{"$f":"IF('Styrning och kompetens'!B88=\"Ej aktuellt\",'Styrning och kompetens'!C88,\"\")","v":""},{"$f":"IF('Styrning och kompetens'!B88=\"Ej aktuellt\",IF(ISBLANK('Styrning och kompetens'!D88),\"\",'Styrning och kompetens'!D88),\"\")","v":""}]
[null,{"$f":"IF('Styrning och kompetens'!B89=\"Ej aktuellt\",'Styrning och kompetens'!A89,\"\")","v":""},{"$f":"IF('Styrning och kompetens'!B89=\"Ej aktuellt\",'Styrning och kompetens'!C89,\"\")","v":""},{"$f":"IF('Styrning och kompetens'!B89=\"Ej aktuellt\",IF(ISBLANK('Styrning och kompetens'!D89),\"\",'Styrning och kompetens'!D89),\"\")","v":""}]
[null,{"$f":"IF('Styrning och kompetens'!B90=\"Ej aktuellt\",'Styrning och kompetens'!A90,\"\")","v":""},{"$f":"IF('Styrning och kompetens'!B90=\"Ej aktuellt\",'Styrning och kompetens'!C90,\"\")","v":""},{"$f":"IF('Styrning och kompetens'!B90=\"Ej aktuellt\",IF(ISBLANK('Styrning och kompetens'!D90),\"\",'Styrning och kompetens'!D90),\"\")","v":""}]
[null,{"$f":"IF('Styrning och kompetens'!B91=\"Ej aktuellt\",'Styrning och kompetens'!A91,\"\")","v":""},{"$f":"IF('Styrning och kompetens'!B91=\"Ej aktuellt\",'Styrning och kompetens'!C91,\"\")","v":""},{"$f":"IF('Styrning och kompetens'!B91=\"Ej aktuellt\",IF(ISBLANK('Styrning och kompetens'!D91),\"\",'Styrning och kompetens'!D91),\"\")","v":""}]
[null,{"$f":"IF('Styrning och kompetens'!B92=\"Ej aktuellt\",'Styrning och kompetens'!A92,\"\")","v":""},{"$f":"IF('Styrning och kompetens'!B92=\"Ej aktuellt\",'Styrning och kompetens'!C92,\"\")","v":""},{"$f":"IF('Styrning och kompetens'!B92=\"Ej aktuellt\",IF(ISBLANK('Styrning och kompetens'!D92),\"\",'Styrning och kompetens'!D92),\"\")","v":""}]
[null,{"$f":"IF('Styrning och kompetens'!B93=\"Ej aktuellt\",'Styrning och kompetens'!A93,\"\")","v":""},{"$f":"IF('Styrning och kompetens'!B93=\"Ej aktuellt\",'Styrning och kompetens'!C93,\"\")","v":""},{"$f":"IF('Styrning och kompetens'!B93=\"Ej aktuellt\",IF(ISBLANK('Styrning och kompetens'!D93),\"\",'Styrning och kompetens'!D93),\"\")","v":""}]
[null,{"$f":"IF('Styrning och kompetens'!B94=\"Ej aktuellt\",'Styrning och kompetens'!A94,\"\")","v":""},{"$f":"IF('Styrning och kompetens'!B94=\"Ej aktuellt\",'Styrning och kompetens'!C94,\"\")","v":""},{"$f":"IF('Styrning och kompetens'!B94=\"Ej aktuellt\",IF(ISBLANK('Styrning och kompetens'!D94),\"\",'Styrning och kompetens'!D94),\"\")","v":""}]
[null,{"$f":"IF('Styrning och kompetens'!B95=\"Ej aktuellt\",'Styrning och kompetens'!A95,\"\")","v":""},{"$f":"IF('Styrning och kompetens'!B95=\"Ej aktuellt\",'Styrning och kompetens'!C95,\"\")","v":""},{"$f":"IF('Styrning och kompetens'!B95=\"Ej aktuellt\",IF(ISBLANK('Styrning och kompetens'!D95),\"\",'Styrning och kompetens'!D95),\"\")","v":""}]
[null,{"$f":"IF('Styrning och kompetens'!B96=\"Ej aktuellt\",'Styrning och kompetens'!A96,\"\")","v":""},{"$f":"IF('Styrning och kompetens'!B96=\"Ej aktuellt\",'Styrning och kompetens'!C96,\"\")","v":""},{"$f":"IF('Styrning och kompetens'!B96=\"Ej aktuellt\",IF(ISBLANK('Styrning och kompetens'!D96),\"\",'Styrning och kompetens'!D96),\"\")","v":""}]
[null,{"$f":"IF('Styrning och kompetens'!B97=\"Ej aktuellt\",'Styrning och kompetens'!A97,\"\")","v":""},{"$f":"IF('Styrning och kompetens'!B97=\"Ej aktuellt\",'Styrning och kompetens'!C97,\"\")","v":""},{"$f":"IF('Styrning och kompetens'!B97=\"Ej aktuellt\",IF(ISBLANK('Styrning och kompetens'!D97),\"\",'Styrning och kompetens'!D97),\"\")","v":""}]
[null,{"$f":"IF('Styrning och kompetens'!B98=\"Ej aktuellt\",'Styrning och kompetens'!A98,\"\")","v":""},{"$f":"IF('Styrning och kompetens'!B98=\"Ej aktuellt\",'Styrning och kompetens'!C98,\"\")","v":""},{"$f":"IF('Styrning och kompetens'!B98=\"Ej aktuellt\",IF(ISBLANK('Styrning och kompetens'!D98),\"\",'Styrning och kompetens'!D98),\"\")","v":""}]
[null,{"$f":"IF('Styrning och kompetens'!B99=\"Ej aktuellt\",'Styrning och kompetens'!A99,\"\")","v":""},{"$f":"IF('Styrning och kompetens'!B99=\"Ej aktuellt\",'Styrning och kompetens'!C99,\"\")","v":""},{"$f":"IF('Styrning och kompetens'!B99=\"Ej aktuellt\",IF(ISBLANK('Styrning och kompetens'!D99),\"\",'Styrning och kompetens'!D99),\"\")","v":""}]
[null,{"$f":"IF('Styrning och kompetens'!B100=\"Ej aktuellt\",'Styrning och kompetens'!A100,\"\")","v":""},{"$f":"IF('Styrning och kompetens'!B100=\"Ej aktuellt\",'Styrning och kompetens'!C100,\"\")","v":""},{"$f":"IF('Styrning och kompetens'!B100=\"Ej aktuellt\",IF(ISBLANK('Styrning och kompetens'!D100),\"\",'Styrning och kompetens'!D100),\"\")","v":""}]
[null,{"$f":"IF('Styrning och kompetens'!B101=\"Ej aktuellt\",'Styrning och kompetens'!A101,\"\")","v":""},{"$f":"IF('Styrning och kompetens'!B101=\"Ej aktuellt\",'Styrning och kompetens'!C101,\"\")","v":""},{"$f":"IF('Styrning och kompetens'!B101=\"Ej aktuellt\",IF(ISBLANK('Styrning och kompetens'!D101),\"\",'Styrning och kompetens'!D101),\"\")","v":""}]
[null,{"$f":"IF('Styrning och kompetens'!B102=\"Ej aktuellt\",'Styrning och kompetens'!A102,\"\")","v":""},{"$f":"IF('Styrning och kompetens'!B102=\"Ej aktuellt\",'Styrning och kompetens'!C102,\"\")","v":""},{"$f":"IF('Styrning och kompetens'!B102=\"Ej aktuellt\",IF(ISBLANK('Styrning och kompetens'!D102),\"\",'Styrning och kompetens'!D102),\"\")","v":""}]
[null,{"$f":"IF('Styrning och kompetens'!B103=\"Ej aktuellt\",'Styrning och kompetens'!A103,\"\")","v":""},{"$f":"IF('Styrning och kompetens'!B103=\"Ej aktuellt\",'Styrning och kompetens'!C103,\"\")","v":""},{"$f":"IF('Styrning och kompetens'!B103=\"Ej aktuellt\",IF(ISBLANK('Styrning och kompetens'!D103),\"\",'Styrning och kompetens'!D103),\"\")","v":""}]
[null,{"$f":"IF('Styrning och kompetens'!B104=\"Ej aktuellt\",'Styrning och kompetens'!A104,\"\")","v":""},{"$f":"IF('Styrning och kompetens'!B104=\"Ej aktuellt\",'Styrning och kompetens'!C104,\"\")","v":""},{"$f":"IF('Styrning och kompetens'!B104=\"Ej aktuellt\",IF(ISBLANK('Styrning och kompetens'!D104),\"\",'Styrning och kompetens'!D104),\"\")","v":""}]
[null,{"$f":"IF('Styrning och kompetens'!B105=\"Ej aktuellt\",'Styrning och kompetens'!A105,\"\")","v":""},{"$f":"IF('Styrning och kompetens'!B105=\"Ej aktuellt\",'Styrning och kompetens'!C105,\"\")","v":""},{"$f":"IF('Styrning och kompetens'!B105=\"Ej aktuellt\",IF(ISBLANK('Styrning och kompetens'!D105),\"\",'Styrning och kompetens'!D105),\"\")","v":""}]
[null,{"$f":"IF('Styrning och kompetens'!B106=\"Ej aktuellt\",'Styrning och kompetens'!A106,\"\")","v":""},{"$f":"IF('Styrning och kompetens'!B106=\"Ej aktuellt\",'Styrning och kompetens'!C106,\"\")","v":""},{"$f":"IF('Styrning och kompetens'!B106=\"Ej aktuellt\",IF(ISBLANK('Styrning och kompetens'!D106),\"\",'Styrning och kompetens'!D106),\"\")","v":""}]
[null,{"$f":"IF('Styrning och kompetens'!B107=\"Ej aktuellt\",'Styrning och kompetens'!A107,\"\")","v":""},{"$f":"IF('Styrning och kompetens'!B107=\"Ej aktuellt\",'Styrning och kompetens'!C107,\"\")","v":""},{"$f":"IF('Styrning och kompetens'!B107=\"Ej aktuellt\",IF(ISBLANK('Styrning och kompetens'!D107),\"\",'Styrning och kompetens'!D107),\"\")","v":""}]
[null,{"$f":"IF('Styrning och kompetens'!B108=\"Ej aktuellt\",'Styrning och kompetens'!A108,\"\")","v":""},{"$f":"IF('Styrning och kompetens'!B108=\"Ej aktuellt\",'Styrning och kompetens'!C108,\"\")","v":""},{"$f":"IF('Styrning och kompetens'!B108=\"Ej aktuellt\",IF(ISBLANK('Styrning och kompetens'!D108),\"\",'Styrning och kompetens'!D108),\"\")","v":""}]
[null,{"$f":"IF('Styrning och kompetens'!B109=\"Ej aktuellt\",'Styrning och kompetens'!A109,\"\")","v":""},{"$f":"IF('Styrning och kompetens'!B109=\"Ej aktuellt\",'Styrning och kompetens'!C109,\"\")","v":""},{"$f":"IF('Styrning och kompetens'!B109=\"Ej aktuellt\",IF(ISBLANK('Styrning och kompetens'!D109),\"\",'Styrning och kompetens'!D109),\"\")","v":""}]
[null,{"$f":"IF('Styrning och kompetens'!B110=\"Ej aktuellt\",'Styrning och kompetens'!A110,\"\")","v":""},{"$f":"IF('Styrning och kompetens'!B110=\"Ej aktuellt\",'Styrning och kompetens'!C110,\"\")","v":""},{"$f":"IF('Styrning och kompetens'!B110=\"Ej aktuellt\",IF(ISBLANK('Styrning och kompetens'!D110),\"\",'Styrning och kompetens'!D110),\"\")","v":""}]
[null,{"$f":"IF('Styrning och kompetens'!B111=\"Ej aktuellt\",'Styrning och kompetens'!A111,\"\")","v":""},{"$f":"IF('Styrning och kompetens'!B111=\"Ej aktuellt\",'Styrning och kompetens'!C111,\"\")","v":""},{"$f":"IF('Styrning och kompetens'!B111=\"Ej aktuellt\",IF(ISBLANK('Styrning och kompetens'!D111),\"\",'Styrning och kompetens'!D111),\"\")","v":""}]
[null,{"$f":"IF('Styrning och kompetens'!B112=\"Ej aktuellt\",'Styrning och kompetens'!A112,\"\")","v":""},{"$f":"IF('Styrning och kompetens'!B112=\"Ej aktuellt\",'Styrning och kompetens'!C112,\"\")","v":""},{"$f":"IF('Styrning och kompetens'!B112=\"Ej aktuellt\",IF(ISBLANK('Styrning och kompetens'!D112),\"\",'Styrning och kompetens'!D112),\"\")","v":""}]
[null,{"$f":"IF('Styrning och kompetens'!B113=\"Ej aktuellt\",'Styrning och kompetens'!A113,\"\")","v":""},{"$f":"IF('Styrning och kompetens'!B113=\"Ej aktuellt\",'Styrning och kompetens'!C113,\"\")","v":""},{"$f":"IF('Styrning och kompetens'!B113=\"Ej aktuellt\",IF(ISBLANK('Styrning och kompetens'!D113),\"\",'Styrning och kompetens'!D113),\"\")","v":""}]
[null,{"$f":"IF('Styrning och kompetens'!B114=\"Ej aktuellt\",'Styrning och kompetens'!A114,\"\")","v":""},{"$f":"IF('Styrning och kompetens'!B114=\"Ej aktuellt\",'Styrning och kompetens'!C114,\"\")","v":""},{"$f":"IF('Styrning och kompetens'!B114=\"Ej aktuellt\",IF(ISBLANK('Styrning och kompetens'!D114),\"\",'Styrning och kompetens'!D114),\"\")","v":""}]
[null,{"$f":"IF('Styrning och kompetens'!B115=\"Ej aktuellt\",'Styrning och kompetens'!A115,\"\")","v":""},{"$f":"IF('Styrning och kompetens'!B115=\"Ej aktuellt\",'Styrning och kompetens'!C115,\"\")","v":""},{"$f":"IF('Styrning och kompetens'!B115=\"Ej aktuellt\",IF(ISBLANK('Styrning och kompetens'!D115),\"\",'Styrning och kompetens'!D115),\"\")","v":""}]
[null,{"$f":"IF('Styrning och kompetens'!B116=\"Ej aktuellt\",'Styrning och kompetens'!A116,\"\")","v":""},{"$f":"IF('Styrning och kompetens'!B116=\"Ej aktuellt\",'Styrning och kompetens'!C116,\"\")","v":""},{"$f":"IF('Styrning och kompetens'!B116=\"Ej aktuellt\",IF(ISBLANK('Styrning och kompetens'!D116),\"\",'Styrning och kompetens'!D116),\"\")","v":""}]
[null,{"$f":"IF('Styrning och kompetens'!B117=\"Ej aktuellt\",'Styrning och kompetens'!A117,\"\")","v":""},{"$f":"IF('Styrning och kompetens'!B117=\"Ej aktuellt\",'Styrning och kompetens'!C117,\"\")","v":""},{"$f":"IF('Styrning och kompetens'!B117=\"Ej aktuellt\",IF(ISBLANK('Styrning och kompetens'!D117),\"\",'Styrning och kompetens'!D117),\"\")","v":""}]
[null,{"$f":"IF('Styrning och kompetens'!B118=\"Ej aktuellt\",'Styrning och kompetens'!A118,\"\")","v":""},{"$f":"IF('Styrning och kompetens'!B118=\"Ej aktuellt\",'Styrning och kompetens'!C118,\"\")","v":""},{"$f":"IF('Styrning och kompetens'!B118=\"Ej aktuellt\",IF(ISBLANK('Styrning och kompetens'!D118),\"\",'Styrning och kompetens'!D118),\"\")","v":""}]
[null,{"$f":"IF('Styrning och kompetens'!B119=\"Ej aktuellt\",'Styrning och kompetens'!A119,\"\")","v":""},{"$f":"IF('Styrning och kompetens'!B119=\"Ej aktuellt\",'Styrning och kompetens'!C119,\"\")","v":""},{"$f":"IF('Styrning och kompetens'!B119=\"Ej aktuellt\",IF(ISBLANK('Styrning och kompetens'!D119),\"\",'Styrning och kompetens'!D119),\"\")","v":""}]
[null,{"$f":"IF('Styrning och kompetens'!B120=\"Ej aktuellt\",'Styrning och kompetens'!A120,\"\")","v":""},{"$f":"IF('Styrning och kompetens'!B120=\"Ej aktuellt\",'Styrning och kompetens'!C120,\"\")","v":""},{"$f":"IF('Styrning och kompetens'!B120=\"Ej aktuellt\",IF(ISBLANK('Styrning och kompetens'!D120),\"\",'Styrning och kompetens'!D120),\"\")","v":""}]
[null,{"$f":"IF('Styrning och kompetens'!B121=\"Ej aktuellt\",'Styrning och kompetens'!A121,\"\")","v":""},{"$f":"IF('Styrning och kompetens'!B121=\"Ej aktuellt\",'Styrning och kompetens'!C121,\"\")","v":""},{"$f":"IF('Styrning och kompetens'!B121=\"Ej aktuellt\",IF(ISBLANK('Styrning och kompetens'!D121),\"\",'Styrning och kompetens'!D121),\"\")","v":""}]
[null,{"$f":"IF('Styrning och kompetens'!B122=\"Ej aktuellt\",'Styrning och kompetens'!A122,\"\")","v":""},{"$f":"IF('Styrning och kompetens'!B122=\"Ej aktuellt\",'Styrning och kompetens'!C122,\"\")","v":""},{"$f":"IF('Styrning och kompetens'!B122=\"Ej aktuellt\",IF(ISBLANK('Styrning och kompetens'!D122),\"\",'Styrning och kompetens'!D122),\"\")","v":""}]
[null,{"$f":"IF('Styrning och kompetens'!B123=\"Ej aktuellt\",'Styrning och kompetens'!A123,\"\")","v":""},{"$f":"IF('Styrning och kompetens'!B123=\"Ej aktuellt\",'Styrning och kompetens'!C123,\"\")","v":""},{"$f":"IF('Styrning och kompetens'!B123=\"Ej aktuellt\",IF(ISBLANK('Styrning och kompetens'!D123),\"\",'Styrning och kompetens'!D123),\"\")","v":""}]
[null,{"$f":"IF('Styrning och kompetens'!B124=\"Ej aktuellt\",'Styrning och kompetens'!A124,\"\")","v":""},{"$f":"IF('Styrning och kompetens'!B124=\"Ej aktuellt\",'Styrning och kompetens'!C124,\"\")","v":""},{"$f":"IF('Styrning och kompetens'!B124=\"Ej aktuellt\",IF(ISBLANK('Styrning och kompetens'!D124),\"\",'Styrning och kompetens'!D124),\"\")","v":""}]
[null,{"$f":"IF('Styrning och kompetens'!B125=\"Ej aktuellt\",'Styrning och kompetens'!A125,\"\")","v":""},{"$f":"IF('Styrning och kompetens'!B125=\"Ej aktuellt\",'Styrning och kompetens'!C125,\"\")","v":""},{"$f":"IF('Styrning och kompetens'!B125=\"Ej aktuellt\",IF(ISBLANK('Styrning och kompetens'!D125),\"\",'Styrning och kompetens'!D125),\"\")","v":""}]
[null,{"$f":"IF('Styrning och kompetens'!B126=\"Ej aktuellt\",'Styrning och kompetens'!A126,\"\")","v":""},{"$f":"IF('Styrning och kompetens'!B126=\"Ej aktuellt\",'Styrning och kompetens'!C126,\"\")","v":""},{"$f":"IF('Styrning och kompetens'!B126=\"Ej aktuellt\",IF(ISBLANK('Styrning och kompetens'!D126),\"\",'Styrning och kompetens'!D126),\"\")","v":""}]
[null,{"$f":"IF('Styrning och kompetens'!B127=\"Ej aktuellt\",'Styrning och kompetens'!A127,\"\")","v":""},{"$f":"IF('Styrning och kompetens'!B127=\"Ej aktuellt\",'Styrning och kompetens'!C127,\"\")","v":""},{"$f":"IF('Styrning och kompetens'!B127=\"Ej aktuellt\",IF(ISBLANK('Styrning och kompetens'!D127),\"\",'Styrning och kompetens'!D127),\"\")","v":""}]
[null,{"$f":"IF('Styrning och kompetens'!B128=\"Ej aktuellt\",'Styrning och kompetens'!A128,\"\")","v":""},{"$f":"IF('Styrning och kompetens'!B128=\"Ej aktuellt\",'Styrning och kompetens'!C128,\"\")","v":""},{"$f":"IF('Styrning och kompetens'!B128=\"Ej aktuellt\",IF(ISBLANK('Styrning och kompetens'!D128),\"\",'Styrning och kompetens'!D128),\"\")","v":""}]
[null,{"$f":"IF('Styrning och kompetens'!B129=\"Ej aktuellt\",'Styrning och kompetens'!A129,\"\")","v":""},{"$f":"IF('Styrning och kompetens'!B129=\"Ej aktuellt\",'Styrning och kompetens'!C129,\"\")","v":""},{"$f":"IF('Styrning och kompetens'!B129=\"Ej aktuellt\",IF(ISBLANK('Styrning och kompetens'!D129),\"\",'Styrning och kompetens'!D129),\"\")","v":""}]
[null,{"$f":"IF('Styrning och kompetens'!B130=\"Ej aktuellt\",'Styrning och kompetens'!A130,\"\")","v":""},{"$f":"IF('Styrning och kompetens'!B130=\"Ej aktuellt\",'Styrning och kompetens'!C130,\"\")","v":""},{"$f":"IF('Styrning och kompetens'!B130=\"Ej aktuellt\",IF(ISBLANK('Styrning och kompetens'!D130),\"\",'Styrning och kompetens'!D130),\"\")","v":""}]
[null,{"$f":"IF('Styrning och kompetens'!B131=\"Ej aktuellt\",'Styrning och kompetens'!A131,\"\")","v":""},{"$f":"IF('Styrning och kompetens'!B131=\"Ej aktuellt\",'Styrning och kompetens'!C131,\"\")","v":""},{"$f":"IF('Styrning och kompetens'!B131=\"Ej aktuellt\",IF(ISBLANK('Styrning och kompetens'!D131),\"\",'Styrning och kompetens'!D131),\"\")","v":""}]
[null,{"$f":"IF('Styrning och kompetens'!B132=\"Ej aktuellt\",'Styrning och kompetens'!A132,\"\")","v":""},{"$f":"IF('Styrning och kompetens'!B132=\"Ej aktuellt\",'Styrning och kompetens'!C132,\"\")","v":""},{"$f":"IF('Styrning och kompetens'!B132=\"Ej aktuellt\",IF(ISBLANK('Styrning och kompetens'!D132),\"\",'Styrning och kompetens'!D132),\"\")","v":""}]
[null,{"$f":"IF('Styrning och kompetens'!B133=\"Ej aktuellt\",'Styrning och kompetens'!A133,\"\")","v":""},{"$f":"IF('Styrning och kompetens'!B133=\"Ej aktuellt\",'Styrning och kompetens'!C133,\"\")","v":""},{"$f":"IF('Styrning och kompetens'!B133=\"Ej aktuellt\",IF(ISBLANK('Styrning och kompetens'!D133),\"\",'Styrning och kompetens'!D133),\"\")","v":""}]
[null,{"$f":"IF('Styrning och kompetens'!B134=\"Ej aktuellt\",'Styrning och kompetens'!A134,\"\")","v":""},{"$f":"IF('Styrning och kompetens'!B134=\"Ej aktuellt\",'Styrning och kompetens'!C134,\"\")","v":""},{"$f":"IF('Styrning och kompetens'!B134=\"Ej aktuellt\",IF(ISBLANK('Styrning och kompetens'!D134),\"\",'Styrning och kompetens'!D134),\"\")","v":""}]
[null,{"$f":"IF('Styrning och kompetens'!B135=\"Ej aktuellt\",'Styrning och kompetens'!A135,\"\")","v":""},{"$f":"IF('Styrning och kompetens'!B135=\"Ej aktuellt\",'Styrning och kompetens'!C135,\"\")","v":""},{"$f":"IF('Styrning och kompetens'!B135=\"Ej aktuellt\",IF(ISBLANK('Styrning och kompetens'!D135),\"\",'Styrning och kompetens'!D135),\"\")","v":""}]
[null,{"$f":"IF('Styrning och kompetens'!B136=\"Ej aktuellt\",'Styrning och kompetens'!A136,\"\")","v":""},{"$f":"IF('Styrning och kompetens'!B136=\"Ej aktuellt\",'Styrning och kompetens'!C136,\"\")","v":""},{"$f":"IF('Styrning och kompetens'!B136=\"Ej aktuellt\",IF(ISBLANK('Styrning och kompetens'!D136),\"\",'Styrning och kompetens'!D136),\"\")","v":""}]
[null,{"$f":"IF('Styrning och kompetens'!B137=\"Ej aktuellt\",'Styrning och kompetens'!A137,\"\")","v":""},{"$f":"IF('Styrning och kompetens'!B137=\"Ej aktuellt\",'Styrning och kompetens'!C137,\"\")","v":""},{"$f":"IF('Styrning och kompetens'!B137=\"Ej aktuellt\",IF(ISBLANK('Styrning och kompetens'!D137),\"\",'Styrning och kompetens'!D137),\"\")","v":""}]
[null,{"$f":"IF('Styrning och kompetens'!B138=\"Ej aktuellt\",'Styrning och kompetens'!A138,\"\")","v":""},{"$f":"IF('Styrning och kompetens'!B138=\"Ej aktuellt\",'Styrning och kompetens'!C138,\"\")","v":""},{"$f":"IF('Styrning och kompetens'!B138=\"Ej aktuellt\",IF(ISBLANK('Styrning och kompetens'!D138),\"\",'Styrning och kompetens'!D138),\"\")","v":""}]
[null,{"$f":"IF('Styrning och kompetens'!B139=\"Ej aktuellt\",'Styrning och kompetens'!A139,\"\")","v":""},{"$f":"IF('Styrning och kompetens'!B139=\"Ej aktuellt\",'Styrning och kompetens'!C139,\"\")","v":""},{"$f":"IF('Styrning och kompetens'!B139=\"Ej aktuellt\",IF(ISBLANK('Styrning och kompetens'!D139),\"\",'Styrning och kompetens'!D139),\"\")","v":""}]
[null,{"$f":"IF('Styrning och kompetens'!B140=\"Ej aktuellt\",'Styrning och kompetens'!A140,\"\")","v":""},{"$f":"IF('Styrning och kompetens'!B140=\"Ej aktuellt\",'Styrning och kompetens'!C140,\"\")","v":""},{"$f":"IF('Styrning och kompetens'!B140=\"Ej aktuellt\",IF(ISBLANK('Styrning och kompetens'!D140),\"\",'Styrning och kompetens'!D140),\"\")","v":""}]
[null,{"$f":"IF('Styrning och kompetens'!B141=\"Ej aktuellt\",'Styrning och kompetens'!A141,\"\")","v":""},{"$f":"IF('Styrning och kompetens'!B141=\"Ej aktuellt\",'Styrning och kompetens'!C141,\"\")","v":""},{"$f":"IF('Styrning och kompetens'!B141=\"Ej aktuellt\",IF(ISBLANK('Styrning och kompetens'!D141),\"\",'Styrning och kompetens'!D141),\"\")","v":""}]
[null,{"$f":"IF('Styrning och kompetens'!B142=\"Ej aktuellt\",'Styrning och kompetens'!A142,\"\")","v":""},{"$f":"IF('Styrning och kompetens'!B142=\"Ej aktuellt\",'Styrning och kompetens'!C142,\"\")","v":""},{"$f":"IF('Styrning och kompetens'!B142=\"Ej aktuellt\",IF(ISBLANK('Styrning och kompetens'!D142),\"\",'Styrning och kompetens'!D142),\"\")","v":""}]
[null,{"$f":"IF('Styrning och kompetens'!B143=\"Ej aktuellt\",'Styrning och kompetens'!A143,\"\")","v":""},{"$f":"IF('Styrning och kompetens'!B143=\"Ej aktuellt\",'Styrning och kompetens'!C143,\"\")","v":""},{"$f":"IF('Styrning och kompetens'!B143=\"Ej aktuellt\",IF(ISBLANK('Styrning och kompetens'!D143),\"\",'Styrning och kompetens'!D143),\"\")","v":""}]
[null,{"$f":"IF('Styrning och kompetens'!B144=\"Ej aktuellt\",'Styrning och kompetens'!A144,\"\")","v":""},{"$f":"IF('Styrning och kompetens'!B144=\"Ej aktuellt\",'Styrning och kompetens'!C144,\"\")","v":""},{"$f":"IF('Styrning och kompetens'!B144=\"Ej aktuellt\",IF(ISBLANK('Styrning och kompetens'!D144),\"\",'Styrning och kompetens'!D144),\"\")","v":""}]
[null,{"$f":"IF('Styrning och kompetens'!B145=\"Ej aktuellt\",'Styrning och kompetens'!A145,\"\")","v":""},{"$f":"IF('Styrning och kompetens'!B145=\"Ej aktuellt\",'Styrning och kompetens'!C145,\"\")","v":""},{"$f":"IF('Styrning och kompetens'!B145=\"Ej aktuellt\",IF(ISBLANK('Styrning och kompetens'!D145),\"\",'Styrning och kompetens'!D145),\"\")","v":""}]
[null,{"$f":"IF('Styrning och kompetens'!B146=\"Ej aktuellt\",'Styrning och kompetens'!A146,\"\")","v":""},{"$f":"IF('Styrning och kompetens'!B146=\"Ej aktuellt\",'Styrning och kompetens'!C146,\"\")","v":""},{"$f":"IF('Styrning och kompetens'!B146=\"Ej aktuellt\",IF(ISBLANK('Styrning och kompetens'!D146),\"\",'Styrning och kompetens'!D146),\"\")","v":""}]
[null,{"$f":"IF('Styrning och kompetens'!B147=\"Ej aktuellt\",'Styrning och kompetens'!A147,\"\")","v":""},{"$f":"IF('Styrning och kompetens'!B147=\"Ej aktuellt\",'Styrning och kompetens'!C147,\"\")","v":""},{"$f":"IF('Styrning och kompetens'!B147=\"Ej aktuellt\",IF(ISBLANK('Styrning och kompetens'!D147),\"\",'Styrning och kompetens'!D147),\"\")","v":""}]
[null,{"$f":"IF('Styrning och kompetens'!B148=\"Ej aktuellt\",'Styrning och kompetens'!A148,\"\")","v":""},{"$f":"IF('Styrning och kompetens'!B148=\"Ej aktuellt\",'Styrning och kompetens'!C148,\"\")","v":""},{"$f":"IF('Styrning och kompetens'!B148=\"Ej aktuellt\",IF(ISBLANK('Styrning och kompetens'!D148),\"\",'Styrning och kompetens'!D148),\"\")","v":""}]
[null,{"$f":"IF('Styrning och kompetens'!B149=\"Ej aktuellt\",'Styrning och kompetens'!A149,\"\")","v":""},{"$f":"IF('Styrning och kompetens'!B149=\"Ej aktuellt\",'Styrning och kompetens'!C149,\"\")","v":""},{"$f":"IF('Styrning och kompetens'!B149=\"Ej aktuellt\",IF(ISBLANK('Styrning och kompetens'!D149),\"\",'Styrning och kompetens'!D149),\"\")","v":""}]
[null,{"$f":"IF('Styrning och kompetens'!B150=\"Ej aktuellt\",'Styrning och kompetens'!A150,\"\")","v":""},{"$f":"IF('Styrning och kompetens'!B150=\"Ej aktuellt\",'Styrning och kompetens'!C150,\"\")","v":""},{"$f":"IF('Styrning och kompetens'!B150=\"Ej aktuellt\",IF(ISBLANK('Styrning och kompetens'!D150),\"\",'Styrning och kompetens'!D150),\"\")","v":""}]
[null,{"$f":"IF('Styrning och kompetens'!B151=\"Ej aktuellt\",'Styrning och kompetens'!A151,\"\")","v":""},{"$f":"IF('Styrning och kompetens'!B151=\"Ej aktuellt\",'Styrning och kompetens'!C151,\"\")","v":""},{"$f":"IF('Styrning och kompetens'!B151=\"Ej aktuellt\",IF(ISBLANK('Styrning och kompetens'!D151),\"\",'Styrning och kompetens'!D151),\"\")","v":""}]
[null,{"$f":"IF('Styrning och kompetens'!B152=\"Ej aktuellt\",'Styrning och kompetens'!A152,\"\")","v":""},{"$f":"IF('Styrning och kompetens'!B152=\"Ej aktuellt\",'Styrning och kompetens'!C152,\"\")","v":""},{"$f":"IF('Styrning och kompetens'!B152=\"Ej aktuellt\",IF(ISBLANK('Styrning och kompetens'!D152),\"\",'Styrning och kompetens'!D152),\"\")","v":""}]
[null,{"$f":"IF('Styrning och kompetens'!B153=\"Ej aktuellt\",'Styrning och kompetens'!A153,\"\")","v":""},{"$f":"IF('Styrning och kompetens'!B153=\"Ej aktuellt\",'Styrning och kompetens'!C153,\"\")","v":""},{"$f":"IF('Styrning och kompetens'!B153=\"Ej aktuellt\",IF(ISBLANK('Styrning och kompetens'!D153),\"\",'Styrning och kompetens'!D153),\"\")","v":""}]
[null,{"$f":"IF('Styrning och kompetens'!B154=\"Ej aktuellt\",'Styrning och kompetens'!A154,\"\")","v":""},{"$f":"IF('Styrning och kompetens'!B154=\"Ej aktuellt\",'Styrning och kompetens'!C154,\"\")","v":""},{"$f":"IF('Styrning och kompetens'!B154=\"Ej aktuellt\",IF(ISBLANK('Styrning och kompetens'!D154),\"\",'Styrning och kompetens'!D154),\"\")","v":""}]
[null,{"$f":"IF('Styrning och kompetens'!B155=\"Ej aktuellt\",'Styrning och kompetens'!A155,\"\")","v":""},{"$f":"IF('Styrning och kompetens'!B155=\"Ej aktuellt\",'Styrning och kompetens'!C155,\"\")","v":""},{"$f":"IF('Styrning och kompetens'!B155=\"Ej aktuellt\",IF(ISBLANK('Styrning och kompetens'!D155),\"\",'Styrning och kompetens'!D155),\"\")","v":""}]
[null,{"$f":"IF('Styrning och kompetens'!B156=\"Ej aktuellt\",'Styrning och kompetens'!A156,\"\")","v":""},{"$f":"IF('Styrning och kompetens'!B156=\"Ej aktuellt\",'Styrning och kompetens'!C156,\"\")","v":""},{"$f":"IF('Styrning och kompetens'!B156=\"Ej aktuellt\",IF(ISBLANK('Styrning och kompetens'!D156),\"\",'Styrning och kompetens'!D156),\"\")","v":""}]
[null,{"$f":"IF('Styrning och kompetens'!B157=\"Ej aktuellt\",'Styrning och kompetens'!A157,\"\")","v":""},{"$f":"IF('Styrning och kompetens'!B157=\"Ej aktuellt\",'Styrning och kompetens'!C157,\"\")","v":""},{"$f":"IF('Styrning och kompetens'!B157=\"Ej aktuellt\",IF(ISBLANK('Styrning och kompetens'!D157),\"\",'Styrning och kompetens'!D157),\"\")","v":""}]
[null,{"$f":"IF('Styrning och kompetens'!B158=\"Ej aktuellt\",'Styrning och kompetens'!A158,\"\")","v":""},{"$f":"IF('Styrning och kompetens'!B158=\"Ej aktuellt\",'Styrning och kompetens'!C158,\"\")","v":""},{"$f":"IF('Styrning och kompetens'!B158=\"Ej aktuellt\",IF(ISBLANK('Styrning och kompetens'!D158),\"\",'Styrning och kompetens'!D158),\"\")","v":""}]
[null,{"$f":"IF('Styrning och kompetens'!B159=\"Ej aktuellt\",'Styrning och kompetens'!A159,\"\")","v":""},{"$f":"IF('Styrning och kompetens'!B159=\"Ej aktuellt\",'Styrning och kompetens'!C159,\"\")","v":""},{"$f":"IF('Styrning och kompetens'!B159=\"Ej aktuellt\",IF(ISBLANK('Styrning och kompetens'!D159),\"\",'Styrning och kompetens'!D159),\"\")","v":""}]
[null,{"$f":"IF('Styrning och kompetens'!B160=\"Ej aktuellt\",'Styrning och kompetens'!A160,\"\")","v":""},{"$f":"IF('Styrning och kompetens'!B160=\"Ej aktuellt\",'Styrning och kompetens'!C160,\"\")","v":""},{"$f":"IF('Styrning och kompetens'!B160=\"Ej aktuellt\",IF(ISBLANK('Styrning och kompetens'!D160),\"\",'Styrning och kompetens'!D160),\"\")","v":""}]
[null,{"$f":"IF('Styrning och kompetens'!B161=\"Ej aktuellt\",'Styrning och kompetens'!A161,\"\")","v":""},{"$f":"IF('Styrning och kompetens'!B161=\"Ej aktuellt\",'Styrning och kompetens'!C161,\"\")","v":""},{"$f":"IF('Styrning och kompetens'!B161=\"Ej aktuellt\",IF(ISBLANK('Styrning och kompetens'!D161),\"\",'Styrning och kompetens'!D161),\"\")","v":""}]
[null,{"$f":"IF('Styrning och kompetens'!B162=\"Ej aktuellt\",'Styrning och kompetens'!A162,\"\")","v":""},{"$f":"IF('Styrning och kompetens'!B162=\"Ej aktuellt\",'Styrning och kompetens'!C162,\"\")","v":""},{"$f":"IF('Styrning och kompetens'!B162=\"Ej aktuellt\",IF(ISBLANK('Styrning och kompetens'!D162),\"\",'Styrning och kompetens'!D162),\"\")","v":""}]
[null,{"$f":"IF('Styrning och kompetens'!B163=\"Ej aktuellt\",'Styrning och kompetens'!A163,\"\")","v":""},{"$f":"IF('Styrning och kompetens'!B163=\"Ej aktuellt\",'Styrning och kompetens'!C163,\"\")","v":""},{"$f":"IF('Styrning och kompetens'!B163=\"Ej aktuellt\",IF(ISBLANK('Styrning och kompetens'!D163),\"\",'Styrning och kompetens'!D163),\"\")","v":""}]
[null,{"$f":"IF('Styrning och kompetens'!B164=\"Ej aktuellt\",'Styrning och kompetens'!A164,\"\")","v":""},{"$f":"IF('Styrning och kompetens'!B164=\"Ej aktuellt\",'Styrning och kompetens'!C164,\"\")","v":""},{"$f":"IF('Styrning och kompetens'!B164=\"Ej aktuellt\",IF(ISBLANK('Styrning och kompetens'!D164),\"\",'Styrning och kompetens'!D164),\"\")","v":""}]
[null,{"$f":"IF('Styrning och kompetens'!B165=\"Ej aktuellt\",'Styrning och kompetens'!A165,\"\")","v":""},{"$f":"IF('Styrning och kompetens'!B165=\"Ej aktuellt\",'Styrning och kompetens'!C165,\"\")","v":""},{"$f":"IF('Styrning och kompetens'!B165=\"Ej aktuellt\",IF(ISBLANK('Styrning och kompetens'!D165),\"\",'Styrning och kompetens'!D165),\"\")","v":""}]
[null,{"$f":"IF('Styrning och kompetens'!B166=\"Ej aktuellt\",'Styrning och kompetens'!A166,\"\")","v":""},{"$f":"IF('Styrning och kompetens'!B166=\"Ej aktuellt\",'Styrning och kompetens'!C166,\"\")","v":""},{"$f":"IF('Styrning och kompetens'!B166=\"Ej aktuellt\",IF(ISBLANK('Styrning och kompetens'!D166),\"\",'Styrning och kompetens'!D166),\"\")","v":""}]
[null,{"$f":"IF('Styrning och kompetens'!B167=\"Ej aktuellt\",'Styrning och kompetens'!A167,\"\")","v":""},{"$f":"IF('Styrning och kompetens'!B167=\"Ej aktuellt\",'Styrning och kompetens'!C167,\"\")","v":""},{"$f":"IF('Styrning och kompetens'!B167=\"Ej aktuellt\",IF(ISBLANK('Styrning och kompetens'!D167),\"\",'Styrning och kompetens'!D167),\"\")","v":""}]
[null,{"$f":"IF('Styrning och kompetens'!B168=\"Ej aktuellt\",'Styrning och kompetens'!A168,\"\")","v":""},{"$f":"IF('Styrning och kompetens'!B168=\"Ej aktuellt\",'Styrning och kompetens'!C168,\"\")","v":""},{"$f":"IF('Styrning och kompetens'!B168=\"Ej aktuellt\",IF(ISBLANK('Styrning och kompetens'!D168),\"\",'Styrning och kompetens'!D168),\"\")","v":""}]
[null,{"$f":"IF('Styrning och kompetens'!B169=\"Ej aktuellt\",'Styrning och kompetens'!A169,\"\")","v":""},{"$f":"IF('Styrning och kompetens'!B169=\"Ej aktuellt\",'Styrning och kompetens'!C169,\"\")","v":""},{"$f":"IF('Styrning och kompetens'!B169=\"Ej aktuellt\",IF(ISBLANK('Styrning och kompetens'!D169),\"\",'Styrning och kompetens'!D169),\"\")","v":""}]
[null,{"$f":"IF('Handläggning och uppföljning'!B4=\"Ej aktuellt\",'Handläggning och uppföljning'!A4,\"\")","v":""},{"$f":"IF('Handläggning och uppföljning'!B4=\"Ej aktuellt\",'Handläggning och uppföljning'!C4,\"\")","v":""},{"$f":"IF('Handläggning och uppföljning'!B4=\"Ej aktuellt\",IF(ISBLANK('Handläggning och uppföljning'!D4),\"\",'Handläggning och uppföljning'!D4),\"\")","v":""}]
[null,{"$f":"IF('Handläggning och uppföljning'!B5=\"Ej aktuellt\",'Handläggning och uppföljning'!A5,\"\")","v":""},{"$f":"IF('Handläggning och uppföljning'!B5=\"Ej aktuellt\",'Handläggning och uppföljning'!C5,\"\")","v":""},{"$f":"IF('Handläggning och uppföljning'!B5=\"Ej aktuellt\",IF(ISBLANK('Handläggning och uppföljning'!D5),\"\",'Handläggning och uppföljning'!D5),\"\")","v":""}]
[null,{"$f":"IF('Handläggning och uppföljning'!B6=\"Ej aktuellt\",'Handläggning och uppföljning'!A6,\"\")","v":""},{"$f":"IF('Handläggning och uppföljning'!B6=\"Ej aktuellt\",'Handläggning och uppföljning'!C6,\"\")","v":""},{"$f":"IF('Handläggning och uppföljning'!B6=\"Ej aktuellt\",IF(ISBLANK('Handläggning och uppföljning'!D6),\"\",'Handläggning och uppföljning'!D6),\"\")","v":""}]
[null,{"$f":"IF('Handläggning och uppföljning'!B7=\"Ej aktuellt\",'Handläggning och uppföljning'!A7,\"\")","v":""},{"$f":"IF('Handläggning och uppföljning'!B7=\"Ej aktuellt\",'Handläggning och uppföljning'!C7,\"\")","v":""},{"$f":"IF('Handläggning och uppföljning'!B7=\"Ej aktuellt\",IF(ISBLANK('Handläggning och uppföljning'!D7),\"\",'Handläggning och uppföljning'!D7),\"\")","v":""}]
[null,{"$f":"IF('Handläggning och uppföljning'!B8=\"Ej aktuellt\",'Handläggning och uppföljning'!A8,\"\")","v":""},{"$f":"IF('Handläggning och uppföljning'!B8=\"Ej aktuellt\",'Handläggning och uppföljning'!C8,\"\")","v":""},{"$f":"IF('Handläggning och uppföljning'!B8=\"Ej aktuellt\",IF(ISBLANK('Handläggning och uppföljning'!D8),\"\",'Handläggning och uppföljning'!D8),\"\")","v":""}]
[null,{"$f":"IF('Handläggning och uppföljning'!B9=\"Ej aktuellt\",'Handläggning och uppföljning'!A9,\"\")","v":""},{"$f":"IF('Handläggning och uppföljning'!B9=\"Ej aktuellt\",'Handläggning och uppföljning'!C9,\"\")","v":""},{"$f":"IF('Handläggning och uppföljning'!B9=\"Ej aktuellt\",IF(ISBLANK('Handläggning och uppföljning'!D9),\"\",'Handläggning och uppföljning'!D9),\"\")","v":""}]
[null,{"$f":"IF('Handläggning och uppföljning'!B10=\"Ej aktuellt\",'Handläggning och uppföljning'!A10,\"\")","v":""},{"$f":"IF('Handläggning och uppföljning'!B10=\"Ej aktuellt\",'Handläggning och uppföljning'!C10,\"\")","v":""},{"$f":"IF('Handläggning och uppföljning'!B10=\"Ej aktuellt\",IF(ISBLANK('Handläggning och uppföljning'!D10),\"\",'Handläggning och uppföljning'!D10),\"\")","v":""}]
[null,{"$f":"IF('Handläggning och uppföljning'!B11=\"Ej aktuellt\",'Handläggning och uppföljning'!A11,\"\")","v":""},{"$f":"IF('Handläggning och uppföljning'!B11=\"Ej aktuellt\",'Handläggning och uppföljning'!C11,\"\")","v":""},{"$f":"IF('Handläggning och uppföljning'!B11=\"Ej aktuellt\",IF(ISBLANK('Handläggning och uppföljning'!D11),\"\",'Handläggning och uppföljning'!D11),\"\")","v":""}]
[null,{"$f":"IF('Handläggning och uppföljning'!B12=\"Ej aktuellt\",'Handläggning och uppföljning'!A12,\"\")","v":""},{"$f":"IF('Handläggning och uppföljning'!B12=\"Ej aktuellt\",'Handläggning och uppföljning'!C12,\"\")","v":""},{"$f":"IF('Handläggning och uppföljning'!B12=\"Ej aktuellt\",IF(ISBLANK('Handläggning och uppföljning'!D12),\"\",'Handläggning och uppföljning'!D12),\"\")","v":""}]
[null,{"$f":"IF('Handläggning och uppföljning'!B13=\"Ej aktuellt\",'Handläggning och uppföljning'!A13,\"\")","v":""},{"$f":"IF('Handläggning och uppföljning'!B13=\"Ej aktuellt\",'Handläggning och uppföljning'!C13,\"\")","v":""},{"$f":"IF('Handläggning och uppföljning'!B13=\"Ej aktuellt\",IF(ISBLANK('Handläggning och uppföljning'!D13),\"\",'Handläggning och uppföljning'!D13),\"\")","v":""}]
[null,{"$f":"IF('Handläggning och uppföljning'!B14=\"Ej aktuellt\",'Handläggning och uppföljning'!A14,\"\")","v":""},{"$f":"IF('Handläggning och uppföljning'!B14=\"Ej aktuellt\",'Handläggning och uppföljning'!C14,\"\")","v":""},{"$f":"IF('Handläggning och uppföljning'!B14=\"Ej aktuellt\",IF(ISBLANK('Handläggning och uppföljning'!D14),\"\",'Handläggning och uppföljning'!D14),\"\")","v":""}]
[null,{"$f":"IF('Handläggning och uppföljning'!B15=\"Ej aktuellt\",'Handläggning och uppföljning'!A15,\"\")","v":""},{"$f":"IF('Handläggning och uppföljning'!B15=\"Ej aktuellt\",'Handläggning och uppföljning'!C15,\"\")","v":""},{"$f":"IF('Handläggning och uppföljning'!B15=\"Ej aktuellt\",IF(ISBLANK('Handläggning och uppföljning'!D15),\"\",'Handläggning och uppföljning'!D15),\"\")","v":""}]
[null,{"$f":"IF('Handläggning och uppföljning'!B16=\"Ej aktuellt\",'Handläggning och uppföljning'!A16,\"\")","v":""},{"$f":"IF('Handläggning och uppföljning'!B16=\"Ej aktuellt\",'Handläggning och uppföljning'!C16,\"\")","v":""},{"$f":"IF('Handläggning och uppföljning'!B16=\"Ej aktuellt\",IF(ISBLANK('Handläggning och uppföljning'!D16),\"\",'Handläggning och uppföljning'!D16),\"\")","v":""}]
[null,{"$f":"IF('Handläggning och uppföljning'!B17=\"Ej aktuellt\",'Handläggning och uppföljning'!A17,\"\")","v":""},{"$f":"IF('Handläggning och uppföljning'!B17=\"Ej aktuellt\",'Handläggning och uppföljning'!C17,\"\")","v":""},{"$f":"IF('Handläggning och uppföljning'!B17=\"Ej aktuellt\",IF(ISBLANK('Handläggning och uppföljning'!D17),\"\",'Handläggning och uppföljning'!D17),\"\")","v":""}]
[null,{"$f":"IF('Handläggning och uppföljning'!B18=\"Ej aktuellt\",'Handläggning och uppföljning'!A18,\"\")","v":""},{"$f":"IF('Handläggning och uppföljning'!B18=\"Ej aktuellt\",'Handläggning och uppföljning'!C18,\"\")","v":""},{"$f":"IF('Handläggning och uppföljning'!B18=\"Ej aktuellt\",IF(ISBLANK('Handläggning och uppföljning'!D18),\"\",'Handläggning och uppföljning'!D18),\"\")","v":""}]
[null,{"$f":"IF('Handläggning och uppföljning'!B19=\"Ej aktuellt\",'Handläggning och uppföljning'!A19,\"\")","v":""},{"$f":"IF('Handläggning och uppföljning'!B19=\"Ej aktuellt\",'Handläggning och uppföljning'!C19,\"\")","v":""},{"$f":"IF('Handläggning och uppföljning'!B19=\"Ej aktuellt\",IF(ISBLANK('Handläggning och uppföljning'!D19),\"\",'Handläggning och uppföljning'!D19),\"\")","v":""}]
[null,{"$f":"IF('Handläggning och uppföljning'!B20=\"Ej aktuellt\",'Handläggning och uppföljning'!A20,\"\")","v":""},{"$f":"IF('Handläggning och uppföljning'!B20=\"Ej aktuellt\",'Handläggning och uppföljning'!C20,\"\")","v":""},{"$f":"IF('Handläggning och uppföljning'!B20=\"Ej aktuellt\",IF(ISBLANK('Handläggning och uppföljning'!D20),\"\",'Handläggning och uppföljning'!D20),\"\")","v":""}]
[null,{"$f":"IF('Handläggning och uppföljning'!B21=\"Ej aktuellt\",'Handläggning och uppföljning'!A21,\"\")","v":""},{"$f":"IF('Handläggning och uppföljning'!B21=\"Ej aktuellt\",'Handläggning och uppföljning'!C21,\"\")","v":""},{"$f":"IF('Handläggning och uppföljning'!B21=\"Ej aktuellt\",IF(ISBLANK('Handläggning och uppföljning'!D21),\"\",'Handläggning och uppföljning'!D21),\"\")","v":""}]
[null,{"$f":"IF('Handläggning och uppföljning'!B22=\"Ej aktuellt\",'Handläggning och uppföljning'!A22,\"\")","v":""},{"$f":"IF('Handläggning och uppföljning'!B22=\"Ej aktuellt\",'Handläggning och uppföljning'!C22,\"\")","v":""},{"$f":"IF('Handläggning och uppföljning'!B22=\"Ej aktuellt\",IF(ISBLANK('Handläggning och uppföljning'!D22),\"\",'Handläggning och uppföljning'!D22),\"\")","v":""}]
[null,{"$f":"IF('Handläggning och uppföljning'!B23=\"Ej aktuellt\",'Handläggning och uppföljning'!A23,\"\")","v":""},{"$f":"IF('Handläggning och uppföljning'!B23=\"Ej aktuellt\",'Handläggning och uppföljning'!C23,\"\")","v":""},{"$f":"IF('Handläggning och uppföljning'!B23=\"Ej aktuellt\",IF(ISBLANK('Handläggning och uppföljning'!D23),\"\",'Handläggning och uppföljning'!D23),\"\")","v":""}]
[null,{"$f":"IF('Handläggning och uppföljning'!B24=\"Ej aktuellt\",'Handläggning och uppföljning'!A24,\"\")","v":""},{"$f":"IF('Handläggning och uppföljning'!B24=\"Ej aktuellt\",'Handläggning och uppföljning'!C24,\"\")","v":""},{"$f":"IF('Handläggning och uppföljning'!B24=\"Ej aktuellt\",IF(ISBLANK('Handläggning och uppföljning'!D24),\"\",'Handläggning och uppföljning'!D24),\"\")","v":""}]
[null,{"$f":"IF('Handläggning och uppföljning'!B25=\"Ej aktuellt\",'Handläggning och uppföljning'!A25,\"\")","v":""},{"$f":"IF('Handläggning och uppföljning'!B25=\"Ej aktuellt\",'Handläggning och uppföljning'!C25,\"\")","v":""},{"$f":"IF('Handläggning och uppföljning'!B25=\"Ej aktuellt\",IF(ISBLANK('Handläggning och uppföljning'!D25),\"\",'Handläggning och uppföljning'!D25),\"\")","v":""}]
[null,{"$f":"IF('Handläggning och uppföljning'!B26=\"Ej aktuellt\",'Handläggning och uppföljning'!A26,\"\")","v":""},{"$f":"IF('Handläggning och uppföljning'!B26=\"Ej aktuellt\",'Handläggning och uppföljning'!C26,\"\")","v":""},{"$f":"IF('Handläggning och uppföljning'!B26=\"Ej aktuellt\",IF(ISBLANK('Handläggning och uppföljning'!D26),\"\",'Handläggning och uppföljning'!D26),\"\")","v":""}]
[null,{"$f":"IF('Handläggning och uppföljning'!B27=\"Ej aktuellt\",'Handläggning och uppföljning'!A27,\"\")","v":""},{"$f":"IF('Handläggning och uppföljning'!B27=\"Ej aktuellt\",'Handläggning och uppföljning'!C27,\"\")","v":""},{"$f":"IF('Handläggning och uppföljning'!B27=\"Ej aktuellt\",IF(ISBLANK('Handläggning och uppföljning'!D27),\"\",'Handläggning och uppföljning'!D27),\"\")","v":""}]
[null,{"$f":"IF('Handläggning och uppföljning'!B28=\"Ej aktuellt\",'Handläggning och uppföljning'!A28,\"\")","v":""},{"$f":"IF('Handläggning och uppföljning'!B28=\"Ej aktuellt\",'Handläggning och uppföljning'!C28,\"\")","v":""},{"$f":"IF('Handläggning och uppföljning'!B28=\"Ej aktuellt\",IF(ISBLANK('Handläggning och uppföljning'!D28),\"\",'Handläggning och uppföljning'!D28),\"\")","v":""}]
[null,{"$f":"IF('Handläggning och uppföljning'!B29=\"Ej aktuellt\",'Handläggning och uppföljning'!A29,\"\")","v":""},{"$f":"IF('Handläggning och uppföljning'!B29=\"Ej aktuellt\",'Handläggning och uppföljning'!C29,\"\")","v":""},{"$f":"IF('Handläggning och uppföljning'!B29=\"Ej aktuellt\",IF(ISBLANK('Handläggning och uppföljning'!D29),\"\",'Handläggning och uppföljning'!D29),\"\")","v":""}]
[null,{"$f":"IF('Handläggning och uppföljning'!B30=\"Ej aktuellt\",'Handläggning och uppföljning'!A30,\"\")","v":""},{"$f":"IF('Handläggning och uppföljning'!B30=\"Ej aktuellt\",'Handläggning och uppföljning'!C30,\"\")","v":""},{"$f":"IF('Handläggning och uppföljning'!B30=\"Ej aktuellt\",IF(ISBLANK('Handläggning och uppföljning'!D30),\"\",'Handläggning och uppföljning'!D30),\"\")","v":""}]
[null,{"$f":"IF('Handläggning och uppföljning'!B31=\"Ej aktuellt\",'Handläggning och uppföljning'!A31,\"\")","v":""},{"$f":"IF('Handläggning och uppföljning'!B31=\"Ej aktuellt\",'Handläggning och uppföljning'!C31,\"\")","v":""},{"$f":"IF('Handläggning och uppföljning'!B31=\"Ej aktuellt\",IF(ISBLANK('Handläggning och uppföljning'!D31),\"\",'Handläggning och uppföljning'!D31),\"\")","v":""}]
[null,{"$f":"IF('Handläggning och uppföljning'!B32=\"Ej aktuellt\",'Handläggning och uppföljning'!A32,\"\")","v":""},{"$f":"IF('Handläggning och uppföljning'!B32=\"Ej aktuellt\",'Handläggning och uppföljning'!C32,\"\")","v":""},{"$f":"IF('Handläggning och uppföljning'!B32=\"Ej aktuellt\",IF(ISBLANK('Handläggning och uppföljning'!D32),\"\",'Handläggning och uppföljning'!D32),\"\")","v":""}]
[null,{"$f":"IF('Handläggning och uppföljning'!B33=\"Ej aktuellt\",'Handläggning och uppföljning'!A33,\"\")","v":""},{"$f":"IF('Handläggning och uppföljning'!B33=\"Ej aktuellt\",'Handläggning och uppföljning'!C33,\"\")","v":""},{"$f":"IF('Handläggning och uppföljning'!B33=\"Ej aktuellt\",IF(ISBLANK('Handläggning och uppföljning'!D33),\"\",'Handläggning och uppföljning'!D33),\"\")","v":""}]
[null,{"$f":"IF('Handläggning och uppföljning'!B34=\"Ej aktuellt\",'Handläggning och uppföljning'!A34,\"\")","v":""},{"$f":"IF('Handläggning och uppföljning'!B34=\"Ej aktuellt\",'Handläggning och uppföljning'!C34,\"\")","v":""},{"$f":"IF('Handläggning och uppföljning'!B34=\"Ej aktuellt\",IF(ISBLANK('Handläggning och uppföljning'!D34),\"\",'Handläggning och uppföljning'!D34),\"\")","v":""}]
[null,{"$f":"IF('Handläggning och uppföljning'!B35=\"Ej aktuellt\",'Handläggning och uppföljning'!A35,\"\")","v":""},{"$f":"IF('Handläggning och uppföljning'!B35=\"Ej aktuellt\",'Handläggning och uppföljning'!C35,\"\")","v":""},{"$f":"IF('Handläggning och uppföljning'!B35=\"Ej aktuellt\",IF(ISBLANK('Handläggning och uppföljning'!D35),\"\",'Handläggning och uppföljning'!D35),\"\")","v":""}]
[null,{"$f":"IF('Handläggning och uppföljning'!B36=\"Ej aktuellt\",'Handläggning och uppföljning'!A36,\"\")","v":""},{"$f":"IF('Handläggning och uppföljning'!B36=\"Ej aktuellt\",'Handläggning och uppföljning'!C36,\"\")","v":""},{"$f":"IF('Handläggning och uppföljning'!B36=\"Ej aktuellt\",IF(ISBLANK('Handläggning och uppföljning'!D36),\"\",'Handläggning och uppföljning'!D36),\"\")","v":""}]
[null,{"$f":"IF('Handläggning och uppföljning'!B37=\"Ej aktuellt\",'Handläggning och uppföljning'!A37,\"\")","v":""},{"$f":"IF('Handläggning och uppföljning'!B37=\"Ej aktuellt\",'Handläggning och uppföljning'!C37,\"\")","v":""},{"$f":"IF('Handläggning och uppföljning'!B37=\"Ej aktuellt\",IF(ISBLANK('Handläggning och uppföljning'!D37),\"\",'Handläggning och uppföljning'!D37),\"\")","v":""}]
[null,{"$f":"IF('Handläggning och uppföljning'!B38=\"Ej aktuellt\",'Handläggning och uppföljning'!A38,\"\")","v":""},{"$f":"IF('Handläggning och uppföljning'!B38=\"Ej aktuellt\",'Handläggning och uppföljning'!C38,\"\")","v":""},{"$f":"IF('Handläggning och uppföljning'!B38=\"Ej aktuellt\",IF(ISBLANK('Handläggning och uppföljning'!D38),\"\",'Handläggning och uppföljning'!D38),\"\")","v":""}]
[null,{"$f":"IF('Handläggning och uppföljning'!B39=\"Ej aktuellt\",'Handläggning och uppföljning'!A39,\"\")","v":""},{"$f":"IF('Handläggning och uppföljning'!B39=\"Ej aktuellt\",'Handläggning och uppföljning'!C39,\"\")","v":""},{"$f":"IF('Handläggning och uppföljning'!B39=\"Ej aktuellt\",IF(ISBLANK('Handläggning och uppföljning'!D39),\"\",'Handläggning och uppföljning'!D39),\"\")","v":""}]
[null,{"$f":"IF('Handläggning och uppföljning'!B40=\"Ej aktuellt\",'Handläggning och uppföljning'!A40,\"\")","v":""},{"$f":"IF('Handläggning och uppföljning'!B40=\"Ej aktuellt\",'Handläggning och uppföljning'!C40,\"\")","v":""},{"$f":"IF('Handläggning och uppföljning'!B40=\"Ej aktuellt\",IF(ISBLANK('Handläggning och uppföljning'!D40),\"\",'Handläggning och uppföljning'!D40),\"\")","v":""}]
[null,{"$f":"IF('Handläggning och uppföljning'!B41=\"Ej aktuellt\",'Handläggning och uppföljning'!A41,\"\")","v":""},{"$f":"IF('Handläggning och uppföljning'!B41=\"Ej aktuellt\",'Handläggning och uppföljning'!C41,\"\")","v":""},{"$f":"IF('Handläggning och uppföljning'!B41=\"Ej aktuellt\",IF(ISBLANK('Handläggning och uppföljning'!D41),\"\",'Handläggning och uppföljning'!D41),\"\")","v":""}]
[null,{"$f":"IF('Handläggning och uppföljning'!B42=\"Ej aktuellt\",'Handläggning och uppföljning'!A42,\"\")","v":""},{"$f":"IF('Handläggning och uppföljning'!B42=\"Ej aktuellt\",'Handläggning och uppföljning'!C42,\"\")","v":""},{"$f":"IF('Handläggning och uppföljning'!B42=\"Ej aktuellt\",IF(ISBLANK('Handläggning och uppföljning'!D42),\"\",'Handläggning och uppföljning'!D42),\"\")","v":""}]
[null,{"$f":"IF('Handläggning och uppföljning'!B43=\"Ej aktuellt\",'Handläggning och uppföljning'!A43,\"\")","v":""},{"$f":"IF('Handläggning och uppföljning'!B43=\"Ej aktuellt\",'Handläggning och uppföljning'!C43,\"\")","v":""},{"$f":"IF('Handläggning och uppföljning'!B43=\"Ej aktuellt\",IF(ISBLANK('Handläggning och uppföljning'!D43),\"\",'Handläggning och uppföljning'!D43),\"\")","v":""}]
[null,{"$f":"IF('Handläggning och uppföljning'!B44=\"Ej aktuellt\",'Handläggning och uppföljning'!A44,\"\")","v":""},{"$f":"IF('Handläggning och uppföljning'!B44=\"Ej aktuellt\",'Handläggning och uppföljning'!C44,\"\")","v":""},{"$f":"IF('Handläggning och uppföljning'!B44=\"Ej aktuellt\",IF(ISBLANK('Handläggning och uppföljning'!D44),\"\",'Handläggning och uppföljning'!D44),\"\")","v":""}]
[null,{"$f":"IF('Handläggning och uppföljning'!B45=\"Ej aktuellt\",'Handläggning och uppföljning'!A45,\"\")","v":""},{"$f":"IF('Handläggning och uppföljning'!B45=\"Ej aktuellt\",'Handläggning och uppföljning'!C45,\"\")","v":""},{"$f":"IF('Handläggning och uppföljning'!B45=\"Ej aktuellt\",IF(ISBLANK('Handläggning och uppföljning'!D45),\"\",'Handläggning och uppföljning'!D45),\"\")","v":""}]
[null,{"$f":"IF('Handläggning och uppföljning'!B46=\"Ej aktuellt\",'Handläggning och uppföljning'!A46,\"\")","v":""},{"$f":"IF('Handläggning och uppföljning'!B46=\"Ej aktuellt\",'Handläggning och uppföljning'!C46,\"\")","v":""},{"$f":"IF('Handläggning och uppföljning'!B46=\"Ej aktuellt\",IF(ISBLANK('Handläggning och uppföljning'!D46),\"\",'Handläggning och uppföljning'!D46),\"\")","v":""}]
[null,{"$f":"IF('Handläggning och uppföljning'!B47=\"Ej aktuellt\",'Handläggning och uppföljning'!A47,\"\")","v":""},{"$f":"IF('Handläggning och uppföljning'!B47=\"Ej aktuellt\",'Handläggning och uppföljning'!C47,\"\")","v":""},{"$f":"IF('Handläggning och uppföljning'!B47=\"Ej aktuellt\",IF(ISBLANK('Handläggning och uppföljning'!D47),\"\",'Handläggning och uppföljning'!D47),\"\")","v":""}]
[null,{"$f":"IF('Handläggning och uppföljning'!B48=\"Ej aktuellt\",'Handläggning och uppföljning'!A48,\"\")","v":""},{"$f":"IF('Handläggning och uppföljning'!B48=\"Ej aktuellt\",'Handläggning och uppföljning'!C48,\"\")","v":""},{"$f":"IF('Handläggning och uppföljning'!B48=\"Ej aktuellt\",IF(ISBLANK('Handläggning och uppföljning'!D48),\"\",'Handläggning och uppföljning'!D48),\"\")","v":""}]
[null,{"$f":"IF('Handläggning och uppföljning'!B49=\"Ej aktuellt\",'Handläggning och uppföljning'!A49,\"\")","v":""},{"$f":"IF('Handläggning och uppföljning'!B49=\"Ej aktuellt\",'Handläggning och uppföljning'!C49,\"\")","v":""},{"$f":"IF('Handläggning och uppföljning'!B49=\"Ej aktuellt\",IF(ISBLANK('Handläggning och uppföljning'!D49),\"\",'Handläggning och uppföljning'!D49),\"\")","v":""}]
[null,{"$f":"IF('Handläggning och uppföljning'!B50=\"Ej aktuellt\",'Handläggning och uppföljning'!A50,\"\")","v":""},{"$f":"IF('Handläggning och uppföljning'!B50=\"Ej aktuellt\",'Handläggning och uppföljning'!C50,\"\")","v":""},{"$f":"IF('Handläggning och uppföljning'!B50=\"Ej aktuellt\",IF(ISBLANK('Handläggning och uppföljning'!D50),\"\",'Handläggning och uppföljning'!D50),\"\")","v":""}]
[null,{"$f":"IF('Handläggning och uppföljning'!B51=\"Ej aktuellt\",'Handläggning och uppföljning'!A51,\"\")","v":""},{"$f":"IF('Handläggning och uppföljning'!B51=\"Ej aktuellt\",'Handläggning och uppföljning'!C51,\"\")","v":""},{"$f":"IF('Handläggning och uppföljning'!B51=\"Ej aktuellt\",IF(ISBLANK('Handläggning och uppföljning'!D51),\"\",'Handläggning och uppföljning'!D51),\"\")","v":""}]
[null,{"$f":"IF('Handläggning och uppföljning'!B52=\"Ej aktuellt\",'Handläggning och uppföljning'!A52,\"\")","v":""},{"$f":"IF('Handläggning och uppföljning'!B52=\"Ej aktuellt\",'Handläggning och uppföljning'!C52,\"\")","v":""},{"$f":"IF('Handläggning och uppföljning'!B52=\"Ej aktuellt\",IF(ISBLANK('Handläggning och uppföljning'!D52),\"\",'Handläggning och uppföljning'!D52),\"\")","v":""}]
[null,{"$f":"IF('Handläggning och uppföljning'!B53=\"Ej aktuellt\",'Handläggning och uppföljning'!A53,\"\")","v":""},{"$f":"IF('Handläggning och uppföljning'!B53=\"Ej aktuellt\",'Handläggning och uppföljning'!C53,\"\")","v":""},{"$f":"IF('Handläggning och uppföljning'!B53=\"Ej aktuellt\",IF(ISBLANK('Handläggning och uppföljning'!D53),\"\",'Handläggning och uppföljning'!D53),\"\")","v":""}]
[null,{"$f":"IF('Handläggning och uppföljning'!B54=\"Ej aktuellt\",'Handläggning och uppföljning'!A54,\"\")","v":""},{"$f":"IF('Handläggning och uppföljning'!B54=\"Ej aktuellt\",'Handläggning och uppföljning'!C54,\"\")","v":""},{"$f":"IF('Handläggning och uppföljning'!B54=\"Ej aktuellt\",IF(ISBLANK('Handläggning och uppföljning'!D54),\"\",'Handläggning och uppföljning'!D54),\"\")","v":""}]
[null,{"$f":"IF('Handläggning och uppföljning'!B55=\"Ej aktuellt\",'Handläggning och uppföljning'!A55,\"\")","v":""},{"$f":"IF('Handläggning och uppföljning'!B55=\"Ej aktuellt\",'Handläggning och uppföljning'!C55,\"\")","v":""},{"$f":"IF('Handläggning och uppföljning'!B55=\"Ej aktuellt\",IF(ISBLANK('Handläggning och uppföljning'!D55),\"\",'Handläggning och uppföljning'!D55),\"\")","v":""}]
[null,{"$f":"IF('Handläggning och uppföljning'!B56=\"Ej aktuellt\",'Handläggning och uppföljning'!A56,\"\")","v":""},{"$f":"IF('Handläggning och uppföljning'!B56=\"Ej aktuellt\",'Handläggning och uppföljning'!C56,\"\")","v":""},{"$f":"IF('Handläggning och uppföljning'!B56=\"Ej aktuellt\",IF(ISBLANK('Handläggning och uppföljning'!D56),\"\",'Handläggning och uppföljning'!D56),\"\")","v":""}]
[null,{"$f":"IF('Handläggning och uppföljning'!B57=\"Ej aktuellt\",'Handläggning och uppföljning'!A57,\"\")","v":""},{"$f":"IF('Handläggning och uppföljning'!B57=\"Ej aktuellt\",'Handläggning och uppföljning'!C57,\"\")","v":""},{"$f":"IF('Handläggning och uppföljning'!B57=\"Ej aktuellt\",IF(ISBLANK('Handläggning och uppföljning'!D57),\"\",'Handläggning och uppföljning'!D57),\"\")","v":""}]
[null,{"$f":"IF('Handläggning och uppföljning'!B58=\"Ej aktuellt\",'Handläggning och uppföljning'!A58,\"\")","v":""},{"$f":"IF('Handläggning och uppföljning'!B58=\"Ej aktuellt\",'Handläggning och uppföljning'!C58,\"\")","v":""},{"$f":"IF('Handläggning och uppföljning'!B58=\"Ej aktuellt\",IF(ISBLANK('Handläggning och uppföljning'!D58),\"\",'Handläggning och uppföljning'!D58),\"\")","v":""}]
[null,{"$f":"IF('Handläggning och uppföljning'!B59=\"Ej aktuellt\",'Handläggning och uppföljning'!A59,\"\")","v":""},{"$f":"IF('Handläggning och uppföljning'!B59=\"Ej aktuellt\",'Handläggning och uppföljning'!C59,\"\")","v":""},{"$f":"IF('Handläggning och uppföljning'!B59=\"Ej aktuellt\",IF(ISBLANK('Handläggning och uppföljning'!D59),\"\",'Handläggning och uppföljning'!D59),\"\")","v":""}]
[null,{"$f":"IF('Handläggning och uppföljning'!B60=\"Ej aktuellt\",'Handläggning och uppföljning'!A60,\"\")","v":""},{"$f":"IF('Handläggning och uppföljning'!B60=\"Ej aktuellt\",'Handläggning och uppföljning'!C60,\"\")","v":""},{"$f":"IF('Handläggning och uppföljning'!B60=\"Ej aktuellt\",IF(ISBLANK('Handläggning och uppföljning'!D60),\"\",'Handläggning och uppföljning'!D60),\"\")","v":""}]
[null,{"$f":"IF('Handläggning och uppföljning'!B61=\"Ej aktuellt\",'Handläggning och uppföljning'!A61,\"\")","v":""},{"$f":"IF('Handläggning och uppföljning'!B61=\"Ej aktuellt\",'Handläggning och uppföljning'!C61,\"\")","v":""},{"$f":"IF('Handläggning och uppföljning'!B61=\"Ej aktuellt\",IF(ISBLANK('Handläggning och uppföljning'!D61),\"\",'Handläggning och uppföljning'!D61),\"\")","v":""}]
[null,{"$f":"IF('Handläggning och uppföljning'!B62=\"Ej aktuellt\",'Handläggning och uppföljning'!A62,\"\")","v":""},{"$f":"IF('Handläggning och uppföljning'!B62=\"Ej aktuellt\",'Handläggning och uppföljning'!C62,\"\")","v":""},{"$f":"IF('Handläggning och uppföljning'!B62=\"Ej aktuellt\",IF(ISBLANK('Handläggning och uppföljning'!D62),\"\",'Handläggning och uppföljning'!D62),\"\")","v":""}]
[null,{"$f":"IF('Handläggning och uppföljning'!B63=\"Ej aktuellt\",'Handläggning och uppföljning'!A63,\"\")","v":""},{"$f":"IF('Handläggning och uppföljning'!B63=\"Ej aktuellt\",'Handläggning och uppföljning'!C63,\"\")","v":""},{"$f":"IF('Handläggning och uppföljning'!B63=\"Ej aktuellt\",IF(ISBLANK('Handläggning och uppföljning'!D63),\"\",'Handläggning och uppföljning'!D63),\"\")","v":""}]
[null,{"$f":"IF('Handläggning och uppföljning'!B64=\"Ej aktuellt\",'Handläggning och uppföljning'!A64,\"\")","v":""},{"$f":"IF('Handläggning och uppföljning'!B64=\"Ej aktuellt\",'Handläggning och uppföljning'!C64,\"\")","v":""},{"$f":"IF('Handläggning och uppföljning'!B64=\"Ej aktuellt\",IF(ISBLANK('Handläggning och uppföljning'!D64),\"\",'Handläggning och uppföljning'!D64),\"\")","v":""}]
[null,{"$f":"IF('Handläggning och uppföljning'!B65=\"Ej aktuellt\",'Handläggning och uppföljning'!A65,\"\")","v":""},{"$f":"IF('Handläggning och uppföljning'!B65=\"Ej aktuellt\",'Handläggning och uppföljning'!C65,\"\")","v":""},{"$f":"IF('Handläggning och uppföljning'!B65=\"Ej aktuellt\",IF(ISBLANK('Handläggning och uppföljning'!D65),\"\",'Handläggning och uppföljning'!D65),\"\")","v":""}]
[null,{"$f":"IF('Handläggning och uppföljning'!B66=\"Ej aktuellt\",'Handläggning och uppföljning'!A66,\"\")","v":""},{"$f":"IF('Handläggning och uppföljning'!B66=\"Ej aktuellt\",'Handläggning och uppföljning'!C66,\"\")","v":""},{"$f":"IF('Handläggning och uppföljning'!B66=\"Ej aktuellt\",IF(ISBLANK('Handläggning och uppföljning'!D66),\"\",'Handläggning och uppföljning'!D66),\"\")","v":""}]
[null,{"$f":"IF('Handläggning och uppföljning'!B67=\"Ej aktuellt\",'Handläggning och uppföljning'!A67,\"\")","v":""},{"$f":"IF('Handläggning och uppföljning'!B67=\"Ej aktuellt\",'Handläggning och uppföljning'!C67,\"\")","v":""},{"$f":"IF('Handläggning och uppföljning'!B67=\"Ej aktuellt\",IF(ISBLANK('Handläggning och uppföljning'!D67),\"\",'Handläggning och uppföljning'!D67),\"\")","v":""}]
[null,{"$f":"IF('Handläggning och uppföljning'!B68=\"Ej aktuellt\",'Handläggning och uppföljning'!A68,\"\")","v":""},{"$f":"IF('Handläggning och uppföljning'!B68=\"Ej aktuellt\",'Handläggning och uppföljning'!C68,\"\")","v":""},{"$f":"IF('Handläggning och uppföljning'!B68=\"Ej aktuellt\",IF(ISBLANK('Handläggning och uppföljning'!D68),\"\",'Handläggning och uppföljning'!D68),\"\")","v":""}]
[null,{"$f":"IF('Handläggning och uppföljning'!B69=\"Ej aktuellt\",'Handläggning och uppföljning'!A69,\"\")","v":""},{"$f":"IF('Handläggning och uppföljning'!B69=\"Ej aktuellt\",'Handläggning och uppföljning'!C69,\"\")","v":""},{"$f":"IF('Handläggning och uppföljning'!B69=\"Ej aktuellt\",IF(ISBLANK('Handläggning och uppföljning'!D69),\"\",'Handläggning och uppföljning'!D69),\"\")","v":""}]
[null,{"$f":"IF('Handläggning och uppföljning'!B70=\"Ej aktuellt\",'Handläggning och uppföljning'!A70,\"\")","v":""},{"$f":"IF('Handläggning och uppföljning'!B70=\"Ej aktuellt\",'Handläggning och uppföljning'!C70,\"\")","v":""},{"$f":"IF('Handläggning och uppföljning'!B70=\"Ej aktuellt\",IF(ISBLANK('Handläggning och uppföljning'!D70),\"\",'Handläggning och uppföljning'!D70),\"\")","v":""}]
[null,{"$f":"IF('Handläggning och uppföljning'!B71=\"Ej aktuellt\",'Handläggning och uppföljning'!A71,\"\")","v":""},{"$f":"IF('Handläggning och uppföljning'!B71=\"Ej aktuellt\",'Handläggning och uppföljning'!C71,\"\")","v":""},{"$f":"IF('Handläggning och uppföljning'!B71=\"Ej aktuellt\",IF(ISBLANK('Handläggning och uppföljning'!D71),\"\",'Handläggning och uppföljning'!D71),\"\")","v":""}]
[null,{"$f":"IF('Handläggning och uppföljning'!B72=\"Ej aktuellt\",'Handläggning och uppföljning'!A72,\"\")","v":""},{"$f":"IF('Handläggning och uppföljning'!B72=\"Ej aktuellt\",'Handläggning och uppföljning'!C72,\"\")","v":""},{"$f":"IF('Handläggning och uppföljning'!B72=\"Ej aktuellt\",IF(ISBLANK('Handläggning och uppföljning'!D72),\"\",'Handläggning och uppföljning'!D72),\"\")","v":""}]
[null,{"$f":"IF('Handläggning och uppföljning'!B73=\"Ej aktuellt\",'Handläggning och uppföljning'!A73,\"\")","v":""},{"$f":"IF('Handläggning och uppföljning'!B73=\"Ej aktuellt\",'Handläggning och uppföljning'!C73,\"\")","v":""},{"$f":"IF('Handläggning och uppföljning'!B73=\"Ej aktuellt\",IF(ISBLANK('Handläggning och uppföljning'!D73),\"\",'Handläggning och uppföljning'!D73),\"\")","v":""}]
[null,{"$f":"IF('Handläggning och uppföljning'!B74=\"Ej aktuellt\",'Handläggning och uppföljning'!A74,\"\")","v":""},{"$f":"IF('Handläggning och uppföljning'!B74=\"Ej aktuellt\",'Handläggning och uppföljning'!C74,\"\")","v":""},{"$f":"IF('Handläggning och uppföljning'!B74=\"Ej aktuellt\",IF(ISBLANK('Handläggning och uppföljning'!D74),\"\",'Handläggning och uppföljning'!D74),\"\")","v":""}]
[null,{"$f":"IF('Handläggning och uppföljning'!B75=\"Ej aktuellt\",'Handläggning och uppföljning'!A75,\"\")","v":""},{"$f":"IF('Handläggning och uppföljning'!B75=\"Ej aktuellt\",'Handläggning och uppföljning'!C75,\"\")","v":""},{"$f":"IF('Handläggning och uppföljning'!B75=\"Ej aktuellt\",IF(ISBLANK('Handläggning och uppföljning'!D75),\"\",'Handläggning och uppföljning'!D75),\"\")","v":""}]
[null,{"$f":"IF('Handläggning och uppföljning'!B76=\"Ej aktuellt\",'Handläggning och uppföljning'!A76,\"\")","v":""},{"$f":"IF('Handläggning och uppföljning'!B76=\"Ej aktuellt\",'Handläggning och uppföljning'!C76,\"\")","v":""},{"$f":"IF('Handläggning och uppföljning'!B76=\"Ej aktuellt\",IF(ISBLANK('Handläggning och uppföljning'!D76),\"\",'Handläggning och uppföljning'!D76),\"\")","v":""}]
[null,{"$f":"IF('Handläggning och uppföljning'!B77=\"Ej aktuellt\",'Handläggning och uppföljning'!A77,\"\")","v":""},{"$f":"IF('Handläggning och uppföljning'!B77=\"Ej aktuellt\",'Handläggning och uppföljning'!C77,\"\")","v":""},{"$f":"IF('Handläggning och uppföljning'!B77=\"Ej aktuellt\",IF(ISBLANK('Handläggning och uppföljning'!D77),\"\",'Handläggning och uppföljning'!D77),\"\")","v":""}]
[null,{"$f":"IF('Handläggning och uppföljning'!B78=\"Ej aktuellt\",'Handläggning och uppföljning'!A78,\"\")","v":""},{"$f":"IF('Handläggning och uppföljning'!B78=\"Ej aktuellt\",'Handläggning och uppföljning'!C78,\"\")","v":""},{"$f":"IF('Handläggning och uppföljning'!B78=\"Ej aktuellt\",IF(ISBLANK('Handläggning och uppföljning'!D78),\"\",'Handläggning och uppföljning'!D78),\"\")","v":""}]
[null,{"$f":"IF('Handläggning och uppföljning'!B79=\"Ej aktuellt\",'Handläggning och uppföljning'!A79,\"\")","v":""},{"$f":"IF('Handläggning och uppföljning'!B79=\"Ej aktuellt\",'Handläggning och uppföljning'!C79,\"\")","v":""},{"$f":"IF('Handläggning och uppföljning'!B79=\"Ej aktuellt\",IF(ISBLANK('Handläggning och uppföljning'!D79),\"\",'Handläggning och uppföljning'!D79),\"\")","v":""}]
[null,{"$f":"IF('Handläggning och uppföljning'!B80=\"Ej aktuellt\",'Handläggning och uppföljning'!A80,\"\")","v":""},{"$f":"IF('Handläggning och uppföljning'!B80=\"Ej aktuellt\",'Handläggning och uppföljning'!C80,\"\")","v":""},{"$f":"IF('Handläggning och uppföljning'!B80=\"Ej aktuellt\",IF(ISBLANK('Handläggning och uppföljning'!D80),\"\",'Handläggning och uppföljning'!D80),\"\")","v":""}]
[null,{"$f":"IF('Handläggning och uppföljning'!B81=\"Ej aktuellt\",'Handläggning och uppföljning'!A81,\"\")","v":""},{"$f":"IF('Handläggning och uppföljning'!B81=\"Ej aktuellt\",'Handläggning och uppföljning'!C81,\"\")","v":""},{"$f":"IF('Handläggning och uppföljning'!B81=\"Ej aktuellt\",IF(ISBLANK('Handläggning och uppföljning'!D81),\"\",'Handläggning och uppföljning'!D81),\"\")","v":""}]
[null,{"$f":"IF('Handläggning och uppföljning'!B82=\"Ej aktuellt\",'Handläggning och uppföljning'!A82,\"\")","v":""},{"$f":"IF('Handläggning och uppföljning'!B82=\"Ej aktuellt\",'Handläggning och uppföljning'!C82,\"\")","v":""},{"$f":"IF('Handläggning och uppföljning'!B82=\"Ej aktuellt\",IF(ISBLANK('Handläggning och uppföljning'!D82),\"\",'Handläggning och uppföljning'!D82),\"\")","v":""}]
[null,{"$f":"IF('Handläggning och uppföljning'!B83=\"Ej aktuellt\",'Handläggning och uppföljning'!A83,\"\")","v":""},{"$f":"IF('Handläggning och uppföljning'!B83=\"Ej aktuellt\",'Handläggning och uppföljning'!C83,\"\")","v":""},{"$f":"IF('Handläggning och uppföljning'!B83=\"Ej aktuellt\",IF(ISBLANK('Handläggning och uppföljning'!D83),\"\",'Handläggning och uppföljning'!D83),\"\")","v":""}]
[null,{"$f":"IF('Handläggning och uppföljning'!B84=\"Ej aktuellt\",'Handläggning och uppföljning'!A84,\"\")","v":""},{"$f":"IF('Handläggning och uppföljning'!B84=\"Ej aktuellt\",'Handläggning och uppföljning'!C84,\"\")","v":""},{"$f":"IF('Handläggning och uppföljning'!B84=\"Ej aktuellt\",IF(ISBLANK('Handläggning och uppföljning'!D84),\"\",'Handläggning och uppföljning'!D84),\"\")","v":""}]
[null,{"$f":"IF('Handläggning och uppföljning'!B85=\"Ej aktuellt\",'Handläggning och uppföljning'!A85,\"\")","v":""},{"$f":"IF('Handläggning och uppföljning'!B85=\"Ej aktuellt\",'Handläggning och uppföljning'!C85,\"\")","v":""},{"$f":"IF('Handläggning och uppföljning'!B85=\"Ej aktuellt\",IF(ISBLANK('Handläggning och uppföljning'!D85),\"\",'Handläggning och uppföljning'!D85),\"\")","v":""}]
[null,{"$f":"IF('Handläggning och uppföljning'!B86=\"Ej aktuellt\",'Handläggning och uppföljning'!A86,\"\")","v":""},{"$f":"IF('Handläggning och uppföljning'!B86=\"Ej aktuellt\",'Handläggning och uppföljning'!C86,\"\")","v":""},{"$f":"IF('Handläggning och uppföljning'!B86=\"Ej aktuellt\",IF(ISBLANK('Handläggning och uppföljning'!D86),\"\",'Handläggning och uppföljning'!D86),\"\")","v":""}]
[null,{"$f":"IF('Handläggning och uppföljning'!B87=\"Ej aktuellt\",'Handläggning och uppföljning'!A87,\"\")","v":""},{"$f":"IF('Handläggning och uppföljning'!B87=\"Ej aktuellt\",'Handläggning och uppföljning'!C87,\"\")","v":""},{"$f":"IF('Handläggning och uppföljning'!B87=\"Ej aktuellt\",IF(ISBLANK('Handläggning och uppföljning'!D87),\"\",'Handläggning och uppföljning'!D87),\"\")","v":""}]
[null,{"$f":"IF('Handläggning och uppföljning'!B88=\"Ej aktuellt\",'Handläggning och uppföljning'!A88,\"\")","v":""},{"$f":"IF('Handläggning och uppföljning'!B88=\"Ej aktuellt\",'Handläggning och uppföljning'!C88,\"\")","v":""},{"$f":"IF('Handläggning och uppföljning'!B88=\"Ej aktuellt\",IF(ISBLANK('Handläggning och uppföljning'!D88),\"\",'Handläggning och uppföljning'!D88),\"\")","v":""}]
[null,{"$f":"IF('Handläggning och uppföljning'!B89=\"Ej aktuellt\",'Handläggning och uppföljning'!A89,\"\")","v":""},{"$f":"IF('Handläggning och uppföljning'!B89=\"Ej aktuellt\",'Handläggning och uppföljning'!C89,\"\")","v":""},{"$f":"IF('Handläggning och uppföljning'!B89=\"Ej aktuellt\",IF(ISBLANK('Handläggning och uppföljning'!D89),\"\",'Handläggning och uppföljning'!D89),\"\")","v":""}]
[null,{"$f":"IF('Handläggning och uppföljning'!B90=\"Ej aktuellt\",'Handläggning och uppföljning'!A90,\"\")","v":""},{"$f":"IF('Handläggning och uppföljning'!B90=\"Ej aktuellt\",'Handläggning och uppföljning'!C90,\"\")","v":""},{"$f":"IF('Handläggning och uppföljning'!B90=\"Ej aktuellt\",IF(ISBLANK('Handläggning och uppföljning'!D90),\"\",'Handläggning och uppföljning'!D90),\"\")","v":""}]
[null,{"$f":"IF('Handläggning och uppföljning'!B91=\"Ej aktuellt\",'Handläggning och uppföljning'!A91,\"\")","v":""},{"$f":"IF('Handläggning och uppföljning'!B91=\"Ej aktuellt\",'Handläggning och uppföljning'!C91,\"\")","v":""},{"$f":"IF('Handläggning och uppföljning'!B91=\"Ej aktuellt\",IF(ISBLANK('Handläggning och uppföljning'!D91),\"\",'Handläggning och uppföljning'!D91),\"\")","v":""}]
[null,{"$f":"IF('Handläggning och uppföljning'!B92=\"Ej aktuellt\",'Handläggning och uppföljning'!A92,\"\")","v":""},{"$f":"IF('Handläggning och uppföljning'!B92=\"Ej aktuellt\",'Handläggning och uppföljning'!C92,\"\")","v":""},{"$f":"IF('Handläggning och uppföljning'!B92=\"Ej aktuellt\",IF(ISBLANK('Handläggning och uppföljning'!D92),\"\",'Handläggning och uppföljning'!D92),\"\")","v":""}]
[null,{"$f":"IF('Handläggning och uppföljning'!B93=\"Ej aktuellt\",'Handläggning och uppföljning'!A93,\"\")","v":""},{"$f":"IF('Handläggning och uppföljning'!B93=\"Ej aktuellt\",'Handläggning och uppföljning'!C93,\"\")","v":""},{"$f":"IF('Handläggning och uppföljning'!B93=\"Ej aktuellt\",IF(ISBLANK('Handläggning och uppföljning'!D93),\"\",'Handläggning och uppföljning'!D93),\"\")","v":""}]
[null,{"$f":"IF('Handläggning och uppföljning'!B94=\"Ej aktuellt\",'Handläggning och uppföljning'!A94,\"\")","v":""},{"$f":"IF('Handläggning och uppföljning'!B94=\"Ej aktuellt\",'Handläggning och uppföljning'!C94,\"\")","v":""},{"$f":"IF('Handläggning och uppföljning'!B94=\"Ej aktuellt\",IF(ISBLANK('Handläggning och uppföljning'!D94),\"\",'Handläggning och uppföljning'!D94),\"\")","v":""}]
[null,{"$f":"IF('Handläggning och uppföljning'!B95=\"Ej aktuellt\",'Handläggning och uppföljning'!A95,\"\")","v":""},{"$f":"IF('Handläggning och uppföljning'!B95=\"Ej aktuellt\",'Handläggning och uppföljning'!C95,\"\")","v":""},{"$f":"IF('Handläggning och uppföljning'!B95=\"Ej aktuellt\",IF(ISBLANK('Handläggning och uppföljning'!D95),\"\",'Handläggning och uppföljning'!D95),\"\")","v":""}]
[null,{"$f":"IF('Handläggning och uppföljning'!B96=\"Ej aktuellt\",'Handläggning och uppföljning'!A96,\"\")","v":""},{"$f":"IF('Handläggning och uppföljning'!B96=\"Ej aktuellt\",'Handläggning och uppföljning'!C96,\"\")","v":""},{"$f":"IF('Handläggning och uppföljning'!B96=\"Ej aktuellt\",IF(ISBLANK('Handläggning och uppföljning'!D96),\"\",'Handläggning och uppföljning'!D96),\"\")","v":""}]
[null,{"$f":"IF('Handläggning och uppföljning'!B97=\"Ej aktuellt\",'Handläggning och uppföljning'!A97,\"\")","v":""},{"$f":"IF('Handläggning och uppföljning'!B97=\"Ej aktuellt\",'Handläggning och uppföljning'!C97,\"\")","v":""},{"$f":"IF('Handläggning och uppföljning'!B97=\"Ej aktuellt\",IF(ISBLANK('Handläggning och uppföljning'!D97),\"\",'Handläggning och uppföljning'!D97),\"\")","v":""}]
[null,{"$f":"IF('Handläggning och uppföljning'!B98=\"Ej aktuellt\",'Handläggning och uppföljning'!A98,\"\")","v":""},{"$f":"IF('Handläggning och uppföljning'!B98=\"Ej aktuellt\",'Handläggning och uppföljning'!C98,\"\")","v":""},{"$f":"IF('Handläggning och uppföljning'!B98=\"Ej aktuellt\",IF(ISBLANK('Handläggning och uppföljning'!D98),\"\",'Handläggning och uppföljning'!D98),\"\")","v":""}]
[null,{"$f":"IF('Handläggning och uppföljning'!B99=\"Ej aktuellt\",'Handläggning och uppföljning'!A99,\"\")","v":""},{"$f":"IF('Handläggning och uppföljning'!B99=\"Ej aktuellt\",'Handläggning och uppföljning'!C99,\"\")","v":""},{"$f":"IF('Handläggning och uppföljning'!B99=\"Ej aktuellt\",IF(ISBLANK('Handläggning och uppföljning'!D99),\"\",'Handläggning och uppföljning'!D99),\"\")","v":""}]
[null,{"$f":"IF('Handläggning och uppföljning'!B100=\"Ej aktuellt\",'Handläggning och uppföljning'!A100,\"\")","v":""},{"$f":"IF('Handläggning och uppföljning'!B100=\"Ej aktuellt\",'Handläggning och uppföljning'!C100,\"\")","v":""},{"$f":"IF('Handläggning och uppföljning'!B100=\"Ej aktuellt\",IF(ISBLANK('Handläggning och uppföljning'!D100),\"\",'Handläggning och uppföljning'!D100),\"\")","v":""}]
[null,{"$f":"IF('Handläggning och uppföljning'!B101=\"Ej aktuellt\",'Handläggning och uppföljning'!A101,\"\")","v":""},{"$f":"IF('Handläggning och uppföljning'!B101=\"Ej aktuellt\",'Handläggning och uppföljning'!C101,\"\")","v":""},{"$f":"IF('Handläggning och uppföljning'!B101=\"Ej aktuellt\",IF(ISBLANK('Handläggning och uppföljning'!D101),\"\",'Handläggning och uppföljning'!D101),\"\")","v":""}]
[null,{"$f":"IF('Handläggning och uppföljning'!B102=\"Ej aktuellt\",'Handläggning och uppföljning'!A102,\"\")","v":""},{"$f":"IF('Handläggning och uppföljning'!B102=\"Ej aktuellt\",'Handläggning och uppföljning'!C102,\"\")","v":""},{"$f":"IF('Handläggning och uppföljning'!B102=\"Ej aktuellt\",IF(ISBLANK('Handläggning och uppföljning'!D102),\"\",'Handläggning och uppföljning'!D102),\"\")","v":""}]
[null,{"$f":"IF('Handläggning och uppföljning'!B103=\"Ej aktuellt\",'Handläggning och uppföljning'!A103,\"\")","v":""},{"$f":"IF('Handläggning och uppföljning'!B103=\"Ej aktuellt\",'Handläggning och uppföljning'!C103,\"\")","v":""},{"$f":"IF('Handläggning och uppföljning'!B103=\"Ej aktuellt\",IF(ISBLANK('Handläggning och uppföljning'!D103),\"\",'Handläggning och uppföljning'!D103),\"\")","v":""}]
[null,{"$f":"IF('Handläggning och uppföljning'!B104=\"Ej aktuellt\",'Handläggning och uppföljning'!A104,\"\")","v":""},{"$f":"IF('Handläggning och uppföljning'!B104=\"Ej aktuellt\",'Handläggning och uppföljning'!C104,\"\")","v":""},{"$f":"IF('Handläggning och uppföljning'!B104=\"Ej aktuellt\",IF(ISBLANK('Handläggning och uppföljning'!D104),\"\",'Handläggning och uppföljning'!D104),\"\")","v":""}]
[null,{"$f":"IF('Handläggning och uppföljning'!B105=\"Ej aktuellt\",'Handläggning och uppföljning'!A105,\"\")","v":""},{"$f":"IF('Handläggning och uppföljning'!B105=\"Ej aktuellt\",'Handläggning och uppföljning'!C105,\"\")","v":""},{"$f":"IF('Handläggning och uppföljning'!B105=\"Ej aktuellt\",IF(ISBLANK('Handläggning och uppföljning'!D105),\"\",'Handläggning och uppföljning'!D105),\"\")","v":""}]
[null,{"$f":"IF('Handläggning och uppföljning'!B106=\"Ej aktuellt\",'Handläggning och uppföljning'!A106,\"\")","v":""},{"$f":"IF('Handläggning och uppföljning'!B106=\"Ej aktuellt\",'Handläggning och uppföljning'!C106,\"\")","v":""},{"$f":"IF('Handläggning och uppföljning'!B106=\"Ej aktuellt\",IF(ISBLANK('Handläggning och uppföljning'!D106),\"\",'Handläggning och uppföljning'!D106),\"\")","v":""}]
[null,{"$f":"IF('Handläggning och uppföljning'!B107=\"Ej aktuellt\",'Handläggning och uppföljning'!A107,\"\")","v":""},{"$f":"IF('Handläggning och uppföljning'!B107=\"Ej aktuellt\",'Handläggning och uppföljning'!C107,\"\")","v":""},{"$f":"IF('Handläggning och uppföljning'!B107=\"Ej aktuellt\",IF(ISBLANK('Handläggning och uppföljning'!D107),\"\",'Handläggning och uppföljning'!D107),\"\")","v":""}]
[null,{"$f":"IF('Handläggning och uppföljning'!B108=\"Ej aktuellt\",'Handläggning och uppföljning'!A108,\"\")","v":""},{"$f":"IF('Handläggning och uppföljning'!B108=\"Ej aktuellt\",'Handläggning och uppföljning'!C108,\"\")","v":""},{"$f":"IF('Handläggning och uppföljning'!B108=\"Ej aktuellt\",IF(ISBLANK('Handläggning och uppföljning'!D108),\"\",'Handläggning och uppföljning'!D108),\"\")","v":""}]
[null,{"$f":"IF('Handläggning och uppföljning'!B109=\"Ej aktuellt\",'Handläggning och uppföljning'!A109,\"\")","v":""},{"$f":"IF('Handläggning och uppföljning'!B109=\"Ej aktuellt\",'Handläggning och uppföljning'!C109,\"\")","v":""},{"$f":"IF('Handläggning och uppföljning'!B109=\"Ej aktuellt\",IF(ISBLANK('Handläggning och uppföljning'!D109),\"\",'Handläggning och uppföljning'!D109),\"\")","v":""}]
[null,{"$f":"IF('Handläggning och uppföljning'!B110=\"Ej aktuellt\",'Handläggning och uppföljning'!A110,\"\")","v":""},{"$f":"IF('Handläggning och uppföljning'!B110=\"Ej aktuellt\",'Handläggning och uppföljning'!C110,\"\")","v":""},{"$f":"IF('Handläggning och uppföljning'!B110=\"Ej aktuellt\",IF(ISBLANK('Handläggning och uppföljning'!D110),\"\",'Handläggning och uppföljning'!D110),\"\")","v":""}]
[null,{"$f":"IF('Handläggning och uppföljning'!B111=\"Ej aktuellt\",'Handläggning och uppföljning'!A111,\"\")","v":""},{"$f":"IF('Handläggning och uppföljning'!B111=\"Ej aktuellt\",'Handläggning och uppföljning'!C111,\"\")","v":""},{"$f":"IF('Handläggning och uppföljning'!B111=\"Ej aktuellt\",IF(ISBLANK('Handläggning och uppföljning'!D111),\"\",'Handläggning och uppföljning'!D111),\"\")","v":""}]
[null,{"$f":"IF('Handläggning och uppföljning'!B112=\"Ej aktuellt\",'Handläggning och uppföljning'!A112,\"\")","v":""},{"$f":"IF('Handläggning och uppföljning'!B112=\"Ej aktuellt\",'Handläggning och uppföljning'!C112,\"\")","v":""},{"$f":"IF('Handläggning och uppföljning'!B112=\"Ej aktuellt\",IF(ISBLANK('Handläggning och uppföljning'!D112),\"\",'Handläggning och uppföljning'!D112),\"\")","v":""}]
[null,{"$f":"IF('Handläggning och uppföljning'!B113=\"Ej aktuellt\",'Handläggning och uppföljning'!A113,\"\")","v":""},{"$f":"IF('Handläggning och uppföljning'!B113=\"Ej aktuellt\",'Handläggning och uppföljning'!C113,\"\")","v":""},{"$f":"IF('Handläggning och uppföljning'!B113=\"Ej aktuellt\",IF(ISBLANK('Handläggning och uppföljning'!D113),\"\",'Handläggning och uppföljning'!D113),\"\")","v":""}]
[null,{"$f":"IF('Handläggning och uppföljning'!B114=\"Ej aktuellt\",'Handläggning och uppföljning'!A114,\"\")","v":""},{"$f":"IF('Handläggning och uppföljning'!B114=\"Ej aktuellt\",'Handläggning och uppföljning'!C114,\"\")","v":""},{"$f":"IF('Handläggning och uppföljning'!B114=\"Ej aktuellt\",IF(ISBLANK('Handläggning och uppföljning'!D114),\"\",'Handläggning och uppföljning'!D114),\"\")","v":""}]
[null,{"$f":"IF('Handläggning och uppföljning'!B115=\"Ej aktuellt\",'Handläggning och uppföljning'!A115,\"\")","v":""},{"$f":"IF('Handläggning och uppföljning'!B115=\"Ej aktuellt\",'Handläggning och uppföljning'!C115,\"\")","v":""},{"$f":"IF('Handläggning och uppföljning'!B115=\"Ej aktuellt\",IF(ISBLANK('Handläggning och uppföljning'!D115),\"\",'Handläggning och uppföljning'!D115),\"\")","v":""}]
[null,{"$f":"IF('Handläggning och uppföljning'!B116=\"Ej aktuellt\",'Handläggning och uppföljning'!A116,\"\")","v":""},{"$f":"IF('Handläggning och uppföljning'!B116=\"Ej aktuellt\",'Handläggning och uppföljning'!C116,\"\")","v":""},{"$f":"IF('Handläggning och uppföljning'!B116=\"Ej aktuellt\",IF(ISBLANK('Handläggning och uppföljning'!D116),\"\",'Handläggning och uppföljning'!D116),\"\")","v":""}]
[null,{"$f":"IF('Handläggning och uppföljning'!B117=\"Ej aktuellt\",'Handläggning och uppföljning'!A117,\"\")","v":""},{"$f":"IF('Handläggning och uppföljning'!B117=\"Ej aktuellt\",'Handläggning och uppföljning'!C117,\"\")","v":""},{"$f":"IF('Handläggning och uppföljning'!B117=\"Ej aktuellt\",IF(ISBLANK('Handläggning och uppföljning'!D117),\"\",'Handläggning och uppföljning'!D117),\"\")","v":""}]
[null,{"$f":"IF('Handläggning och uppföljning'!B118=\"Ej aktuellt\",'Handläggning och uppföljning'!A118,\"\")","v":""},{"$f":"IF('Handläggning och uppföljning'!B118=\"Ej aktuellt\",'Handläggning och uppföljning'!C118,\"\")","v":""},{"$f":"IF('Handläggning och uppföljning'!B118=\"Ej aktuellt\",IF(ISBLANK('Handläggning och uppföljning'!D118),\"\",'Handläggning och uppföljning'!D118),\"\")","v":""}]
[null,{"$f":"IF('Handläggning och uppföljning'!B119=\"Ej aktuellt\",'Handläggning och uppföljning'!A119,\"\")","v":""},{"$f":"IF('Handläggning och uppföljning'!B119=\"Ej aktuellt\",'Handläggning och uppföljning'!C119,\"\")","v":""},{"$f":"IF('Handläggning och uppföljning'!B119=\"Ej aktuellt\",IF(ISBLANK('Handläggning och uppföljning'!D119),\"\",'Handläggning och uppföljning'!D119),\"\")","v":""}]
[null,{"$f":"IF('Handläggning och uppföljning'!B120=\"Ej aktuellt\",'Handläggning och uppföljning'!A120,\"\")","v":""},{"$f":"IF('Handläggning och uppföljning'!B120=\"Ej aktuellt\",'Handläggning och uppföljning'!C120,\"\")","v":""},{"$f":"IF('Handläggning och uppföljning'!B120=\"Ej aktuellt\",IF(ISBLANK('Handläggning och uppföljning'!D120),\"\",'Handläggning och uppföljning'!D120),\"\")","v":""}]
[null,{"$f":"IF('Handläggning och uppföljning'!B121=\"Ej aktuellt\",'Handläggning och uppföljning'!A121,\"\")","v":""},{"$f":"IF('Handläggning och uppföljning'!B121=\"Ej aktuellt\",'Handläggning och uppföljning'!C121,\"\")","v":""},{"$f":"IF('Handläggning och uppföljning'!B121=\"Ej aktuellt\",IF(ISBLANK('Handläggning och uppföljning'!D121),\"\",'Handläggning och uppföljning'!D121),\"\")","v":""}]
[null,{"$f":"IF('Handläggning och uppföljning'!B122=\"Ej aktuellt\",'Handläggning och uppföljning'!A122,\"\")","v":""},{"$f":"IF('Handläggning och uppföljning'!B122=\"Ej aktuellt\",'Handläggning och uppföljning'!C122,\"\")","v":""},{"$f":"IF('Handläggning och uppföljning'!B122=\"Ej aktuellt\",IF(ISBLANK('Handläggning och uppföljning'!D122),\"\",'Handläggning och uppföljning'!D122),\"\")","v":""}]
[null,{"$f":"IF('Handläggning och uppföljning'!B123=\"Ej aktuellt\",'Handläggning och uppföljning'!A123,\"\")","v":""},{"$f":"IF('Handläggning och uppföljning'!B123=\"Ej aktuellt\",'Handläggning och uppföljning'!C123,\"\")","v":""},{"$f":"IF('Handläggning och uppföljning'!B123=\"Ej aktuellt\",IF(ISBLANK('Handläggning och uppföljning'!D123),\"\",'Handläggning och uppföljning'!D123),\"\")","v":""}]
[null,{"$f":"IF('Handläggning och uppföljning'!B124=\"Ej aktuellt\",'Handläggning och uppföljning'!A124,\"\")","v":""},{"$f":"IF('Handläggning och uppföljning'!B124=\"Ej aktuellt\",'Handläggning och uppföljning'!C124,\"\")","v":""},{"$f":"IF('Handläggning och uppföljning'!B124=\"Ej aktuellt\",IF(ISBLANK('Handläggning och uppföljning'!D124),\"\",'Handläggning och uppföljning'!D124),\"\")","v":""}]
[null,{"$f":"IF('Handläggning och uppföljning'!B125=\"Ej aktuellt\",'Handläggning och uppföljning'!A125,\"\")","v":""},{"$f":"IF('Handläggning och uppföljning'!B125=\"Ej aktuellt\",'Handläggning och uppföljning'!C125,\"\")","v":""},{"$f":"IF('Handläggning och uppföljning'!B125=\"Ej aktuellt\",IF(ISBLANK('Handläggning och uppföljning'!D125),\"\",'Handläggning och uppföljning'!D125),\"\")","v":""}]
[null,{"$f":"IF('Handläggning och uppföljning'!B126=\"Ej aktuellt\",'Handläggning och uppföljning'!A126,\"\")","v":""},{"$f":"IF('Handläggning och uppföljning'!B126=\"Ej aktuellt\",'Handläggning och uppföljning'!C126,\"\")","v":""},{"$f":"IF('Handläggning och uppföljning'!B126=\"Ej aktuellt\",IF(ISBLANK('Handläggning och uppföljning'!D126),\"\",'Handläggning och uppföljning'!D126),\"\")","v":""}]
[null,{"$f":"IF('Handläggning och uppföljning'!B127=\"Ej aktuellt\",'Handläggning och uppföljning'!A127,\"\")","v":""},{"$f":"IF('Handläggning och uppföljning'!B127=\"Ej aktuellt\",'Handläggning och uppföljning'!C127,\"\")","v":""},{"$f":"IF('Handläggning och uppföljning'!B127=\"Ej aktuellt\",IF(ISBLANK('Handläggning och uppföljning'!D127),\"\",'Handläggning och uppföljning'!D127),\"\")","v":""}]
[null,{"$f":"IF('Handläggning och uppföljning'!B128=\"Ej aktuellt\",'Handläggning och uppföljning'!A128,\"\")","v":""},{"$f":"IF('Handläggning och uppföljning'!B128=\"Ej aktuellt\",'Handläggning och uppföljning'!C128,\"\")","v":""},{"$f":"IF('Handläggning och uppföljning'!B128=\"Ej aktuellt\",IF(ISBLANK('Handläggning och uppföljning'!D128),\"\",'Handläggning och uppföljning'!D128),\"\")","v":""}]
[null,{"$f":"IF('Handläggning och uppföljning'!B129=\"Ej aktuellt\",'Handläggning och uppföljning'!A129,\"\")","v":""},{"$f":"IF('Handläggning och uppföljning'!B129=\"Ej aktuellt\",'Handläggning och uppföljning'!C129,\"\")","v":""},{"$f":"IF('Handläggning och uppföljning'!B129=\"Ej aktuellt\",IF(ISBLANK('Handläggning och uppföljning'!D129),\"\",'Handläggning och uppföljning'!D129),\"\")","v":""}]
[null,{"$f":"IF('Handläggning och uppföljning'!B130=\"Ej aktuellt\",'Handläggning och uppföljning'!A130,\"\")","v":""},{"$f":"IF('Handläggning och uppföljning'!B130=\"Ej aktuellt\",'Handläggning och uppföljning'!C130,\"\")","v":""},{"$f":"IF('Handläggning och uppföljning'!B130=\"Ej aktuellt\",IF(ISBLANK('Handläggning och uppföljning'!D130),\"\",'Handläggning och uppföljning'!D130),\"\")","v":""}]
[null,{"$f":"IF('Handläggning och uppföljning'!B131=\"Ej aktuellt\",'Handläggning och uppföljning'!A131,\"\")","v":""},{"$f":"IF('Handläggning och uppföljning'!B131=\"Ej aktuellt\",'Handläggning och uppföljning'!C131,\"\")","v":""},{"$f":"IF('Handläggning och uppföljning'!B131=\"Ej aktuellt\",IF(ISBLANK('Handläggning och uppföljning'!D131),\"\",'Handläggning och uppföljning'!D131),\"\")","v":""}]
[null,{"$f":"IF('Handläggning och uppföljning'!B132=\"Ej aktuellt\",'Handläggning och uppföljning'!A132,\"\")","v":""},{"$f":"IF('Handläggning och uppföljning'!B132=\"Ej aktuellt\",'Handläggning och uppföljning'!C132,\"\")","v":""},{"$f":"IF('Handläggning och uppföljning'!B132=\"Ej aktuellt\",IF(ISBLANK('Handläggning och uppföljning'!D132),\"\",'Handläggning och uppföljning'!D132),\"\")","v":""}]
[null,{"$f":"IF('Handläggning och uppföljning'!B133=\"Ej aktuellt\",'Handläggning och uppföljning'!A133,\"\")","v":""},{"$f":"IF('Handläggning och uppföljning'!B133=\"Ej aktuellt\",'Handläggning och uppföljning'!C133,\"\")","v":""},{"$f":"IF('Handläggning och uppföljning'!B133=\"Ej aktuellt\",IF(ISBLANK('Handläggning och uppföljning'!D133),\"\",'Handläggning och uppföljning'!D133),\"\")","v":""}]
[null,{"$f":"IF('Handläggning och uppföljning'!B134=\"Ej aktuellt\",'Handläggning och uppföljning'!A134,\"\")","v":""},{"$f":"IF('Handläggning och uppföljning'!B134=\"Ej aktuellt\",'Handläggning och uppföljning'!C134,\"\")","v":""},{"$f":"IF('Handläggning och uppföljning'!B134=\"Ej aktuellt\",IF(ISBLANK('Handläggning och uppföljning'!D134),\"\",'Handläggning och uppföljning'!D134),\"\")","v":""}]
[null,{"$f":"IF('Handläggning och uppföljning'!B135=\"Ej aktuellt\",'Handläggning och uppföljning'!A135,\"\")","v":""},{"$f":"IF('Handläggning och uppföljning'!B135=\"Ej aktuellt\",'Handläggning och uppföljning'!C135,\"\")","v":""},{"$f":"IF('Handläggning och uppföljning'!B135=\"Ej aktuellt\",IF(ISBLANK('Handläggning och uppföljning'!D135),\"\",'Handläggning och uppföljning'!D135),\"\")","v":""}]
[null,{"$f":"IF('Handläggning och uppföljning'!B136=\"Ej aktuellt\",'Handläggning och uppföljning'!A136,\"\")","v":""},{"$f":"IF('Handläggning och uppföljning'!B136=\"Ej aktuellt\",'Handläggning och uppföljning'!C136,\"\")","v":""},{"$f":"IF('Handläggning och uppföljning'!B136=\"Ej aktuellt\",IF(ISBLANK('Handläggning och uppföljning'!D136),\"\",'Handläggning och uppföljning'!D136),\"\")","v":""}]
[null,{"$f":"IF('Handläggning och uppföljning'!B137=\"Ej aktuellt\",'Handläggning och uppföljning'!A137,\"\")","v":""},{"$f":"IF('Handläggning och uppföljning'!B137=\"Ej aktuellt\",'Handläggning och uppföljning'!C137,\"\")","v":""},{"$f":"IF('Handläggning och uppföljning'!B137=\"Ej aktuellt\",IF(ISBLANK('Handläggning och uppföljning'!D137),\"\",'Handläggning och uppföljning'!D137),\"\")","v":""}]
[null,{"$f":"IF('Handläggning och uppföljning'!B138=\"Ej aktuellt\",'Handläggning och uppföljning'!A138,\"\")","v":""},{"$f":"IF('Handläggning och uppföljning'!B138=\"Ej aktuellt\",'Handläggning och uppföljning'!C138,\"\")","v":""},{"$f":"IF('Handläggning och uppföljning'!B138=\"Ej aktuellt\",IF(ISBLANK('Handläggning och uppföljning'!D138),\"\",'Handläggning och uppföljning'!D138),\"\")","v":""}]
[null,{"$f":"IF('Handläggning och uppföljning'!B139=\"Ej aktuellt\",'Handläggning och uppföljning'!A139,\"\")","v":""},{"$f":"IF('Handläggning och uppföljning'!B139=\"Ej aktuellt\",'Handläggning och uppföljning'!C139,\"\")","v":""},{"$f":"IF('Handläggning och uppföljning'!B139=\"Ej aktuellt\",IF(ISBLANK('Handläggning och uppföljning'!D139),\"\",'Handläggning och uppföljning'!D139),\"\")","v":""}]
[null,{"$f":"IF('Handläggning och uppföljning'!B140=\"Ej aktuellt\",'Handläggning och uppföljning'!A140,\"\")","v":""},{"$f":"IF('Handläggning och uppföljning'!B140=\"Ej aktuellt\",'Handläggning och uppföljning'!C140,\"\")","v":""},{"$f":"IF('Handläggning och uppföljning'!B140=\"Ej aktuellt\",IF(ISBLANK('Handläggning och uppföljning'!D140),\"\",'Handläggning och uppföljning'!D140),\"\")","v":""}]
[null,{"$f":"IF('Handläggning och uppföljning'!B141=\"Ej aktuellt\",'Handläggning och uppföljning'!A141,\"\")","v":""},{"$f":"IF('Handläggning och uppföljning'!B141=\"Ej aktuellt\",'Handläggning och uppföljning'!C141,\"\")","v":""},{"$f":"IF('Handläggning och uppföljning'!B141=\"Ej aktuellt\",IF(ISBLANK('Handläggning och uppföljning'!D141),\"\",'Handläggning och uppföljning'!D141),\"\")","v":""}]
[null,{"$f":"IF('Handläggning och uppföljning'!B142=\"Ej aktuellt\",'Handläggning och uppföljning'!A142,\"\")","v":""},{"$f":"IF('Handläggning och uppföljning'!B142=\"Ej aktuellt\",'Handläggning och uppföljning'!C142,\"\")","v":""},{"$f":"IF('Handläggning och uppföljning'!B142=\"Ej aktuellt\",IF(ISBLANK('Handläggning och uppföljning'!D142),\"\",'Handläggning och uppföljning'!D142),\"\")","v":""}]
[null,{"$f":"IF('Handläggning och uppföljning'!B143=\"Ej aktuellt\",'Handläggning och uppföljning'!A143,\"\")","v":""},{"$f":"IF('Handläggning och uppföljning'!B143=\"Ej aktuellt\",'Handläggning och uppföljning'!C143,\"\")","v":""},{"$f":"IF('Handläggning och uppföljning'!B143=\"Ej aktuellt\",IF(ISBLANK('Handläggning och uppföljning'!D143),\"\",'Handläggning och uppföljning'!D143),\"\")","v":""}]
[null,{"$f":"IF('Handläggning och uppföljning'!B144=\"Ej aktuellt\",'Handläggning och uppföljning'!A144,\"\")","v":""},{"$f":"IF('Handläggning och uppföljning'!B144=\"Ej aktuellt\",'Handläggning och uppföljning'!C144,\"\")","v":""},{"$f":"IF('Handläggning och uppföljning'!B144=\"Ej aktuellt\",IF(ISBLANK('Handläggning och uppföljning'!D144),\"\",'Handläggning och uppföljning'!D144),\"\")","v":""}]
[null,{"$f":"IF('Handläggning och uppföljning'!B145=\"Ej aktuellt\",'Handläggning och uppföljning'!A145,\"\")","v":""},{"$f":"IF('Handläggning och uppföljning'!B145=\"Ej aktuellt\",'Handläggning och uppföljning'!C145,\"\")","v":""},{"$f":"IF('Handläggning och uppföljning'!B145=\"Ej aktuellt\",IF(ISBLANK('Handläggning och uppföljning'!D145),\"\",'Handläggning och uppföljning'!D145),\"\")","v":""}]
[null,{"$f":"IF('Handläggning och uppföljning'!B146=\"Ej aktuellt\",'Handläggning och uppföljning'!A146,\"\")","v":""},{"$f":"IF('Handläggning och uppföljning'!B146=\"Ej aktuellt\",'Handläggning och uppföljning'!C146,\"\")","v":""},{"$f":"IF('Handläggning och uppföljning'!B146=\"Ej aktuellt\",IF(ISBLANK('Handläggning och uppföljning'!D146),\"\",'Handläggning och uppföljning'!D146),\"\")","v":""}]
[null,{"$f":"IF('Handläggning och uppföljning'!B147=\"Ej aktuellt\",'Handläggning och uppföljning'!A147,\"\")","v":""},{"$f":"IF('Handläggning och uppföljning'!B147=\"Ej aktuellt\",'Handläggning och uppföljning'!C147,\"\")","v":""},{"$f":"IF('Handläggning och uppföljning'!B147=\"Ej aktuellt\",IF(ISBLANK('Handläggning och uppföljning'!D147),\"\",'Handläggning och uppföljning'!D147),\"\")","v":""}]
[null,{"$f":"IF('Handläggning och uppföljning'!B148=\"Ej aktuellt\",'Handläggning och uppföljning'!A148,\"\")","v":""},{"$f":"IF('Handläggning och uppföljning'!B148=\"Ej aktuellt\",'Handläggning och uppföljning'!C148,\"\")","v":""},{"$f":"IF('Handläggning och uppföljning'!B148=\"Ej aktuellt\",IF(ISBLANK('Handläggning och uppföljning'!D148),\"\",'Handläggning och uppföljning'!D148),\"\")","v":""}]
[null,{"$f":"IF('Handläggning och uppföljning'!B149=\"Ej aktuellt\",'Handläggning och uppföljning'!A149,\"\")","v":""},{"$f":"IF('Handläggning och uppföljning'!B149=\"Ej aktuellt\",'Handläggning och uppföljning'!C149,\"\")","v":""},{"$f":"IF('Handläggning och uppföljning'!B149=\"Ej aktuellt\",IF(ISBLANK('Handläggning och uppföljning'!D149),\"\",'Handläggning och uppföljning'!D149),\"\")","v":""}]
[null,{"$f":"IF('Handläggning och uppföljning'!B150=\"Ej aktuellt\",'Handläggning och uppföljning'!A150,\"\")","v":""},{"$f":"IF('Handläggning och uppföljning'!B150=\"Ej aktuellt\",'Handläggning och uppföljning'!C150,\"\")","v":""},{"$f":"IF('Handläggning och uppföljning'!B150=\"Ej aktuellt\",IF(ISBLANK('Handläggning och uppföljning'!D150),\"\",'Handläggning och uppföljning'!D150),\"\")","v":""}]
[null,{"$f":"IF('Handläggning och uppföljning'!B151=\"Ej aktuellt\",'Handläggning och uppföljning'!A151,\"\")","v":""},{"$f":"IF('Handläggning och uppföljning'!B151=\"Ej aktuellt\",'Handläggning och uppföljning'!C151,\"\")","v":""},{"$f":"IF('Handläggning och uppföljning'!B151=\"Ej aktuellt\",IF(ISBLANK('Handläggning och uppföljning'!D151),\"\",'Handläggning och uppföljning'!D151),\"\")","v":""}]
[null,{"$f":"IF('Handläggning och uppföljning'!B152=\"Ej aktuellt\",'Handläggning och uppföljning'!A152,\"\")","v":""},{"$f":"IF('Handläggning och uppföljning'!B152=\"Ej aktuellt\",'Handläggning och uppföljning'!C152,\"\")","v":""},{"$f":"IF('Handläggning och uppföljning'!B152=\"Ej aktuellt\",IF(ISBLANK('Handläggning och uppföljning'!D152),\"\",'Handläggning och uppföljning'!D152),\"\")","v":""}]
[null,{"$f":"IF('Handläggning och uppföljning'!B153=\"Ej aktuellt\",'Handläggning och uppföljning'!A153,\"\")","v":""},{"$f":"IF('Handläggning och uppföljning'!B153=\"Ej aktuellt\",'Handläggning och uppföljning'!C153,\"\")","v":""},{"$f":"IF('Handläggning och uppföljning'!B153=\"Ej aktuellt\",IF(ISBLANK('Handläggning och uppföljning'!D153),\"\",'Handläggning och uppföljning'!D153),\"\")","v":""}]
[null,{"$f":"IF('Handläggning och uppföljning'!B154=\"Ej aktuellt\",'Handläggning och uppföljning'!A154,\"\")","v":""},{"$f":"IF('Handläggning och uppföljning'!B154=\"Ej aktuellt\",'Handläggning och uppföljning'!C154,\"\")","v":""},{"$f":"IF('Handläggning och uppföljning'!B154=\"Ej aktuellt\",IF(ISBLANK('Handläggning och uppföljning'!D154),\"\",'Handläggning och uppföljning'!D154),\"\")","v":""}]
[null,{"$f":"IF('Handläggning och uppföljning'!B155=\"Ej aktuellt\",'Handläggning och uppföljning'!A155,\"\")","v":""},{"$f":"IF('Handläggning och uppföljning'!B155=\"Ej aktuellt\",'Handläggning och uppföljning'!C155,\"\")","v":""},{"$f":"IF('Handläggning och uppföljning'!B155=\"Ej aktuellt\",IF(ISBLANK('Handläggning och uppföljning'!D155),\"\",'Handläggning och uppföljning'!D155),\"\")","v":""}]
[null,{"$f":"IF('Handläggning och uppföljning'!B156=\"Ej aktuellt\",'Handläggning och uppföljning'!A156,\"\")","v":""},{"$f":"IF('Handläggning och uppföljning'!B156=\"Ej aktuellt\",'Handläggning och uppföljning'!C156,\"\")","v":""},{"$f":"IF('Handläggning och uppföljning'!B156=\"Ej aktuellt\",IF(ISBLANK('Handläggning och uppföljning'!D156),\"\",'Handläggning och uppföljning'!D156),\"\")","v":""}]
[null,{"$f":"IF('Handläggning och uppföljning'!B157=\"Ej aktuellt\",'Handläggning och uppföljning'!A157,\"\")","v":""},{"$f":"IF('Handläggning och uppföljning'!B157=\"Ej aktuellt\",'Handläggning och uppföljning'!C157,\"\")","v":""},{"$f":"IF('Handläggning och uppföljning'!B157=\"Ej aktuellt\",IF(ISBLANK('Handläggning och uppföljning'!D157),\"\",'Handläggning och uppföljning'!D157),\"\")","v":""}]
[null,{"$f":"IF('Handläggning och uppföljning'!B158=\"Ej aktuellt\",'Handläggning och uppföljning'!A158,\"\")","v":""},{"$f":"IF('Handläggning och uppföljning'!B158=\"Ej aktuellt\",'Handläggning och uppföljning'!C158,\"\")","v":""},{"$f":"IF('Handläggning och uppföljning'!B158=\"Ej aktuellt\",IF(ISBLANK('Handläggning och uppföljning'!D158),\"\",'Handläggning och uppföljning'!D158),\"\")","v":""}]
[null,{"$f":"IF('Handläggning och uppföljning'!B159=\"Ej aktuellt\",'Handläggning och uppföljning'!A159,\"\")","v":""},{"$f":"IF('Handläggning och uppföljning'!B159=\"Ej aktuellt\",'Handläggning och uppföljning'!C159,\"\")","v":""},{"$f":"IF('Handläggning och uppföljning'!B159=\"Ej aktuellt\",IF(ISBLANK('Handläggning och uppföljning'!D159),\"\",'Handläggning och uppföljning'!D159),\"\")","v":""}]
[null,{"$f":"IF('Handläggning och uppföljning'!B160=\"Ej aktuellt\",'Handläggning och uppföljning'!A160,\"\")","v":""},{"$f":"IF('Handläggning och uppföljning'!B160=\"Ej aktuellt\",'Handläggning och uppföljning'!C160,\"\")","v":""},{"$f":"IF('Handläggning och uppföljning'!B160=\"Ej aktuellt\",IF(ISBLANK('Handläggning och uppföljning'!D160),\"\",'Handläggning och uppföljning'!D160),\"\")","v":""}]
[null,{"$f":"IF('Handläggning och uppföljning'!B161=\"Ej aktuellt\",'Handläggning och uppföljning'!A161,\"\")","v":""},{"$f":"IF('Handläggning och uppföljning'!B161=\"Ej aktuellt\",'Handläggning och uppföljning'!C161,\"\")","v":""},{"$f":"IF('Handläggning och uppföljning'!B161=\"Ej aktuellt\",IF(ISBLANK('Handläggning och uppföljning'!D161),\"\",'Handläggning och uppföljning'!D161),\"\")","v":""}]
[null,{"$f":"IF('Handläggning och uppföljning'!B162=\"Ej aktuellt\",'Handläggning och uppföljning'!A162,\"\")","v":""},{"$f":"IF('Handläggning och uppföljning'!B162=\"Ej aktuellt\",'Handläggning och uppföljning'!C162,\"\")","v":""},{"$f":"IF('Handläggning och uppföljning'!B162=\"Ej aktuellt\",IF(ISBLANK('Handläggning och uppföljning'!D162),\"\",'Handläggning och uppföljning'!D162),\"\")","v":""}]
[null,{"$f":"IF('Handläggning och uppföljning'!B163=\"Ej aktuellt\",'Handläggning och uppföljning'!A163,\"\")","v":""},{"$f":"IF('Handläggning och uppföljning'!B163=\"Ej aktuellt\",'Handläggning och uppföljning'!C163,\"\")","v":""},{"$f":"IF('Handläggning och uppföljning'!B163=\"Ej aktuellt\",IF(ISBLANK('Handläggning och uppföljning'!D163),\"\",'Handläggning och uppföljning'!D163),\"\")","v":""}]
[null,{"$f":"IF('Handläggning och uppföljning'!B164=\"Ej aktuellt\",'Handläggning och uppföljning'!A164,\"\")","v":""},{"$f":"IF('Handläggning och uppföljning'!B164=\"Ej aktuellt\",'Handläggning och uppföljning'!C164,\"\")","v":""},{"$f":"IF('Handläggning och uppföljning'!B164=\"Ej aktuellt\",IF(ISBLANK('Handläggning och uppföljning'!D164),\"\",'Handläggning och uppföljning'!D164),\"\")","v":""}]
[null,{"$f":"IF('Handläggning och uppföljning'!B165=\"Ej aktuellt\",'Handläggning och uppföljning'!A165,\"\")","v":""},{"$f":"IF('Handläggning och uppföljning'!B165=\"Ej aktuellt\",'Handläggning och uppföljning'!C165,\"\")","v":""},{"$f":"IF('Handläggning och uppföljning'!B165=\"Ej aktuellt\",IF(ISBLANK('Handläggning och uppföljning'!D165),\"\",'Handläggning och uppföljning'!D165),\"\")","v":""}]
[null,{"$f":"IF('Handläggning och uppföljning'!B166=\"Ej aktuellt\",'Handläggning och uppföljning'!A166,\"\")","v":""},{"$f":"IF('Handläggning och uppföljning'!B166=\"Ej aktuellt\",'Handläggning och uppföljning'!C166,\"\")","v":""},{"$f":"IF('Handläggning och uppföljning'!B166=\"Ej aktuellt\",IF(ISBLANK('Handläggning och uppföljning'!D166),\"\",'Handläggning och uppföljning'!D166),\"\")","v":""}]
[null,{"$f":"IF('Handläggning och uppföljning'!B167=\"Ej aktuellt\",'Handläggning och uppföljning'!A167,\"\")","v":""},{"$f":"IF('Handläggning och uppföljning'!B167=\"Ej aktuellt\",'Handläggning och uppföljning'!C167,\"\")","v":""},{"$f":"IF('Handläggning och uppföljning'!B167=\"Ej aktuellt\",IF(ISBLANK('Handläggning och uppföljning'!D167),\"\",'Handläggning och uppföljning'!D167),\"\")","v":""}]
[null,{"$f":"IF('Handläggning och uppföljning'!B168=\"Ej aktuellt\",'Handläggning och uppföljning'!A168,\"\")","v":""},{"$f":"IF('Handläggning och uppföljning'!B168=\"Ej aktuellt\",'Handläggning och uppföljning'!C168,\"\")","v":""},{"$f":"IF('Handläggning och uppföljning'!B168=\"Ej aktuellt\",IF(ISBLANK('Handläggning och uppföljning'!D168),\"\",'Handläggning och uppföljning'!D168),\"\")","v":""}]
[null,{"$f":"IF('Handläggning och uppföljning'!B169=\"Ej aktuellt\",'Handläggning och uppföljning'!A169,\"\")","v":""},{"$f":"IF('Handläggning och uppföljning'!B169=\"Ej aktuellt\",'Handläggning och uppföljning'!C169,\"\")","v":""},{"$f":"IF('Handläggning och uppföljning'!B169=\"Ej aktuellt\",IF(ISBLANK('Handläggning och uppföljning'!D169),\"\",'Handläggning och uppföljning'!D169),\"\")","v":""}]
[null,{"$f":"IF(Insatser!B4=\"Ej aktuellt\",Insatser!A4,\"\")","v":""},{"$f":"IF(Insatser!B4=\"Ej aktuellt\",Insatser!C4,\"\")","v":""},{"$f":"IF(Insatser!B4=\"Ej aktuellt\",IF(ISBLANK(Insatser!D4),\"\",Insatser!D4),\"\")","v":""}]
[null,{"$f":"IF(Insatser!B5=\"Ej aktuellt\",Insatser!A5,\"\")","v":""},{"$f":"IF(Insatser!B5=\"Ej aktuellt\",Insatser!C5,\"\")","v":""},{"$f":"IF(Insatser!B5=\"Ej aktuellt\",IF(ISBLANK(Insatser!D5),\"\",Insatser!D5),\"\")","v":""}]
[null,{"$f":"IF(Insatser!B6=\"Ej aktuellt\",Insatser!A6,\"\")","v":""},{"$f":"IF(Insatser!B6=\"Ej aktuellt\",Insatser!C6,\"\")","v":""},{"$f":"IF(Insatser!B6=\"Ej aktuellt\",IF(ISBLANK(Insatser!D6),\"\",Insatser!D6),\"\")","v":""}]
[null,{"$f":"IF(Insatser!B7=\"Ej aktuellt\",Insatser!A7,\"\")","v":""},{"$f":"IF(Insatser!B7=\"Ej aktuellt\",Insatser!C7,\"\")","v":""},{"$f":"IF(Insatser!B7=\"Ej aktuellt\",IF(ISBLANK(Insatser!D7),\"\",Insatser!D7),\"\")","v":""}]
[null,{"$f":"IF(Insatser!B8=\"Ej aktuellt\",Insatser!A8,\"\")","v":""},{"$f":"IF(Insatser!B8=\"Ej aktuellt\",Insatser!C8,\"\")","v":""},{"$f":"IF(Insatser!B8=\"Ej aktuellt\",IF(ISBLANK(Insatser!D8),\"\",Insatser!D8),\"\")","v":""}]
[null,{"$f":"IF(Insatser!B9=\"Ej aktuellt\",Insatser!A9,\"\")","v":""},{"$f":"IF(Insatser!B9=\"Ej aktuellt\",Insatser!C9,\"\")","v":""},{"$f":"IF(Insatser!B9=\"Ej aktuellt\",IF(ISBLANK(Insatser!D9),\"\",Insatser!D9),\"\")","v":""}]
[null,{"$f":"IF(Insatser!B10=\"Ej aktuellt\",Insatser!A10,\"\")","v":""},{"$f":"IF(Insatser!B10=\"Ej aktuellt\",Insatser!C10,\"\")","v":""},{"$f":"IF(Insatser!B10=\"Ej aktuellt\",IF(ISBLANK(Insatser!D10),\"\",Insatser!D10),\"\")","v":""}]
[null,{"$f":"IF(Insatser!B11=\"Ej aktuellt\",Insatser!A11,\"\")","v":""},{"$f":"IF(Insatser!B11=\"Ej aktuellt\",Insatser!C11,\"\")","v":""},{"$f":"IF(Insatser!B11=\"Ej aktuellt\",IF(ISBLANK(Insatser!D11),\"\",Insatser!D11),\"\")","v":""}]
[null,{"$f":"IF(Insatser!B12=\"Ej aktuellt\",Insatser!A12,\"\")","v":""},{"$f":"IF(Insatser!B12=\"Ej aktuellt\",Insatser!C12,\"\")","v":""},{"$f":"IF(Insatser!B12=\"Ej aktuellt\",IF(ISBLANK(Insatser!D12),\"\",Insatser!D12),\"\")","v":""}]
[null,{"$f":"IF(Insatser!B13=\"Ej aktuellt\",Insatser!A13,\"\")","v":""},{"$f":"IF(Insatser!B13=\"Ej aktuellt\",Insatser!C13,\"\")","v":""},{"$f":"IF(Insatser!B13=\"Ej aktuellt\",IF(ISBLANK(Insatser!D13),\"\",Insatser!D13),\"\")","v":""}]
[null,{"$f":"IF(Insatser!B14=\"Ej aktuellt\",Insatser!A14,\"\")","v":""},{"$f":"IF(Insatser!B14=\"Ej aktuellt\",Insatser!C14,\"\")","v":""},{"$f":"IF(Insatser!B14=\"Ej aktuellt\",IF(ISBLANK(Insatser!D14),\"\",Insatser!D14),\"\")","v":""}]
[null,{"$f":"IF(Insatser!B15=\"Ej aktuellt\",Insatser!A15,\"\")","v":""},{"$f":"IF(Insatser!B15=\"Ej aktuellt\",Insatser!C15,\"\")","v":""},{"$f":"IF(Insatser!B15=\"Ej aktuellt\",IF(ISBLANK(Insatser!D15),\"\",Insatser!D15),\"\")","v":""}]
[null,{"$f":"IF(Insatser!B16=\"Ej aktuellt\",Insatser!A16,\"\")","v":""},{"$f":"IF(Insatser!B16=\"Ej aktuellt\",Insatser!C16,\"\")","v":""},{"$f":"IF(Insatser!B16=\"Ej aktuellt\",IF(ISBLANK(Insatser!D16),\"\",Insatser!D16),\"\")","v":""}]
[null,{"$f":"IF(Insatser!B17=\"Ej aktuellt\",Insatser!A17,\"\")","v":""},{"$f":"IF(Insatser!B17=\"Ej aktuellt\",Insatser!C17,\"\")","v":""},{"$f":"IF(Insatser!B17=\"Ej aktuellt\",IF(ISBLANK(Insatser!D17),\"\",Insatser!D17),\"\")","v":""}]
[null,{"$f":"IF(Insatser!B18=\"Ej aktuellt\",Insatser!A18,\"\")","v":""},{"$f":"IF(Insatser!B18=\"Ej aktuellt\",Insatser!C18,\"\")","v":""},{"$f":"IF(Insatser!B18=\"Ej aktuellt\",IF(ISBLANK(Insatser!D18),\"\",Insatser!D18),\"\")","v":""}]
[null,{"$f":"IF(Insatser!B19=\"Ej aktuellt\",Insatser!A19,\"\")","v":""},{"$f":"IF(Insatser!B19=\"Ej aktuellt\",Insatser!C19,\"\")","v":""},{"$f":"IF(Insatser!B19=\"Ej aktuellt\",IF(ISBLANK(Insatser!D19),\"\",Insatser!D19),\"\")","v":""}]
[null,{"$f":"IF(Insatser!B20=\"Ej aktuellt\",Insatser!A20,\"\")","v":""},{"$f":"IF(Insatser!B20=\"Ej aktuellt\",Insatser!C20,\"\")","v":""},{"$f":"IF(Insatser!B20=\"Ej aktuellt\",IF(ISBLANK(Insatser!D20),\"\",Insatser!D20),\"\")","v":""}]
[null,{"$f":"IF(Insatser!B21=\"Ej aktuellt\",Insatser!A21,\"\")","v":""},{"$f":"IF(Insatser!B21=\"Ej aktuellt\",Insatser!C21,\"\")","v":""},{"$f":"IF(Insatser!B21=\"Ej aktuellt\",IF(ISBLANK(Insatser!D21),\"\",Insatser!D21),\"\")","v":""}]
[null,{"$f":"IF(Insatser!B22=\"Ej aktuellt\",Insatser!A22,\"\")","v":""},{"$f":"IF(Insatser!B22=\"Ej aktuellt\",Insatser!C22,\"\")","v":""},{"$f":"IF(Insatser!B22=\"Ej aktuellt\",IF(ISBLANK(Insatser!D22),\"\",Insatser!D22),\"\")","v":""}]
[null,{"$f":"IF(Insatser!B23=\"Ej aktuellt\",Insatser!A23,\"\")","v":""},{"$f":"IF(Insatser!B23=\"Ej aktuellt\",Insatser!C23,\"\")","v":""},{"$f":"IF(Insatser!B23=\"Ej aktuellt\",IF(ISBLANK(Insatser!D23),\"\",Insatser!D23),\"\")","v":""}]
[null,{"$f":"IF(Insatser!B24=\"Ej aktuellt\",Insatser!A24,\"\")","v":""},{"$f":"IF(Insatser!B24=\"Ej aktuellt\",Insatser!C24,\"\")","v":""},{"$f":"IF(Insatser!B24=\"Ej aktuellt\",IF(ISBLANK(Insatser!D24),\"\",Insatser!D24),\"\")","v":""}]
[null,{"$f":"IF(Insatser!B25=\"Ej aktuellt\",Insatser!A25,\"\")","v":""},{"$f":"IF(Insatser!B25=\"Ej aktuellt\",Insatser!C25,\"\")","v":""},{"$f":"IF(Insatser!B25=\"Ej aktuellt\",IF(ISBLANK(Insatser!D25),\"\",Insatser!D25),\"\")","v":""}]
[null,{"$f":"IF(Insatser!B26=\"Ej aktuellt\",Insatser!A26,\"\")","v":""},{"$f":"IF(Insatser!B26=\"Ej aktuellt\",Insatser!C26,\"\")","v":""},{"$f":"IF(Insatser!B26=\"Ej aktuellt\",IF(ISBLANK(Insatser!D26),\"\",Insatser!D26),\"\")","v":""}]
[null,{"$f":"IF(Insatser!B27=\"Ej aktuellt\",Insatser!A27,\"\")","v":""},{"$f":"IF(Insatser!B27=\"Ej aktuellt\",Insatser!C27,\"\")","v":""},{"$f":"IF(Insatser!B27=\"Ej aktuellt\",IF(ISBLANK(Insatser!D27),\"\",Insatser!D27),\"\")","v":""}]
[null,{"$f":"IF(Insatser!B28=\"Ej aktuellt\",Insatser!A28,\"\")","v":""},{"$f":"IF(Insatser!B28=\"Ej aktuellt\",Insatser!C28,\"\")","v":""},{"$f":"IF(Insatser!B28=\"Ej aktuellt\",IF(ISBLANK(Insatser!D28),\"\",Insatser!D28),\"\")","v":""}]
[null,{"$f":"IF(Insatser!B29=\"Ej aktuellt\",Insatser!A29,\"\")","v":""},{"$f":"IF(Insatser!B29=\"Ej aktuellt\",Insatser!C29,\"\")","v":""},{"$f":"IF(Insatser!B29=\"Ej aktuellt\",IF(ISBLANK(Insatser!D29),\"\",Insatser!D29),\"\")","v":""}]
[null,{"$f":"IF(Insatser!B30=\"Ej aktuellt\",Insatser!A30,\"\")","v":""},{"$f":"IF(Insatser!B30=\"Ej aktuellt\",Insatser!C30,\"\")","v":""},{"$f":"IF(Insatser!B30=\"Ej aktuellt\",IF(ISBLANK(Insatser!D30),\"\",Insatser!D30),\"\")","v":""}]
[null,{"$f":"IF(Insatser!B31=\"Ej aktuellt\",Insatser!A31,\"\")","v":""},{"$f":"IF(Insatser!B31=\"Ej aktuellt\",Insatser!C31,\"\")","v":""},{"$f":"IF(Insatser!B31=\"Ej aktuellt\",IF(ISBLANK(Insatser!D31),\"\",Insatser!D31),\"\")","v":""}]
[null,{"$f":"IF(Insatser!B32=\"Ej aktuellt\",Insatser!A32,\"\")","v":""},{"$f":"IF(Insatser!B32=\"Ej aktuellt\",Insatser!C32,\"\")","v":""},{"$f":"IF(Insatser!B32=\"Ej aktuellt\",IF(ISBLANK(Insatser!D32),\"\",Insatser!D32),\"\")","v":""}]
[null,{"$f":"IF(Insatser!B33=\"Ej aktuellt\",Insatser!A33,\"\")","v":""},{"$f":"IF(Insatser!B33=\"Ej aktuellt\",Insatser!C33,\"\")","v":""},{"$f":"IF(Insatser!B33=\"Ej aktuellt\",IF(ISBLANK(Insatser!D33),\"\",Insatser!D33),\"\")","v":""}]
[null,{"$f":"IF(Insatser!B34=\"Ej aktuellt\",Insatser!A34,\"\")","v":""},{"$f":"IF(Insatser!B34=\"Ej aktuellt\",Insatser!C34,\"\")","v":""},{"$f":"IF(Insatser!B34=\"Ej aktuellt\",IF(ISBLANK(Insatser!D34),\"\",Insatser!D34),\"\")","v":""}]
[null,{"$f":"IF(Insatser!B35=\"Ej aktuellt\",Insatser!A35,\"\")","v":""},{"$f":"IF(Insatser!B35=\"Ej aktuellt\",Insatser!C35,\"\")","v":""},{"$f":"IF(Insatser!B35=\"Ej aktuellt\",IF(ISBLANK(Insatser!D35),\"\",Insatser!D35),\"\")","v":""}]
[null,{"$f":"IF(Insatser!B36=\"Ej aktuellt\",Insatser!A36,\"\")","v":""},{"$f":"IF(Insatser!B36=\"Ej aktuellt\",Insatser!C36,\"\")","v":""},{"$f":"IF(Insatser!B36=\"Ej aktuellt\",IF(ISBLANK(Insatser!D36),\"\",Insatser!D36),\"\")","v":""}]
[null,{"$f":"IF(Insatser!B37=\"Ej aktuellt\",Insatser!A37,\"\")","v":""},{"$f":"IF(Insatser!B37=\"Ej aktuellt\",Insatser!C37,\"\")","v":""},{"$f":"IF(Insatser!B37=\"Ej aktuellt\",IF(ISBLANK(Insatser!D37),\"\",Insatser!D37),\"\")","v":""}]
[null,{"$f":"IF(Insatser!B38=\"Ej aktuellt\",Insatser!A38,\"\")","v":""},{"$f":"IF(Insatser!B38=\"Ej aktuellt\",Insatser!C38,\"\")","v":""},{"$f":"IF(Insatser!B38=\"Ej aktuellt\",IF(ISBLANK(Insatser!D38),\"\",Insatser!D38),\"\")","v":""}]
[null,{"$f":"IF(Insatser!B39=\"Ej aktuellt\",Insatser!A39,\"\")","v":""},{"$f":"IF(Insatser!B39=\"Ej aktuellt\",Insatser!C39,\"\")","v":""},{"$f":"IF(Insatser!B39=\"Ej aktuellt\",IF(ISBLANK(Insatser!D39),\"\",Insatser!D39),\"\")","v":""}]
[null,{"$f":"IF(Insatser!B40=\"Ej aktuellt\",Insatser!A40,\"\")","v":""},{"$f":"IF(Insatser!B40=\"Ej aktuellt\",Insatser!C40,\"\")","v":""},{"$f":"IF(Insatser!B40=\"Ej aktuellt\",IF(ISBLANK(Insatser!D40),\"\",Insatser!D40),\"\")","v":""}]
[null,{"$f":"IF(Insatser!B41=\"Ej aktuellt\",Insatser!A41,\"\")","v":""},{"$f":"IF(Insatser!B41=\"Ej aktuellt\",Insatser!C41,\"\")","v":""},{"$f":"IF(Insatser!B41=\"Ej aktuellt\",IF(ISBLANK(Insatser!D41),\"\",Insatser!D41),\"\")","v":""}]
[null,{"$f":"IF(Insatser!B42=\"Ej aktuellt\",Insatser!A42,\"\")","v":""},{"$f":"IF(Insatser!B42=\"Ej aktuellt\",Insatser!C42,\"\")","v":""},{"$f":"IF(Insatser!B42=\"Ej aktuellt\",IF(ISBLANK(Insatser!D42),\"\",Insatser!D42),\"\")","v":""}]
[null,{"$f":"IF(Insatser!B43=\"Ej aktuellt\",Insatser!A43,\"\")","v":""},{"$f":"IF(Insatser!B43=\"Ej aktuellt\",Insatser!C43,\"\")","v":""},{"$f":"IF(Insatser!B43=\"Ej aktuellt\",IF(ISBLANK(Insatser!D43),\"\",Insatser!D43),\"\")","v":""}]
[null,{"$f":"IF(Insatser!B44=\"Ej aktuellt\",Insatser!A44,\"\")","v":""},{"$f":"IF(Insatser!B44=\"Ej aktuellt\",Insatser!C44,\"\")","v":""},{"$f":"IF(Insatser!B44=\"Ej aktuellt\",IF(ISBLANK(Insatser!D44),\"\",Insatser!D44),\"\")","v":""}]
[null,{"$f":"IF(Insatser!B45=\"Ej aktuellt\",Insatser!A45,\"\")","v":""},{"$f":"IF(Insatser!B45=\"Ej aktuellt\",Insatser!C45,\"\")","v":""},{"$f":"IF(Insatser!B45=\"Ej aktuellt\",IF(ISBLANK(Insatser!D45),\"\",Insatser!D45),\"\")","v":""}]
[null,{"$f":"IF(Insatser!B46=\"Ej aktuellt\",Insatser!A46,\"\")","v":""},{"$f":"IF(Insatser!B46=\"Ej aktuellt\",Insatser!C46,\"\")","v":""},{"$f":"IF(Insatser!B46=\"Ej aktuellt\",IF(ISBLANK(Insatser!D46),\"\",Insatser!D46),\"\")","v":""}]
[null,{"$f":"IF(Insatser!B47=\"Ej aktuellt\",Insatser!A47,\"\")","v":""},{"$f":"IF(Insatser!B47=\"Ej aktuellt\",Insatser!C47,\"\")","v":""},{"$f":"IF(Insatser!B47=\"Ej aktuellt\",IF(ISBLANK(Insatser!D47),\"\",Insatser!D47),\"\")","v":""}]
[null,{"$f":"IF(Insatser!B48=\"Ej aktuellt\",Insatser!A48,\"\")","v":""},{"$f":"IF(Insatser!B48=\"Ej aktuellt\",Insatser!C48,\"\")","v":""},{"$f":"IF(Insatser!B48=\"Ej aktuellt\",IF(ISBLANK(Insatser!D48),\"\",Insatser!D48),\"\")","v":""}]
[null,{"$f":"IF(Insatser!B49=\"Ej aktuellt\",Insatser!A49,\"\")","v":""},{"$f":"IF(Insatser!B49=\"Ej aktuellt\",Insatser!C49,\"\")","v":""},{"$f":"IF(Insatser!B49=\"Ej aktuellt\",IF(ISBLANK(Insatser!D49),\"\",Insatser!D49),\"\")","v":""}]
[null,{"$f":"IF(Insatser!B50=\"Ej aktuellt\",Insatser!A50,\"\")","v":""},{"$f":"IF(Insatser!B50=\"Ej aktuellt\",Insatser!C50,\"\")","v":""},{"$f":"IF(Insatser!B50=\"Ej aktuellt\",IF(ISBLANK(Insatser!D50),\"\",Insatser!D50),\"\")","v":""}]
[null,{"$f":"IF(Insatser!B51=\"Ej aktuellt\",Insatser!A51,\"\")","v":""},{"$f":"IF(Insatser!B51=\"Ej aktuellt\",Insatser!C51,\"\")","v":""},{"$f":"IF(Insatser!B51=\"Ej aktuellt\",IF(ISBLANK(Insatser!D51),\"\",Insatser!D51),\"\")","v":""}]
[null,{"$f":"IF(Insatser!B52=\"Ej aktuellt\",Insatser!A52,\"\")","v":""},{"$f":"IF(Insatser!B52=\"Ej aktuellt\",Insatser!C52,\"\")","v":""},{"$f":"IF(Insatser!B52=\"Ej aktuellt\",IF(ISBLANK(Insatser!D52),\"\",Insatser!D52),\"\")","v":""}]
[null,{"$f":"IF(Insatser!B53=\"Ej aktuellt\",Insatser!A53,\"\")","v":""},{"$f":"IF(Insatser!B53=\"Ej aktuellt\",Insatser!C53,\"\")","v":""},{"$f":"IF(Insatser!B53=\"Ej aktuellt\",IF(ISBLANK(Insatser!D53),\"\",Insatser!D53),\"\")","v":""}]
[null,{"$f":"IF(Insatser!B54=\"Ej aktuellt\",Insatser!A54,\"\")","v":""},{"$f":"IF(Insatser!B54=\"Ej aktuellt\",Insatser!C54,\"\")","v":""},{"$f":"IF(Insatser!B54=\"Ej aktuellt\",IF(ISBLANK(Insatser!D54),\"\",Insatser!D54),\"\")","v":""}]
[null,{"$f":"IF(Insatser!B55=\"Ej aktuellt\",Insatser!A55,\"\")","v":""},{"$f":"IF(Insatser!B55=\"Ej aktuellt\",Insatser!C55,\"\")","v":""},{"$f":"IF(Insatser!B55=\"Ej aktuellt\",IF(ISBLANK(Insatser!D55),\"\",Insatser!D55),\"\")","v":""}]
[null,{"$f":"IF(Insatser!B56=\"Ej aktuellt\",Insatser!A56,\"\")","v":""},{"$f":"IF(Insatser!B56=\"Ej aktuellt\",Insatser!C56,\"\")","v":""},{"$f":"IF(Insatser!B56=\"Ej aktuellt\",IF(ISBLANK(Insatser!D56),\"\",Insatser!D56),\"\")","v":""}]
[null,{"$f":"IF(Insatser!B57=\"Ej aktuellt\",Insatser!A57,\"\")","v":""},{"$f":"IF(Insatser!B57=\"Ej aktuellt\",Insatser!C57,\"\")","v":""},{"$f":"IF(Insatser!B57=\"Ej aktuellt\",IF(ISBLANK(Insatser!D57),\"\",Insatser!D57),\"\")","v":""}]
[null,{"$f":"IF(Insatser!B58=\"Ej aktuellt\",Insatser!A58,\"\")","v":""},{"$f":"IF(Insatser!B58=\"Ej aktuellt\",Insatser!C58,\"\")","v":""},{"$f":"IF(Insatser!B58=\"Ej aktuellt\",IF(ISBLANK(Insatser!D58),\"\",Insatser!D58),\"\")","v":""}]
[null,{"$f":"IF(Insatser!B59=\"Ej aktuellt\",Insatser!A59,\"\")","v":""},{"$f":"IF(Insatser!B59=\"Ej aktuellt\",Insatser!C59,\"\")","v":""},{"$f":"IF(Insatser!B59=\"Ej aktuellt\",IF(ISBLANK(Insatser!D59),\"\",Insatser!D59),\"\")","v":""}]
[null,{"$f":"IF(Insatser!B60=\"Ej aktuellt\",Insatser!A60,\"\")","v":""},{"$f":"IF(Insatser!B60=\"Ej aktuellt\",Insatser!C60,\"\")","v":""},{"$f":"IF(Insatser!B60=\"Ej aktuellt\",IF(ISBLANK(Insatser!D60),\"\",Insatser!D60),\"\")","v":""}]
[null,{"$f":"IF(Insatser!B61=\"Ej aktuellt\",Insatser!A61,\"\")","v":""},{"$f":"IF(Insatser!B61=\"Ej aktuellt\",Insatser!C61,\"\")","v":""},{"$f":"IF(Insatser!B61=\"Ej aktuellt\",IF(ISBLANK(Insatser!D61),\"\",Insatser!D61),\"\")","v":""}]
[null,{"$f":"IF(Insatser!B62=\"Ej aktuellt\",Insatser!A62,\"\")","v":""},{"$f":"IF(Insatser!B62=\"Ej aktuellt\",Insatser!C62,\"\")","v":""},{"$f":"IF(Insatser!B62=\"Ej aktuellt\",IF(ISBLANK(Insatser!D62),\"\",Insatser!D62),\"\")","v":""}]
[null,{"$f":"IF(Insatser!B63=\"Ej aktuellt\",Insatser!A63,\"\")","v":""},{"$f":"IF(Insatser!B63=\"Ej aktuellt\",Insatser!C63,\"\")","v":""},{"$f":"IF(Insatser!B63=\"Ej aktuellt\",IF(ISBLANK(Insatser!D63),\"\",Insatser!D63),\"\")","v":""}]
[null,{"$f":"IF(Insatser!B64=\"Ej aktuellt\",Insatser!A64,\"\")","v":""},{"$f":"IF(Insatser!B64=\"Ej aktuellt\",Insatser!C64,\"\")","v":""},{"$f":"IF(Insatser!B64=\"Ej aktuellt\",IF(ISBLANK(Insatser!D64),\"\",Insatser!D64),\"\")","v":""}]
[null,{"$f":"IF(Insatser!B65=\"Ej aktuellt\",Insatser!A65,\"\")","v":""},{"$f":"IF(Insatser!B65=\"Ej aktuellt\",Insatser!C65,\"\")","v":""},{"$f":"IF(Insatser!B65=\"Ej aktuellt\",IF(ISBLANK(Insatser!D65),\"\",Insatser!D65),\"\")","v":""}]
[null,{"$f":"IF(Insatser!B66=\"Ej aktuellt\",Insatser!A66,\"\")","v":""},{"$f":"IF(Insatser!B66=\"Ej aktuellt\",Insatser!C66,\"\")","v":""},{"$f":"IF(Insatser!B66=\"Ej aktuellt\",IF(ISBLANK(Insatser!D66),\"\",Insatser!D66),\"\")","v":""}]
[null,{"$f":"IF(Insatser!B67=\"Ej aktuellt\",Insatser!A67,\"\")","v":""},{"$f":"IF(Insatser!B67=\"Ej aktuellt\",Insatser!C67,\"\")","v":""},{"$f":"IF(Insatser!B67=\"Ej aktuellt\",IF(ISBLANK(Insatser!D67),\"\",Insatser!D67),\"\")","v":""}]
[null,{"$f":"IF(Insatser!B68=\"Ej aktuellt\",Insatser!A68,\"\")","v":""},{"$f":"IF(Insatser!B68=\"Ej aktuellt\",Insatser!C68,\"\")","v":""},{"$f":"IF(Insatser!B68=\"Ej aktuellt\",IF(ISBLANK(Insatser!D68),\"\",Insatser!D68),\"\")","v":""}]
[null,{"$f":"IF(Insatser!B69=\"Ej aktuellt\",Insatser!A69,\"\")","v":""},{"$f":"IF(Insatser!B69=\"Ej aktuellt\",Insatser!C69,\"\")","v":""},{"$f":"IF(Insatser!B69=\"Ej aktuellt\",IF(ISBLANK(Insatser!D69),\"\",Insatser!D69),\"\")","v":""}]
[null,{"$f":"IF(Insatser!B70=\"Ej aktuellt\",Insatser!A70,\"\")","v":""},{"$f":"IF(Insatser!B70=\"Ej aktuellt\",Insatser!C70,\"\")","v":""},{"$f":"IF(Insatser!B70=\"Ej aktuellt\",IF(ISBLANK(Insatser!D70),\"\",Insatser!D70),\"\")","v":""}]
[null,{"$f":"IF(Insatser!B71=\"Ej aktuellt\",Insatser!A71,\"\")","v":""},{"$f":"IF(Insatser!B71=\"Ej aktuellt\",Insatser!C71,\"\")","v":""},{"$f":"IF(Insatser!B71=\"Ej aktuellt\",IF(ISBLANK(Insatser!D71),\"\",Insatser!D71),\"\")","v":""}]
[null,{"$f":"IF(Insatser!B72=\"Ej aktuellt\",Insatser!A72,\"\")","v":""},{"$f":"IF(Insatser!B72=\"Ej aktuellt\",Insatser!C72,\"\")","v":""},{"$f":"IF(Insatser!B72=\"Ej aktuellt\",IF(ISBLANK(Insatser!D72),\"\",Insatser!D72),\"\")","v":""}]
[null,{"$f":"IF(Insatser!B73=\"Ej aktuellt\",Insatser!A73,\"\")","v":""},{"$f":"IF(Insatser!B73=\"Ej aktuellt\",Insatser!C73,\"\")","v":""},{"$f":"IF(Insatser!B73=\"Ej aktuellt\",IF(ISBLANK(Insatser!D73),\"\",Insatser!D73),\"\")","v":""}]
[null,{"$f":"IF(Insatser!B74=\"Ej aktuellt\",Insatser!A74,\"\")","v":""},{"$f":"IF(Insatser!B74=\"Ej aktuellt\",Insatser!C74,\"\")","v":""},{"$f":"IF(Insatser!B74=\"Ej aktuellt\",IF(ISBLANK(Insatser!D74),\"\",Insatser!D74),\"\")","v":""}]
[null,{"$f":"IF(Insatser!B75=\"Ej aktuellt\",Insatser!A75,\"\")","v":""},{"$f":"IF(Insatser!B75=\"Ej aktuellt\",Insatser!C75,\"\")","v":""},{"$f":"IF(Insatser!B75=\"Ej aktuellt\",IF(ISBLANK(Insatser!D75),\"\",Insatser!D75),\"\")","v":""}]
[null,{"$f":"IF(Insatser!B76=\"Ej aktuellt\",Insatser!A76,\"\")","v":""},{"$f":"IF(Insatser!B76=\"Ej aktuellt\",Insatser!C76,\"\")","v":""},{"$f":"IF(Insatser!B76=\"Ej aktuellt\",IF(ISBLANK(Insatser!D76),\"\",Insatser!D76),\"\")","v":""}]
[null,{"$f":"IF(Insatser!B77=\"Ej aktuellt\",Insatser!A77,\"\")","v":""},{"$f":"IF(Insatser!B77=\"Ej aktuellt\",Insatser!C77,\"\")","v":""},{"$f":"IF(Insatser!B77=\"Ej aktuellt\",IF(ISBLANK(Insatser!D77),\"\",Insatser!D77),\"\")","v":""}]
[null,{"$f":"IF(Insatser!B78=\"Ej aktuellt\",Insatser!A78,\"\")","v":""},{"$f":"IF(Insatser!B78=\"Ej aktuellt\",Insatser!C78,\"\")","v":""},{"$f":"IF(Insatser!B78=\"Ej aktuellt\",IF(ISBLANK(Insatser!D78),\"\",Insatser!D78),\"\")","v":""}]
[null,{"$f":"IF(Insatser!B79=\"Ej aktuellt\",Insatser!A79,\"\")","v":""},{"$f":"IF(Insatser!B79=\"Ej aktuellt\",Insatser!C79,\"\")","v":""},{"$f":"IF(Insatser!B79=\"Ej aktuellt\",IF(ISBLANK(Insatser!D79),\"\",Insatser!D79),\"\")","v":""}]
[null,{"$f":"IF(Insatser!B80=\"Ej aktuellt\",Insatser!A80,\"\")","v":""},{"$f":"IF(Insatser!B80=\"Ej aktuellt\",Insatser!C80,\"\")","v":""},{"$f":"IF(Insatser!B80=\"Ej aktuellt\",IF(ISBLANK(Insatser!D80),\"\",Insatser!D80),\"\")","v":""}]
[null,{"$f":"IF(Insatser!B81=\"Ej aktuellt\",Insatser!A81,\"\")","v":""},{"$f":"IF(Insatser!B81=\"Ej aktuellt\",Insatser!C81,\"\")","v":""},{"$f":"IF(Insatser!B81=\"Ej aktuellt\",IF(ISBLANK(Insatser!D81),\"\",Insatser!D81),\"\")","v":""}]
[null,{"$f":"IF(Insatser!B82=\"Ej aktuellt\",Insatser!A82,\"\")","v":""},{"$f":"IF(Insatser!B82=\"Ej aktuellt\",Insatser!C82,\"\")","v":""},{"$f":"IF(Insatser!B82=\"Ej aktuellt\",IF(ISBLANK(Insatser!D82),\"\",Insatser!D82),\"\")","v":""}]
[null,{"$f":"IF(Insatser!B83=\"Ej aktuellt\",Insatser!A83,\"\")","v":""},{"$f":"IF(Insatser!B83=\"Ej aktuellt\",Insatser!C83,\"\")","v":""},{"$f":"IF(Insatser!B83=\"Ej aktuellt\",IF(ISBLANK(Insatser!D83),\"\",Insatser!D83),\"\")","v":""}]
[null,{"$f":"IF(Insatser!B84=\"Ej aktuellt\",Insatser!A84,\"\")","v":""},{"$f":"IF(Insatser!B84=\"Ej aktuellt\",Insatser!C84,\"\")","v":""},{"$f":"IF(Insatser!B84=\"Ej aktuellt\",IF(ISBLANK(Insatser!D84),\"\",Insatser!D84),\"\")","v":""}]
[null,{"$f":"IF(Insatser!B85=\"Ej aktuellt\",Insatser!A85,\"\")","v":""},{"$f":"IF(Insatser!B85=\"Ej aktuellt\",Insatser!C85,\"\")","v":""},{"$f":"IF(Insatser!B85=\"Ej aktuellt\",IF(ISBLANK(Insatser!D85),\"\",Insatser!D85),\"\")","v":""}]
[null,{"$f":"IF(Insatser!B86=\"Ej aktuellt\",Insatser!A86,\"\")","v":""},{"$f":"IF(Insatser!B86=\"Ej aktuellt\",Insatser!C86,\"\")","v":""},{"$f":"IF(Insatser!B86=\"Ej aktuellt\",IF(ISBLANK(Insatser!D86),\"\",Insatser!D86),\"\")","v":""}]
[null,{"$f":"IF(Insatser!B87=\"Ej aktuellt\",Insatser!A87,\"\")","v":""},{"$f":"IF(Insatser!B87=\"Ej aktuellt\",Insatser!C87,\"\")","v":""},{"$f":"IF(Insatser!B87=\"Ej aktuellt\",IF(ISBLANK(Insatser!D87),\"\",Insatser!D87),\"\")","v":""}]
[null,{"$f":"IF(Insatser!B88=\"Ej aktuellt\",Insatser!A88,\"\")","v":""},{"$f":"IF(Insatser!B88=\"Ej aktuellt\",Insatser!C88,\"\")","v":""},{"$f":"IF(Insatser!B88=\"Ej aktuellt\",IF(ISBLANK(Insatser!D88),\"\",Insatser!D88),\"\")","v":""}]
[null,{"$f":"IF(Insatser!B89=\"Ej aktuellt\",Insatser!A89,\"\")","v":""},{"$f":"IF(Insatser!B89=\"Ej aktuellt\",Insatser!C89,\"\")","v":""},{"$f":"IF(Insatser!B89=\"Ej aktuellt\",IF(ISBLANK(Insatser!D89),\"\",Insatser!D89),\"\")","v":""}]
[null,{"$f":"IF(Insatser!B90=\"Ej aktuellt\",Insatser!A90,\"\")","v":""},{"$f":"IF(Insatser!B90=\"Ej aktuellt\",Insatser!C90,\"\")","v":""},{"$f":"IF(Insatser!B90=\"Ej aktuellt\",IF(ISBLANK(Insatser!D90),\"\",Insatser!D90),\"\")","v":""}]
[null,{"$f":"IF(Insatser!B91=\"Ej aktuellt\",Insatser!A91,\"\")","v":""},{"$f":"IF(Insatser!B91=\"Ej aktuellt\",Insatser!C91,\"\")","v":""},{"$f":"IF(Insatser!B91=\"Ej aktuellt\",IF(ISBLANK(Insatser!D91),\"\",Insatser!D91),\"\")","v":""}]
[null,{"$f":"IF(Insatser!B92=\"Ej aktuellt\",Insatser!A92,\"\")","v":""},{"$f":"IF(Insatser!B92=\"Ej aktuellt\",Insatser!C92,\"\")","v":""},{"$f":"IF(Insatser!B92=\"Ej aktuellt\",IF(ISBLANK(Insatser!D92),\"\",Insatser!D92),\"\")","v":""}]
[null,{"$f":"IF(Insatser!B93=\"Ej aktuellt\",Insatser!A93,\"\")","v":""},{"$f":"IF(Insatser!B93=\"Ej aktuellt\",Insatser!C93,\"\")","v":""},{"$f":"IF(Insatser!B93=\"Ej aktuellt\",IF(ISBLANK(Insatser!D93),\"\",Insatser!D93),\"\")","v":""}]
[null,{"$f":"IF(Insatser!B94=\"Ej aktuellt\",Insatser!A94,\"\")","v":""},{"$f":"IF(Insatser!B94=\"Ej aktuellt\",Insatser!C94,\"\")","v":""},{"$f":"IF(Insatser!B94=\"Ej aktuellt\",IF(ISBLANK(Insatser!D94),\"\",Insatser!D94),\"\")","v":""}]
[null,{"$f":"IF(Insatser!B95=\"Ej aktuellt\",Insatser!A95,\"\")","v":""},{"$f":"IF(Insatser!B95=\"Ej aktuellt\",Insatser!C95,\"\")","v":""},{"$f":"IF(Insatser!B95=\"Ej aktuellt\",IF(ISBLANK(Insatser!D95),\"\",Insatser!D95),\"\")","v":""}]
[null,{"$f":"IF(Insatser!B96=\"Ej aktuellt\",Insatser!A96,\"\")","v":""},{"$f":"IF(Insatser!B96=\"Ej aktuellt\",Insatser!C96,\"\")","v":""},{"$f":"IF(Insatser!B96=\"Ej aktuellt\",IF(ISBLANK(Insatser!D96),\"\",Insatser!D96),\"\")","v":""}]
[null,{"$f":"IF(Insatser!B97=\"Ej aktuellt\",Insatser!A97,\"\")","v":""},{"$f":"IF(Insatser!B97=\"Ej aktuellt\",Insatser!C97,\"\")","v":""},{"$f":"IF(Insatser!B97=\"Ej aktuellt\",IF(ISBLANK(Insatser!D97),\"\",Insatser!D97),\"\")","v":""}]
[null,{"$f":"IF(Insatser!B98=\"Ej aktuellt\",Insatser!A98,\"\")","v":""},{"$f":"IF(Insatser!B98=\"Ej aktuellt\",Insatser!C98,\"\")","v":""},{"$f":"IF(Insatser!B98=\"Ej aktuellt\",IF(ISBLANK(Insatser!D98),\"\",Insatser!D98),\"\")","v":""}]
[null,{"$f":"IF(Insatser!B99=\"Ej aktuellt\",Insatser!A99,\"\")","v":""},{"$f":"IF(Insatser!B99=\"Ej aktuellt\",Insatser!C99,\"\")","v":""},{"$f":"IF(Insatser!B99=\"Ej aktuellt\",IF(ISBLANK(Insatser!D99),\"\",Insatser!D99),\"\")","v":""}]
[null,{"$f":"IF(Insatser!B100=\"Ej aktuellt\",Insatser!A100,\"\")","v":""},{"$f":"IF(Insatser!B100=\"Ej aktuellt\",Insatser!C100,\"\")","v":""},{"$f":"IF(Insatser!B100=\"Ej aktuellt\",IF(ISBLANK(Insatser!D100),\"\",Insatser!D100),\"\")","v":""}]
[null,{"$f":"IF(Insatser!B101=\"Ej aktuellt\",Insatser!A101,\"\")","v":""},{"$f":"IF(Insatser!B101=\"Ej aktuellt\",Insatser!C101,\"\")","v":""},{"$f":"IF(Insatser!B101=\"Ej aktuellt\",IF(ISBLANK(Insatser!D101),\"\",Insatser!D101),\"\")","v":""}]
[null,{"$f":"IF(Insatser!B102=\"Ej aktuellt\",Insatser!A102,\"\")","v":""},{"$f":"IF(Insatser!B102=\"Ej aktuellt\",Insatser!C102,\"\")","v":""},{"$f":"IF(Insatser!B102=\"Ej aktuellt\",IF(ISBLANK(Insatser!D102),\"\",Insatser!D102),\"\")","v":""}]
[null,{"$f":"IF(Insatser!B103=\"Ej aktuellt\",Insatser!A103,\"\")","v":""},{"$f":"IF(Insatser!B103=\"Ej aktuellt\",Insatser!C103,\"\")","v":""},{"$f":"IF(Insatser!B103=\"Ej aktuellt\",IF(ISBLANK(Insatser!D103),\"\",Insatser!D103),\"\")","v":""}]
[null,{"$f":"IF(Insatser!B104=\"Ej aktuellt\",Insatser!A104,\"\")","v":""},{"$f":"IF(Insatser!B104=\"Ej aktuellt\",Insatser!C104,\"\")","v":""},{"$f":"IF(Insatser!B104=\"Ej aktuellt\",IF(ISBLANK(Insatser!D104),\"\",Insatser!D104),\"\")","v":""}]
[null,{"$f":"IF(Insatser!B105=\"Ej aktuellt\",Insatser!A105,\"\")","v":""},{"$f":"IF(Insatser!B105=\"Ej aktuellt\",Insatser!C105,\"\")","v":""},{"$f":"IF(Insatser!B105=\"Ej aktuellt\",IF(ISBLANK(Insatser!D105),\"\",Insatser!D105),\"\")","v":""}]
[null,{"$f":"IF(Insatser!B106=\"Ej aktuellt\",Insatser!A106,\"\")","v":""},{"$f":"IF(Insatser!B106=\"Ej aktuellt\",Insatser!C106,\"\")","v":""},{"$f":"IF(Insatser!B106=\"Ej aktuellt\",IF(ISBLANK(Insatser!D106),\"\",Insatser!D106),\"\")","v":""}]
[null,{"$f":"IF(Insatser!B107=\"Ej aktuellt\",Insatser!A107,\"\")","v":""},{"$f":"IF(Insatser!B107=\"Ej aktuellt\",Insatser!C107,\"\")","v":""},{"$f":"IF(Insatser!B107=\"Ej aktuellt\",IF(ISBLANK(Insatser!D107),\"\",Insatser!D107),\"\")","v":""}]
[null,{"$f":"IF(Insatser!B108=\"Ej aktuellt\",Insatser!A108,\"\")","v":""},{"$f":"IF(Insatser!B108=\"Ej aktuellt\",Insatser!C108,\"\")","v":""},{"$f":"IF(Insatser!B108=\"Ej aktuellt\",IF(ISBLANK(Insatser!D108),\"\",Insatser!D108),\"\")","v":""}]
[null,{"$f":"IF(Insatser!B109=\"Ej aktuellt\",Insatser!A109,\"\")","v":""},{"$f":"IF(Insatser!B109=\"Ej aktuellt\",Insatser!C109,\"\")","v":""},{"$f":"IF(Insatser!B109=\"Ej aktuellt\",IF(ISBLANK(Insatser!D109),\"\",Insatser!D109),\"\")","v":""}]
[null,{"$f":"IF(Insatser!B110=\"Ej aktuellt\",Insatser!A110,\"\")","v":""},{"$f":"IF(Insatser!B110=\"Ej aktuellt\",Insatser!C110,\"\")","v":""},{"$f":"IF(Insatser!B110=\"Ej aktuellt\",IF(ISBLANK(Insatser!D110),\"\",Insatser!D110),\"\")","v":""}]
[null,{"$f":"IF(Insatser!B111=\"Ej aktuellt\",Insatser!A111,\"\")","v":""},{"$f":"IF(Insatser!B111=\"Ej aktuellt\",Insatser!C111,\"\")","v":""},{"$f":"IF(Insatser!B111=\"Ej aktuellt\",IF(ISBLANK(Insatser!D111),\"\",Insatser!D111),\"\")","v":""}]
[null,{"$f":"IF(Insatser!B112=\"Ej aktuellt\",Insatser!A112,\"\")","v":""},{"$f":"IF(Insatser!B112=\"Ej aktuellt\",Insatser!C112,\"\")","v":""},{"$f":"IF(Insatser!B112=\"Ej aktuellt\",IF(ISBLANK(Insatser!D112),\"\",Insatser!D112),\"\")","v":""}]
[null,{"$f":"IF(Insatser!B113=\"Ej aktuellt\",Insatser!A113,\"\")","v":""},{"$f":"IF(Insatser!B113=\"Ej aktuellt\",Insatser!C113,\"\")","v":""},{"$f":"IF(Insatser!B113=\"Ej aktuellt\",IF(ISBLANK(Insatser!D113),\"\",Insatser!D113),\"\")","v":""}]
[null,{"$f":"IF(Insatser!B114=\"Ej aktuellt\",Insatser!A114,\"\")","v":""},{"$f":"IF(Insatser!B114=\"Ej aktuellt\",Insatser!C114,\"\")","v":""},{"$f":"IF(Insatser!B114=\"Ej aktuellt\",IF(ISBLANK(Insatser!D114),\"\",Insatser!D114),\"\")","v":""}]
[null,{"$f":"IF(Insatser!B115=\"Ej aktuellt\",Insatser!A115,\"\")","v":""},{"$f":"IF(Insatser!B115=\"Ej aktuellt\",Insatser!C115,\"\")","v":""},{"$f":"IF(Insatser!B115=\"Ej aktuellt\",IF(ISBLANK(Insatser!D115),\"\",Insatser!D115),\"\")","v":""}]
[null,{"$f":"IF(Insatser!B116=\"Ej aktuellt\",Insatser!A116,\"\")","v":""},{"$f":"IF(Insatser!B116=\"Ej aktuellt\",Insatser!C116,\"\")","v":""},{"$f":"IF(Insatser!B116=\"Ej aktuellt\",IF(ISBLANK(Insatser!D116),\"\",Insatser!D116),\"\")","v":""}]
[null,{"$f":"IF(Insatser!B117=\"Ej aktuellt\",Insatser!A117,\"\")","v":""},{"$f":"IF(Insatser!B117=\"Ej aktuellt\",Insatser!C117,\"\")","v":""},{"$f":"IF(Insatser!B117=\"Ej aktuellt\",IF(ISBLANK(Insatser!D117),\"\",Insatser!D117),\"\")","v":""}]
[null,{"$f":"IF(Insatser!B118=\"Ej aktuellt\",Insatser!A118,\"\")","v":""},{"$f":"IF(Insatser!B118=\"Ej aktuellt\",Insatser!C118,\"\")","v":""},{"$f":"IF(Insatser!B118=\"Ej aktuellt\",IF(ISBLANK(Insatser!D118),\"\",Insatser!D118),\"\")","v":""}]
[null,{"$f":"IF(Insatser!B119=\"Ej aktuellt\",Insatser!A119,\"\")","v":""},{"$f":"IF(Insatser!B119=\"Ej aktuellt\",Insatser!C119,\"\")","v":""},{"$f":"IF(Insatser!B119=\"Ej aktuellt\",IF(ISBLANK(Insatser!D119),\"\",Insatser!D119),\"\")","v":""}]
[null,{"$f":"IF(Insatser!B120=\"Ej aktuellt\",Insatser!A120,\"\")","v":""},{"$f":"IF(Insatser!B120=\"Ej aktuellt\",Insatser!C120,\"\")","v":""},{"$f":"IF(Insatser!B120=\"Ej aktuellt\",IF(ISBLANK(Insatser!D120),\"\",Insatser!D120),\"\")","v":""}]
[null,{"$f":"IF(Insatser!B121=\"Ej aktuellt\",Insatser!A121,\"\")","v":""},{"$f":"IF(Insatser!B121=\"Ej aktuellt\",Insatser!C121,\"\")","v":""},{"$f":"IF(Insatser!B121=\"Ej aktuellt\",IF(ISBLANK(Insatser!D121),\"\",Insatser!D121),\"\")","v":""}]
[null,{"$f":"IF(Insatser!B122=\"Ej aktuellt\",Insatser!A122,\"\")","v":""},{"$f":"IF(Insatser!B122=\"Ej aktuellt\",Insatser!C122,\"\")","v":""},{"$f":"IF(Insatser!B122=\"Ej aktuellt\",IF(ISBLANK(Insatser!D122),\"\",Insatser!D122),\"\")","v":""}]
[null,{"$f":"IF(Insatser!B123=\"Ej aktuellt\",Insatser!A123,\"\")","v":""},{"$f":"IF(Insatser!B123=\"Ej aktuellt\",Insatser!C123,\"\")","v":""},{"$f":"IF(Insatser!B123=\"Ej aktuellt\",IF(ISBLANK(Insatser!D123),\"\",Insatser!D123),\"\")","v":""}]
[null,{"$f":"IF(Insatser!B124=\"Ej aktuellt\",Insatser!A124,\"\")","v":""},{"$f":"IF(Insatser!B124=\"Ej aktuellt\",Insatser!C124,\"\")","v":""},{"$f":"IF(Insatser!B124=\"Ej aktuellt\",IF(ISBLANK(Insatser!D124),\"\",Insatser!D124),\"\")","v":""}]
[null,{"$f":"IF(Insatser!B125=\"Ej aktuellt\",Insatser!A125,\"\")","v":""},{"$f":"IF(Insatser!B125=\"Ej aktuellt\",Insatser!C125,\"\")","v":""},{"$f":"IF(Insatser!B125=\"Ej aktuellt\",IF(ISBLANK(Insatser!D125),\"\",Insatser!D125),\"\")","v":""}]
[null,{"$f":"IF(Insatser!B126=\"Ej aktuellt\",Insatser!A126,\"\")","v":""},{"$f":"IF(Insatser!B126=\"Ej aktuellt\",Insatser!C126,\"\")","v":""},{"$f":"IF(Insatser!B126=\"Ej aktuellt\",IF(ISBLANK(Insatser!D126),\"\",Insatser!D126),\"\")","v":""}]
[null,{"$f":"IF(Insatser!B127=\"Ej aktuellt\",Insatser!A127,\"\")","v":""},{"$f":"IF(Insatser!B127=\"Ej aktuellt\",Insatser!C127,\"\")","v":""},{"$f":"IF(Insatser!B127=\"Ej aktuellt\",IF(ISBLANK(Insatser!D127),\"\",Insatser!D127),\"\")","v":""}]
[null,{"$f":"IF(Insatser!B128=\"Ej aktuellt\",Insatser!A128,\"\")","v":""},{"$f":"IF(Insatser!B128=\"Ej aktuellt\",Insatser!C128,\"\")","v":""},{"$f":"IF(Insatser!B128=\"Ej aktuellt\",IF(ISBLANK(Insatser!D128),\"\",Insatser!D128),\"\")","v":""}]
[null,{"$f":"IF(Insatser!B129=\"Ej aktuellt\",Insatser!A129,\"\")","v":""},{"$f":"IF(Insatser!B129=\"Ej aktuellt\",Insatser!C129,\"\")","v":""},{"$f":"IF(Insatser!B129=\"Ej aktuellt\",IF(ISBLANK(Insatser!D129),\"\",Insatser!D129),\"\")","v":""}]
[null,{"$f":"IF(Insatser!B130=\"Ej aktuellt\",Insatser!A130,\"\")","v":""},{"$f":"IF(Insatser!B130=\"Ej aktuellt\",Insatser!C130,\"\")","v":""},{"$f":"IF(Insatser!B130=\"Ej aktuellt\",IF(ISBLANK(Insatser!D130),\"\",Insatser!D130),\"\")","v":""}]
[null,{"$f":"IF(Insatser!B131=\"Ej aktuellt\",Insatser!A131,\"\")","v":""},{"$f":"IF(Insatser!B131=\"Ej aktuellt\",Insatser!C131,\"\")","v":""},{"$f":"IF(Insatser!B131=\"Ej aktuellt\",IF(ISBLANK(Insatser!D131),\"\",Insatser!D131),\"\")","v":""}]
[null,{"$f":"IF(Insatser!B132=\"Ej aktuellt\",Insatser!A132,\"\")","v":""},{"$f":"IF(Insatser!B132=\"Ej aktuellt\",Insatser!C132,\"\")","v":""},{"$f":"IF(Insatser!B132=\"Ej aktuellt\",IF(ISBLANK(Insatser!D132),\"\",Insatser!D132),\"\")","v":""}]
[null,{"$f":"IF(Insatser!B133=\"Ej aktuellt\",Insatser!A133,\"\")","v":""},{"$f":"IF(Insatser!B133=\"Ej aktuellt\",Insatser!C133,\"\")","v":""},{"$f":"IF(Insatser!B133=\"Ej aktuellt\",IF(ISBLANK(Insatser!D133),\"\",Insatser!D133),\"\")","v":""}]
[null,{"$f":"IF(Insatser!B134=\"Ej aktuellt\",Insatser!A134,\"\")","v":""},{"$f":"IF(Insatser!B134=\"Ej aktuellt\",Insatser!C134,\"\")","v":""},{"$f":"IF(Insatser!B134=\"Ej aktuellt\",IF(ISBLANK(Insatser!D134),\"\",Insatser!D134),\"\")","v":""}]
[null,{"$f":"IF(Insatser!B135=\"Ej aktuellt\",Insatser!A135,\"\")","v":""},{"$f":"IF(Insatser!B135=\"Ej aktuellt\",Insatser!C135,\"\")","v":""},{"$f":"IF(Insatser!B135=\"Ej aktuellt\",IF(ISBLANK(Insatser!D135),\"\",Insatser!D135),\"\")","v":""}]
[null,{"$f":"IF(Insatser!B136=\"Ej aktuellt\",Insatser!A136,\"\")","v":""},{"$f":"IF(Insatser!B136=\"Ej aktuellt\",Insatser!C136,\"\")","v":""},{"$f":"IF(Insatser!B136=\"Ej aktuellt\",IF(ISBLANK(Insatser!D136),\"\",Insatser!D136),\"\")","v":""}]
[null,{"$f":"IF(Insatser!B137=\"Ej aktuellt\",Insatser!A137,\"\")","v":""},{"$f":"IF(Insatser!B137=\"Ej aktuellt\",Insatser!C137,\"\")","v":""},{"$f":"IF(Insatser!B137=\"Ej aktuellt\",IF(ISBLANK(Insatser!D137),\"\",Insatser!D137),\"\")","v":""}]
[null,{"$f":"IF(Insatser!B138=\"Ej aktuellt\",Insatser!A138,\"\")","v":""},{"$f":"IF(Insatser!B138=\"Ej aktuellt\",Insatser!C138,\"\")","v":""},{"$f":"IF(Insatser!B138=\"Ej aktuellt\",IF(ISBLANK(Insatser!D138),\"\",Insatser!D138),\"\")","v":""}]
[null,{"$f":"IF(Insatser!B139=\"Ej aktuellt\",Insatser!A139,\"\")","v":""},{"$f":"IF(Insatser!B139=\"Ej aktuellt\",Insatser!C139,\"\")","v":""},{"$f":"IF(Insatser!B139=\"Ej aktuellt\",IF(ISBLANK(Insatser!D139),\"\",Insatser!D139),\"\")","v":""}]
[null,{"$f":"IF(Insatser!B140=\"Ej aktuellt\",Insatser!A140,\"\")","v":""},{"$f":"IF(Insatser!B140=\"Ej aktuellt\",Insatser!C140,\"\")","v":""},{"$f":"IF(Insatser!B140=\"Ej aktuellt\",IF(ISBLANK(Insatser!D140),\"\",Insatser!D140),\"\")","v":""}]
[null,{"$f":"IF(Insatser!B141=\"Ej aktuellt\",Insatser!A141,\"\")","v":""},{"$f":"IF(Insatser!B141=\"Ej aktuellt\",Insatser!C141,\"\")","v":""},{"$f":"IF(Insatser!B141=\"Ej aktuellt\",IF(ISBLANK(Insatser!D141),\"\",Insatser!D141),\"\")","v":""}]
[null,{"$f":"IF(Insatser!B142=\"Ej aktuellt\",Insatser!A142,\"\")","v":""},{"$f":"IF(Insatser!B142=\"Ej aktuellt\",Insatser!C142,\"\")","v":""},{"$f":"IF(Insatser!B142=\"Ej aktuellt\",IF(ISBLANK(Insatser!D142),\"\",Insatser!D142),\"\")","v":""}]
[null,{"$f":"IF(Insatser!B143=\"Ej aktuellt\",Insatser!A143,\"\")","v":""},{"$f":"IF(Insatser!B143=\"Ej aktuellt\",Insatser!C143,\"\")","v":""},{"$f":"IF(Insatser!B143=\"Ej aktuellt\",IF(ISBLANK(Insatser!D143),\"\",Insatser!D143),\"\")","v":""}]
[null,{"$f":"IF(Insatser!B144=\"Ej aktuellt\",Insatser!A144,\"\")","v":""},{"$f":"IF(Insatser!B144=\"Ej aktuellt\",Insatser!C144,\"\")","v":""},{"$f":"IF(Insatser!B144=\"Ej aktuellt\",IF(ISBLANK(Insatser!D144),\"\",Insatser!D144),\"\")","v":""}]
[null,{"$f":"IF(Insatser!B145=\"Ej aktuellt\",Insatser!A145,\"\")","v":""},{"$f":"IF(Insatser!B145=\"Ej aktuellt\",Insatser!C145,\"\")","v":""},{"$f":"IF(Insatser!B145=\"Ej aktuellt\",IF(ISBLANK(Insatser!D145),\"\",Insatser!D145),\"\")","v":""}]
[null,{"$f":"IF(Insatser!B146=\"Ej aktuellt\",Insatser!A146,\"\")","v":""},{"$f":"IF(Insatser!B146=\"Ej aktuellt\",Insatser!C146,\"\")","v":""},{"$f":"IF(Insatser!B146=\"Ej aktuellt\",IF(ISBLANK(Insatser!D146),\"\",Insatser!D146),\"\")","v":""}]
[null,{"$f":"IF(Insatser!B147=\"Ej aktuellt\",Insatser!A147,\"\")","v":""},{"$f":"IF(Insatser!B147=\"Ej aktuellt\",Insatser!C147,\"\")","v":""},{"$f":"IF(Insatser!B147=\"Ej aktuellt\",IF(ISBLANK(Insatser!D147),\"\",Insatser!D147),\"\")","v":""}]
[null,{"$f":"IF(Insatser!B148=\"Ej aktuellt\",Insatser!A148,\"\")","v":""},{"$f":"IF(Insatser!B148=\"Ej aktuellt\",Insatser!C148,\"\")","v":""},{"$f":"IF(Insatser!B148=\"Ej aktuellt\",IF(ISBLANK(Insatser!D148),\"\",Insatser!D148),\"\")","v":""}]
[null,{"$f":"IF(Insatser!B149=\"Ej aktuellt\",Insatser!A149,\"\")","v":""},{"$f":"IF(Insatser!B149=\"Ej aktuellt\",Insatser!C149,\"\")","v":""},{"$f":"IF(Insatser!B149=\"Ej aktuellt\",IF(ISBLANK(Insatser!D149),\"\",Insatser!D149),\"\")","v":""}]
[null,{"$f":"IF(Insatser!B150=\"Ej aktuellt\",Insatser!A150,\"\")","v":""},{"$f":"IF(Insatser!B150=\"Ej aktuellt\",Insatser!C150,\"\")","v":""},{"$f":"IF(Insatser!B150=\"Ej aktuellt\",IF(ISBLANK(Insatser!D150),\"\",Insatser!D150),\"\")","v":""}]
[null,{"$f":"IF(Insatser!B151=\"Ej aktuellt\",Insatser!A151,\"\")","v":""},{"$f":"IF(Insatser!B151=\"Ej aktuellt\",Insatser!C151,\"\")","v":""},{"$f":"IF(Insatser!B151=\"Ej aktuellt\",IF(ISBLANK(Insatser!D151),\"\",Insatser!D151),\"\")","v":""}]
[null,{"$f":"IF(Insatser!B152=\"Ej aktuellt\",Insatser!A152,\"\")","v":""},{"$f":"IF(Insatser!B152=\"Ej aktuellt\",Insatser!C152,\"\")","v":""},{"$f":"IF(Insatser!B152=\"Ej aktuellt\",IF(ISBLANK(Insatser!D152),\"\",Insatser!D152),\"\")","v":""}]
[null,{"$f":"IF(Insatser!B153=\"Ej aktuellt\",Insatser!A153,\"\")","v":""},{"$f":"IF(Insatser!B153=\"Ej aktuellt\",Insatser!C153,\"\")","v":""},{"$f":"IF(Insatser!B153=\"Ej aktuellt\",IF(ISBLANK(Insatser!D153),\"\",Insatser!D153),\"\")","v":""}]
[null,{"$f":"IF(Insatser!B154=\"Ej aktuellt\",Insatser!A154,\"\")","v":""},{"$f":"IF(Insatser!B154=\"Ej aktuellt\",Insatser!C154,\"\")","v":""},{"$f":"IF(Insatser!B154=\"Ej aktuellt\",IF(ISBLANK(Insatser!D154),\"\",Insatser!D154),\"\")","v":""}]
[null,{"$f":"IF(Insatser!B155=\"Ej aktuellt\",Insatser!A155,\"\")","v":""},{"$f":"IF(Insatser!B155=\"Ej aktuellt\",Insatser!C155,\"\")","v":""},{"$f":"IF(Insatser!B155=\"Ej aktuellt\",IF(ISBLANK(Insatser!D155),\"\",Insatser!D155),\"\")","v":""}]
[null,{"$f":"IF(Insatser!B156=\"Ej aktuellt\",Insatser!A156,\"\")","v":""},{"$f":"IF(Insatser!B156=\"Ej aktuellt\",Insatser!C156,\"\")","v":""},{"$f":"IF(Insatser!B156=\"Ej aktuellt\",IF(ISBLANK(Insatser!D156),\"\",Insatser!D156),\"\")","v":""}]
[null,{"$f":"IF(Insatser!B157=\"Ej aktuellt\",Insatser!A157,\"\")","v":""},{"$f":"IF(Insatser!B157=\"Ej aktuellt\",Insatser!C157,\"\")","v":""},{"$f":"IF(Insatser!B157=\"Ej aktuellt\",IF(ISBLANK(Insatser!D157),\"\",Insatser!D157),\"\")","v":""}]
[null,{"$f":"IF(Insatser!B158=\"Ej aktuellt\",Insatser!A158,\"\")","v":""},{"$f":"IF(Insatser!B158=\"Ej aktuellt\",Insatser!C158,\"\")","v":""},{"$f":"IF(Insatser!B158=\"Ej aktuellt\",IF(ISBLANK(Insatser!D158),\"\",Insatser!D158),\"\")","v":""}]
[null,{"$f":"IF(Insatser!B159=\"Ej aktuellt\",Insatser!A159,\"\")","v":""},{"$f":"IF(Insatser!B159=\"Ej aktuellt\",Insatser!C159,\"\")","v":""},{"$f":"IF(Insatser!B159=\"Ej aktuellt\",IF(ISBLANK(Insatser!D159),\"\",Insatser!D159),\"\")","v":""}]
[null,{"$f":"IF(Insatser!B160=\"Ej aktuellt\",Insatser!A160,\"\")","v":""},{"$f":"IF(Insatser!B160=\"Ej aktuellt\",Insatser!C160,\"\")","v":""},{"$f":"IF(Insatser!B160=\"Ej aktuellt\",IF(ISBLANK(Insatser!D160),\"\",Insatser!D160),\"\")","v":""}]
[null,{"$f":"IF(Insatser!B161=\"Ej aktuellt\",Insatser!A161,\"\")","v":""},{"$f":"IF(Insatser!B161=\"Ej aktuellt\",Insatser!C161,\"\")","v":""},{"$f":"IF(Insatser!B161=\"Ej aktuellt\",IF(ISBLANK(Insatser!D161),\"\",Insatser!D161),\"\")","v":""}]
[null,{"$f":"IF(Insatser!B162=\"Ej aktuellt\",Insatser!A162,\"\")","v":""},{"$f":"IF(Insatser!B162=\"Ej aktuellt\",Insatser!C162,\"\")","v":""},{"$f":"IF(Insatser!B162=\"Ej aktuellt\",IF(ISBLANK(Insatser!D162),\"\",Insatser!D162),\"\")","v":""}]
[null,{"$f":"IF(Insatser!B163=\"Ej aktuellt\",Insatser!A163,\"\")","v":""},{"$f":"IF(Insatser!B163=\"Ej aktuellt\",Insatser!C163,\"\")","v":""},{"$f":"IF(Insatser!B163=\"Ej aktuellt\",IF(ISBLANK(Insatser!D163),\"\",Insatser!D163),\"\")","v":""}]
[null,{"$f":"IF(Insatser!B164=\"Ej aktuellt\",Insatser!A164,\"\")","v":""},{"$f":"IF(Insatser!B164=\"Ej aktuellt\",Insatser!C164,\"\")","v":""},{"$f":"IF(Insatser!B164=\"Ej aktuellt\",IF(ISBLANK(Insatser!D164),\"\",Insatser!D164),\"\")","v":""}]
[null,{"$f":"IF(Insatser!B165=\"Ej aktuellt\",Insatser!A165,\"\")","v":""},{"$f":"IF(Insatser!B165=\"Ej aktuellt\",Insatser!C165,\"\")","v":""},{"$f":"IF(Insatser!B165=\"Ej aktuellt\",IF(ISBLANK(Insatser!D165),\"\",Insatser!D165),\"\")","v":""}]
[null,{"$f":"IF(Insatser!B166=\"Ej aktuellt\",Insatser!A166,\"\")","v":""},{"$f":"IF(Insatser!B166=\"Ej aktuellt\",Insatser!C166,\"\")","v":""},{"$f":"IF(Insatser!B166=\"Ej aktuellt\",IF(ISBLANK(Insatser!D166),\"\",Insatser!D166),\"\")","v":""}]
[null,{"$f":"IF(Insatser!B167=\"Ej aktuellt\",Insatser!A167,\"\")","v":""},{"$f":"IF(Insatser!B167=\"Ej aktuellt\",Insatser!C167,\"\")","v":""},{"$f":"IF(Insatser!B167=\"Ej aktuellt\",IF(ISBLANK(Insatser!D167),\"\",Insatser!D167),\"\")","v":""}]
[null,{"$f":"IF(Insatser!B168=\"Ej aktuellt\",Insatser!A168,\"\")","v":""},{"$f":"IF(Insatser!B168=\"Ej aktuellt\",Insatser!C168,\"\")","v":""},{"$f":"IF(Insatser!B168=\"Ej aktuellt\",IF(ISBLANK(Insatser!D168),\"\",Insatser!D168),\"\")","v":""}]
[null,{"$f":"IF(Insatser!B169=\"Ej aktuellt\",Insatser!A169,\"\")","v":""},{"$f":"IF(Insatser!B169=\"Ej aktuellt\",Insatser!C169,\"\")","v":""},{"$f":"IF(Insatser!B169=\"Ej aktuellt\",IF(ISBLANK(Insatser!D169),\"\",Insatser!D169),\"\")","v":""}]
[null,{"$f":"IF(Insatser!B170=\"Ej aktuellt\",Insatser!A170,\"\")","v":""},{"$f":"IF(Insatser!B170=\"Ej aktuellt\",Insatser!C170,\"\")","v":""},{"$f":"IF(Insatser!B170=\"Ej aktuellt\",IF(ISBLANK(Insatser!D170),\"\",Insatser!D170),\"\")","v":""}]
[null,"Fördelning av svar "]
[null,"Våra resultat"]
[null,"Ja, i huvudsak",null,null,null,{"$f":"COUNTIF('Styrning och kompetens'!B4:B994,\"Ja, i huvudsak\")+COUNTIF('Handläggning och uppföljning'!B4:B1009,\"Ja, i huvudsak\")+COUNTIF(Insatser!B4:B1013,\"Ja, i huvudsak\")","v":0}]
[null,"Ett mindre förändringsarbete behövs",null,null,null,{"$f":"COUNTIF('Styrning och kompetens'!B4:B994,\"Ett mindre förändringsarbete behövs\")+COUNTIF('Handläggning och uppföljning'!B4:B1009,\"Ett mindre förändringsarbete behövs\")+COUNTIF(Insatser!B4:B1013,\"Ett mindre förändringsarbete behövs\")","v":0}]
[null,"Mer omfattande förändringsarbete behövs",null,null,null,{"$f":"COUNTIF('Styrning och kompetens'!B4:B994,\"Mer omfattande förändringsarbete behövs\")+COUNTIF('Handläggning och uppföljning'!B4:B1009,\"Mer omfattande förändringsarbete behövs\")+COUNTIF(Insatser!B4:B1013,\"Mer omfattande förändringsarbete behövs\")","v":0}]
[null,"Vet ej",null,null,null,{"$f":"COUNTIF('Styrning och kompetens'!B4:B994,\"Ej aktuellt\")+COUNTIF('Handläggning och uppföljning'!B4:B1009,\"Ej aktuellt\")+COUNTIF(Insatser!B4:B1013,\"Ej aktuellt\")","v":0}]
[null,"Nej",null,null,null,{"$f":"COUNTIF('Styrning och kompetens'!B4:B994,\"Nej\")+COUNTIF('Handläggning och uppföljning'!B4:B1009,\"Nej\")+COUNTIF(Insatser!B4:B1013,\"Nej\")","v":0}]
[]
[]
[]
[]
[]
[]
[]
[]
[]
[]
[]
[]
[]
[]
[]
[]
[]
[]
[]
[null,"Mer information och tips på hur ni kan arbeta vidare med ert resultat hittar ni på denna länk till kunskapsguiden. "]