{"text_format":"1","workbook":"xlsx","n_sheets":4,"sheets":["Om verktyget","Fyll i så här","Självskattning","Resultat-diagram"],"not_rendered":{"charts":1,"images":3,"macros":1,"external_links":0,"defined_names":0,"comments":0,"pivot_tables":0},"unopened":[],"bounds":{"document_bytes":16777216,"sheet_cells":100000,"rows_first":2000,"rows_last":500,"rows_between":2000,"halvings":0,"cell_chars":16384,"cell_head_chars":4096},"cells_cut":0,"cells_raw":0,"read":"whole","date_system":"1900"}

{"sheet":"Om verktyget","index":0,"n_rows":1,"n_cols":1,"rows_kept":1,"cut":false,"hidden":false,"merged":[[0,0,134,16383]]}
[{"$error":"#VALUE!"}]

{"sheet":"Fyll i så här","index":1,"n_rows":8,"n_cols":5,"rows_kept":8,"cut":false,"hidden":false,"merged":[[41,1,44,1],[46,1,47,1],[48,1,49,1],[10,0,10,2],[11,0,20,0],[11,1,12,1],[13,1,15,1],[18,1,20,1],[21,0,41,0],[21,1,24,1],[25,1,33,1],[34,1,35,1],[36,1,40,1]]}
[]
["Självskattningsverktyg",null,null,null,{"$error":"#VALUE!"}]
["Stöd för kartläggning och utveckling av arbetet mot våld i nära relationer"]
["Excelfilen är framtagen av Socialstyrelsen, men kan ändras av användaren. Lösenord: 1234"]
["Använd materialet så här: "]
["1.","Flik: Självskattning","Steg 1: \nSpara ner en kopia av excel-filen. \n\nSkriv i cell A2 i fliken Självskattning in datum, verksamhet och namn på den som har fyllt i filen.\n\nArbeta därefter med ett påstående i taget. \n\nFyll i egna kommentarer i kolumn B. \nDet finns tre stödfrågor:  \nHur arbetar vi idag? \nVad behöver vi utveckla?  \nHur upprätthåller vi det som fungerar bra? \n•\tHur arbetar vi idag? \n•\tVad behöver vi utveckla?  \n•\tHur upprätthåller vi det som fungerar bra? \n\nTa stöd av läshänvisningarna till handboken som finns i kolumn D. \nDe kan bidra till att  fördjupa förståelsen för ett påstående.\n\nVälj det svarsalternativ i kolumn C som bäst motsvarar ert arbete. \nSvarsalternativen är: \n•\tJa, i huvudsak\n•\tEtt mindre förändringsarbete behövs\n•\tMer omfattandet förändringsarbete behövs\n•\tNej\n•\tEj aktuellt\n•\tVet ej\n\nOBS! Kontrollera att ni har valt ett svarsalternativ för samtliga påståenden innan ni går vidare till fliken Resultat- diagram, annars blir resultatet felaktigt. \n"]
[]
["2.","Resultat-diagram","Steg 2: \nKlicka på fliken Resultat-diagram.\n\nNi ser där en sammanställning av de olika påståenden som självskattningen utgår ifrån. Dessa är sorterade så att ni överst ser de områden och frågor där ni har bedömt att det finns störst behov av utvecklings- och förändringsarbete.\nFördelningen av era svar visualiseras i ett cirkeldiagram. Denna finns längst ner på sidan under sammanställningen av era påståenden."]

{"sheet":"Självskattning","index":2,"n_rows":9,"n_cols":4,"rows_kept":9,"cut":false,"hidden":false,"merged":[[0,0,0,2]]}
["Självskattning av vår verksamhets arbete mot våld i nära relationer "]
["Datum:\nVerksamhet: \nGenomförd av:","EGNA KOMMENTARER \nHur arbetar vi idag? \nVad behöver vi utveckla?  \nHur upprätthåller vi det som fungerar bra? ","Klicka i rutan så kommer en pilknapp upp i det nedre högra hörnet.\nKlicka på pilknappen och välj det svarsalternativ som bäst motsvarar verksamhetens arbete. \nOBS! Kolla att du gjort ett val på samtliga frågor ","Läshänvisningar"]
["I vår verksamhet finns fastställda rutiner för att vi ska kunna säkra kvaliteten i arbetet med våldsutsatta och barn som bevittnar våld.                                                                                                                                                                                                                                                                                                          ",null,"Välj Alternativ","Handboken del 4 kap 28.2                                                                                         "]
["I vår verksamhet har personalen kunskap om rutiner för arbetet med våldutsatta och barn som bevittnat våld och använder dessa i sitt praktiska arbete.                                                          ",null,"Välj Alternativ","Handboken del 4 kap 29"]
["I vår verksamhet finns aktuella rutiner för när och hur personalen ska fullgöra sin anmälningsskyldighet enligt socialtjänstlagen ifråga om våldsutsatta barn eller barn som bevittnat våld.                                                                                   ",null,"Välj Alternativ","Handboken del 4 kap 28.2.2"]
["I vår verksamhet gör personalen orosanmälan till socialtjänsten om ett barn visar symtom eller tecken som väcker misstanke om att barnet är våldsutsatt eller bevittnat våld.                                                          ",null,"Välj Alternativ","Handboken del 4 kap 29"]
["I vår verksamhet är det möjligt för personalen att föra patientjournaler för patienter som har skyddade personuppgifter.                                                                                             ",null,"Välj Alternativ","Handboken del 4 kap 29"]
["I vår verksamhet finns aktuella rutiner för när och hur personalen ska ställa frågor om våld för att kunna upptäcka våldsutsatta respektive barn som bevittnat våld.                                                                                                       ",null,"Välj Alternativ","Handboken del 4 kap 28.2.4"]
["I vår verksamhet vet personalen när och hur de ska ställa frågor om våld och gör det i sitt dagliga arbete.                                                                                                               ",null,"Välj Alternativ","Handboken del 4 kap 29"]

{"sheet":"Resultat-diagram","index":3,"n_rows":2615,"n_cols":8,"rows_kept":2615,"cut":false,"hidden":false,"merged":[[2614,1,2614,3]]}
[]
[null,"NEJ","KOMMENTAR","LÄSHÄNVISNINGAR",null,null,null,"CTRL+R för att rensa #REFERENS! Eller avsaknad av rader"]
[null,{"$f":"IF(Självskattning!C3=\"Nej\",Självskattning!A3,\"\")","v":""},{"$f":"IF(Självskattning!C3=\"Nej\",Självskattning!B3,\"\")","v":""},{"$f":"IF(Självskattning!C3=\"Nej\",IF(ISBLANK(Självskattning!D3),\"\",Självskattning!D3),\"\")","v":""}]
[null,{"$f":"IF(Självskattning!C4=\"Nej\",Självskattning!A4,\"\")","v":""},{"$f":"IF(Självskattning!C4=\"Nej\",Självskattning!B4,\"\")","v":""},{"$f":"IF(Självskattning!C4=\"Nej\",IF(ISBLANK(Självskattning!D4),\"\",Självskattning!D4),\"\")","v":""}]
[null,{"$f":"IF(Självskattning!C5=\"Nej\",Självskattning!A5,\"\")","v":""},{"$f":"IF(Självskattning!C5=\"Nej\",Självskattning!B5,\"\")","v":""},{"$f":"IF(Självskattning!C5=\"Nej\",IF(ISBLANK(Självskattning!D5),\"\",Självskattning!D5),\"\")","v":""}]
[null,{"$f":"IF(Självskattning!C6=\"Nej\",Självskattning!A6,\"\")","v":""},{"$f":"IF(Självskattning!C6=\"Nej\",Självskattning!B6,\"\")","v":""},{"$f":"IF(Självskattning!C6=\"Nej\",IF(ISBLANK(Självskattning!D6),\"\",Självskattning!D6),\"\")","v":""}]
[null,{"$f":"IF(Självskattning!C7=\"Nej\",Självskattning!A7,\"\")","v":""},{"$f":"IF(Självskattning!C7=\"Nej\",Självskattning!B7,\"\")","v":""},{"$f":"IF(Självskattning!C7=\"Nej\",IF(ISBLANK(Självskattning!D7),\"\",Självskattning!D7),\"\")","v":""}]
[null,{"$f":"IF(Självskattning!C8=\"Nej\",Självskattning!A8,\"\")","v":""},{"$f":"IF(Självskattning!C8=\"Nej\",Självskattning!B8,\"\")","v":""},{"$f":"IF(Självskattning!C8=\"Nej\",IF(ISBLANK(Självskattning!D8),\"\",Självskattning!D8),\"\")","v":""}]
[null,{"$f":"IF(Självskattning!C9=\"Nej\",Självskattning!A9,\"\")","v":""},{"$f":"IF(Självskattning!C9=\"Nej\",Självskattning!B9,\"\")","v":""},{"$f":"IF(Självskattning!C9=\"Nej\",IF(ISBLANK(Självskattning!D9),\"\",Självskattning!D9),\"\")","v":""}]
[null,{"$f":"IF(Självskattning!C10=\"Nej\",Självskattning!A10,\"\")","v":""},{"$f":"IF(Självskattning!C10=\"Nej\",Självskattning!B10,\"\")","v":""},{"$f":"IF(Självskattning!C10=\"Nej\",IF(ISBLANK(Självskattning!D10),\"\",Självskattning!D10),\"\")","v":""}]
[null,{"$f":"IF(Självskattning!C11=\"Nej\",Självskattning!A11,\"\")","v":""},{"$f":"IF(Självskattning!C11=\"Nej\",Självskattning!B11,\"\")","v":""},{"$f":"IF(Självskattning!C11=\"Nej\",IF(ISBLANK(Självskattning!D11),\"\",Självskattning!D11),\"\")","v":""}]
[null,{"$f":"IF(Självskattning!C12=\"Nej\",Självskattning!A12,\"\")","v":""},{"$f":"IF(Självskattning!C12=\"Nej\",Självskattning!B12,\"\")","v":""},{"$f":"IF(Självskattning!C12=\"Nej\",IF(ISBLANK(Självskattning!D12),\"\",Självskattning!D12),\"\")","v":""}]
[null,{"$f":"IF(Självskattning!C13=\"Nej\",Självskattning!A13,\"\")","v":""},{"$f":"IF(Självskattning!C13=\"Nej\",Självskattning!B13,\"\")","v":""},{"$f":"IF(Självskattning!C13=\"Nej\",IF(ISBLANK(Självskattning!D13),\"\",Självskattning!D13),\"\")","v":""}]
[null,{"$f":"IF(Självskattning!C14=\"Nej\",Självskattning!A14,\"\")","v":""},{"$f":"IF(Självskattning!C14=\"Nej\",Självskattning!B14,\"\")","v":""},{"$f":"IF(Självskattning!C14=\"Nej\",IF(ISBLANK(Självskattning!D14),\"\",Självskattning!D14),\"\")","v":""}]
[null,{"$f":"IF(Självskattning!C15=\"Nej\",Självskattning!A15,\"\")","v":""},{"$f":"IF(Självskattning!C15=\"Nej\",Självskattning!B15,\"\")","v":""},{"$f":"IF(Självskattning!C15=\"Nej\",IF(ISBLANK(Självskattning!D15),\"\",Självskattning!D15),\"\")","v":""}]
[null,{"$f":"IF(Självskattning!C16=\"Nej\",Självskattning!A16,\"\")","v":""},{"$f":"IF(Självskattning!C16=\"Nej\",Självskattning!B16,\"\")","v":""},{"$f":"IF(Självskattning!C16=\"Nej\",IF(ISBLANK(Självskattning!D16),\"\",Självskattning!D16),\"\")","v":""}]
[null,{"$f":"IF(Självskattning!C17=\"Nej\",Självskattning!A17,\"\")","v":""},{"$f":"IF(Självskattning!C17=\"Nej\",Självskattning!B17,\"\")","v":""},{"$f":"IF(Självskattning!C17=\"Nej\",IF(ISBLANK(Självskattning!D17),\"\",Självskattning!D17),\"\")","v":""}]
[null,{"$f":"IF(Självskattning!C18=\"Nej\",Självskattning!A18,\"\")","v":""},{"$f":"IF(Självskattning!C18=\"Nej\",Självskattning!B18,\"\")","v":""},{"$f":"IF(Självskattning!C18=\"Nej\",IF(ISBLANK(Självskattning!D18),\"\",Självskattning!D18),\"\")","v":""}]
[null,{"$f":"IF(Självskattning!C19=\"Nej\",Självskattning!A19,\"\")","v":""},{"$f":"IF(Självskattning!C19=\"Nej\",Självskattning!B19,\"\")","v":""},{"$f":"IF(Självskattning!C19=\"Nej\",IF(ISBLANK(Självskattning!D19),\"\",Självskattning!D19),\"\")","v":""}]
[null,{"$f":"IF(Självskattning!C20=\"Nej\",Självskattning!A20,\"\")","v":""},{"$f":"IF(Självskattning!C20=\"Nej\",Självskattning!B20,\"\")","v":""},{"$f":"IF(Självskattning!C20=\"Nej\",IF(ISBLANK(Självskattning!D20),\"\",Självskattning!D20),\"\")","v":""}]
[null,{"$f":"IF(Självskattning!C21=\"Nej\",Självskattning!A21,\"\")","v":""},{"$f":"IF(Självskattning!C21=\"Nej\",Självskattning!B21,\"\")","v":""},{"$f":"IF(Självskattning!C21=\"Nej\",IF(ISBLANK(Självskattning!D21),\"\",Självskattning!D21),\"\")","v":""}]
[null,{"$f":"IF(Självskattning!C22=\"Nej\",Självskattning!A22,\"\")","v":""},{"$f":"IF(Självskattning!C22=\"Nej\",Självskattning!B22,\"\")","v":""},{"$f":"IF(Självskattning!C22=\"Nej\",IF(ISBLANK(Självskattning!D22),\"\",Självskattning!D22),\"\")","v":""}]
[null,{"$f":"IF(Självskattning!C23=\"Nej\",Självskattning!A23,\"\")","v":""},{"$f":"IF(Självskattning!C23=\"Nej\",Självskattning!B23,\"\")","v":""},{"$f":"IF(Självskattning!C23=\"Nej\",IF(ISBLANK(Självskattning!D23),\"\",Självskattning!D23),\"\")","v":""}]
[null,{"$f":"IF(Självskattning!C24=\"Nej\",Självskattning!A24,\"\")","v":""},{"$f":"IF(Självskattning!C24=\"Nej\",Självskattning!B24,\"\")","v":""},{"$f":"IF(Självskattning!C24=\"Nej\",IF(ISBLANK(Självskattning!D24),\"\",Självskattning!D24),\"\")","v":""}]
[null,{"$f":"IF(Självskattning!C25=\"Nej\",Självskattning!A25,\"\")","v":""},{"$f":"IF(Självskattning!C25=\"Nej\",Självskattning!B25,\"\")","v":""},{"$f":"IF(Självskattning!C25=\"Nej\",IF(ISBLANK(Självskattning!D25),\"\",Självskattning!D25),\"\")","v":""}]
[null,{"$f":"IF(Självskattning!C26=\"Nej\",Självskattning!A26,\"\")","v":""},{"$f":"IF(Självskattning!C26=\"Nej\",Självskattning!B26,\"\")","v":""},{"$f":"IF(Självskattning!C26=\"Nej\",IF(ISBLANK(Självskattning!D26),\"\",Självskattning!D26),\"\")","v":""}]
[null,{"$f":"IF(Självskattning!C27=\"Nej\",Självskattning!A27,\"\")","v":""},{"$f":"IF(Självskattning!C27=\"Nej\",Självskattning!B27,\"\")","v":""},{"$f":"IF(Självskattning!C27=\"Nej\",IF(ISBLANK(Självskattning!D27),\"\",Självskattning!D27),\"\")","v":""}]
[null,{"$f":"IF(Självskattning!C28=\"Nej\",Självskattning!A28,\"\")","v":""},{"$f":"IF(Självskattning!C28=\"Nej\",Självskattning!B28,\"\")","v":""},{"$f":"IF(Självskattning!C28=\"Nej\",IF(ISBLANK(Självskattning!D28),\"\",Självskattning!D28),\"\")","v":""}]
[null,{"$f":"IF(Självskattning!C29=\"Nej\",Självskattning!A29,\"\")","v":""},{"$f":"IF(Självskattning!C29=\"Nej\",Självskattning!B29,\"\")","v":""},{"$f":"IF(Självskattning!C29=\"Nej\",IF(ISBLANK(Självskattning!D29),\"\",Självskattning!D29),\"\")","v":""}]
[null,{"$f":"IF(Självskattning!C30=\"Nej\",Självskattning!A30,\"\")","v":""},{"$f":"IF(Självskattning!C30=\"Nej\",Självskattning!B30,\"\")","v":""},{"$f":"IF(Självskattning!C30=\"Nej\",IF(ISBLANK(Självskattning!D30),\"\",Självskattning!D30),\"\")","v":""}]
[null,{"$f":"IF(Självskattning!C31=\"Nej\",Självskattning!A31,\"\")","v":""},{"$f":"IF(Självskattning!C31=\"Nej\",Självskattning!B31,\"\")","v":""},{"$f":"IF(Självskattning!C31=\"Nej\",IF(ISBLANK(Självskattning!D31),\"\",Självskattning!D31),\"\")","v":""}]
[null,{"$f":"IF(Självskattning!C32=\"Nej\",Självskattning!A32,\"\")","v":""},{"$f":"IF(Självskattning!C32=\"Nej\",Självskattning!B32,\"\")","v":""},{"$f":"IF(Självskattning!C32=\"Nej\",IF(ISBLANK(Självskattning!D32),\"\",Självskattning!D32),\"\")","v":""}]
[null,{"$f":"IF(Självskattning!C33=\"Nej\",Självskattning!A33,\"\")","v":""},{"$f":"IF(Självskattning!C33=\"Nej\",Självskattning!B33,\"\")","v":""},{"$f":"IF(Självskattning!C33=\"Nej\",IF(ISBLANK(Självskattning!D33),\"\",Självskattning!D33),\"\")","v":""}]
[null,{"$f":"IF(Självskattning!C34=\"Nej\",Självskattning!A34,\"\")","v":""},{"$f":"IF(Självskattning!C34=\"Nej\",Självskattning!B34,\"\")","v":""},{"$f":"IF(Självskattning!C34=\"Nej\",IF(ISBLANK(Självskattning!D34),\"\",Självskattning!D34),\"\")","v":""}]
[null,{"$f":"IF(Självskattning!C35=\"Nej\",Självskattning!A35,\"\")","v":""},{"$f":"IF(Självskattning!C35=\"Nej\",Självskattning!B35,\"\")","v":""},{"$f":"IF(Självskattning!C35=\"Nej\",IF(ISBLANK(Självskattning!D35),\"\",Självskattning!D35),\"\")","v":""}]
[null,{"$f":"IF(Självskattning!C36=\"Nej\",Självskattning!A36,\"\")","v":""},{"$f":"IF(Självskattning!C36=\"Nej\",Självskattning!B36,\"\")","v":""},{"$f":"IF(Självskattning!C36=\"Nej\",IF(ISBLANK(Självskattning!D36),\"\",Självskattning!D36),\"\")","v":""}]
[null,{"$f":"IF(Självskattning!C37=\"Nej\",Självskattning!A37,\"\")","v":""},{"$f":"IF(Självskattning!C37=\"Nej\",Självskattning!B37,\"\")","v":""},{"$f":"IF(Självskattning!C37=\"Nej\",IF(ISBLANK(Självskattning!D37),\"\",Självskattning!D37),\"\")","v":""}]
[null,{"$f":"IF(Självskattning!C38=\"Nej\",Självskattning!A38,\"\")","v":""},{"$f":"IF(Självskattning!C38=\"Nej\",Självskattning!B38,\"\")","v":""},{"$f":"IF(Självskattning!C38=\"Nej\",IF(ISBLANK(Självskattning!D38),\"\",Självskattning!D38),\"\")","v":""}]
[null,{"$f":"IF(Självskattning!C39=\"Nej\",Självskattning!A39,\"\")","v":""},{"$f":"IF(Självskattning!C39=\"Nej\",Självskattning!B39,\"\")","v":""},{"$f":"IF(Självskattning!C39=\"Nej\",IF(ISBLANK(Självskattning!D39),\"\",Självskattning!D39),\"\")","v":""}]
[null,{"$f":"IF(Självskattning!C40=\"Nej\",Självskattning!A40,\"\")","v":""},{"$f":"IF(Självskattning!C40=\"Nej\",Självskattning!B40,\"\")","v":""},{"$f":"IF(Självskattning!C40=\"Nej\",IF(ISBLANK(Självskattning!D40),\"\",Självskattning!D40),\"\")","v":""}]
[null,{"$f":"IF(Självskattning!C41=\"Nej\",Självskattning!A41,\"\")","v":""},{"$f":"IF(Självskattning!C41=\"Nej\",Självskattning!B41,\"\")","v":""},{"$f":"IF(Självskattning!C41=\"Nej\",IF(ISBLANK(Självskattning!D41),\"\",Självskattning!D41),\"\")","v":""}]
[null,{"$f":"IF(Självskattning!C42=\"Nej\",Självskattning!A42,\"\")","v":""},{"$f":"IF(Självskattning!C42=\"Nej\",Självskattning!B42,\"\")","v":""},{"$f":"IF(Självskattning!C42=\"Nej\",IF(ISBLANK(Självskattning!D42),\"\",Självskattning!D42),\"\")","v":""}]
[null,{"$f":"IF(Självskattning!C43=\"Nej\",Självskattning!A43,\"\")","v":""},{"$f":"IF(Självskattning!C43=\"Nej\",Självskattning!B43,\"\")","v":""},{"$f":"IF(Självskattning!C43=\"Nej\",IF(ISBLANK(Självskattning!D43),\"\",Självskattning!D43),\"\")","v":""}]
[null,{"$f":"IF(Självskattning!C44=\"Nej\",Självskattning!A44,\"\")","v":""},{"$f":"IF(Självskattning!C44=\"Nej\",Självskattning!B44,\"\")","v":""},{"$f":"IF(Självskattning!C44=\"Nej\",IF(ISBLANK(Självskattning!D44),\"\",Självskattning!D44),\"\")","v":""}]
[null,{"$f":"IF(Självskattning!C45=\"Nej\",Självskattning!A45,\"\")","v":""},{"$f":"IF(Självskattning!C45=\"Nej\",Självskattning!B45,\"\")","v":""},{"$f":"IF(Självskattning!C45=\"Nej\",IF(ISBLANK(Självskattning!D45),\"\",Självskattning!D45),\"\")","v":""}]
[null,{"$f":"IF(Självskattning!C46=\"Nej\",Självskattning!A46,\"\")","v":""},{"$f":"IF(Självskattning!C46=\"Nej\",Självskattning!B46,\"\")","v":""},{"$f":"IF(Självskattning!C46=\"Nej\",IF(ISBLANK(Självskattning!D46),\"\",Självskattning!D46),\"\")","v":""}]
[null,{"$f":"IF(Självskattning!C47=\"Nej\",Självskattning!A47,\"\")","v":""},{"$f":"IF(Självskattning!C47=\"Nej\",Självskattning!B47,\"\")","v":""},{"$f":"IF(Självskattning!C47=\"Nej\",IF(ISBLANK(Självskattning!D47),\"\",Självskattning!D47),\"\")","v":""}]
[null,{"$f":"IF(Självskattning!C48=\"Nej\",Självskattning!A48,\"\")","v":""},{"$f":"IF(Självskattning!C48=\"Nej\",Självskattning!B48,\"\")","v":""},{"$f":"IF(Självskattning!C48=\"Nej\",IF(ISBLANK(Självskattning!D48),\"\",Självskattning!D48),\"\")","v":""}]
[null,{"$f":"IF(Självskattning!C49=\"Nej\",Självskattning!A49,\"\")","v":""},{"$f":"IF(Självskattning!C49=\"Nej\",Självskattning!B49,\"\")","v":""},{"$f":"IF(Självskattning!C49=\"Nej\",IF(ISBLANK(Självskattning!D49),\"\",Självskattning!D49),\"\")","v":""}]
[null,{"$f":"IF(Självskattning!C50=\"Nej\",Självskattning!A50,\"\")","v":""},{"$f":"IF(Självskattning!C50=\"Nej\",Självskattning!B50,\"\")","v":""},{"$f":"IF(Självskattning!C50=\"Nej\",IF(ISBLANK(Självskattning!D50),\"\",Självskattning!D50),\"\")","v":""}]
[null,{"$f":"IF(Självskattning!C51=\"Nej\",Självskattning!A51,\"\")","v":""},{"$f":"IF(Självskattning!C51=\"Nej\",Självskattning!B51,\"\")","v":""},{"$f":"IF(Självskattning!C51=\"Nej\",IF(ISBLANK(Självskattning!D51),\"\",Självskattning!D51),\"\")","v":""}]
[null,{"$f":"IF(Självskattning!C52=\"Nej\",Självskattning!A52,\"\")","v":""},{"$f":"IF(Självskattning!C52=\"Nej\",Självskattning!B52,\"\")","v":""},{"$f":"IF(Självskattning!C52=\"Nej\",IF(ISBLANK(Självskattning!D52),\"\",Självskattning!D52),\"\")","v":""}]
[null,{"$f":"IF(Självskattning!C53=\"Nej\",Självskattning!A53,\"\")","v":""},{"$f":"IF(Självskattning!C53=\"Nej\",Självskattning!B53,\"\")","v":""},{"$f":"IF(Självskattning!C53=\"Nej\",IF(ISBLANK(Självskattning!D53),\"\",Självskattning!D53),\"\")","v":""}]
[null,{"$f":"IF(Självskattning!C54=\"Nej\",Självskattning!A54,\"\")","v":""},{"$f":"IF(Självskattning!C54=\"Nej\",Självskattning!B54,\"\")","v":""},{"$f":"IF(Självskattning!C54=\"Nej\",IF(ISBLANK(Självskattning!D54),\"\",Självskattning!D54),\"\")","v":""}]
[null,{"$f":"IF(Självskattning!C55=\"Nej\",Självskattning!A55,\"\")","v":""},{"$f":"IF(Självskattning!C55=\"Nej\",Självskattning!B55,\"\")","v":""},{"$f":"IF(Självskattning!C55=\"Nej\",IF(ISBLANK(Självskattning!D55),\"\",Självskattning!D55),\"\")","v":""}]
[null,{"$f":"IF(Självskattning!C56=\"Nej\",Självskattning!A56,\"\")","v":""},{"$f":"IF(Självskattning!C56=\"Nej\",Självskattning!B56,\"\")","v":""},{"$f":"IF(Självskattning!C56=\"Nej\",IF(ISBLANK(Självskattning!D56),\"\",Självskattning!D56),\"\")","v":""}]
[null,{"$f":"IF(Självskattning!C57=\"Nej\",Självskattning!A57,\"\")","v":""},{"$f":"IF(Självskattning!C57=\"Nej\",Självskattning!B57,\"\")","v":""},{"$f":"IF(Självskattning!C57=\"Nej\",IF(ISBLANK(Självskattning!D57),\"\",Självskattning!D57),\"\")","v":""}]
[null,{"$f":"IF(Självskattning!C58=\"Nej\",Självskattning!A58,\"\")","v":""},{"$f":"IF(Självskattning!C58=\"Nej\",Självskattning!B58,\"\")","v":""},{"$f":"IF(Självskattning!C58=\"Nej\",IF(ISBLANK(Självskattning!D58),\"\",Självskattning!D58),\"\")","v":""}]
[null,{"$f":"IF(Självskattning!C59=\"Nej\",Självskattning!A59,\"\")","v":""},{"$f":"IF(Självskattning!C59=\"Nej\",Självskattning!B59,\"\")","v":""},{"$f":"IF(Självskattning!C59=\"Nej\",IF(ISBLANK(Självskattning!D59),\"\",Självskattning!D59),\"\")","v":""}]
[null,{"$f":"IF(Självskattning!C60=\"Nej\",Självskattning!A60,\"\")","v":""},{"$f":"IF(Självskattning!C60=\"Nej\",Självskattning!B60,\"\")","v":""},{"$f":"IF(Självskattning!C60=\"Nej\",IF(ISBLANK(Självskattning!D60),\"\",Självskattning!D60),\"\")","v":""}]
[null,{"$f":"IF(Självskattning!C61=\"Nej\",Självskattning!A61,\"\")","v":""},{"$f":"IF(Självskattning!C61=\"Nej\",Självskattning!B61,\"\")","v":""},{"$f":"IF(Självskattning!C61=\"Nej\",IF(ISBLANK(Självskattning!D61),\"\",Självskattning!D61),\"\")","v":""}]
[null,{"$f":"IF(Självskattning!C62=\"Nej\",Självskattning!A62,\"\")","v":""},{"$f":"IF(Självskattning!C62=\"Nej\",Självskattning!B62,\"\")","v":""},{"$f":"IF(Självskattning!C62=\"Nej\",IF(ISBLANK(Självskattning!D62),\"\",Självskattning!D62),\"\")","v":""}]
[null,{"$f":"IF(Självskattning!C63=\"Nej\",Självskattning!A63,\"\")","v":""},{"$f":"IF(Självskattning!C63=\"Nej\",Självskattning!B63,\"\")","v":""},{"$f":"IF(Självskattning!C63=\"Nej\",IF(ISBLANK(Självskattning!D63),\"\",Självskattning!D63),\"\")","v":""}]
[null,{"$f":"IF(Självskattning!C64=\"Nej\",Självskattning!A64,\"\")","v":""},{"$f":"IF(Självskattning!C64=\"Nej\",Självskattning!B64,\"\")","v":""},{"$f":"IF(Självskattning!C64=\"Nej\",IF(ISBLANK(Självskattning!D64),\"\",Självskattning!D64),\"\")","v":""}]
[null,{"$f":"IF(Självskattning!C65=\"Nej\",Självskattning!A65,\"\")","v":""},{"$f":"IF(Självskattning!C65=\"Nej\",Självskattning!B65,\"\")","v":""},{"$f":"IF(Självskattning!C65=\"Nej\",IF(ISBLANK(Självskattning!D65),\"\",Självskattning!D65),\"\")","v":""}]
[null,{"$f":"IF(Självskattning!C66=\"Nej\",Självskattning!A66,\"\")","v":""},{"$f":"IF(Självskattning!C66=\"Nej\",Självskattning!B66,\"\")","v":""},{"$f":"IF(Självskattning!C66=\"Nej\",IF(ISBLANK(Självskattning!D66),\"\",Självskattning!D66),\"\")","v":""}]
[null,{"$f":"IF(Självskattning!C67=\"Nej\",Självskattning!A67,\"\")","v":""},{"$f":"IF(Självskattning!C67=\"Nej\",Självskattning!B67,\"\")","v":""},{"$f":"IF(Självskattning!C67=\"Nej\",IF(ISBLANK(Självskattning!D67),\"\",Självskattning!D67),\"\")","v":""}]
[null,{"$f":"IF(Självskattning!C68=\"Nej\",Självskattning!A68,\"\")","v":""},{"$f":"IF(Självskattning!C68=\"Nej\",Självskattning!B68,\"\")","v":""},{"$f":"IF(Självskattning!C68=\"Nej\",IF(ISBLANK(Självskattning!D68),\"\",Självskattning!D68),\"\")","v":""}]
[null,{"$f":"IF(Självskattning!C69=\"Nej\",Självskattning!A69,\"\")","v":""},{"$f":"IF(Självskattning!C69=\"Nej\",Självskattning!B69,\"\")","v":""},{"$f":"IF(Självskattning!C69=\"Nej\",IF(ISBLANK(Självskattning!D69),\"\",Självskattning!D69),\"\")","v":""}]
[null,{"$f":"IF(Självskattning!C70=\"Nej\",Självskattning!A70,\"\")","v":""},{"$f":"IF(Självskattning!C70=\"Nej\",Självskattning!B70,\"\")","v":""},{"$f":"IF(Självskattning!C70=\"Nej\",IF(ISBLANK(Självskattning!D70),\"\",Självskattning!D70),\"\")","v":""}]
[null,{"$f":"IF(Självskattning!C71=\"Nej\",Självskattning!A71,\"\")","v":""},{"$f":"IF(Självskattning!C71=\"Nej\",Självskattning!B71,\"\")","v":""},{"$f":"IF(Självskattning!C71=\"Nej\",IF(ISBLANK(Självskattning!D71),\"\",Självskattning!D71),\"\")","v":""}]
[null,{"$f":"IF(Självskattning!C72=\"Nej\",Självskattning!A72,\"\")","v":""},{"$f":"IF(Självskattning!C72=\"Nej\",Självskattning!B72,\"\")","v":""},{"$f":"IF(Självskattning!C72=\"Nej\",IF(ISBLANK(Självskattning!D72),\"\",Självskattning!D72),\"\")","v":""}]
[null,{"$f":"IF(Självskattning!C73=\"Nej\",Självskattning!A73,\"\")","v":""},{"$f":"IF(Självskattning!C73=\"Nej\",Självskattning!B73,\"\")","v":""},{"$f":"IF(Självskattning!C73=\"Nej\",IF(ISBLANK(Självskattning!D73),\"\",Självskattning!D73),\"\")","v":""}]
[null,{"$f":"IF(Självskattning!C74=\"Nej\",Självskattning!A74,\"\")","v":""},{"$f":"IF(Självskattning!C74=\"Nej\",Självskattning!B74,\"\")","v":""},{"$f":"IF(Självskattning!C74=\"Nej\",IF(ISBLANK(Självskattning!D74),\"\",Självskattning!D74),\"\")","v":""}]
[null,{"$f":"IF(Självskattning!C75=\"Nej\",Självskattning!A75,\"\")","v":""},{"$f":"IF(Självskattning!C75=\"Nej\",Självskattning!B75,\"\")","v":""},{"$f":"IF(Självskattning!C75=\"Nej\",IF(ISBLANK(Självskattning!D75),\"\",Självskattning!D75),\"\")","v":""}]
[null,{"$f":"IF(Självskattning!C76=\"Nej\",Självskattning!A76,\"\")","v":""},{"$f":"IF(Självskattning!C76=\"Nej\",Självskattning!B76,\"\")","v":""},{"$f":"IF(Självskattning!C76=\"Nej\",IF(ISBLANK(Självskattning!D76),\"\",Självskattning!D76),\"\")","v":""}]
[null,{"$f":"IF(Självskattning!C77=\"Nej\",Självskattning!A77,\"\")","v":""},{"$f":"IF(Självskattning!C77=\"Nej\",Självskattning!B77,\"\")","v":""},{"$f":"IF(Självskattning!C77=\"Nej\",IF(ISBLANK(Självskattning!D77),\"\",Självskattning!D77),\"\")","v":""}]
[null,{"$f":"IF(Självskattning!C78=\"Nej\",Självskattning!A78,\"\")","v":""},{"$f":"IF(Självskattning!C78=\"Nej\",Självskattning!B78,\"\")","v":""},{"$f":"IF(Självskattning!C78=\"Nej\",IF(ISBLANK(Självskattning!D78),\"\",Självskattning!D78),\"\")","v":""}]
[null,{"$f":"IF(Självskattning!C79=\"Nej\",Självskattning!A79,\"\")","v":""},{"$f":"IF(Självskattning!C79=\"Nej\",Självskattning!B79,\"\")","v":""},{"$f":"IF(Självskattning!C79=\"Nej\",IF(ISBLANK(Självskattning!D79),\"\",Självskattning!D79),\"\")","v":""}]
[null,{"$f":"IF(Självskattning!C80=\"Nej\",Självskattning!A80,\"\")","v":""},{"$f":"IF(Självskattning!C80=\"Nej\",Självskattning!B80,\"\")","v":""},{"$f":"IF(Självskattning!C80=\"Nej\",IF(ISBLANK(Självskattning!D80),\"\",Självskattning!D80),\"\")","v":""}]
[null,{"$f":"IF(Självskattning!C81=\"Nej\",Självskattning!A81,\"\")","v":""},{"$f":"IF(Självskattning!C81=\"Nej\",Självskattning!B81,\"\")","v":""},{"$f":"IF(Självskattning!C81=\"Nej\",IF(ISBLANK(Självskattning!D81),\"\",Självskattning!D81),\"\")","v":""}]
[null,{"$f":"IF(Självskattning!C82=\"Nej\",Självskattning!A82,\"\")","v":""},{"$f":"IF(Självskattning!C82=\"Nej\",Självskattning!B82,\"\")","v":""},{"$f":"IF(Självskattning!C82=\"Nej\",IF(ISBLANK(Självskattning!D82),\"\",Självskattning!D82),\"\")","v":""}]
[null,{"$f":"IF(Självskattning!C83=\"Nej\",Självskattning!A83,\"\")","v":""},{"$f":"IF(Självskattning!C83=\"Nej\",Självskattning!B83,\"\")","v":""},{"$f":"IF(Självskattning!C83=\"Nej\",IF(ISBLANK(Självskattning!D83),\"\",Självskattning!D83),\"\")","v":""}]
[null,{"$f":"IF(Självskattning!C84=\"Nej\",Självskattning!A84,\"\")","v":""},{"$f":"IF(Självskattning!C84=\"Nej\",Självskattning!B84,\"\")","v":""},{"$f":"IF(Självskattning!C84=\"Nej\",IF(ISBLANK(Självskattning!D84),\"\",Självskattning!D84),\"\")","v":""}]
[null,{"$f":"IF(Självskattning!C85=\"Nej\",Självskattning!A85,\"\")","v":""},{"$f":"IF(Självskattning!C85=\"Nej\",Självskattning!B85,\"\")","v":""},{"$f":"IF(Självskattning!C85=\"Nej\",IF(ISBLANK(Självskattning!D85),\"\",Självskattning!D85),\"\")","v":""}]
[null,{"$f":"IF(Självskattning!C86=\"Nej\",Självskattning!A86,\"\")","v":""},{"$f":"IF(Självskattning!C86=\"Nej\",Självskattning!B86,\"\")","v":""},{"$f":"IF(Självskattning!C86=\"Nej\",IF(ISBLANK(Självskattning!D86),\"\",Självskattning!D86),\"\")","v":""}]
[null,{"$f":"IF(Självskattning!C87=\"Nej\",Självskattning!A87,\"\")","v":""},{"$f":"IF(Självskattning!C87=\"Nej\",Självskattning!B87,\"\")","v":""},{"$f":"IF(Självskattning!C87=\"Nej\",IF(ISBLANK(Självskattning!D87),\"\",Självskattning!D87),\"\")","v":""}]
[null,{"$f":"IF(Självskattning!C88=\"Nej\",Självskattning!A88,\"\")","v":""},{"$f":"IF(Självskattning!C88=\"Nej\",Självskattning!B88,\"\")","v":""},{"$f":"IF(Självskattning!C88=\"Nej\",IF(ISBLANK(Självskattning!D88),\"\",Självskattning!D88),\"\")","v":""}]
[null,{"$f":"IF(Självskattning!C89=\"Nej\",Självskattning!A89,\"\")","v":""},{"$f":"IF(Självskattning!C89=\"Nej\",Självskattning!B89,\"\")","v":""},{"$f":"IF(Självskattning!C89=\"Nej\",IF(ISBLANK(Självskattning!D89),\"\",Självskattning!D89),\"\")","v":""}]
[null,{"$f":"IF(Självskattning!C90=\"Nej\",Självskattning!A90,\"\")","v":""},{"$f":"IF(Självskattning!C90=\"Nej\",Självskattning!B90,\"\")","v":""},{"$f":"IF(Självskattning!C90=\"Nej\",IF(ISBLANK(Självskattning!D90),\"\",Självskattning!D90),\"\")","v":""}]
[null,{"$f":"IF(Självskattning!C91=\"Nej\",Självskattning!A91,\"\")","v":""},{"$f":"IF(Självskattning!C91=\"Nej\",Självskattning!B91,\"\")","v":""},{"$f":"IF(Självskattning!C91=\"Nej\",IF(ISBLANK(Självskattning!D91),\"\",Självskattning!D91),\"\")","v":""}]
[null,{"$f":"IF(Självskattning!C92=\"Nej\",Självskattning!A92,\"\")","v":""},{"$f":"IF(Självskattning!C92=\"Nej\",Självskattning!B92,\"\")","v":""},{"$f":"IF(Självskattning!C92=\"Nej\",IF(ISBLANK(Självskattning!D92),\"\",Självskattning!D92),\"\")","v":""}]
[null,{"$f":"IF(Självskattning!C93=\"Nej\",Självskattning!A93,\"\")","v":""},{"$f":"IF(Självskattning!C93=\"Nej\",Självskattning!B93,\"\")","v":""},{"$f":"IF(Självskattning!C93=\"Nej\",IF(ISBLANK(Självskattning!D93),\"\",Självskattning!D93),\"\")","v":""}]
[null,{"$f":"IF(Självskattning!C94=\"Nej\",Självskattning!A94,\"\")","v":""},{"$f":"IF(Självskattning!C94=\"Nej\",Självskattning!B94,\"\")","v":""},{"$f":"IF(Självskattning!C94=\"Nej\",IF(ISBLANK(Självskattning!D94),\"\",Självskattning!D94),\"\")","v":""}]
[null,{"$f":"IF(Självskattning!C95=\"Nej\",Självskattning!A95,\"\")","v":""},{"$f":"IF(Självskattning!C95=\"Nej\",Självskattning!B95,\"\")","v":""},{"$f":"IF(Självskattning!C95=\"Nej\",IF(ISBLANK(Självskattning!D95),\"\",Självskattning!D95),\"\")","v":""}]
[null,{"$f":"IF(Självskattning!C96=\"Nej\",Självskattning!A96,\"\")","v":""},{"$f":"IF(Självskattning!C96=\"Nej\",Självskattning!B96,\"\")","v":""},{"$f":"IF(Självskattning!C96=\"Nej\",IF(ISBLANK(Självskattning!D96),\"\",Självskattning!D96),\"\")","v":""}]
[null,{"$f":"IF(Självskattning!C97=\"Nej\",Självskattning!A97,\"\")","v":""},{"$f":"IF(Självskattning!C97=\"Nej\",Självskattning!B97,\"\")","v":""},{"$f":"IF(Självskattning!C97=\"Nej\",IF(ISBLANK(Självskattning!D97),\"\",Självskattning!D97),\"\")","v":""}]
[null,{"$f":"IF(Självskattning!C98=\"Nej\",Självskattning!A98,\"\")","v":""},{"$f":"IF(Självskattning!C98=\"Nej\",Självskattning!B98,\"\")","v":""},{"$f":"IF(Självskattning!C98=\"Nej\",IF(ISBLANK(Självskattning!D98),\"\",Självskattning!D98),\"\")","v":""}]
[null,{"$f":"IF(Självskattning!C99=\"Nej\",Självskattning!A99,\"\")","v":""},{"$f":"IF(Självskattning!C99=\"Nej\",Självskattning!B99,\"\")","v":""},{"$f":"IF(Självskattning!C99=\"Nej\",IF(ISBLANK(Självskattning!D99),\"\",Självskattning!D99),\"\")","v":""}]
[null,{"$f":"IF(Självskattning!C100=\"Nej\",Självskattning!A100,\"\")","v":""},{"$f":"IF(Självskattning!C100=\"Nej\",Självskattning!B100,\"\")","v":""},{"$f":"IF(Självskattning!C100=\"Nej\",IF(ISBLANK(Självskattning!D100),\"\",Självskattning!D100),\"\")","v":""}]
[null,{"$f":"IF(Självskattning!C101=\"Nej\",Självskattning!A101,\"\")","v":""},{"$f":"IF(Självskattning!C101=\"Nej\",Självskattning!B101,\"\")","v":""},{"$f":"IF(Självskattning!C101=\"Nej\",IF(ISBLANK(Självskattning!D101),\"\",Självskattning!D101),\"\")","v":""}]
[null,{"$f":"IF(Självskattning!C102=\"Nej\",Självskattning!A102,\"\")","v":""},{"$f":"IF(Självskattning!C102=\"Nej\",Självskattning!B102,\"\")","v":""},{"$f":"IF(Självskattning!C102=\"Nej\",IF(ISBLANK(Självskattning!D102),\"\",Självskattning!D102),\"\")","v":""}]
[null,{"$f":"IF(Självskattning!C103=\"Nej\",Självskattning!A103,\"\")","v":""},{"$f":"IF(Självskattning!C103=\"Nej\",Självskattning!B103,\"\")","v":""},{"$f":"IF(Självskattning!C103=\"Nej\",IF(ISBLANK(Självskattning!D103),\"\",Självskattning!D103),\"\")","v":""}]
[null,{"$f":"IF(Självskattning!C104=\"Nej\",Självskattning!A104,\"\")","v":""},{"$f":"IF(Självskattning!C104=\"Nej\",Självskattning!B104,\"\")","v":""},{"$f":"IF(Självskattning!C104=\"Nej\",IF(ISBLANK(Självskattning!D104),\"\",Självskattning!D104),\"\")","v":""}]
[null,{"$f":"IF(Självskattning!C105=\"Nej\",Självskattning!A105,\"\")","v":""},{"$f":"IF(Självskattning!C105=\"Nej\",Självskattning!B105,\"\")","v":""},{"$f":"IF(Självskattning!C105=\"Nej\",IF(ISBLANK(Självskattning!D105),\"\",Självskattning!D105),\"\")","v":""}]
[null,{"$f":"IF(Självskattning!C106=\"Nej\",Självskattning!A106,\"\")","v":""},{"$f":"IF(Självskattning!C106=\"Nej\",Självskattning!B106,\"\")","v":""},{"$f":"IF(Självskattning!C106=\"Nej\",IF(ISBLANK(Självskattning!D106),\"\",Självskattning!D106),\"\")","v":""}]
[null,{"$f":"IF(Självskattning!C107=\"Nej\",Självskattning!A107,\"\")","v":""},{"$f":"IF(Självskattning!C107=\"Nej\",Självskattning!B107,\"\")","v":""},{"$f":"IF(Självskattning!C107=\"Nej\",IF(ISBLANK(Självskattning!D107),\"\",Självskattning!D107),\"\")","v":""}]
[null,{"$f":"IF(Självskattning!C108=\"Nej\",Självskattning!A108,\"\")","v":""},{"$f":"IF(Självskattning!C108=\"Nej\",Självskattning!B108,\"\")","v":""},{"$f":"IF(Självskattning!C108=\"Nej\",IF(ISBLANK(Självskattning!D108),\"\",Självskattning!D108),\"\")","v":""}]
[null,{"$f":"IF(Självskattning!C109=\"Nej\",Självskattning!A109,\"\")","v":""},{"$f":"IF(Självskattning!C109=\"Nej\",Självskattning!B109,\"\")","v":""},{"$f":"IF(Självskattning!C109=\"Nej\",IF(ISBLANK(Självskattning!D109),\"\",Självskattning!D109),\"\")","v":""}]
[null,{"$f":"IF(Självskattning!C110=\"Nej\",Självskattning!A110,\"\")","v":""},{"$f":"IF(Självskattning!C110=\"Nej\",Självskattning!B110,\"\")","v":""},{"$f":"IF(Självskattning!C110=\"Nej\",IF(ISBLANK(Självskattning!D110),\"\",Självskattning!D110),\"\")","v":""}]
[null,{"$f":"IF(Självskattning!C111=\"Nej\",Självskattning!A111,\"\")","v":""},{"$f":"IF(Självskattning!C111=\"Nej\",Självskattning!B111,\"\")","v":""},{"$f":"IF(Självskattning!C111=\"Nej\",IF(ISBLANK(Självskattning!D111),\"\",Självskattning!D111),\"\")","v":""}]
[null,{"$f":"IF(Självskattning!C112=\"Nej\",Självskattning!A112,\"\")","v":""},{"$f":"IF(Självskattning!C112=\"Nej\",Självskattning!B112,\"\")","v":""},{"$f":"IF(Självskattning!C112=\"Nej\",IF(ISBLANK(Självskattning!D112),\"\",Självskattning!D112),\"\")","v":""}]
[null,{"$f":"IF(Självskattning!C113=\"Nej\",Självskattning!A113,\"\")","v":""},{"$f":"IF(Självskattning!C113=\"Nej\",Självskattning!B113,\"\")","v":""},{"$f":"IF(Självskattning!C113=\"Nej\",IF(ISBLANK(Självskattning!D113),\"\",Självskattning!D113),\"\")","v":""}]
[null,{"$f":"IF(Självskattning!C114=\"Nej\",Självskattning!A114,\"\")","v":""},{"$f":"IF(Självskattning!C114=\"Nej\",Självskattning!B114,\"\")","v":""},{"$f":"IF(Självskattning!C114=\"Nej\",IF(ISBLANK(Självskattning!D114),\"\",Självskattning!D114),\"\")","v":""}]
[null,{"$f":"IF(Självskattning!C115=\"Nej\",Självskattning!A115,\"\")","v":""},{"$f":"IF(Självskattning!C115=\"Nej\",Självskattning!B115,\"\")","v":""},{"$f":"IF(Självskattning!C115=\"Nej\",IF(ISBLANK(Självskattning!D115),\"\",Självskattning!D115),\"\")","v":""}]
[null,{"$f":"IF(Självskattning!C116=\"Nej\",Självskattning!A116,\"\")","v":""},{"$f":"IF(Självskattning!C116=\"Nej\",Självskattning!B116,\"\")","v":""},{"$f":"IF(Självskattning!C116=\"Nej\",IF(ISBLANK(Självskattning!D116),\"\",Självskattning!D116),\"\")","v":""}]
[null,{"$f":"IF(Självskattning!C117=\"Nej\",Självskattning!A117,\"\")","v":""},{"$f":"IF(Självskattning!C117=\"Nej\",Självskattning!B117,\"\")","v":""},{"$f":"IF(Självskattning!C117=\"Nej\",IF(ISBLANK(Självskattning!D117),\"\",Självskattning!D117),\"\")","v":""}]
[null,{"$f":"IF(Självskattning!C118=\"Nej\",Självskattning!A118,\"\")","v":""},{"$f":"IF(Självskattning!C118=\"Nej\",Självskattning!B118,\"\")","v":""},{"$f":"IF(Självskattning!C118=\"Nej\",IF(ISBLANK(Självskattning!D118),\"\",Självskattning!D118),\"\")","v":""}]
[null,{"$f":"IF(Självskattning!C119=\"Nej\",Självskattning!A119,\"\")","v":""},{"$f":"IF(Självskattning!C119=\"Nej\",Självskattning!B119,\"\")","v":""},{"$f":"IF(Självskattning!C119=\"Nej\",IF(ISBLANK(Självskattning!D119),\"\",Självskattning!D119),\"\")","v":""}]
[null,{"$f":"IF(Självskattning!C120=\"Nej\",Självskattning!A120,\"\")","v":""},{"$f":"IF(Självskattning!C120=\"Nej\",Självskattning!B120,\"\")","v":""},{"$f":"IF(Självskattning!C120=\"Nej\",IF(ISBLANK(Självskattning!D120),\"\",Självskattning!D120),\"\")","v":""}]
[null,{"$f":"IF(Självskattning!C121=\"Nej\",Självskattning!A121,\"\")","v":""},{"$f":"IF(Självskattning!C121=\"Nej\",Självskattning!B121,\"\")","v":""},{"$f":"IF(Självskattning!C121=\"Nej\",IF(ISBLANK(Självskattning!D121),\"\",Självskattning!D121),\"\")","v":""}]
[null,{"$f":"IF(Självskattning!C122=\"Nej\",Självskattning!A122,\"\")","v":""},{"$f":"IF(Självskattning!C122=\"Nej\",Självskattning!B122,\"\")","v":""},{"$f":"IF(Självskattning!C122=\"Nej\",IF(ISBLANK(Självskattning!D122),\"\",Självskattning!D122),\"\")","v":""}]
[null,{"$f":"IF(Självskattning!C123=\"Nej\",Självskattning!A123,\"\")","v":""},{"$f":"IF(Självskattning!C123=\"Nej\",Självskattning!B123,\"\")","v":""},{"$f":"IF(Självskattning!C123=\"Nej\",IF(ISBLANK(Självskattning!D123),\"\",Självskattning!D123),\"\")","v":""}]
[null,{"$f":"IF(Självskattning!C124=\"Nej\",Självskattning!A124,\"\")","v":""},{"$f":"IF(Självskattning!C124=\"Nej\",Självskattning!B124,\"\")","v":""},{"$f":"IF(Självskattning!C124=\"Nej\",IF(ISBLANK(Självskattning!D124),\"\",Självskattning!D124),\"\")","v":""}]
[null,{"$f":"IF(Självskattning!C125=\"Nej\",Självskattning!A125,\"\")","v":""},{"$f":"IF(Självskattning!C125=\"Nej\",Självskattning!B125,\"\")","v":""},{"$f":"IF(Självskattning!C125=\"Nej\",IF(ISBLANK(Självskattning!D125),\"\",Självskattning!D125),\"\")","v":""}]
[null,{"$f":"IF(Självskattning!C126=\"Nej\",Självskattning!A126,\"\")","v":""},{"$f":"IF(Självskattning!C126=\"Nej\",Självskattning!B126,\"\")","v":""},{"$f":"IF(Självskattning!C126=\"Nej\",IF(ISBLANK(Självskattning!D126),\"\",Självskattning!D126),\"\")","v":""}]
[null,{"$f":"IF(Självskattning!C127=\"Nej\",Självskattning!A127,\"\")","v":""},{"$f":"IF(Självskattning!C127=\"Nej\",Självskattning!B127,\"\")","v":""},{"$f":"IF(Självskattning!C127=\"Nej\",IF(ISBLANK(Självskattning!D127),\"\",Självskattning!D127),\"\")","v":""}]
[null,{"$f":"IF(Självskattning!C128=\"Nej\",Självskattning!A128,\"\")","v":""},{"$f":"IF(Självskattning!C128=\"Nej\",Självskattning!B128,\"\")","v":""},{"$f":"IF(Självskattning!C128=\"Nej\",IF(ISBLANK(Självskattning!D128),\"\",Självskattning!D128),\"\")","v":""}]
[null,{"$f":"IF(Självskattning!C129=\"Nej\",Självskattning!A129,\"\")","v":""},{"$f":"IF(Självskattning!C129=\"Nej\",Självskattning!B129,\"\")","v":""},{"$f":"IF(Självskattning!C129=\"Nej\",IF(ISBLANK(Självskattning!D129),\"\",Självskattning!D129),\"\")","v":""}]
[null,{"$f":"IF(Självskattning!C130=\"Nej\",Självskattning!A130,\"\")","v":""},{"$f":"IF(Självskattning!C130=\"Nej\",Självskattning!B130,\"\")","v":""},{"$f":"IF(Självskattning!C130=\"Nej\",IF(ISBLANK(Självskattning!D130),\"\",Självskattning!D130),\"\")","v":""}]
[null,{"$f":"IF(Självskattning!C131=\"Nej\",Självskattning!A131,\"\")","v":""},{"$f":"IF(Självskattning!C131=\"Nej\",Självskattning!B131,\"\")","v":""},{"$f":"IF(Självskattning!C131=\"Nej\",IF(ISBLANK(Självskattning!D131),\"\",Självskattning!D131),\"\")","v":""}]
[null,{"$f":"IF(Självskattning!C132=\"Nej\",Självskattning!A132,\"\")","v":""},{"$f":"IF(Självskattning!C132=\"Nej\",Självskattning!B132,\"\")","v":""},{"$f":"IF(Självskattning!C132=\"Nej\",IF(ISBLANK(Självskattning!D132),\"\",Självskattning!D132),\"\")","v":""}]
[null,{"$f":"IF(Självskattning!C133=\"Nej\",Självskattning!A133,\"\")","v":""},{"$f":"IF(Självskattning!C133=\"Nej\",Självskattning!B133,\"\")","v":""},{"$f":"IF(Självskattning!C133=\"Nej\",IF(ISBLANK(Självskattning!D133),\"\",Självskattning!D133),\"\")","v":""}]
[null,{"$f":"IF(Självskattning!C134=\"Nej\",Självskattning!A134,\"\")","v":""},{"$f":"IF(Självskattning!C134=\"Nej\",Självskattning!B134,\"\")","v":""},{"$f":"IF(Självskattning!C134=\"Nej\",IF(ISBLANK(Självskattning!D134),\"\",Självskattning!D134),\"\")","v":""}]
[null,{"$f":"IF(Självskattning!C135=\"Nej\",Självskattning!A135,\"\")","v":""},{"$f":"IF(Självskattning!C135=\"Nej\",Självskattning!B135,\"\")","v":""},{"$f":"IF(Självskattning!C135=\"Nej\",IF(ISBLANK(Självskattning!D135),\"\",Självskattning!D135),\"\")","v":""}]
[null,{"$f":"IF(Självskattning!C136=\"Nej\",Självskattning!A136,\"\")","v":""},{"$f":"IF(Självskattning!C136=\"Nej\",Självskattning!B136,\"\")","v":""},{"$f":"IF(Självskattning!C136=\"Nej\",IF(ISBLANK(Självskattning!D136),\"\",Självskattning!D136),\"\")","v":""}]
[null,{"$f":"IF(Självskattning!C137=\"Nej\",Självskattning!A137,\"\")","v":""},{"$f":"IF(Självskattning!C137=\"Nej\",Självskattning!B137,\"\")","v":""},{"$f":"IF(Självskattning!C137=\"Nej\",IF(ISBLANK(Självskattning!D137),\"\",Självskattning!D137),\"\")","v":""}]
[null,{"$f":"IF(Självskattning!C138=\"Nej\",Självskattning!A138,\"\")","v":""},{"$f":"IF(Självskattning!C138=\"Nej\",Självskattning!B138,\"\")","v":""},{"$f":"IF(Självskattning!C138=\"Nej\",IF(ISBLANK(Självskattning!D138),\"\",Självskattning!D138),\"\")","v":""}]
[null,{"$f":"IF(Självskattning!C139=\"Nej\",Självskattning!A139,\"\")","v":""},{"$f":"IF(Självskattning!C139=\"Nej\",Självskattning!B139,\"\")","v":""},{"$f":"IF(Självskattning!C139=\"Nej\",IF(ISBLANK(Självskattning!D139),\"\",Självskattning!D139),\"\")","v":""}]
[null,{"$f":"IF(Självskattning!C140=\"Nej\",Självskattning!A140,\"\")","v":""},{"$f":"IF(Självskattning!C140=\"Nej\",Självskattning!B140,\"\")","v":""},{"$f":"IF(Självskattning!C140=\"Nej\",IF(ISBLANK(Självskattning!D140),\"\",Självskattning!D140),\"\")","v":""}]
[null,{"$f":"IF(Självskattning!C141=\"Nej\",Självskattning!A141,\"\")","v":""},{"$f":"IF(Självskattning!C141=\"Nej\",Självskattning!B141,\"\")","v":""},{"$f":"IF(Självskattning!C141=\"Nej\",IF(ISBLANK(Självskattning!D141),\"\",Självskattning!D141),\"\")","v":""}]
[null,{"$f":"IF(Självskattning!C142=\"Nej\",Självskattning!A142,\"\")","v":""},{"$f":"IF(Självskattning!C142=\"Nej\",Självskattning!B142,\"\")","v":""},{"$f":"IF(Självskattning!C142=\"Nej\",IF(ISBLANK(Självskattning!D142),\"\",Självskattning!D142),\"\")","v":""}]
[null,{"$f":"IF(Självskattning!C143=\"Nej\",Självskattning!A143,\"\")","v":""},{"$f":"IF(Självskattning!C143=\"Nej\",Självskattning!B143,\"\")","v":""},{"$f":"IF(Självskattning!C143=\"Nej\",IF(ISBLANK(Självskattning!D143),\"\",Självskattning!D143),\"\")","v":""}]
[null,{"$f":"IF(Självskattning!C144=\"Nej\",Självskattning!A144,\"\")","v":""},{"$f":"IF(Självskattning!C144=\"Nej\",Självskattning!B144,\"\")","v":""},{"$f":"IF(Självskattning!C144=\"Nej\",IF(ISBLANK(Självskattning!D144),\"\",Självskattning!D144),\"\")","v":""}]
[null,{"$f":"IF(Självskattning!C145=\"Nej\",Självskattning!A145,\"\")","v":""},{"$f":"IF(Självskattning!C145=\"Nej\",Självskattning!B145,\"\")","v":""},{"$f":"IF(Självskattning!C145=\"Nej\",IF(ISBLANK(Självskattning!D145),\"\",Självskattning!D145),\"\")","v":""}]
[null,{"$f":"IF(Självskattning!C146=\"Nej\",Självskattning!A146,\"\")","v":""},{"$f":"IF(Självskattning!C146=\"Nej\",Självskattning!B146,\"\")","v":""},{"$f":"IF(Självskattning!C146=\"Nej\",IF(ISBLANK(Självskattning!D146),\"\",Självskattning!D146),\"\")","v":""}]
[null,{"$f":"IF(Självskattning!C147=\"Nej\",Självskattning!A147,\"\")","v":""},{"$f":"IF(Självskattning!C147=\"Nej\",Självskattning!B147,\"\")","v":""},{"$f":"IF(Självskattning!C147=\"Nej\",IF(ISBLANK(Självskattning!D147),\"\",Självskattning!D147),\"\")","v":""}]
[null,{"$f":"IF(Självskattning!C148=\"Nej\",Självskattning!A148,\"\")","v":""},{"$f":"IF(Självskattning!C148=\"Nej\",Självskattning!B148,\"\")","v":""},{"$f":"IF(Självskattning!C148=\"Nej\",IF(ISBLANK(Självskattning!D148),\"\",Självskattning!D148),\"\")","v":""}]
[null,{"$f":"IF(Självskattning!C149=\"Nej\",Självskattning!A149,\"\")","v":""},{"$f":"IF(Självskattning!C149=\"Nej\",Självskattning!B149,\"\")","v":""},{"$f":"IF(Självskattning!C149=\"Nej\",IF(ISBLANK(Självskattning!D149),\"\",Självskattning!D149),\"\")","v":""}]
[null,{"$f":"IF(Självskattning!C150=\"Nej\",Självskattning!A150,\"\")","v":""},{"$f":"IF(Självskattning!C150=\"Nej\",Självskattning!B150,\"\")","v":""},{"$f":"IF(Självskattning!C150=\"Nej\",IF(ISBLANK(Självskattning!D150),\"\",Självskattning!D150),\"\")","v":""}]
[null,{"$f":"IF(Självskattning!C151=\"Nej\",Självskattning!A151,\"\")","v":""},{"$f":"IF(Självskattning!C151=\"Nej\",Självskattning!B151,\"\")","v":""},{"$f":"IF(Självskattning!C151=\"Nej\",IF(ISBLANK(Självskattning!D151),\"\",Självskattning!D151),\"\")","v":""}]
[null,{"$f":"IF(Självskattning!C152=\"Nej\",Självskattning!A152,\"\")","v":""},{"$f":"IF(Självskattning!C152=\"Nej\",Självskattning!B152,\"\")","v":""},{"$f":"IF(Självskattning!C152=\"Nej\",IF(ISBLANK(Självskattning!D152),\"\",Självskattning!D152),\"\")","v":""}]
[null,{"$f":"IF(Självskattning!C153=\"Nej\",Självskattning!A153,\"\")","v":""},{"$f":"IF(Självskattning!C153=\"Nej\",Självskattning!B153,\"\")","v":""},{"$f":"IF(Självskattning!C153=\"Nej\",IF(ISBLANK(Självskattning!D153),\"\",Självskattning!D153),\"\")","v":""}]
[null,{"$f":"IF(Självskattning!C154=\"Nej\",Självskattning!A154,\"\")","v":""},{"$f":"IF(Självskattning!C154=\"Nej\",Självskattning!B154,\"\")","v":""},{"$f":"IF(Självskattning!C154=\"Nej\",IF(ISBLANK(Självskattning!D154),\"\",Självskattning!D154),\"\")","v":""}]
[null,{"$f":"IF(Självskattning!C155=\"Nej\",Självskattning!A155,\"\")","v":""},{"$f":"IF(Självskattning!C155=\"Nej\",Självskattning!B155,\"\")","v":""},{"$f":"IF(Självskattning!C155=\"Nej\",IF(ISBLANK(Självskattning!D155),\"\",Självskattning!D155),\"\")","v":""}]
[null,{"$f":"IF(Självskattning!C156=\"Nej\",Självskattning!A156,\"\")","v":""},{"$f":"IF(Självskattning!C156=\"Nej\",Självskattning!B156,\"\")","v":""},{"$f":"IF(Självskattning!C156=\"Nej\",IF(ISBLANK(Självskattning!D156),\"\",Självskattning!D156),\"\")","v":""}]
[null,{"$f":"IF(Självskattning!C157=\"Nej\",Självskattning!A157,\"\")","v":""},{"$f":"IF(Självskattning!C157=\"Nej\",Självskattning!B157,\"\")","v":""},{"$f":"IF(Självskattning!C157=\"Nej\",IF(ISBLANK(Självskattning!D157),\"\",Självskattning!D157),\"\")","v":""}]
[null,{"$f":"IF(Självskattning!C158=\"Nej\",Självskattning!A158,\"\")","v":""},{"$f":"IF(Självskattning!C158=\"Nej\",Självskattning!B158,\"\")","v":""},{"$f":"IF(Självskattning!C158=\"Nej\",IF(ISBLANK(Självskattning!D158),\"\",Självskattning!D158),\"\")","v":""}]
[null,{"$f":"IF(Självskattning!C159=\"Nej\",Självskattning!A159,\"\")","v":""},{"$f":"IF(Självskattning!C159=\"Nej\",Självskattning!B159,\"\")","v":""},{"$f":"IF(Självskattning!C159=\"Nej\",IF(ISBLANK(Självskattning!D159),\"\",Självskattning!D159),\"\")","v":""}]
[null,{"$f":"IF(Självskattning!C160=\"Nej\",Självskattning!A160,\"\")","v":""},{"$f":"IF(Självskattning!C160=\"Nej\",Självskattning!B160,\"\")","v":""},{"$f":"IF(Självskattning!C160=\"Nej\",IF(ISBLANK(Självskattning!D160),\"\",Självskattning!D160),\"\")","v":""}]
[null,{"$f":"IF(Självskattning!C161=\"Nej\",Självskattning!A161,\"\")","v":""},{"$f":"IF(Självskattning!C161=\"Nej\",Självskattning!B161,\"\")","v":""},{"$f":"IF(Självskattning!C161=\"Nej\",IF(ISBLANK(Självskattning!D161),\"\",Självskattning!D161),\"\")","v":""}]
[null,{"$f":"IF(Självskattning!C162=\"Nej\",Självskattning!A162,\"\")","v":""},{"$f":"IF(Självskattning!C162=\"Nej\",Självskattning!B162,\"\")","v":""},{"$f":"IF(Självskattning!C162=\"Nej\",IF(ISBLANK(Självskattning!D162),\"\",Självskattning!D162),\"\")","v":""}]
[null,{"$f":"IF(Självskattning!C163=\"Nej\",Självskattning!A163,\"\")","v":""},{"$f":"IF(Självskattning!C163=\"Nej\",Självskattning!B163,\"\")","v":""},{"$f":"IF(Självskattning!C163=\"Nej\",IF(ISBLANK(Självskattning!D163),\"\",Självskattning!D163),\"\")","v":""}]
[null,{"$f":"IF(Självskattning!C164=\"Nej\",Självskattning!A164,\"\")","v":""},{"$f":"IF(Självskattning!C164=\"Nej\",Självskattning!B164,\"\")","v":""},{"$f":"IF(Självskattning!C164=\"Nej\",IF(ISBLANK(Självskattning!D164),\"\",Självskattning!D164),\"\")","v":""}]
[null,{"$f":"IF(Självskattning!C165=\"Nej\",Självskattning!A165,\"\")","v":""},{"$f":"IF(Självskattning!C165=\"Nej\",Självskattning!B165,\"\")","v":""},{"$f":"IF(Självskattning!C165=\"Nej\",IF(ISBLANK(Självskattning!D165),\"\",Självskattning!D165),\"\")","v":""}]
[null,{"$f":"IF(Självskattning!C166=\"Nej\",Självskattning!A166,\"\")","v":""},{"$f":"IF(Självskattning!C166=\"Nej\",Självskattning!B166,\"\")","v":""},{"$f":"IF(Självskattning!C166=\"Nej\",IF(ISBLANK(Självskattning!D166),\"\",Självskattning!D166),\"\")","v":""}]
[null,{"$f":"IF(Självskattning!C167=\"Nej\",Självskattning!A167,\"\")","v":""},{"$f":"IF(Självskattning!C167=\"Nej\",Självskattning!B167,\"\")","v":""},{"$f":"IF(Självskattning!C167=\"Nej\",IF(ISBLANK(Självskattning!D167),\"\",Självskattning!D167),\"\")","v":""}]
[null,{"$f":"IF(Självskattning!C168=\"Nej\",Självskattning!A168,\"\")","v":""},{"$f":"IF(Självskattning!C168=\"Nej\",Självskattning!B168,\"\")","v":""},{"$f":"IF(Självskattning!C168=\"Nej\",IF(ISBLANK(Självskattning!D168),\"\",Självskattning!D168),\"\")","v":""}]
[null,{"$f":"IF(Självskattning!C169=\"Nej\",Självskattning!A169,\"\")","v":""},{"$f":"IF(Självskattning!C169=\"Nej\",Självskattning!B169,\"\")","v":""},{"$f":"IF(Självskattning!C169=\"Nej\",IF(ISBLANK(Självskattning!D169),\"\",Självskattning!D169),\"\")","v":""}]
[null,{"$f":"IF(Självskattning!C170=\"Nej\",Självskattning!A170,\"\")","v":""},{"$f":"IF(Självskattning!C170=\"Nej\",Självskattning!B170,\"\")","v":""},{"$f":"IF(Självskattning!C170=\"Nej\",IF(ISBLANK(Självskattning!D170),\"\",Självskattning!D170),\"\")","v":""}]
[null,{"$f":"IF(Självskattning!C171=\"Nej\",Självskattning!A171,\"\")","v":""},{"$f":"IF(Självskattning!C171=\"Nej\",Självskattning!B171,\"\")","v":""},{"$f":"IF(Självskattning!C171=\"Nej\",IF(ISBLANK(Självskattning!D171),\"\",Självskattning!D171),\"\")","v":""}]
[null,{"$f":"IF(Självskattning!C172=\"Nej\",Självskattning!A172,\"\")","v":""},{"$f":"IF(Självskattning!C172=\"Nej\",Självskattning!B172,\"\")","v":""},{"$f":"IF(Självskattning!C172=\"Nej\",IF(ISBLANK(Självskattning!D172),\"\",Självskattning!D172),\"\")","v":""}]
[null,{"$f":"IF(Självskattning!C173=\"Nej\",Självskattning!A173,\"\")","v":""},{"$f":"IF(Självskattning!C173=\"Nej\",Självskattning!B173,\"\")","v":""},{"$f":"IF(Självskattning!C173=\"Nej\",IF(ISBLANK(Självskattning!D173),\"\",Självskattning!D173),\"\")","v":""}]
[null,{"$f":"IF(Självskattning!C174=\"Nej\",Självskattning!A174,\"\")","v":""},{"$f":"IF(Självskattning!C174=\"Nej\",Självskattning!B174,\"\")","v":""},{"$f":"IF(Självskattning!C174=\"Nej\",IF(ISBLANK(Självskattning!D174),\"\",Självskattning!D174),\"\")","v":""}]
[null,{"$f":"IF(Självskattning!C175=\"Nej\",Självskattning!A175,\"\")","v":""},{"$f":"IF(Självskattning!C175=\"Nej\",Självskattning!B175,\"\")","v":""},{"$f":"IF(Självskattning!C175=\"Nej\",IF(ISBLANK(Självskattning!D175),\"\",Självskattning!D175),\"\")","v":""}]
[null,{"$f":"IF(Självskattning!C176=\"Nej\",Självskattning!A176,\"\")","v":""},{"$f":"IF(Självskattning!C176=\"Nej\",Självskattning!B176,\"\")","v":""},{"$f":"IF(Självskattning!C176=\"Nej\",IF(ISBLANK(Självskattning!D176),\"\",Självskattning!D176),\"\")","v":""}]
[null,{"$f":"IF(Självskattning!C177=\"Nej\",Självskattning!A177,\"\")","v":""},{"$f":"IF(Självskattning!C177=\"Nej\",Självskattning!B177,\"\")","v":""},{"$f":"IF(Självskattning!C177=\"Nej\",IF(ISBLANK(Självskattning!D177),\"\",Självskattning!D177),\"\")","v":""}]
[null,{"$f":"IF(Självskattning!C178=\"Nej\",Självskattning!A178,\"\")","v":""},{"$f":"IF(Självskattning!C178=\"Nej\",Självskattning!B178,\"\")","v":""},{"$f":"IF(Självskattning!C178=\"Nej\",IF(ISBLANK(Självskattning!D178),\"\",Självskattning!D178),\"\")","v":""}]
[null,{"$f":"IF(Självskattning!C179=\"Nej\",Självskattning!A179,\"\")","v":""},{"$f":"IF(Självskattning!C179=\"Nej\",Självskattning!B179,\"\")","v":""},{"$f":"IF(Självskattning!C179=\"Nej\",IF(ISBLANK(Självskattning!D179),\"\",Självskattning!D179),\"\")","v":""}]
[null,{"$f":"IF(Självskattning!C180=\"Nej\",Självskattning!A180,\"\")","v":""},{"$f":"IF(Självskattning!C180=\"Nej\",Självskattning!B180,\"\")","v":""},{"$f":"IF(Självskattning!C180=\"Nej\",IF(ISBLANK(Självskattning!D180),\"\",Självskattning!D180),\"\")","v":""}]
[null,{"$f":"IF(Självskattning!C181=\"Nej\",Självskattning!A181,\"\")","v":""},{"$f":"IF(Självskattning!C181=\"Nej\",Självskattning!B181,\"\")","v":""},{"$f":"IF(Självskattning!C181=\"Nej\",IF(ISBLANK(Självskattning!D181),\"\",Självskattning!D181),\"\")","v":""}]
[null,{"$f":"IF(Självskattning!C182=\"Nej\",Självskattning!A182,\"\")","v":""},{"$f":"IF(Självskattning!C182=\"Nej\",Självskattning!B182,\"\")","v":""},{"$f":"IF(Självskattning!C182=\"Nej\",IF(ISBLANK(Självskattning!D182),\"\",Självskattning!D182),\"\")","v":""}]
[null,{"$f":"IF(Självskattning!C183=\"Nej\",Självskattning!A183,\"\")","v":""},{"$f":"IF(Självskattning!C183=\"Nej\",Självskattning!B183,\"\")","v":""},{"$f":"IF(Självskattning!C183=\"Nej\",IF(ISBLANK(Självskattning!D183),\"\",Självskattning!D183),\"\")","v":""}]
[null,{"$f":"IF(Självskattning!C184=\"Nej\",Självskattning!A184,\"\")","v":""},{"$f":"IF(Självskattning!C184=\"Nej\",Självskattning!B184,\"\")","v":""},{"$f":"IF(Självskattning!C184=\"Nej\",IF(ISBLANK(Självskattning!D184),\"\",Självskattning!D184),\"\")","v":""}]
[null,{"$f":"IF(Självskattning!C185=\"Nej\",Självskattning!A185,\"\")","v":""},{"$f":"IF(Självskattning!C185=\"Nej\",Självskattning!B185,\"\")","v":""},{"$f":"IF(Självskattning!C185=\"Nej\",IF(ISBLANK(Självskattning!D185),\"\",Självskattning!D185),\"\")","v":""}]
[null,{"$f":"IF(Självskattning!C186=\"Nej\",Självskattning!A186,\"\")","v":""},{"$f":"IF(Självskattning!C186=\"Nej\",Självskattning!B186,\"\")","v":""},{"$f":"IF(Självskattning!C186=\"Nej\",IF(ISBLANK(Självskattning!D186),\"\",Självskattning!D186),\"\")","v":""}]
[null,{"$f":"IF(Självskattning!C187=\"Nej\",Självskattning!A187,\"\")","v":""},{"$f":"IF(Självskattning!C187=\"Nej\",Självskattning!B187,\"\")","v":""},{"$f":"IF(Självskattning!C187=\"Nej\",IF(ISBLANK(Självskattning!D187),\"\",Självskattning!D187),\"\")","v":""}]
[null,{"$f":"IF(Självskattning!C188=\"Nej\",Självskattning!A188,\"\")","v":""},{"$f":"IF(Självskattning!C188=\"Nej\",Självskattning!B188,\"\")","v":""},{"$f":"IF(Självskattning!C188=\"Nej\",IF(ISBLANK(Självskattning!D188),\"\",Självskattning!D188),\"\")","v":""}]
[null,{"$f":"IF(Självskattning!C189=\"Nej\",Självskattning!A189,\"\")","v":""},{"$f":"IF(Självskattning!C189=\"Nej\",Självskattning!B189,\"\")","v":""},{"$f":"IF(Självskattning!C189=\"Nej\",IF(ISBLANK(Självskattning!D189),\"\",Självskattning!D189),\"\")","v":""}]
[null,{"$f":"IF(Självskattning!C190=\"Nej\",Självskattning!A190,\"\")","v":""},{"$f":"IF(Självskattning!C190=\"Nej\",Självskattning!B190,\"\")","v":""},{"$f":"IF(Självskattning!C190=\"Nej\",IF(ISBLANK(Självskattning!D190),\"\",Självskattning!D190),\"\")","v":""}]
[null,{"$f":"IF(Självskattning!C191=\"Nej\",Självskattning!A191,\"\")","v":""},{"$f":"IF(Självskattning!C191=\"Nej\",Självskattning!B191,\"\")","v":""},{"$f":"IF(Självskattning!C191=\"Nej\",IF(ISBLANK(Självskattning!D191),\"\",Självskattning!D191),\"\")","v":""}]
[null,{"$f":"IF(Självskattning!C192=\"Nej\",Självskattning!A192,\"\")","v":""},{"$f":"IF(Självskattning!C192=\"Nej\",Självskattning!B192,\"\")","v":""},{"$f":"IF(Självskattning!C192=\"Nej\",IF(ISBLANK(Självskattning!D192),\"\",Självskattning!D192),\"\")","v":""}]
[null,{"$f":"IF(Självskattning!C193=\"Nej\",Självskattning!A193,\"\")","v":""},{"$f":"IF(Självskattning!C193=\"Nej\",Självskattning!B193,\"\")","v":""},{"$f":"IF(Självskattning!C193=\"Nej\",IF(ISBLANK(Självskattning!D193),\"\",Självskattning!D193),\"\")","v":""}]
[null,{"$f":"IF(Självskattning!C194=\"Nej\",Självskattning!A194,\"\")","v":""},{"$f":"IF(Självskattning!C194=\"Nej\",Självskattning!B194,\"\")","v":""},{"$f":"IF(Självskattning!C194=\"Nej\",IF(ISBLANK(Självskattning!D194),\"\",Självskattning!D194),\"\")","v":""}]
[null,{"$f":"IF(Självskattning!C195=\"Nej\",Självskattning!A195,\"\")","v":""},{"$f":"IF(Självskattning!C195=\"Nej\",Självskattning!B195,\"\")","v":""},{"$f":"IF(Självskattning!C195=\"Nej\",IF(ISBLANK(Självskattning!D195),\"\",Självskattning!D195),\"\")","v":""}]
[null,{"$f":"IF(Självskattning!C196=\"Nej\",Självskattning!A196,\"\")","v":""},{"$f":"IF(Självskattning!C196=\"Nej\",Självskattning!B196,\"\")","v":""},{"$f":"IF(Självskattning!C196=\"Nej\",IF(ISBLANK(Självskattning!D196),\"\",Självskattning!D196),\"\")","v":""}]
[null,{"$f":"IF(Självskattning!C197=\"Nej\",Självskattning!A197,\"\")","v":""},{"$f":"IF(Självskattning!C197=\"Nej\",Självskattning!B197,\"\")","v":""},{"$f":"IF(Självskattning!C197=\"Nej\",IF(ISBLANK(Självskattning!D197),\"\",Självskattning!D197),\"\")","v":""}]
[null,{"$f":"IF(Självskattning!C198=\"Nej\",Självskattning!A198,\"\")","v":""},{"$f":"IF(Självskattning!C198=\"Nej\",Självskattning!B198,\"\")","v":""},{"$f":"IF(Självskattning!C198=\"Nej\",IF(ISBLANK(Självskattning!D198),\"\",Självskattning!D198),\"\")","v":""}]
[null,{"$f":"IF(Självskattning!C199=\"Nej\",Självskattning!A199,\"\")","v":""},{"$f":"IF(Självskattning!C199=\"Nej\",Självskattning!B199,\"\")","v":""},{"$f":"IF(Självskattning!C199=\"Nej\",IF(ISBLANK(Självskattning!D199),\"\",Självskattning!D199),\"\")","v":""}]
[null,{"$f":"IF(Självskattning!C200=\"Nej\",Självskattning!A200,\"\")","v":""},{"$f":"IF(Självskattning!C200=\"Nej\",Självskattning!B200,\"\")","v":""},{"$f":"IF(Självskattning!C200=\"Nej\",IF(ISBLANK(Självskattning!D200),\"\",Självskattning!D200),\"\")","v":""}]
[null,{"$f":"IF(Självskattning!C201=\"Nej\",Självskattning!A201,\"\")","v":""},{"$f":"IF(Självskattning!C201=\"Nej\",Självskattning!B201,\"\")","v":""},{"$f":"IF(Självskattning!C201=\"Nej\",IF(ISBLANK(Självskattning!D201),\"\",Självskattning!D201),\"\")","v":""}]
[null,{"$f":"IF(Självskattning!C202=\"Nej\",Självskattning!A202,\"\")","v":""},{"$f":"IF(Självskattning!C202=\"Nej\",Självskattning!B202,\"\")","v":""},{"$f":"IF(Självskattning!C202=\"Nej\",IF(ISBLANK(Självskattning!D202),\"\",Självskattning!D202),\"\")","v":""}]
[null,{"$f":"IF(Självskattning!C203=\"Nej\",Självskattning!A203,\"\")","v":""},{"$f":"IF(Självskattning!C203=\"Nej\",Självskattning!B203,\"\")","v":""},{"$f":"IF(Självskattning!C203=\"Nej\",IF(ISBLANK(Självskattning!D203),\"\",Självskattning!D203),\"\")","v":""}]
[null,{"$f":"IF(Självskattning!C204=\"Nej\",Självskattning!A204,\"\")","v":""},{"$f":"IF(Självskattning!C204=\"Nej\",Självskattning!B204,\"\")","v":""},{"$f":"IF(Självskattning!C204=\"Nej\",IF(ISBLANK(Självskattning!D204),\"\",Självskattning!D204),\"\")","v":""}]
[null,{"$f":"IF(Självskattning!C205=\"Nej\",Självskattning!A205,\"\")","v":""},{"$f":"IF(Självskattning!C205=\"Nej\",Självskattning!B205,\"\")","v":""},{"$f":"IF(Självskattning!C205=\"Nej\",IF(ISBLANK(Självskattning!D205),\"\",Självskattning!D205),\"\")","v":""}]
[null,{"$f":"IF(Självskattning!C206=\"Nej\",Självskattning!A206,\"\")","v":""},{"$f":"IF(Självskattning!C206=\"Nej\",Självskattning!B206,\"\")","v":""},{"$f":"IF(Självskattning!C206=\"Nej\",IF(ISBLANK(Självskattning!D206),\"\",Självskattning!D206),\"\")","v":""}]
[null,{"$f":"IF(Självskattning!C207=\"Nej\",Självskattning!A207,\"\")","v":""},{"$f":"IF(Självskattning!C207=\"Nej\",Självskattning!B207,\"\")","v":""},{"$f":"IF(Självskattning!C207=\"Nej\",IF(ISBLANK(Självskattning!D207),\"\",Självskattning!D207),\"\")","v":""}]
[null,{"$f":"IF(Självskattning!C208=\"Nej\",Självskattning!A208,\"\")","v":""},{"$f":"IF(Självskattning!C208=\"Nej\",Självskattning!B208,\"\")","v":""},{"$f":"IF(Självskattning!C208=\"Nej\",IF(ISBLANK(Självskattning!D208),\"\",Självskattning!D208),\"\")","v":""}]
[null,{"$f":"IF(Självskattning!C209=\"Nej\",Självskattning!A209,\"\")","v":""},{"$f":"IF(Självskattning!C209=\"Nej\",Självskattning!B209,\"\")","v":""},{"$f":"IF(Självskattning!C209=\"Nej\",IF(ISBLANK(Självskattning!D209),\"\",Självskattning!D209),\"\")","v":""}]
[null,{"$f":"IF(Självskattning!C210=\"Nej\",Självskattning!A210,\"\")","v":""},{"$f":"IF(Självskattning!C210=\"Nej\",Självskattning!B210,\"\")","v":""},{"$f":"IF(Självskattning!C210=\"Nej\",IF(ISBLANK(Självskattning!D210),\"\",Självskattning!D210),\"\")","v":""}]
[null,{"$f":"IF(Självskattning!C211=\"Nej\",Självskattning!A211,\"\")","v":""},{"$f":"IF(Självskattning!C211=\"Nej\",Självskattning!B211,\"\")","v":""},{"$f":"IF(Självskattning!C211=\"Nej\",IF(ISBLANK(Självskattning!D211),\"\",Självskattning!D211),\"\")","v":""}]
[null,{"$f":"IF(Självskattning!C212=\"Nej\",Självskattning!A212,\"\")","v":""},{"$f":"IF(Självskattning!C212=\"Nej\",Självskattning!B212,\"\")","v":""},{"$f":"IF(Självskattning!C212=\"Nej\",IF(ISBLANK(Självskattning!D212),\"\",Självskattning!D212),\"\")","v":""}]
[null,{"$f":"IF(Självskattning!C213=\"Nej\",Självskattning!A213,\"\")","v":""},{"$f":"IF(Självskattning!C213=\"Nej\",Självskattning!B213,\"\")","v":""},{"$f":"IF(Självskattning!C213=\"Nej\",IF(ISBLANK(Självskattning!D213),\"\",Självskattning!D213),\"\")","v":""}]
[null,{"$f":"IF(Självskattning!C214=\"Nej\",Självskattning!A214,\"\")","v":""},{"$f":"IF(Självskattning!C214=\"Nej\",Självskattning!B214,\"\")","v":""},{"$f":"IF(Självskattning!C214=\"Nej\",IF(ISBLANK(Självskattning!D214),\"\",Självskattning!D214),\"\")","v":""}]
[null,{"$f":"IF(Självskattning!C215=\"Nej\",Självskattning!A215,\"\")","v":""},{"$f":"IF(Självskattning!C215=\"Nej\",Självskattning!B215,\"\")","v":""},{"$f":"IF(Självskattning!C215=\"Nej\",IF(ISBLANK(Självskattning!D215),\"\",Självskattning!D215),\"\")","v":""}]
[null,{"$f":"IF(Självskattning!C216=\"Nej\",Självskattning!A216,\"\")","v":""},{"$f":"IF(Självskattning!C216=\"Nej\",Självskattning!B216,\"\")","v":""},{"$f":"IF(Självskattning!C216=\"Nej\",IF(ISBLANK(Självskattning!D216),\"\",Självskattning!D216),\"\")","v":""}]
[null,{"$f":"IF(Självskattning!C217=\"Nej\",Självskattning!A217,\"\")","v":""},{"$f":"IF(Självskattning!C217=\"Nej\",Självskattning!B217,\"\")","v":""},{"$f":"IF(Självskattning!C217=\"Nej\",IF(ISBLANK(Självskattning!D217),\"\",Självskattning!D217),\"\")","v":""}]
[null,{"$f":"IF(Självskattning!C218=\"Nej\",Självskattning!A218,\"\")","v":""},{"$f":"IF(Självskattning!C218=\"Nej\",Självskattning!B218,\"\")","v":""},{"$f":"IF(Självskattning!C218=\"Nej\",IF(ISBLANK(Självskattning!D218),\"\",Självskattning!D218),\"\")","v":""}]
[null,{"$f":"IF(Självskattning!C219=\"Nej\",Självskattning!A219,\"\")","v":""},{"$f":"IF(Självskattning!C219=\"Nej\",Självskattning!B219,\"\")","v":""},{"$f":"IF(Självskattning!C219=\"Nej\",IF(ISBLANK(Självskattning!D219),\"\",Självskattning!D219),\"\")","v":""}]
[null,{"$f":"IF(Självskattning!C220=\"Nej\",Självskattning!A220,\"\")","v":""},{"$f":"IF(Självskattning!C220=\"Nej\",Självskattning!B220,\"\")","v":""},{"$f":"IF(Självskattning!C220=\"Nej\",IF(ISBLANK(Självskattning!D220),\"\",Självskattning!D220),\"\")","v":""}]
[null,{"$f":"IF(Självskattning!C221=\"Nej\",Självskattning!A221,\"\")","v":""},{"$f":"IF(Självskattning!C221=\"Nej\",Självskattning!B221,\"\")","v":""},{"$f":"IF(Självskattning!C221=\"Nej\",IF(ISBLANK(Självskattning!D221),\"\",Självskattning!D221),\"\")","v":""}]
[null,{"$f":"IF(Självskattning!C222=\"Nej\",Självskattning!A222,\"\")","v":""},{"$f":"IF(Självskattning!C222=\"Nej\",Självskattning!B222,\"\")","v":""},{"$f":"IF(Självskattning!C222=\"Nej\",IF(ISBLANK(Självskattning!D222),\"\",Självskattning!D222),\"\")","v":""}]
[null,{"$f":"IF(Självskattning!C223=\"Nej\",Självskattning!A223,\"\")","v":""},{"$f":"IF(Självskattning!C223=\"Nej\",Självskattning!B223,\"\")","v":""},{"$f":"IF(Självskattning!C223=\"Nej\",IF(ISBLANK(Självskattning!D223),\"\",Självskattning!D223),\"\")","v":""}]
[null,{"$f":"IF(Självskattning!C224=\"Nej\",Självskattning!A224,\"\")","v":""},{"$f":"IF(Självskattning!C224=\"Nej\",Självskattning!B224,\"\")","v":""},{"$f":"IF(Självskattning!C224=\"Nej\",IF(ISBLANK(Självskattning!D224),\"\",Självskattning!D224),\"\")","v":""}]
[null,{"$f":"IF(Självskattning!C225=\"Nej\",Självskattning!A225,\"\")","v":""},{"$f":"IF(Självskattning!C225=\"Nej\",Självskattning!B225,\"\")","v":""},{"$f":"IF(Självskattning!C225=\"Nej\",IF(ISBLANK(Självskattning!D225),\"\",Självskattning!D225),\"\")","v":""}]
[null,{"$f":"IF(Självskattning!C226=\"Nej\",Självskattning!A226,\"\")","v":""},{"$f":"IF(Självskattning!C226=\"Nej\",Självskattning!B226,\"\")","v":""},{"$f":"IF(Självskattning!C226=\"Nej\",IF(ISBLANK(Självskattning!D226),\"\",Självskattning!D226),\"\")","v":""}]
[null,{"$f":"IF(Självskattning!C227=\"Nej\",Självskattning!A227,\"\")","v":""},{"$f":"IF(Självskattning!C227=\"Nej\",Självskattning!B227,\"\")","v":""},{"$f":"IF(Självskattning!C227=\"Nej\",IF(ISBLANK(Självskattning!D227),\"\",Självskattning!D227),\"\")","v":""}]
[null,{"$f":"IF(Självskattning!C228=\"Nej\",Självskattning!A228,\"\")","v":""},{"$f":"IF(Självskattning!C228=\"Nej\",Självskattning!B228,\"\")","v":""},{"$f":"IF(Självskattning!C228=\"Nej\",IF(ISBLANK(Självskattning!D228),\"\",Självskattning!D228),\"\")","v":""}]
[null,{"$f":"IF(Självskattning!C229=\"Nej\",Självskattning!A229,\"\")","v":""},{"$f":"IF(Självskattning!C229=\"Nej\",Självskattning!B229,\"\")","v":""},{"$f":"IF(Självskattning!C229=\"Nej\",IF(ISBLANK(Självskattning!D229),\"\",Självskattning!D229),\"\")","v":""}]
[null,{"$f":"IF(Självskattning!C230=\"Nej\",Självskattning!A230,\"\")","v":""},{"$f":"IF(Självskattning!C230=\"Nej\",Självskattning!B230,\"\")","v":""},{"$f":"IF(Självskattning!C230=\"Nej\",IF(ISBLANK(Självskattning!D230),\"\",Självskattning!D230),\"\")","v":""}]
[null,{"$f":"IF(Självskattning!C231=\"Nej\",Självskattning!A231,\"\")","v":""},{"$f":"IF(Självskattning!C231=\"Nej\",Självskattning!B231,\"\")","v":""},{"$f":"IF(Självskattning!C231=\"Nej\",IF(ISBLANK(Självskattning!D231),\"\",Självskattning!D231),\"\")","v":""}]
[null,{"$f":"IF(Självskattning!C232=\"Nej\",Självskattning!A232,\"\")","v":""},{"$f":"IF(Självskattning!C232=\"Nej\",Självskattning!B232,\"\")","v":""},{"$f":"IF(Självskattning!C232=\"Nej\",IF(ISBLANK(Självskattning!D232),\"\",Självskattning!D232),\"\")","v":""}]
[null,{"$f":"IF(Självskattning!C233=\"Nej\",Självskattning!A233,\"\")","v":""},{"$f":"IF(Självskattning!C233=\"Nej\",Självskattning!B233,\"\")","v":""},{"$f":"IF(Självskattning!C233=\"Nej\",IF(ISBLANK(Självskattning!D233),\"\",Självskattning!D233),\"\")","v":""}]
[null,{"$f":"IF(Självskattning!C234=\"Nej\",Självskattning!A234,\"\")","v":""},{"$f":"IF(Självskattning!C234=\"Nej\",Självskattning!B234,\"\")","v":""},{"$f":"IF(Självskattning!C234=\"Nej\",IF(ISBLANK(Självskattning!D234),\"\",Självskattning!D234),\"\")","v":""}]
[null,{"$f":"IF(Självskattning!C235=\"Nej\",Självskattning!A235,\"\")","v":""},{"$f":"IF(Självskattning!C235=\"Nej\",Självskattning!B235,\"\")","v":""},{"$f":"IF(Självskattning!C235=\"Nej\",IF(ISBLANK(Självskattning!D235),\"\",Självskattning!D235),\"\")","v":""}]
[null,{"$f":"IF(Självskattning!C236=\"Nej\",Självskattning!A236,\"\")","v":""},{"$f":"IF(Självskattning!C236=\"Nej\",Självskattning!B236,\"\")","v":""},{"$f":"IF(Självskattning!C236=\"Nej\",IF(ISBLANK(Självskattning!D236),\"\",Självskattning!D236),\"\")","v":""}]
[null,{"$f":"IF(Självskattning!C237=\"Nej\",Självskattning!A237,\"\")","v":""},{"$f":"IF(Självskattning!C237=\"Nej\",Självskattning!B237,\"\")","v":""},{"$f":"IF(Självskattning!C237=\"Nej\",IF(ISBLANK(Självskattning!D237),\"\",Självskattning!D237),\"\")","v":""}]
[null,{"$f":"IF(Självskattning!C238=\"Nej\",Självskattning!A238,\"\")","v":""},{"$f":"IF(Självskattning!C238=\"Nej\",Självskattning!B238,\"\")","v":""},{"$f":"IF(Självskattning!C238=\"Nej\",IF(ISBLANK(Självskattning!D238),\"\",Självskattning!D238),\"\")","v":""}]
[null,{"$f":"IF(Självskattning!C239=\"Nej\",Självskattning!A239,\"\")","v":""},{"$f":"IF(Självskattning!C239=\"Nej\",Självskattning!B239,\"\")","v":""},{"$f":"IF(Självskattning!C239=\"Nej\",IF(ISBLANK(Självskattning!D239),\"\",Självskattning!D239),\"\")","v":""}]
[null,{"$f":"IF(Självskattning!C240=\"Nej\",Självskattning!A240,\"\")","v":""},{"$f":"IF(Självskattning!C240=\"Nej\",Självskattning!B240,\"\")","v":""},{"$f":"IF(Självskattning!C240=\"Nej\",IF(ISBLANK(Självskattning!D240),\"\",Självskattning!D240),\"\")","v":""}]
[null,{"$f":"IF(Självskattning!C241=\"Nej\",Självskattning!A241,\"\")","v":""},{"$f":"IF(Självskattning!C241=\"Nej\",Självskattning!B241,\"\")","v":""},{"$f":"IF(Självskattning!C241=\"Nej\",IF(ISBLANK(Självskattning!D241),\"\",Självskattning!D241),\"\")","v":""}]
[null,{"$f":"IF(Självskattning!C242=\"Nej\",Självskattning!A242,\"\")","v":""},{"$f":"IF(Självskattning!C242=\"Nej\",Självskattning!B242,\"\")","v":""},{"$f":"IF(Självskattning!C242=\"Nej\",IF(ISBLANK(Självskattning!D242),\"\",Självskattning!D242),\"\")","v":""}]
[null,{"$f":"IF(Självskattning!C243=\"Nej\",Självskattning!A243,\"\")","v":""},{"$f":"IF(Självskattning!C243=\"Nej\",Självskattning!B243,\"\")","v":""},{"$f":"IF(Självskattning!C243=\"Nej\",IF(ISBLANK(Självskattning!D243),\"\",Självskattning!D243),\"\")","v":""}]
[null,{"$f":"IF(Självskattning!C244=\"Nej\",Självskattning!A244,\"\")","v":""},{"$f":"IF(Självskattning!C244=\"Nej\",Självskattning!B244,\"\")","v":""},{"$f":"IF(Självskattning!C244=\"Nej\",IF(ISBLANK(Självskattning!D244),\"\",Självskattning!D244),\"\")","v":""}]
[null,{"$f":"IF(Självskattning!C245=\"Nej\",Självskattning!A245,\"\")","v":""},{"$f":"IF(Självskattning!C245=\"Nej\",Självskattning!B245,\"\")","v":""},{"$f":"IF(Självskattning!C245=\"Nej\",IF(ISBLANK(Självskattning!D245),\"\",Självskattning!D245),\"\")","v":""}]
[null,{"$f":"IF(Självskattning!C246=\"Nej\",Självskattning!A246,\"\")","v":""},{"$f":"IF(Självskattning!C246=\"Nej\",Självskattning!B246,\"\")","v":""},{"$f":"IF(Självskattning!C246=\"Nej\",IF(ISBLANK(Självskattning!D246),\"\",Självskattning!D246),\"\")","v":""}]
[null,{"$f":"IF(Självskattning!C247=\"Nej\",Självskattning!A247,\"\")","v":""},{"$f":"IF(Självskattning!C247=\"Nej\",Självskattning!B247,\"\")","v":""},{"$f":"IF(Självskattning!C247=\"Nej\",IF(ISBLANK(Självskattning!D247),\"\",Självskattning!D247),\"\")","v":""}]
[null,{"$f":"IF(Självskattning!C248=\"Nej\",Självskattning!A248,\"\")","v":""},{"$f":"IF(Självskattning!C248=\"Nej\",Självskattning!B248,\"\")","v":""},{"$f":"IF(Självskattning!C248=\"Nej\",IF(ISBLANK(Självskattning!D248),\"\",Självskattning!D248),\"\")","v":""}]
[null,{"$f":"IF(Självskattning!C249=\"Nej\",Självskattning!A249,\"\")","v":""},{"$f":"IF(Självskattning!C249=\"Nej\",Självskattning!B249,\"\")","v":""},{"$f":"IF(Självskattning!C249=\"Nej\",IF(ISBLANK(Självskattning!D249),\"\",Självskattning!D249),\"\")","v":""}]
[null,{"$f":"IF(Självskattning!C250=\"Nej\",Självskattning!A250,\"\")","v":""},{"$f":"IF(Självskattning!C250=\"Nej\",Självskattning!B250,\"\")","v":""},{"$f":"IF(Självskattning!C250=\"Nej\",IF(ISBLANK(Självskattning!D250),\"\",Självskattning!D250),\"\")","v":""}]
[null,{"$f":"IF(Självskattning!C251=\"Nej\",Självskattning!A251,\"\")","v":""},{"$f":"IF(Självskattning!C251=\"Nej\",Självskattning!B251,\"\")","v":""},{"$f":"IF(Självskattning!C251=\"Nej\",IF(ISBLANK(Självskattning!D251),\"\",Självskattning!D251),\"\")","v":""}]
[null,{"$f":"IF(Självskattning!C252=\"Nej\",Självskattning!A252,\"\")","v":""},{"$f":"IF(Självskattning!C252=\"Nej\",Självskattning!B252,\"\")","v":""},{"$f":"IF(Självskattning!C252=\"Nej\",IF(ISBLANK(Självskattning!D252),\"\",Självskattning!D252),\"\")","v":""}]
[null,{"$f":"IF(Självskattning!C253=\"Nej\",Självskattning!A253,\"\")","v":""},{"$f":"IF(Självskattning!C253=\"Nej\",Självskattning!B253,\"\")","v":""},{"$f":"IF(Självskattning!C253=\"Nej\",IF(ISBLANK(Självskattning!D253),\"\",Självskattning!D253),\"\")","v":""}]
[null,{"$f":"IF(Självskattning!C254=\"Nej\",Självskattning!A254,\"\")","v":""},{"$f":"IF(Självskattning!C254=\"Nej\",Självskattning!B254,\"\")","v":""},{"$f":"IF(Självskattning!C254=\"Nej\",IF(ISBLANK(Självskattning!D254),\"\",Självskattning!D254),\"\")","v":""}]
[null,{"$f":"IF(Självskattning!C255=\"Nej\",Självskattning!A255,\"\")","v":""},{"$f":"IF(Självskattning!C255=\"Nej\",Självskattning!B255,\"\")","v":""},{"$f":"IF(Självskattning!C255=\"Nej\",IF(ISBLANK(Självskattning!D255),\"\",Självskattning!D255),\"\")","v":""}]
[null,{"$f":"IF(Självskattning!C256=\"Nej\",Självskattning!A256,\"\")","v":""},{"$f":"IF(Självskattning!C256=\"Nej\",Självskattning!B256,\"\")","v":""},{"$f":"IF(Självskattning!C256=\"Nej\",IF(ISBLANK(Självskattning!D256),\"\",Självskattning!D256),\"\")","v":""}]
[null,{"$f":"IF(Självskattning!C257=\"Nej\",Självskattning!A257,\"\")","v":""},{"$f":"IF(Självskattning!C257=\"Nej\",Självskattning!B257,\"\")","v":""},{"$f":"IF(Självskattning!C257=\"Nej\",IF(ISBLANK(Självskattning!D257),\"\",Självskattning!D257),\"\")","v":""}]
[null,{"$f":"IF(Självskattning!C258=\"Nej\",Självskattning!A258,\"\")","v":""},{"$f":"IF(Självskattning!C258=\"Nej\",Självskattning!B258,\"\")","v":""},{"$f":"IF(Självskattning!C258=\"Nej\",IF(ISBLANK(Självskattning!D258),\"\",Självskattning!D258),\"\")","v":""}]
[null,{"$f":"IF(Självskattning!C259=\"Nej\",Självskattning!A259,\"\")","v":""},{"$f":"IF(Självskattning!C259=\"Nej\",Självskattning!B259,\"\")","v":""},{"$f":"IF(Självskattning!C259=\"Nej\",IF(ISBLANK(Självskattning!D259),\"\",Självskattning!D259),\"\")","v":""}]
[null,{"$f":"IF(Självskattning!C260=\"Nej\",Självskattning!A260,\"\")","v":""},{"$f":"IF(Självskattning!C260=\"Nej\",Självskattning!B260,\"\")","v":""},{"$f":"IF(Självskattning!C260=\"Nej\",IF(ISBLANK(Självskattning!D260),\"\",Självskattning!D260),\"\")","v":""}]
[null,{"$f":"IF(Självskattning!C261=\"Nej\",Självskattning!A261,\"\")","v":""},{"$f":"IF(Självskattning!C261=\"Nej\",Självskattning!B261,\"\")","v":""},{"$f":"IF(Självskattning!C261=\"Nej\",IF(ISBLANK(Självskattning!D261),\"\",Självskattning!D261),\"\")","v":""}]
[null,{"$f":"IF(Självskattning!C262=\"Nej\",Självskattning!A262,\"\")","v":""},{"$f":"IF(Självskattning!C262=\"Nej\",Självskattning!B262,\"\")","v":""},{"$f":"IF(Självskattning!C262=\"Nej\",IF(ISBLANK(Självskattning!D262),\"\",Självskattning!D262),\"\")","v":""}]
[null,{"$f":"IF(Självskattning!C263=\"Nej\",Självskattning!A263,\"\")","v":""},{"$f":"IF(Självskattning!C263=\"Nej\",Självskattning!B263,\"\")","v":""},{"$f":"IF(Självskattning!C263=\"Nej\",IF(ISBLANK(Självskattning!D263),\"\",Självskattning!D263),\"\")","v":""}]
[null,{"$f":"IF(Självskattning!C264=\"Nej\",Självskattning!A264,\"\")","v":""},{"$f":"IF(Självskattning!C264=\"Nej\",Självskattning!B264,\"\")","v":""},{"$f":"IF(Självskattning!C264=\"Nej\",IF(ISBLANK(Självskattning!D264),\"\",Självskattning!D264),\"\")","v":""}]
[null,{"$f":"IF(Självskattning!C265=\"Nej\",Självskattning!A265,\"\")","v":""},{"$f":"IF(Självskattning!C265=\"Nej\",Självskattning!B265,\"\")","v":""},{"$f":"IF(Självskattning!C265=\"Nej\",IF(ISBLANK(Självskattning!D265),\"\",Självskattning!D265),\"\")","v":""}]
[null,{"$f":"IF(Självskattning!C266=\"Nej\",Självskattning!A266,\"\")","v":""},{"$f":"IF(Självskattning!C266=\"Nej\",Självskattning!B266,\"\")","v":""},{"$f":"IF(Självskattning!C266=\"Nej\",IF(ISBLANK(Självskattning!D266),\"\",Självskattning!D266),\"\")","v":""}]
[null,{"$f":"IF(Självskattning!C267=\"Nej\",Självskattning!A267,\"\")","v":""},{"$f":"IF(Självskattning!C267=\"Nej\",Självskattning!B267,\"\")","v":""},{"$f":"IF(Självskattning!C267=\"Nej\",IF(ISBLANK(Självskattning!D267),\"\",Självskattning!D267),\"\")","v":""}]
[null,{"$f":"IF(Självskattning!C268=\"Nej\",Självskattning!A268,\"\")","v":""},{"$f":"IF(Självskattning!C268=\"Nej\",Självskattning!B268,\"\")","v":""},{"$f":"IF(Självskattning!C268=\"Nej\",IF(ISBLANK(Självskattning!D268),\"\",Självskattning!D268),\"\")","v":""}]
[null,{"$f":"IF(Självskattning!C269=\"Nej\",Självskattning!A269,\"\")","v":""},{"$f":"IF(Självskattning!C269=\"Nej\",Självskattning!B269,\"\")","v":""},{"$f":"IF(Självskattning!C269=\"Nej\",IF(ISBLANK(Självskattning!D269),\"\",Självskattning!D269),\"\")","v":""}]
[null,{"$f":"IF(Självskattning!C270=\"Nej\",Självskattning!A270,\"\")","v":""},{"$f":"IF(Självskattning!C270=\"Nej\",Självskattning!B270,\"\")","v":""},{"$f":"IF(Självskattning!C270=\"Nej\",IF(ISBLANK(Självskattning!D270),\"\",Självskattning!D270),\"\")","v":""}]
[null,{"$f":"IF(Självskattning!C271=\"Nej\",Självskattning!A271,\"\")","v":""},{"$f":"IF(Självskattning!C271=\"Nej\",Självskattning!B271,\"\")","v":""},{"$f":"IF(Självskattning!C271=\"Nej\",IF(ISBLANK(Självskattning!D271),\"\",Självskattning!D271),\"\")","v":""}]
[null,{"$f":"IF(Självskattning!C272=\"Nej\",Självskattning!A272,\"\")","v":""},{"$f":"IF(Självskattning!C272=\"Nej\",Självskattning!B272,\"\")","v":""},{"$f":"IF(Självskattning!C272=\"Nej\",IF(ISBLANK(Självskattning!D272),\"\",Självskattning!D272),\"\")","v":""}]
[null,{"$f":"IF(Självskattning!C273=\"Nej\",Självskattning!A273,\"\")","v":""},{"$f":"IF(Självskattning!C273=\"Nej\",Självskattning!B273,\"\")","v":""},{"$f":"IF(Självskattning!C273=\"Nej\",IF(ISBLANK(Självskattning!D273),\"\",Självskattning!D273),\"\")","v":""}]
[null,{"$f":"IF(Självskattning!C274=\"Nej\",Självskattning!A274,\"\")","v":""},{"$f":"IF(Självskattning!C274=\"Nej\",Självskattning!B274,\"\")","v":""},{"$f":"IF(Självskattning!C274=\"Nej\",IF(ISBLANK(Självskattning!D274),\"\",Självskattning!D274),\"\")","v":""}]
[null,{"$f":"IF(Självskattning!C275=\"Nej\",Självskattning!A275,\"\")","v":""},{"$f":"IF(Självskattning!C275=\"Nej\",Självskattning!B275,\"\")","v":""},{"$f":"IF(Självskattning!C275=\"Nej\",IF(ISBLANK(Självskattning!D275),\"\",Självskattning!D275),\"\")","v":""}]
[null,{"$f":"IF(Självskattning!C276=\"Nej\",Självskattning!A276,\"\")","v":""},{"$f":"IF(Självskattning!C276=\"Nej\",Självskattning!B276,\"\")","v":""},{"$f":"IF(Självskattning!C276=\"Nej\",IF(ISBLANK(Självskattning!D276),\"\",Självskattning!D276),\"\")","v":""}]
[null,{"$f":"IF(Självskattning!C277=\"Nej\",Självskattning!A277,\"\")","v":""},{"$f":"IF(Självskattning!C277=\"Nej\",Självskattning!B277,\"\")","v":""},{"$f":"IF(Självskattning!C277=\"Nej\",IF(ISBLANK(Självskattning!D277),\"\",Självskattning!D277),\"\")","v":""}]
[null,{"$f":"IF(Självskattning!C278=\"Nej\",Självskattning!A278,\"\")","v":""},{"$f":"IF(Självskattning!C278=\"Nej\",Självskattning!B278,\"\")","v":""},{"$f":"IF(Självskattning!C278=\"Nej\",IF(ISBLANK(Självskattning!D278),\"\",Självskattning!D278),\"\")","v":""}]
[null,{"$f":"IF(Självskattning!C279=\"Nej\",Självskattning!A279,\"\")","v":""},{"$f":"IF(Självskattning!C279=\"Nej\",Självskattning!B279,\"\")","v":""},{"$f":"IF(Självskattning!C279=\"Nej\",IF(ISBLANK(Självskattning!D279),\"\",Självskattning!D279),\"\")","v":""}]
[null,{"$f":"IF(Självskattning!C280=\"Nej\",Självskattning!A280,\"\")","v":""},{"$f":"IF(Självskattning!C280=\"Nej\",Självskattning!B280,\"\")","v":""},{"$f":"IF(Självskattning!C280=\"Nej\",IF(ISBLANK(Självskattning!D280),\"\",Självskattning!D280),\"\")","v":""}]
[null,{"$f":"IF(Självskattning!C281=\"Nej\",Självskattning!A281,\"\")","v":""},{"$f":"IF(Självskattning!C281=\"Nej\",Självskattning!B281,\"\")","v":""},{"$f":"IF(Självskattning!C281=\"Nej\",IF(ISBLANK(Självskattning!D281),\"\",Självskattning!D281),\"\")","v":""}]
[null,{"$f":"IF(Självskattning!C282=\"Nej\",Självskattning!A282,\"\")","v":""},{"$f":"IF(Självskattning!C282=\"Nej\",Självskattning!B282,\"\")","v":""},{"$f":"IF(Självskattning!C282=\"Nej\",IF(ISBLANK(Självskattning!D282),\"\",Självskattning!D282),\"\")","v":""}]
[null,{"$f":"IF(Självskattning!C283=\"Nej\",Självskattning!A283,\"\")","v":""},{"$f":"IF(Självskattning!C283=\"Nej\",Självskattning!B283,\"\")","v":""},{"$f":"IF(Självskattning!C283=\"Nej\",IF(ISBLANK(Självskattning!D283),\"\",Självskattning!D283),\"\")","v":""}]
[null,{"$f":"IF(Självskattning!C284=\"Nej\",Självskattning!A284,\"\")","v":""},{"$f":"IF(Självskattning!C284=\"Nej\",Självskattning!B284,\"\")","v":""},{"$f":"IF(Självskattning!C284=\"Nej\",IF(ISBLANK(Självskattning!D284),\"\",Självskattning!D284),\"\")","v":""}]
[null,{"$f":"IF(Självskattning!C285=\"Nej\",Självskattning!A285,\"\")","v":""},{"$f":"IF(Självskattning!C285=\"Nej\",Självskattning!B285,\"\")","v":""},{"$f":"IF(Självskattning!C285=\"Nej\",IF(ISBLANK(Självskattning!D285),\"\",Självskattning!D285),\"\")","v":""}]
[null,{"$f":"IF(Självskattning!C286=\"Nej\",Självskattning!A286,\"\")","v":""},{"$f":"IF(Självskattning!C286=\"Nej\",Självskattning!B286,\"\")","v":""},{"$f":"IF(Självskattning!C286=\"Nej\",IF(ISBLANK(Självskattning!D286),\"\",Självskattning!D286),\"\")","v":""}]
[null,{"$f":"IF(Självskattning!C287=\"Nej\",Självskattning!A287,\"\")","v":""},{"$f":"IF(Självskattning!C287=\"Nej\",Självskattning!B287,\"\")","v":""},{"$f":"IF(Självskattning!C287=\"Nej\",IF(ISBLANK(Självskattning!D287),\"\",Självskattning!D287),\"\")","v":""}]
[null,{"$f":"IF(Självskattning!C288=\"Nej\",Självskattning!A288,\"\")","v":""},{"$f":"IF(Självskattning!C288=\"Nej\",Självskattning!B288,\"\")","v":""},{"$f":"IF(Självskattning!C288=\"Nej\",IF(ISBLANK(Självskattning!D288),\"\",Självskattning!D288),\"\")","v":""}]
[null,{"$f":"IF(Självskattning!C289=\"Nej\",Självskattning!A289,\"\")","v":""},{"$f":"IF(Självskattning!C289=\"Nej\",Självskattning!B289,\"\")","v":""},{"$f":"IF(Självskattning!C289=\"Nej\",IF(ISBLANK(Självskattning!D289),\"\",Självskattning!D289),\"\")","v":""}]
[null,{"$f":"IF(Självskattning!C290=\"Nej\",Självskattning!A290,\"\")","v":""},{"$f":"IF(Självskattning!C290=\"Nej\",Självskattning!B290,\"\")","v":""},{"$f":"IF(Självskattning!C290=\"Nej\",IF(ISBLANK(Självskattning!D290),\"\",Självskattning!D290),\"\")","v":""}]
[null,{"$f":"IF(Självskattning!C291=\"Nej\",Självskattning!A291,\"\")","v":""},{"$f":"IF(Självskattning!C291=\"Nej\",Självskattning!B291,\"\")","v":""},{"$f":"IF(Självskattning!C291=\"Nej\",IF(ISBLANK(Självskattning!D291),\"\",Självskattning!D291),\"\")","v":""}]
[null,{"$f":"IF(Självskattning!C292=\"Nej\",Självskattning!A292,\"\")","v":""},{"$f":"IF(Självskattning!C292=\"Nej\",Självskattning!B292,\"\")","v":""},{"$f":"IF(Självskattning!C292=\"Nej\",IF(ISBLANK(Självskattning!D292),\"\",Självskattning!D292),\"\")","v":""}]
[null,{"$f":"IF(Självskattning!C293=\"Nej\",Självskattning!A293,\"\")","v":""},{"$f":"IF(Självskattning!C293=\"Nej\",Självskattning!B293,\"\")","v":""},{"$f":"IF(Självskattning!C293=\"Nej\",IF(ISBLANK(Självskattning!D293),\"\",Självskattning!D293),\"\")","v":""}]
[null,{"$f":"IF(Självskattning!C294=\"Nej\",Självskattning!A294,\"\")","v":""},{"$f":"IF(Självskattning!C294=\"Nej\",Självskattning!B294,\"\")","v":""},{"$f":"IF(Självskattning!C294=\"Nej\",IF(ISBLANK(Självskattning!D294),\"\",Självskattning!D294),\"\")","v":""}]
[null,{"$f":"IF(Självskattning!C295=\"Nej\",Självskattning!A295,\"\")","v":""},{"$f":"IF(Självskattning!C295=\"Nej\",Självskattning!B295,\"\")","v":""},{"$f":"IF(Självskattning!C295=\"Nej\",IF(ISBLANK(Självskattning!D295),\"\",Självskattning!D295),\"\")","v":""}]
[null,{"$f":"IF(Självskattning!C296=\"Nej\",Självskattning!A296,\"\")","v":""},{"$f":"IF(Självskattning!C296=\"Nej\",Självskattning!B296,\"\")","v":""},{"$f":"IF(Självskattning!C296=\"Nej\",IF(ISBLANK(Självskattning!D296),\"\",Självskattning!D296),\"\")","v":""}]
[null,{"$f":"IF(Självskattning!C297=\"Nej\",Självskattning!A297,\"\")","v":""},{"$f":"IF(Självskattning!C297=\"Nej\",Självskattning!B297,\"\")","v":""},{"$f":"IF(Självskattning!C297=\"Nej\",IF(ISBLANK(Självskattning!D297),\"\",Självskattning!D297),\"\")","v":""}]
[null,{"$f":"IF(Självskattning!C298=\"Nej\",Självskattning!A298,\"\")","v":""},{"$f":"IF(Självskattning!C298=\"Nej\",Självskattning!B298,\"\")","v":""},{"$f":"IF(Självskattning!C298=\"Nej\",IF(ISBLANK(Självskattning!D298),\"\",Självskattning!D298),\"\")","v":""}]
[null,{"$f":"IF(Självskattning!C299=\"Nej\",Självskattning!A299,\"\")","v":""},{"$f":"IF(Självskattning!C299=\"Nej\",Självskattning!B299,\"\")","v":""},{"$f":"IF(Självskattning!C299=\"Nej\",IF(ISBLANK(Självskattning!D299),\"\",Självskattning!D299),\"\")","v":""}]
[null,{"$f":"IF(Självskattning!C300=\"Nej\",Självskattning!A300,\"\")","v":""},{"$f":"IF(Självskattning!C300=\"Nej\",Självskattning!B300,\"\")","v":""},{"$f":"IF(Självskattning!C300=\"Nej\",IF(ISBLANK(Självskattning!D300),\"\",Självskattning!D300),\"\")","v":""}]
[null,{"$f":"IF(Självskattning!C301=\"Nej\",Självskattning!A301,\"\")","v":""},{"$f":"IF(Självskattning!C301=\"Nej\",Självskattning!B301,\"\")","v":""},{"$f":"IF(Självskattning!C301=\"Nej\",IF(ISBLANK(Självskattning!D301),\"\",Självskattning!D301),\"\")","v":""}]
[null,{"$f":"IF(Självskattning!C302=\"Nej\",Självskattning!A302,\"\")","v":""},{"$f":"IF(Självskattning!C302=\"Nej\",Självskattning!B302,\"\")","v":""},{"$f":"IF(Självskattning!C302=\"Nej\",IF(ISBLANK(Självskattning!D302),\"\",Självskattning!D302),\"\")","v":""}]
[null,{"$f":"IF(Självskattning!C303=\"Nej\",Självskattning!A303,\"\")","v":""},{"$f":"IF(Självskattning!C303=\"Nej\",Självskattning!B303,\"\")","v":""},{"$f":"IF(Självskattning!C303=\"Nej\",IF(ISBLANK(Självskattning!D303),\"\",Självskattning!D303),\"\")","v":""}]
[null,{"$f":"IF(Självskattning!C304=\"Nej\",Självskattning!A304,\"\")","v":""},{"$f":"IF(Självskattning!C304=\"Nej\",Självskattning!B304,\"\")","v":""},{"$f":"IF(Självskattning!C304=\"Nej\",IF(ISBLANK(Självskattning!D304),\"\",Självskattning!D304),\"\")","v":""}]
[null,{"$f":"IF(Självskattning!C305=\"Nej\",Självskattning!A305,\"\")","v":""},{"$f":"IF(Självskattning!C305=\"Nej\",Självskattning!B305,\"\")","v":""},{"$f":"IF(Självskattning!C305=\"Nej\",IF(ISBLANK(Självskattning!D305),\"\",Självskattning!D305),\"\")","v":""}]
[null,{"$f":"IF(Självskattning!C306=\"Nej\",Självskattning!A306,\"\")","v":""},{"$f":"IF(Självskattning!C306=\"Nej\",Självskattning!B306,\"\")","v":""},{"$f":"IF(Självskattning!C306=\"Nej\",IF(ISBLANK(Självskattning!D306),\"\",Självskattning!D306),\"\")","v":""}]
[null,{"$f":"IF(Självskattning!C307=\"Nej\",Självskattning!A307,\"\")","v":""},{"$f":"IF(Självskattning!C307=\"Nej\",Självskattning!B307,\"\")","v":""},{"$f":"IF(Självskattning!C307=\"Nej\",IF(ISBLANK(Självskattning!D307),\"\",Självskattning!D307),\"\")","v":""}]
[null,{"$f":"IF(Självskattning!C308=\"Nej\",Självskattning!A308,\"\")","v":""},{"$f":"IF(Självskattning!C308=\"Nej\",Självskattning!B308,\"\")","v":""},{"$f":"IF(Självskattning!C308=\"Nej\",IF(ISBLANK(Självskattning!D308),\"\",Självskattning!D308),\"\")","v":""}]
[null,{"$f":"IF(Självskattning!C309=\"Nej\",Självskattning!A309,\"\")","v":""},{"$f":"IF(Självskattning!C309=\"Nej\",Självskattning!B309,\"\")","v":""},{"$f":"IF(Självskattning!C309=\"Nej\",IF(ISBLANK(Självskattning!D309),\"\",Självskattning!D309),\"\")","v":""}]
[null,{"$f":"IF(Självskattning!C310=\"Nej\",Självskattning!A310,\"\")","v":""},{"$f":"IF(Självskattning!C310=\"Nej\",Självskattning!B310,\"\")","v":""},{"$f":"IF(Självskattning!C310=\"Nej\",IF(ISBLANK(Självskattning!D310),\"\",Självskattning!D310),\"\")","v":""}]
[null,{"$f":"IF(Självskattning!C311=\"Nej\",Självskattning!A311,\"\")","v":""},{"$f":"IF(Självskattning!C311=\"Nej\",Självskattning!B311,\"\")","v":""},{"$f":"IF(Självskattning!C311=\"Nej\",IF(ISBLANK(Självskattning!D311),\"\",Självskattning!D311),\"\")","v":""}]
[null,{"$f":"IF(Självskattning!C312=\"Nej\",Självskattning!A312,\"\")","v":""},{"$f":"IF(Självskattning!C312=\"Nej\",Självskattning!B312,\"\")","v":""},{"$f":"IF(Självskattning!C312=\"Nej\",IF(ISBLANK(Självskattning!D312),\"\",Självskattning!D312),\"\")","v":""}]
[null,{"$f":"IF(Självskattning!C313=\"Nej\",Självskattning!A313,\"\")","v":""},{"$f":"IF(Självskattning!C313=\"Nej\",Självskattning!B313,\"\")","v":""},{"$f":"IF(Självskattning!C313=\"Nej\",IF(ISBLANK(Självskattning!D313),\"\",Självskattning!D313),\"\")","v":""}]
[null,{"$f":"IF(Självskattning!C314=\"Nej\",Självskattning!A314,\"\")","v":""},{"$f":"IF(Självskattning!C314=\"Nej\",Självskattning!B314,\"\")","v":""},{"$f":"IF(Självskattning!C314=\"Nej\",IF(ISBLANK(Självskattning!D314),\"\",Självskattning!D314),\"\")","v":""}]
[null,{"$f":"IF(Självskattning!C315=\"Nej\",Självskattning!A315,\"\")","v":""},{"$f":"IF(Självskattning!C315=\"Nej\",Självskattning!B315,\"\")","v":""},{"$f":"IF(Självskattning!C315=\"Nej\",IF(ISBLANK(Självskattning!D315),\"\",Självskattning!D315),\"\")","v":""}]
[null,{"$f":"IF(Självskattning!C316=\"Nej\",Självskattning!A316,\"\")","v":""},{"$f":"IF(Självskattning!C316=\"Nej\",Självskattning!B316,\"\")","v":""},{"$f":"IF(Självskattning!C316=\"Nej\",IF(ISBLANK(Självskattning!D316),\"\",Självskattning!D316),\"\")","v":""}]
[null,{"$f":"IF(Självskattning!C317=\"Nej\",Självskattning!A317,\"\")","v":""},{"$f":"IF(Självskattning!C317=\"Nej\",Självskattning!B317,\"\")","v":""},{"$f":"IF(Självskattning!C317=\"Nej\",IF(ISBLANK(Självskattning!D317),\"\",Självskattning!D317),\"\")","v":""}]
[null,{"$f":"IF(Självskattning!C318=\"Nej\",Självskattning!A318,\"\")","v":""},{"$f":"IF(Självskattning!C318=\"Nej\",Självskattning!B318,\"\")","v":""},{"$f":"IF(Självskattning!C318=\"Nej\",IF(ISBLANK(Självskattning!D318),\"\",Självskattning!D318),\"\")","v":""}]
[null,{"$f":"IF(Självskattning!C319=\"Nej\",Självskattning!A319,\"\")","v":""},{"$f":"IF(Självskattning!C319=\"Nej\",Självskattning!B319,\"\")","v":""},{"$f":"IF(Självskattning!C319=\"Nej\",IF(ISBLANK(Självskattning!D319),\"\",Självskattning!D319),\"\")","v":""}]
[null,{"$f":"IF(Självskattning!C320=\"Nej\",Självskattning!A320,\"\")","v":""},{"$f":"IF(Självskattning!C320=\"Nej\",Självskattning!B320,\"\")","v":""},{"$f":"IF(Självskattning!C320=\"Nej\",IF(ISBLANK(Självskattning!D320),\"\",Självskattning!D320),\"\")","v":""}]
[null,{"$f":"IF(Självskattning!C321=\"Nej\",Självskattning!A321,\"\")","v":""},{"$f":"IF(Självskattning!C321=\"Nej\",Självskattning!B321,\"\")","v":""},{"$f":"IF(Självskattning!C321=\"Nej\",IF(ISBLANK(Självskattning!D321),\"\",Självskattning!D321),\"\")","v":""}]
[null,{"$f":"IF(Självskattning!C322=\"Nej\",Självskattning!A322,\"\")","v":""},{"$f":"IF(Självskattning!C322=\"Nej\",Självskattning!B322,\"\")","v":""},{"$f":"IF(Självskattning!C322=\"Nej\",IF(ISBLANK(Självskattning!D322),\"\",Självskattning!D322),\"\")","v":""}]
[null,{"$f":"IF(Självskattning!C323=\"Nej\",Självskattning!A323,\"\")","v":""},{"$f":"IF(Självskattning!C323=\"Nej\",Självskattning!B323,\"\")","v":""},{"$f":"IF(Självskattning!C323=\"Nej\",IF(ISBLANK(Självskattning!D323),\"\",Självskattning!D323),\"\")","v":""}]
[null,{"$f":"IF(Självskattning!C324=\"Nej\",Självskattning!A324,\"\")","v":""},{"$f":"IF(Självskattning!C324=\"Nej\",Självskattning!B324,\"\")","v":""},{"$f":"IF(Självskattning!C324=\"Nej\",IF(ISBLANK(Självskattning!D324),\"\",Självskattning!D324),\"\")","v":""}]
[null,{"$f":"IF(Självskattning!C325=\"Nej\",Självskattning!A325,\"\")","v":""},{"$f":"IF(Självskattning!C325=\"Nej\",Självskattning!B325,\"\")","v":""},{"$f":"IF(Självskattning!C325=\"Nej\",IF(ISBLANK(Självskattning!D325),\"\",Självskattning!D325),\"\")","v":""}]
[null,{"$f":"IF(Självskattning!C326=\"Nej\",Självskattning!A326,\"\")","v":""},{"$f":"IF(Självskattning!C326=\"Nej\",Självskattning!B326,\"\")","v":""},{"$f":"IF(Självskattning!C326=\"Nej\",IF(ISBLANK(Självskattning!D326),\"\",Självskattning!D326),\"\")","v":""}]
[null,{"$f":"IF(Självskattning!C327=\"Nej\",Självskattning!A327,\"\")","v":""},{"$f":"IF(Självskattning!C327=\"Nej\",Självskattning!B327,\"\")","v":""},{"$f":"IF(Självskattning!C327=\"Nej\",IF(ISBLANK(Självskattning!D327),\"\",Självskattning!D327),\"\")","v":""}]
[null,{"$f":"IF(Självskattning!C328=\"Nej\",Självskattning!A328,\"\")","v":""},{"$f":"IF(Självskattning!C328=\"Nej\",Självskattning!B328,\"\")","v":""},{"$f":"IF(Självskattning!C328=\"Nej\",IF(ISBLANK(Självskattning!D328),\"\",Självskattning!D328),\"\")","v":""}]
[null,{"$f":"IF(Självskattning!C329=\"Nej\",Självskattning!A329,\"\")","v":""},{"$f":"IF(Självskattning!C329=\"Nej\",Självskattning!B329,\"\")","v":""},{"$f":"IF(Självskattning!C329=\"Nej\",IF(ISBLANK(Självskattning!D329),\"\",Självskattning!D329),\"\")","v":""}]
[null,{"$f":"IF(Självskattning!C330=\"Nej\",Självskattning!A330,\"\")","v":""},{"$f":"IF(Självskattning!C330=\"Nej\",Självskattning!B330,\"\")","v":""},{"$f":"IF(Självskattning!C330=\"Nej\",IF(ISBLANK(Självskattning!D330),\"\",Självskattning!D330),\"\")","v":""}]
[null,{"$f":"IF(Självskattning!C331=\"Nej\",Självskattning!A331,\"\")","v":""},{"$f":"IF(Självskattning!C331=\"Nej\",Självskattning!B331,\"\")","v":""},{"$f":"IF(Självskattning!C331=\"Nej\",IF(ISBLANK(Självskattning!D331),\"\",Självskattning!D331),\"\")","v":""}]
[null,{"$f":"IF(Självskattning!C332=\"Nej\",Självskattning!A332,\"\")","v":""},{"$f":"IF(Självskattning!C332=\"Nej\",Självskattning!B332,\"\")","v":""},{"$f":"IF(Självskattning!C332=\"Nej\",IF(ISBLANK(Självskattning!D332),\"\",Självskattning!D332),\"\")","v":""}]
[null,{"$f":"IF(Självskattning!C333=\"Nej\",Självskattning!A333,\"\")","v":""},{"$f":"IF(Självskattning!C333=\"Nej\",Självskattning!B333,\"\")","v":""},{"$f":"IF(Självskattning!C333=\"Nej\",IF(ISBLANK(Självskattning!D333),\"\",Självskattning!D333),\"\")","v":""}]
[null,{"$f":"IF(Självskattning!C334=\"Nej\",Självskattning!A334,\"\")","v":""},{"$f":"IF(Självskattning!C334=\"Nej\",Självskattning!B334,\"\")","v":""},{"$f":"IF(Självskattning!C334=\"Nej\",IF(ISBLANK(Självskattning!D334),\"\",Självskattning!D334),\"\")","v":""}]
[null,{"$f":"IF(Självskattning!C335=\"Nej\",Självskattning!A335,\"\")","v":""},{"$f":"IF(Självskattning!C335=\"Nej\",Självskattning!B335,\"\")","v":""},{"$f":"IF(Självskattning!C335=\"Nej\",IF(ISBLANK(Självskattning!D335),\"\",Självskattning!D335),\"\")","v":""}]
[null,{"$f":"IF(Självskattning!C336=\"Nej\",Självskattning!A336,\"\")","v":""},{"$f":"IF(Självskattning!C336=\"Nej\",Självskattning!B336,\"\")","v":""},{"$f":"IF(Självskattning!C336=\"Nej\",IF(ISBLANK(Självskattning!D336),\"\",Självskattning!D336),\"\")","v":""}]
[null,{"$f":"IF(Självskattning!C337=\"Nej\",Självskattning!A337,\"\")","v":""},{"$f":"IF(Självskattning!C337=\"Nej\",Självskattning!B337,\"\")","v":""},{"$f":"IF(Självskattning!C337=\"Nej\",IF(ISBLANK(Självskattning!D337),\"\",Självskattning!D337),\"\")","v":""}]
[null,{"$f":"IF(Självskattning!C338=\"Nej\",Självskattning!A338,\"\")","v":""},{"$f":"IF(Självskattning!C338=\"Nej\",Självskattning!B338,\"\")","v":""},{"$f":"IF(Självskattning!C338=\"Nej\",IF(ISBLANK(Självskattning!D338),\"\",Självskattning!D338),\"\")","v":""}]
[null,{"$f":"IF(Självskattning!C339=\"Nej\",Självskattning!A339,\"\")","v":""},{"$f":"IF(Självskattning!C339=\"Nej\",Självskattning!B339,\"\")","v":""},{"$f":"IF(Självskattning!C339=\"Nej\",IF(ISBLANK(Självskattning!D339),\"\",Självskattning!D339),\"\")","v":""}]
[null,{"$f":"IF(Självskattning!C340=\"Nej\",Självskattning!A340,\"\")","v":""},{"$f":"IF(Självskattning!C340=\"Nej\",Självskattning!B340,\"\")","v":""},{"$f":"IF(Självskattning!C340=\"Nej\",IF(ISBLANK(Självskattning!D340),\"\",Självskattning!D340),\"\")","v":""}]
[null,{"$f":"IF(Självskattning!C341=\"Nej\",Självskattning!A341,\"\")","v":""},{"$f":"IF(Självskattning!C341=\"Nej\",Självskattning!B341,\"\")","v":""},{"$f":"IF(Självskattning!C341=\"Nej\",IF(ISBLANK(Självskattning!D341),\"\",Självskattning!D341),\"\")","v":""}]
[null,{"$f":"IF(Självskattning!C342=\"Nej\",Självskattning!A342,\"\")","v":""},{"$f":"IF(Självskattning!C342=\"Nej\",Självskattning!B342,\"\")","v":""},{"$f":"IF(Självskattning!C342=\"Nej\",IF(ISBLANK(Självskattning!D342),\"\",Självskattning!D342),\"\")","v":""}]
[null,{"$f":"IF(Självskattning!C343=\"Nej\",Självskattning!A343,\"\")","v":""},{"$f":"IF(Självskattning!C343=\"Nej\",Självskattning!B343,\"\")","v":""},{"$f":"IF(Självskattning!C343=\"Nej\",IF(ISBLANK(Självskattning!D343),\"\",Självskattning!D343),\"\")","v":""}]
[null,{"$f":"IF(Självskattning!C344=\"Nej\",Självskattning!A344,\"\")","v":""},{"$f":"IF(Självskattning!C344=\"Nej\",Självskattning!B344,\"\")","v":""},{"$f":"IF(Självskattning!C344=\"Nej\",IF(ISBLANK(Självskattning!D344),\"\",Självskattning!D344),\"\")","v":""}]
[null,{"$f":"IF(Självskattning!C345=\"Nej\",Självskattning!A345,\"\")","v":""},{"$f":"IF(Självskattning!C345=\"Nej\",Självskattning!B345,\"\")","v":""},{"$f":"IF(Självskattning!C345=\"Nej\",IF(ISBLANK(Självskattning!D345),\"\",Självskattning!D345),\"\")","v":""}]
[null,{"$f":"IF(Självskattning!C346=\"Nej\",Självskattning!A346,\"\")","v":""},{"$f":"IF(Självskattning!C346=\"Nej\",Självskattning!B346,\"\")","v":""},{"$f":"IF(Självskattning!C346=\"Nej\",IF(ISBLANK(Självskattning!D346),\"\",Självskattning!D346),\"\")","v":""}]
[null,{"$f":"IF(Självskattning!C347=\"Nej\",Självskattning!A347,\"\")","v":""},{"$f":"IF(Självskattning!C347=\"Nej\",Självskattning!B347,\"\")","v":""},{"$f":"IF(Självskattning!C347=\"Nej\",IF(ISBLANK(Självskattning!D347),\"\",Självskattning!D347),\"\")","v":""}]
[null,{"$f":"IF(Självskattning!C348=\"Nej\",Självskattning!A348,\"\")","v":""},{"$f":"IF(Självskattning!C348=\"Nej\",Självskattning!B348,\"\")","v":""},{"$f":"IF(Självskattning!C348=\"Nej\",IF(ISBLANK(Självskattning!D348),\"\",Självskattning!D348),\"\")","v":""}]
[null,{"$f":"IF(Självskattning!C349=\"Nej\",Självskattning!A349,\"\")","v":""},{"$f":"IF(Självskattning!C349=\"Nej\",Självskattning!B349,\"\")","v":""},{"$f":"IF(Självskattning!C349=\"Nej\",IF(ISBLANK(Självskattning!D349),\"\",Självskattning!D349),\"\")","v":""}]
[null,{"$f":"IF(Självskattning!C350=\"Nej\",Självskattning!A350,\"\")","v":""},{"$f":"IF(Självskattning!C350=\"Nej\",Självskattning!B350,\"\")","v":""},{"$f":"IF(Självskattning!C350=\"Nej\",IF(ISBLANK(Självskattning!D350),\"\",Självskattning!D350),\"\")","v":""}]
[null,{"$f":"IF(Självskattning!C351=\"Nej\",Självskattning!A351,\"\")","v":""},{"$f":"IF(Självskattning!C351=\"Nej\",Självskattning!B351,\"\")","v":""},{"$f":"IF(Självskattning!C351=\"Nej\",IF(ISBLANK(Självskattning!D351),\"\",Självskattning!D351),\"\")","v":""}]
[null,{"$f":"IF(Självskattning!C352=\"Nej\",Självskattning!A352,\"\")","v":""},{"$f":"IF(Självskattning!C352=\"Nej\",Självskattning!B352,\"\")","v":""},{"$f":"IF(Självskattning!C352=\"Nej\",IF(ISBLANK(Självskattning!D352),\"\",Självskattning!D352),\"\")","v":""}]
[null,{"$f":"IF(Självskattning!C353=\"Nej\",Självskattning!A353,\"\")","v":""},{"$f":"IF(Självskattning!C353=\"Nej\",Självskattning!B353,\"\")","v":""},{"$f":"IF(Självskattning!C353=\"Nej\",IF(ISBLANK(Självskattning!D353),\"\",Självskattning!D353),\"\")","v":""}]
[null,{"$f":"IF(Självskattning!C354=\"Nej\",Självskattning!A354,\"\")","v":""},{"$f":"IF(Självskattning!C354=\"Nej\",Självskattning!B354,\"\")","v":""},{"$f":"IF(Självskattning!C354=\"Nej\",IF(ISBLANK(Självskattning!D354),\"\",Självskattning!D354),\"\")","v":""}]
[null,{"$f":"IF(Självskattning!C355=\"Nej\",Självskattning!A355,\"\")","v":""},{"$f":"IF(Självskattning!C355=\"Nej\",Självskattning!B355,\"\")","v":""},{"$f":"IF(Självskattning!C355=\"Nej\",IF(ISBLANK(Självskattning!D355),\"\",Självskattning!D355),\"\")","v":""}]
[null,{"$f":"IF(Självskattning!C356=\"Nej\",Självskattning!A356,\"\")","v":""},{"$f":"IF(Självskattning!C356=\"Nej\",Självskattning!B356,\"\")","v":""},{"$f":"IF(Självskattning!C356=\"Nej\",IF(ISBLANK(Självskattning!D356),\"\",Självskattning!D356),\"\")","v":""}]
[null,{"$f":"IF(Självskattning!C357=\"Nej\",Självskattning!A357,\"\")","v":""},{"$f":"IF(Självskattning!C357=\"Nej\",Självskattning!B357,\"\")","v":""},{"$f":"IF(Självskattning!C357=\"Nej\",IF(ISBLANK(Självskattning!D357),\"\",Självskattning!D357),\"\")","v":""}]
[null,{"$f":"IF(Självskattning!C358=\"Nej\",Självskattning!A358,\"\")","v":""},{"$f":"IF(Självskattning!C358=\"Nej\",Självskattning!B358,\"\")","v":""},{"$f":"IF(Självskattning!C358=\"Nej\",IF(ISBLANK(Självskattning!D358),\"\",Självskattning!D358),\"\")","v":""}]
[null,{"$f":"IF(Självskattning!C359=\"Nej\",Självskattning!A359,\"\")","v":""},{"$f":"IF(Självskattning!C359=\"Nej\",Självskattning!B359,\"\")","v":""},{"$f":"IF(Självskattning!C359=\"Nej\",IF(ISBLANK(Självskattning!D359),\"\",Självskattning!D359),\"\")","v":""}]
[null,{"$f":"IF(Självskattning!C360=\"Nej\",Självskattning!A360,\"\")","v":""},{"$f":"IF(Självskattning!C360=\"Nej\",Självskattning!B360,\"\")","v":""},{"$f":"IF(Självskattning!C360=\"Nej\",IF(ISBLANK(Självskattning!D360),\"\",Självskattning!D360),\"\")","v":""}]
[null,{"$f":"IF(Självskattning!C361=\"Nej\",Självskattning!A361,\"\")","v":""},{"$f":"IF(Självskattning!C361=\"Nej\",Självskattning!B361,\"\")","v":""},{"$f":"IF(Självskattning!C361=\"Nej\",IF(ISBLANK(Självskattning!D361),\"\",Självskattning!D361),\"\")","v":""}]
[null,{"$f":"IF(Självskattning!C362=\"Nej\",Självskattning!A362,\"\")","v":""},{"$f":"IF(Självskattning!C362=\"Nej\",Självskattning!B362,\"\")","v":""},{"$f":"IF(Självskattning!C362=\"Nej\",IF(ISBLANK(Självskattning!D362),\"\",Självskattning!D362),\"\")","v":""}]
[null,{"$f":"IF(Självskattning!C363=\"Nej\",Självskattning!A363,\"\")","v":""},{"$f":"IF(Självskattning!C363=\"Nej\",Självskattning!B363,\"\")","v":""},{"$f":"IF(Självskattning!C363=\"Nej\",IF(ISBLANK(Självskattning!D363),\"\",Självskattning!D363),\"\")","v":""}]
[null,{"$f":"IF(Självskattning!C364=\"Nej\",Självskattning!A364,\"\")","v":""},{"$f":"IF(Självskattning!C364=\"Nej\",Självskattning!B364,\"\")","v":""},{"$f":"IF(Självskattning!C364=\"Nej\",IF(ISBLANK(Självskattning!D364),\"\",Självskattning!D364),\"\")","v":""}]
[null,{"$f":"IF(Självskattning!C365=\"Nej\",Självskattning!A365,\"\")","v":""},{"$f":"IF(Självskattning!C365=\"Nej\",Självskattning!B365,\"\")","v":""},{"$f":"IF(Självskattning!C365=\"Nej\",IF(ISBLANK(Självskattning!D365),\"\",Självskattning!D365),\"\")","v":""}]
[null,{"$f":"IF(Självskattning!C366=\"Nej\",Självskattning!A366,\"\")","v":""},{"$f":"IF(Självskattning!C366=\"Nej\",Självskattning!B366,\"\")","v":""},{"$f":"IF(Självskattning!C366=\"Nej\",IF(ISBLANK(Självskattning!D366),\"\",Självskattning!D366),\"\")","v":""}]
[null,{"$f":"IF(Självskattning!C367=\"Nej\",Självskattning!A367,\"\")","v":""},{"$f":"IF(Självskattning!C367=\"Nej\",Självskattning!B367,\"\")","v":""},{"$f":"IF(Självskattning!C367=\"Nej\",IF(ISBLANK(Självskattning!D367),\"\",Självskattning!D367),\"\")","v":""}]
[null,{"$f":"IF(Självskattning!C368=\"Nej\",Självskattning!A368,\"\")","v":""},{"$f":"IF(Självskattning!C368=\"Nej\",Självskattning!B368,\"\")","v":""},{"$f":"IF(Självskattning!C368=\"Nej\",IF(ISBLANK(Självskattning!D368),\"\",Självskattning!D368),\"\")","v":""}]
[null,{"$f":"IF(Självskattning!C369=\"Nej\",Självskattning!A369,\"\")","v":""},{"$f":"IF(Självskattning!C369=\"Nej\",Självskattning!B369,\"\")","v":""},{"$f":"IF(Självskattning!C369=\"Nej\",IF(ISBLANK(Självskattning!D369),\"\",Självskattning!D369),\"\")","v":""}]
[null,{"$f":"IF(Självskattning!C370=\"Nej\",Självskattning!A370,\"\")","v":""},{"$f":"IF(Självskattning!C370=\"Nej\",Självskattning!B370,\"\")","v":""},{"$f":"IF(Självskattning!C370=\"Nej\",IF(ISBLANK(Självskattning!D370),\"\",Självskattning!D370),\"\")","v":""}]
[null,{"$f":"IF(Självskattning!C371=\"Nej\",Självskattning!A371,\"\")","v":""},{"$f":"IF(Självskattning!C371=\"Nej\",Självskattning!B371,\"\")","v":""},{"$f":"IF(Självskattning!C371=\"Nej\",IF(ISBLANK(Självskattning!D371),\"\",Självskattning!D371),\"\")","v":""}]
[null,{"$f":"IF(Självskattning!C372=\"Nej\",Självskattning!A372,\"\")","v":""},{"$f":"IF(Självskattning!C372=\"Nej\",Självskattning!B372,\"\")","v":""},{"$f":"IF(Självskattning!C372=\"Nej\",IF(ISBLANK(Självskattning!D372),\"\",Självskattning!D372),\"\")","v":""}]
[null,{"$f":"IF(Självskattning!C373=\"Nej\",Självskattning!A373,\"\")","v":""},{"$f":"IF(Självskattning!C373=\"Nej\",Självskattning!B373,\"\")","v":""},{"$f":"IF(Självskattning!C373=\"Nej\",IF(ISBLANK(Självskattning!D373),\"\",Självskattning!D373),\"\")","v":""}]
[null,{"$f":"IF(Självskattning!C374=\"Nej\",Självskattning!A374,\"\")","v":""},{"$f":"IF(Självskattning!C374=\"Nej\",Självskattning!B374,\"\")","v":""},{"$f":"IF(Självskattning!C374=\"Nej\",IF(ISBLANK(Självskattning!D374),\"\",Självskattning!D374),\"\")","v":""}]
[null,{"$f":"IF(Självskattning!C375=\"Nej\",Självskattning!A375,\"\")","v":""},{"$f":"IF(Självskattning!C375=\"Nej\",Självskattning!B375,\"\")","v":""},{"$f":"IF(Självskattning!C375=\"Nej\",IF(ISBLANK(Självskattning!D375),\"\",Självskattning!D375),\"\")","v":""}]
[null,{"$f":"IF(Självskattning!C376=\"Nej\",Självskattning!A376,\"\")","v":""},{"$f":"IF(Självskattning!C376=\"Nej\",Självskattning!B376,\"\")","v":""},{"$f":"IF(Självskattning!C376=\"Nej\",IF(ISBLANK(Självskattning!D376),\"\",Självskattning!D376),\"\")","v":""}]
[null,{"$f":"IF(Självskattning!C377=\"Nej\",Självskattning!A377,\"\")","v":""},{"$f":"IF(Självskattning!C377=\"Nej\",Självskattning!B377,\"\")","v":""},{"$f":"IF(Självskattning!C377=\"Nej\",IF(ISBLANK(Självskattning!D377),\"\",Självskattning!D377),\"\")","v":""}]
[null,{"$f":"IF(Självskattning!C378=\"Nej\",Självskattning!A378,\"\")","v":""},{"$f":"IF(Självskattning!C378=\"Nej\",Självskattning!B378,\"\")","v":""},{"$f":"IF(Självskattning!C378=\"Nej\",IF(ISBLANK(Självskattning!D378),\"\",Självskattning!D378),\"\")","v":""}]
[null,{"$f":"IF(Självskattning!C379=\"Nej\",Självskattning!A379,\"\")","v":""},{"$f":"IF(Självskattning!C379=\"Nej\",Självskattning!B379,\"\")","v":""},{"$f":"IF(Självskattning!C379=\"Nej\",IF(ISBLANK(Självskattning!D379),\"\",Självskattning!D379),\"\")","v":""}]
[null,{"$f":"IF(Självskattning!C380=\"Nej\",Självskattning!A380,\"\")","v":""},{"$f":"IF(Självskattning!C380=\"Nej\",Självskattning!B380,\"\")","v":""},{"$f":"IF(Självskattning!C380=\"Nej\",IF(ISBLANK(Självskattning!D380),\"\",Självskattning!D380),\"\")","v":""}]
[null,{"$f":"IF(Självskattning!C381=\"Nej\",Självskattning!A381,\"\")","v":""},{"$f":"IF(Självskattning!C381=\"Nej\",Självskattning!B381,\"\")","v":""},{"$f":"IF(Självskattning!C381=\"Nej\",IF(ISBLANK(Självskattning!D381),\"\",Självskattning!D381),\"\")","v":""}]
[null,{"$f":"IF(Självskattning!C382=\"Nej\",Självskattning!A382,\"\")","v":""},{"$f":"IF(Självskattning!C382=\"Nej\",Självskattning!B382,\"\")","v":""},{"$f":"IF(Självskattning!C382=\"Nej\",IF(ISBLANK(Självskattning!D382),\"\",Självskattning!D382),\"\")","v":""}]
[null,{"$f":"IF(Självskattning!C383=\"Nej\",Självskattning!A383,\"\")","v":""},{"$f":"IF(Självskattning!C383=\"Nej\",Självskattning!B383,\"\")","v":""},{"$f":"IF(Självskattning!C383=\"Nej\",IF(ISBLANK(Självskattning!D383),\"\",Självskattning!D383),\"\")","v":""}]
[null,{"$f":"IF(Självskattning!C384=\"Nej\",Självskattning!A384,\"\")","v":""},{"$f":"IF(Självskattning!C384=\"Nej\",Självskattning!B384,\"\")","v":""},{"$f":"IF(Självskattning!C384=\"Nej\",IF(ISBLANK(Självskattning!D384),\"\",Självskattning!D384),\"\")","v":""}]
[null,{"$f":"IF(Självskattning!C385=\"Nej\",Självskattning!A385,\"\")","v":""},{"$f":"IF(Självskattning!C385=\"Nej\",Självskattning!B385,\"\")","v":""},{"$f":"IF(Självskattning!C385=\"Nej\",IF(ISBLANK(Självskattning!D385),\"\",Självskattning!D385),\"\")","v":""}]
[null,{"$f":"IF(Självskattning!C386=\"Nej\",Självskattning!A386,\"\")","v":""},{"$f":"IF(Självskattning!C386=\"Nej\",Självskattning!B386,\"\")","v":""},{"$f":"IF(Självskattning!C386=\"Nej\",IF(ISBLANK(Självskattning!D386),\"\",Självskattning!D386),\"\")","v":""}]
[null,{"$f":"IF(Självskattning!C387=\"Nej\",Självskattning!A387,\"\")","v":""},{"$f":"IF(Självskattning!C387=\"Nej\",Självskattning!B387,\"\")","v":""},{"$f":"IF(Självskattning!C387=\"Nej\",IF(ISBLANK(Självskattning!D387),\"\",Självskattning!D387),\"\")","v":""}]
[null,{"$f":"IF(Självskattning!C388=\"Nej\",Självskattning!A388,\"\")","v":""},{"$f":"IF(Självskattning!C388=\"Nej\",Självskattning!B388,\"\")","v":""},{"$f":"IF(Självskattning!C388=\"Nej\",IF(ISBLANK(Självskattning!D388),\"\",Självskattning!D388),\"\")","v":""}]
[null,{"$f":"IF(Självskattning!C389=\"Nej\",Självskattning!A389,\"\")","v":""},{"$f":"IF(Självskattning!C389=\"Nej\",Självskattning!B389,\"\")","v":""},{"$f":"IF(Självskattning!C389=\"Nej\",IF(ISBLANK(Självskattning!D389),\"\",Självskattning!D389),\"\")","v":""}]
[null,{"$f":"IF(Självskattning!C390=\"Nej\",Självskattning!A390,\"\")","v":""},{"$f":"IF(Självskattning!C390=\"Nej\",Självskattning!B390,\"\")","v":""},{"$f":"IF(Självskattning!C390=\"Nej\",IF(ISBLANK(Självskattning!D390),\"\",Självskattning!D390),\"\")","v":""}]
[null,{"$f":"IF(Självskattning!C391=\"Nej\",Självskattning!A391,\"\")","v":""},{"$f":"IF(Självskattning!C391=\"Nej\",Självskattning!B391,\"\")","v":""},{"$f":"IF(Självskattning!C391=\"Nej\",IF(ISBLANK(Självskattning!D391),\"\",Självskattning!D391),\"\")","v":""}]
[null,{"$f":"IF(Självskattning!C392=\"Nej\",Självskattning!A392,\"\")","v":""},{"$f":"IF(Självskattning!C392=\"Nej\",Självskattning!B392,\"\")","v":""},{"$f":"IF(Självskattning!C392=\"Nej\",IF(ISBLANK(Självskattning!D392),\"\",Självskattning!D392),\"\")","v":""}]
[null,{"$f":"IF(Självskattning!C393=\"Nej\",Självskattning!A393,\"\")","v":""},{"$f":"IF(Självskattning!C393=\"Nej\",Självskattning!B393,\"\")","v":""},{"$f":"IF(Självskattning!C393=\"Nej\",IF(ISBLANK(Självskattning!D393),\"\",Självskattning!D393),\"\")","v":""}]
[null,{"$f":"IF(Självskattning!C394=\"Nej\",Självskattning!A394,\"\")","v":""},{"$f":"IF(Självskattning!C394=\"Nej\",Självskattning!B394,\"\")","v":""},{"$f":"IF(Självskattning!C394=\"Nej\",IF(ISBLANK(Självskattning!D394),\"\",Självskattning!D394),\"\")","v":""}]
[null,{"$f":"IF(Självskattning!C395=\"Nej\",Självskattning!A395,\"\")","v":""},{"$f":"IF(Självskattning!C395=\"Nej\",Självskattning!B395,\"\")","v":""},{"$f":"IF(Självskattning!C395=\"Nej\",IF(ISBLANK(Självskattning!D395),\"\",Självskattning!D395),\"\")","v":""}]
[null,{"$f":"IF(Självskattning!C396=\"Nej\",Självskattning!A396,\"\")","v":""},{"$f":"IF(Självskattning!C396=\"Nej\",Självskattning!B396,\"\")","v":""},{"$f":"IF(Självskattning!C396=\"Nej\",IF(ISBLANK(Självskattning!D396),\"\",Självskattning!D396),\"\")","v":""}]
[null,{"$f":"IF(Självskattning!C397=\"Nej\",Självskattning!A397,\"\")","v":""},{"$f":"IF(Självskattning!C397=\"Nej\",Självskattning!B397,\"\")","v":""},{"$f":"IF(Självskattning!C397=\"Nej\",IF(ISBLANK(Självskattning!D397),\"\",Självskattning!D397),\"\")","v":""}]
[null,{"$f":"IF(Självskattning!C398=\"Nej\",Självskattning!A398,\"\")","v":""},{"$f":"IF(Självskattning!C398=\"Nej\",Självskattning!B398,\"\")","v":""},{"$f":"IF(Självskattning!C398=\"Nej\",IF(ISBLANK(Självskattning!D398),\"\",Självskattning!D398),\"\")","v":""}]
[null,{"$f":"IF(Självskattning!C399=\"Nej\",Självskattning!A399,\"\")","v":""},{"$f":"IF(Självskattning!C399=\"Nej\",Självskattning!B399,\"\")","v":""},{"$f":"IF(Självskattning!C399=\"Nej\",IF(ISBLANK(Självskattning!D399),\"\",Självskattning!D399),\"\")","v":""}]
[null,{"$f":"IF(Självskattning!C400=\"Nej\",Självskattning!A400,\"\")","v":""},{"$f":"IF(Självskattning!C400=\"Nej\",Självskattning!B400,\"\")","v":""},{"$f":"IF(Självskattning!C400=\"Nej\",IF(ISBLANK(Självskattning!D400),\"\",Självskattning!D400),\"\")","v":""}]
[null,{"$f":"IF(Självskattning!C401=\"Nej\",Självskattning!A401,\"\")","v":""},{"$f":"IF(Självskattning!C401=\"Nej\",Självskattning!B401,\"\")","v":""},{"$f":"IF(Självskattning!C401=\"Nej\",IF(ISBLANK(Självskattning!D401),\"\",Självskattning!D401),\"\")","v":""}]
[null,{"$f":"IF(Självskattning!C402=\"Nej\",Självskattning!A402,\"\")","v":""},{"$f":"IF(Självskattning!C402=\"Nej\",Självskattning!B402,\"\")","v":""},{"$f":"IF(Självskattning!C402=\"Nej\",IF(ISBLANK(Självskattning!D402),\"\",Självskattning!D402),\"\")","v":""}]
[null,{"$f":"IF(Självskattning!C403=\"Nej\",Självskattning!A403,\"\")","v":""},{"$f":"IF(Självskattning!C403=\"Nej\",Självskattning!B403,\"\")","v":""},{"$f":"IF(Självskattning!C403=\"Nej\",IF(ISBLANK(Självskattning!D403),\"\",Självskattning!D403),\"\")","v":""}]
[null,{"$f":"IF(Självskattning!C404=\"Nej\",Självskattning!A404,\"\")","v":""},{"$f":"IF(Självskattning!C404=\"Nej\",Självskattning!B404,\"\")","v":""},{"$f":"IF(Självskattning!C404=\"Nej\",IF(ISBLANK(Självskattning!D404),\"\",Självskattning!D404),\"\")","v":""}]
[null,{"$f":"IF(Självskattning!C405=\"Nej\",Självskattning!A405,\"\")","v":""},{"$f":"IF(Självskattning!C405=\"Nej\",Självskattning!B405,\"\")","v":""},{"$f":"IF(Självskattning!C405=\"Nej\",IF(ISBLANK(Självskattning!D405),\"\",Självskattning!D405),\"\")","v":""}]
[null,{"$f":"IF(Självskattning!C406=\"Nej\",Självskattning!A406,\"\")","v":""},{"$f":"IF(Självskattning!C406=\"Nej\",Självskattning!B406,\"\")","v":""},{"$f":"IF(Självskattning!C406=\"Nej\",IF(ISBLANK(Självskattning!D406),\"\",Självskattning!D406),\"\")","v":""}]
[null,{"$f":"IF(Självskattning!C407=\"Nej\",Självskattning!A407,\"\")","v":""},{"$f":"IF(Självskattning!C407=\"Nej\",Självskattning!B407,\"\")","v":""},{"$f":"IF(Självskattning!C407=\"Nej\",IF(ISBLANK(Självskattning!D407),\"\",Självskattning!D407),\"\")","v":""}]
[null,{"$f":"IF(Självskattning!C408=\"Nej\",Självskattning!A408,\"\")","v":""},{"$f":"IF(Självskattning!C408=\"Nej\",Självskattning!B408,\"\")","v":""},{"$f":"IF(Självskattning!C408=\"Nej\",IF(ISBLANK(Självskattning!D408),\"\",Självskattning!D408),\"\")","v":""}]
[null,{"$f":"IF(Självskattning!C409=\"Nej\",Självskattning!A409,\"\")","v":""},{"$f":"IF(Självskattning!C409=\"Nej\",Självskattning!B409,\"\")","v":""},{"$f":"IF(Självskattning!C409=\"Nej\",IF(ISBLANK(Självskattning!D409),\"\",Självskattning!D409),\"\")","v":""}]
[null,{"$f":"IF(Självskattning!C410=\"Nej\",Självskattning!A410,\"\")","v":""},{"$f":"IF(Självskattning!C410=\"Nej\",Självskattning!B410,\"\")","v":""},{"$f":"IF(Självskattning!C410=\"Nej\",IF(ISBLANK(Självskattning!D410),\"\",Självskattning!D410),\"\")","v":""}]
[null,{"$f":"IF(Självskattning!C411=\"Nej\",Självskattning!A411,\"\")","v":""},{"$f":"IF(Självskattning!C411=\"Nej\",Självskattning!B411,\"\")","v":""},{"$f":"IF(Självskattning!C411=\"Nej\",IF(ISBLANK(Självskattning!D411),\"\",Självskattning!D411),\"\")","v":""}]
[null,{"$f":"IF(Självskattning!C412=\"Nej\",Självskattning!A412,\"\")","v":""},{"$f":"IF(Självskattning!C412=\"Nej\",Självskattning!B412,\"\")","v":""},{"$f":"IF(Självskattning!C412=\"Nej\",IF(ISBLANK(Självskattning!D412),\"\",Självskattning!D412),\"\")","v":""}]
[null,{"$f":"IF(Självskattning!C413=\"Nej\",Självskattning!A413,\"\")","v":""},{"$f":"IF(Självskattning!C413=\"Nej\",Självskattning!B413,\"\")","v":""},{"$f":"IF(Självskattning!C413=\"Nej\",IF(ISBLANK(Självskattning!D413),\"\",Självskattning!D413),\"\")","v":""}]
[null,{"$f":"IF(Självskattning!C414=\"Nej\",Självskattning!A414,\"\")","v":""},{"$f":"IF(Självskattning!C414=\"Nej\",Självskattning!B414,\"\")","v":""},{"$f":"IF(Självskattning!C414=\"Nej\",IF(ISBLANK(Självskattning!D414),\"\",Självskattning!D414),\"\")","v":""}]
[null,{"$f":"IF(Självskattning!C415=\"Nej\",Självskattning!A415,\"\")","v":""},{"$f":"IF(Självskattning!C415=\"Nej\",Självskattning!B415,\"\")","v":""},{"$f":"IF(Självskattning!C415=\"Nej\",IF(ISBLANK(Självskattning!D415),\"\",Självskattning!D415),\"\")","v":""}]
[null,{"$f":"IF(Självskattning!C416=\"Nej\",Självskattning!A416,\"\")","v":""},{"$f":"IF(Självskattning!C416=\"Nej\",Självskattning!B416,\"\")","v":""},{"$f":"IF(Självskattning!C416=\"Nej\",IF(ISBLANK(Självskattning!D416),\"\",Självskattning!D416),\"\")","v":""}]
[null,{"$f":"IF(Självskattning!C417=\"Nej\",Självskattning!A417,\"\")","v":""},{"$f":"IF(Självskattning!C417=\"Nej\",Självskattning!B417,\"\")","v":""},{"$f":"IF(Självskattning!C417=\"Nej\",IF(ISBLANK(Självskattning!D417),\"\",Självskattning!D417),\"\")","v":""}]
[null,{"$f":"IF(Självskattning!C418=\"Nej\",Självskattning!A418,\"\")","v":""},{"$f":"IF(Självskattning!C418=\"Nej\",Självskattning!B418,\"\")","v":""},{"$f":"IF(Självskattning!C418=\"Nej\",IF(ISBLANK(Självskattning!D418),\"\",Självskattning!D418),\"\")","v":""}]
[null,{"$f":"IF(Självskattning!C419=\"Nej\",Självskattning!A419,\"\")","v":""},{"$f":"IF(Självskattning!C419=\"Nej\",Självskattning!B419,\"\")","v":""},{"$f":"IF(Självskattning!C419=\"Nej\",IF(ISBLANK(Självskattning!D419),\"\",Självskattning!D419),\"\")","v":""}]
[null,{"$f":"IF(Självskattning!C420=\"Nej\",Självskattning!A420,\"\")","v":""},{"$f":"IF(Självskattning!C420=\"Nej\",Självskattning!B420,\"\")","v":""},{"$f":"IF(Självskattning!C420=\"Nej\",IF(ISBLANK(Självskattning!D420),\"\",Självskattning!D420),\"\")","v":""}]
[null,{"$f":"IF(Självskattning!C421=\"Nej\",Självskattning!A421,\"\")","v":""},{"$f":"IF(Självskattning!C421=\"Nej\",Självskattning!B421,\"\")","v":""},{"$f":"IF(Självskattning!C421=\"Nej\",IF(ISBLANK(Självskattning!D421),\"\",Självskattning!D421),\"\")","v":""}]
[null,{"$f":"IF(Självskattning!C422=\"Nej\",Självskattning!A422,\"\")","v":""},{"$f":"IF(Självskattning!C422=\"Nej\",Självskattning!B422,\"\")","v":""},{"$f":"IF(Självskattning!C422=\"Nej\",IF(ISBLANK(Självskattning!D422),\"\",Självskattning!D422),\"\")","v":""}]
[null,{"$f":"IF(Självskattning!C423=\"Nej\",Självskattning!A423,\"\")","v":""},{"$f":"IF(Självskattning!C423=\"Nej\",Självskattning!B423,\"\")","v":""},{"$f":"IF(Självskattning!C423=\"Nej\",IF(ISBLANK(Självskattning!D423),\"\",Självskattning!D423),\"\")","v":""}]
[null,{"$f":"IF(Självskattning!C424=\"Nej\",Självskattning!A424,\"\")","v":""},{"$f":"IF(Självskattning!C424=\"Nej\",Självskattning!B424,\"\")","v":""},{"$f":"IF(Självskattning!C424=\"Nej\",IF(ISBLANK(Självskattning!D424),\"\",Självskattning!D424),\"\")","v":""}]
[null,{"$f":"IF(Självskattning!C425=\"Nej\",Självskattning!A425,\"\")","v":""},{"$f":"IF(Självskattning!C425=\"Nej\",Självskattning!B425,\"\")","v":""},{"$f":"IF(Självskattning!C425=\"Nej\",IF(ISBLANK(Självskattning!D425),\"\",Självskattning!D425),\"\")","v":""}]
[null,{"$f":"IF(Självskattning!C426=\"Nej\",Självskattning!A426,\"\")","v":""},{"$f":"IF(Självskattning!C426=\"Nej\",Självskattning!B426,\"\")","v":""},{"$f":"IF(Självskattning!C426=\"Nej\",IF(ISBLANK(Självskattning!D426),\"\",Självskattning!D426),\"\")","v":""}]
[null,{"$f":"IF(Självskattning!C427=\"Nej\",Självskattning!A427,\"\")","v":""},{"$f":"IF(Självskattning!C427=\"Nej\",Självskattning!B427,\"\")","v":""},{"$f":"IF(Självskattning!C427=\"Nej\",IF(ISBLANK(Självskattning!D427),\"\",Självskattning!D427),\"\")","v":""}]
[null,{"$f":"IF(Självskattning!C428=\"Nej\",Självskattning!A428,\"\")","v":""},{"$f":"IF(Självskattning!C428=\"Nej\",Självskattning!B428,\"\")","v":""},{"$f":"IF(Självskattning!C428=\"Nej\",IF(ISBLANK(Självskattning!D428),\"\",Självskattning!D428),\"\")","v":""}]
[null,{"$f":"IF(Självskattning!C429=\"Nej\",Självskattning!A429,\"\")","v":""},{"$f":"IF(Självskattning!C429=\"Nej\",Självskattning!B429,\"\")","v":""},{"$f":"IF(Självskattning!C429=\"Nej\",IF(ISBLANK(Självskattning!D429),\"\",Självskattning!D429),\"\")","v":""}]
[null,{"$f":"IF(Självskattning!C430=\"Nej\",Självskattning!A430,\"\")","v":""},{"$f":"IF(Självskattning!C430=\"Nej\",Självskattning!B430,\"\")","v":""},{"$f":"IF(Självskattning!C430=\"Nej\",IF(ISBLANK(Självskattning!D430),\"\",Självskattning!D430),\"\")","v":""}]
[null,{"$f":"IF(Självskattning!C431=\"Nej\",Självskattning!A431,\"\")","v":""},{"$f":"IF(Självskattning!C431=\"Nej\",Självskattning!B431,\"\")","v":""},{"$f":"IF(Självskattning!C431=\"Nej\",IF(ISBLANK(Självskattning!D431),\"\",Självskattning!D431),\"\")","v":""}]
[null,{"$f":"IF(Självskattning!C432=\"Nej\",Självskattning!A432,\"\")","v":""},{"$f":"IF(Självskattning!C432=\"Nej\",Självskattning!B432,\"\")","v":""},{"$f":"IF(Självskattning!C432=\"Nej\",IF(ISBLANK(Självskattning!D432),\"\",Självskattning!D432),\"\")","v":""}]
[null,{"$f":"IF(Självskattning!C433=\"Nej\",Självskattning!A433,\"\")","v":""},{"$f":"IF(Självskattning!C433=\"Nej\",Självskattning!B433,\"\")","v":""},{"$f":"IF(Självskattning!C433=\"Nej\",IF(ISBLANK(Självskattning!D433),\"\",Självskattning!D433),\"\")","v":""}]
[null,{"$f":"IF(Självskattning!C434=\"Nej\",Självskattning!A434,\"\")","v":""},{"$f":"IF(Självskattning!C434=\"Nej\",Självskattning!B434,\"\")","v":""},{"$f":"IF(Självskattning!C434=\"Nej\",IF(ISBLANK(Självskattning!D434),\"\",Självskattning!D434),\"\")","v":""}]
[null,{"$f":"IF(Självskattning!C435=\"Nej\",Självskattning!A435,\"\")","v":""},{"$f":"IF(Självskattning!C435=\"Nej\",Självskattning!B435,\"\")","v":""},{"$f":"IF(Självskattning!C435=\"Nej\",IF(ISBLANK(Självskattning!D435),\"\",Självskattning!D435),\"\")","v":""}]
[null,{"$f":"IF(Självskattning!C436=\"Nej\",Självskattning!A436,\"\")","v":""},{"$f":"IF(Självskattning!C436=\"Nej\",Självskattning!B436,\"\")","v":""},{"$f":"IF(Självskattning!C436=\"Nej\",IF(ISBLANK(Självskattning!D436),\"\",Självskattning!D436),\"\")","v":""}]
[null,{"$f":"IF(Självskattning!C437=\"Nej\",Självskattning!A437,\"\")","v":""},{"$f":"IF(Självskattning!C437=\"Nej\",Självskattning!B437,\"\")","v":""},{"$f":"IF(Självskattning!C437=\"Nej\",IF(ISBLANK(Självskattning!D437),\"\",Självskattning!D437),\"\")","v":""}]
[null,{"$f":"IF(Självskattning!C438=\"Nej\",Självskattning!A438,\"\")","v":""},{"$f":"IF(Självskattning!C438=\"Nej\",Självskattning!B438,\"\")","v":""},{"$f":"IF(Självskattning!C438=\"Nej\",IF(ISBLANK(Självskattning!D438),\"\",Självskattning!D438),\"\")","v":""}]
[null,{"$f":"IF(Självskattning!C439=\"Nej\",Självskattning!A439,\"\")","v":""},{"$f":"IF(Självskattning!C439=\"Nej\",Självskattning!B439,\"\")","v":""},{"$f":"IF(Självskattning!C439=\"Nej\",IF(ISBLANK(Självskattning!D439),\"\",Självskattning!D439),\"\")","v":""}]
[null,{"$f":"IF(Självskattning!C440=\"Nej\",Självskattning!A440,\"\")","v":""},{"$f":"IF(Självskattning!C440=\"Nej\",Självskattning!B440,\"\")","v":""},{"$f":"IF(Självskattning!C440=\"Nej\",IF(ISBLANK(Självskattning!D440),\"\",Självskattning!D440),\"\")","v":""}]
[null,{"$f":"IF(Självskattning!C441=\"Nej\",Självskattning!A441,\"\")","v":""},{"$f":"IF(Självskattning!C441=\"Nej\",Självskattning!B441,\"\")","v":""},{"$f":"IF(Självskattning!C441=\"Nej\",IF(ISBLANK(Självskattning!D441),\"\",Självskattning!D441),\"\")","v":""}]
[null,{"$f":"IF(Självskattning!C442=\"Nej\",Självskattning!A442,\"\")","v":""},{"$f":"IF(Självskattning!C442=\"Nej\",Självskattning!B442,\"\")","v":""},{"$f":"IF(Självskattning!C442=\"Nej\",IF(ISBLANK(Självskattning!D442),\"\",Självskattning!D442),\"\")","v":""}]
[null,{"$f":"IF(Självskattning!C443=\"Nej\",Självskattning!A443,\"\")","v":""},{"$f":"IF(Självskattning!C443=\"Nej\",Självskattning!B443,\"\")","v":""},{"$f":"IF(Självskattning!C443=\"Nej\",IF(ISBLANK(Självskattning!D443),\"\",Självskattning!D443),\"\")","v":""}]
[null,{"$f":"IF(Självskattning!C444=\"Nej\",Självskattning!A444,\"\")","v":""},{"$f":"IF(Självskattning!C444=\"Nej\",Självskattning!B444,\"\")","v":""},{"$f":"IF(Självskattning!C444=\"Nej\",IF(ISBLANK(Självskattning!D444),\"\",Självskattning!D444),\"\")","v":""}]
[null,{"$f":"IF(Självskattning!C445=\"Nej\",Självskattning!A445,\"\")","v":""},{"$f":"IF(Självskattning!C445=\"Nej\",Självskattning!B445,\"\")","v":""},{"$f":"IF(Självskattning!C445=\"Nej\",IF(ISBLANK(Självskattning!D445),\"\",Självskattning!D445),\"\")","v":""}]
[null,{"$f":"IF(Självskattning!C446=\"Nej\",Självskattning!A446,\"\")","v":""},{"$f":"IF(Självskattning!C446=\"Nej\",Självskattning!B446,\"\")","v":""},{"$f":"IF(Självskattning!C446=\"Nej\",IF(ISBLANK(Självskattning!D446),\"\",Självskattning!D446),\"\")","v":""}]
[null,{"$f":"IF(Självskattning!C447=\"Nej\",Självskattning!A447,\"\")","v":""},{"$f":"IF(Självskattning!C447=\"Nej\",Självskattning!B447,\"\")","v":""},{"$f":"IF(Självskattning!C447=\"Nej\",IF(ISBLANK(Självskattning!D447),\"\",Självskattning!D447),\"\")","v":""}]
[null,{"$f":"IF(Självskattning!C448=\"Nej\",Självskattning!A448,\"\")","v":""},{"$f":"IF(Självskattning!C448=\"Nej\",Självskattning!B448,\"\")","v":""},{"$f":"IF(Självskattning!C448=\"Nej\",IF(ISBLANK(Självskattning!D448),\"\",Självskattning!D448),\"\")","v":""}]
[null,{"$f":"IF(Självskattning!C449=\"Nej\",Självskattning!A449,\"\")","v":""},{"$f":"IF(Självskattning!C449=\"Nej\",Självskattning!B449,\"\")","v":""},{"$f":"IF(Självskattning!C449=\"Nej\",IF(ISBLANK(Självskattning!D449),\"\",Självskattning!D449),\"\")","v":""}]
[null,{"$f":"IF(Självskattning!C450=\"Nej\",Självskattning!A450,\"\")","v":""},{"$f":"IF(Självskattning!C450=\"Nej\",Självskattning!B450,\"\")","v":""},{"$f":"IF(Självskattning!C450=\"Nej\",IF(ISBLANK(Självskattning!D450),\"\",Självskattning!D450),\"\")","v":""}]
[null,{"$f":"IF(Självskattning!C451=\"Nej\",Självskattning!A451,\"\")","v":""},{"$f":"IF(Självskattning!C451=\"Nej\",Självskattning!B451,\"\")","v":""},{"$f":"IF(Självskattning!C451=\"Nej\",IF(ISBLANK(Självskattning!D451),\"\",Självskattning!D451),\"\")","v":""}]
[null,{"$f":"IF(Självskattning!C452=\"Nej\",Självskattning!A452,\"\")","v":""},{"$f":"IF(Självskattning!C452=\"Nej\",Självskattning!B452,\"\")","v":""},{"$f":"IF(Självskattning!C452=\"Nej\",IF(ISBLANK(Självskattning!D452),\"\",Självskattning!D452),\"\")","v":""}]
[null,{"$f":"IF(Självskattning!C453=\"Nej\",Självskattning!A453,\"\")","v":""},{"$f":"IF(Självskattning!C453=\"Nej\",Självskattning!B453,\"\")","v":""},{"$f":"IF(Självskattning!C453=\"Nej\",IF(ISBLANK(Självskattning!D453),\"\",Självskattning!D453),\"\")","v":""}]
[null,{"$f":"IF(Självskattning!C454=\"Nej\",Självskattning!A454,\"\")","v":""},{"$f":"IF(Självskattning!C454=\"Nej\",Självskattning!B454,\"\")","v":""},{"$f":"IF(Självskattning!C454=\"Nej\",IF(ISBLANK(Självskattning!D454),\"\",Självskattning!D454),\"\")","v":""}]
[null,{"$f":"IF(Självskattning!C455=\"Nej\",Självskattning!A455,\"\")","v":""},{"$f":"IF(Självskattning!C455=\"Nej\",Självskattning!B455,\"\")","v":""},{"$f":"IF(Självskattning!C455=\"Nej\",IF(ISBLANK(Självskattning!D455),\"\",Självskattning!D455),\"\")","v":""}]
[null,{"$f":"IF(Självskattning!C456=\"Nej\",Självskattning!A456,\"\")","v":""},{"$f":"IF(Självskattning!C456=\"Nej\",Självskattning!B456,\"\")","v":""},{"$f":"IF(Självskattning!C456=\"Nej\",IF(ISBLANK(Självskattning!D456),\"\",Självskattning!D456),\"\")","v":""}]
[null,{"$f":"IF(Självskattning!C457=\"Nej\",Självskattning!A457,\"\")","v":""},{"$f":"IF(Självskattning!C457=\"Nej\",Självskattning!B457,\"\")","v":""},{"$f":"IF(Självskattning!C457=\"Nej\",IF(ISBLANK(Självskattning!D457),\"\",Självskattning!D457),\"\")","v":""}]
[null,{"$f":"IF(Självskattning!C458=\"Nej\",Självskattning!A458,\"\")","v":""},{"$f":"IF(Självskattning!C458=\"Nej\",Självskattning!B458,\"\")","v":""},{"$f":"IF(Självskattning!C458=\"Nej\",IF(ISBLANK(Självskattning!D458),\"\",Självskattning!D458),\"\")","v":""}]
[null,{"$f":"IF(Självskattning!C459=\"Nej\",Självskattning!A459,\"\")","v":""},{"$f":"IF(Självskattning!C459=\"Nej\",Självskattning!B459,\"\")","v":""},{"$f":"IF(Självskattning!C459=\"Nej\",IF(ISBLANK(Självskattning!D459),\"\",Självskattning!D459),\"\")","v":""}]
[null,"MER OMFATTANDE FÖRÄNDRINGSARBETE BEHÖVS","KOMMENTAR","LÄSHÄNVISNINGAR"]
[null,{"$f":"IF(Självskattning!C3=\"Mer omfattande förändringsarbete behövs\",Självskattning!A3,\"\")","v":""},{"$f":"IF(Självskattning!C3=\"Mer omfattande förändringsarbete behövs\",Självskattning!B3,\"\")","v":""},{"$f":"IF(Självskattning!C3=\"Mer omfattande förändringsarbete behövs\",IF(ISBLANK(Självskattning!D3),\"\",Självskattning!D3),\"\")","v":""}]
[null,{"$f":"IF(Självskattning!C4=\"Mer omfattande förändringsarbete behövs\",Självskattning!A4,\"\")","v":""},{"$f":"IF(Självskattning!C4=\"Mer omfattande förändringsarbete behövs\",Självskattning!B4,\"\")","v":""},{"$f":"IF(Självskattning!C4=\"Mer omfattande förändringsarbete behövs\",IF(ISBLANK(Självskattning!D4),\"\",Självskattning!D4),\"\")","v":""}]
[null,{"$f":"IF(Självskattning!C5=\"Mer omfattande förändringsarbete behövs\",Självskattning!A5,\"\")","v":""},{"$f":"IF(Självskattning!C5=\"Mer omfattande förändringsarbete behövs\",Självskattning!B5,\"\")","v":""},{"$f":"IF(Självskattning!C5=\"Mer omfattande förändringsarbete behövs\",IF(ISBLANK(Självskattning!D5),\"\",Självskattning!D5),\"\")","v":""}]
[null,{"$f":"IF(Självskattning!C6=\"Mer omfattande förändringsarbete behövs\",Självskattning!A6,\"\")","v":""},{"$f":"IF(Självskattning!C6=\"Mer omfattande förändringsarbete behövs\",Självskattning!B6,\"\")","v":""},{"$f":"IF(Självskattning!C6=\"Mer omfattande förändringsarbete behövs\",IF(ISBLANK(Självskattning!D6),\"\",Självskattning!D6),\"\")","v":""}]
[null,{"$f":"IF(Självskattning!C7=\"Mer omfattande förändringsarbete behövs\",Självskattning!A7,\"\")","v":""},{"$f":"IF(Självskattning!C7=\"Mer omfattande förändringsarbete behövs\",Självskattning!B7,\"\")","v":""},{"$f":"IF(Självskattning!C7=\"Mer omfattande förändringsarbete behövs\",IF(ISBLANK(Självskattning!D7),\"\",Självskattning!D7),\"\")","v":""}]
[null,{"$f":"IF(Självskattning!C8=\"Mer omfattande förändringsarbete behövs\",Självskattning!A8,\"\")","v":""},{"$f":"IF(Självskattning!C8=\"Mer omfattande förändringsarbete behövs\",Självskattning!B8,\"\")","v":""},{"$f":"IF(Självskattning!C8=\"Mer omfattande förändringsarbete behövs\",IF(ISBLANK(Självskattning!D8),\"\",Självskattning!D8),\"\")","v":""}]
[null,{"$f":"IF(Självskattning!C9=\"Mer omfattande förändringsarbete behövs\",Självskattning!A9,\"\")","v":""},{"$f":"IF(Självskattning!C9=\"Mer omfattande förändringsarbete behövs\",Självskattning!B9,\"\")","v":""},{"$f":"IF(Självskattning!C9=\"Mer omfattande förändringsarbete behövs\",IF(ISBLANK(Självskattning!D9),\"\",Självskattning!D9),\"\")","v":""}]
[null,{"$f":"IF(Självskattning!C10=\"Mer omfattande förändringsarbete behövs\",Självskattning!A10,\"\")","v":""},{"$f":"IF(Självskattning!C10=\"Mer omfattande förändringsarbete behövs\",Självskattning!B10,\"\")","v":""},{"$f":"IF(Självskattning!C10=\"Mer omfattande förändringsarbete behövs\",IF(ISBLANK(Självskattning!D10),\"\",Självskattning!D10),\"\")","v":""}]
[null,{"$f":"IF(Självskattning!C11=\"Mer omfattande förändringsarbete behövs\",Självskattning!A11,\"\")","v":""},{"$f":"IF(Självskattning!C11=\"Mer omfattande förändringsarbete behövs\",Självskattning!B11,\"\")","v":""},{"$f":"IF(Självskattning!C11=\"Mer omfattande förändringsarbete behövs\",IF(ISBLANK(Självskattning!D11),\"\",Självskattning!D11),\"\")","v":""}]
[null,{"$f":"IF(Självskattning!C12=\"Mer omfattande förändringsarbete behövs\",Självskattning!A12,\"\")","v":""},{"$f":"IF(Självskattning!C12=\"Mer omfattande förändringsarbete behövs\",Självskattning!B12,\"\")","v":""},{"$f":"IF(Självskattning!C12=\"Mer omfattande förändringsarbete behövs\",IF(ISBLANK(Självskattning!D12),\"\",Självskattning!D12),\"\")","v":""}]
[null,{"$f":"IF(Självskattning!C13=\"Mer omfattande förändringsarbete behövs\",Självskattning!A13,\"\")","v":""},{"$f":"IF(Självskattning!C13=\"Mer omfattande förändringsarbete behövs\",Självskattning!B13,\"\")","v":""},{"$f":"IF(Självskattning!C13=\"Mer omfattande förändringsarbete behövs\",IF(ISBLANK(Självskattning!D13),\"\",Självskattning!D13),\"\")","v":""}]
[null,{"$f":"IF(Självskattning!C14=\"Mer omfattande förändringsarbete behövs\",Självskattning!A14,\"\")","v":""},{"$f":"IF(Självskattning!C14=\"Mer omfattande förändringsarbete behövs\",Självskattning!B14,\"\")","v":""},{"$f":"IF(Självskattning!C14=\"Mer omfattande förändringsarbete behövs\",IF(ISBLANK(Självskattning!D14),\"\",Självskattning!D14),\"\")","v":""}]
[null,{"$f":"IF(Självskattning!C15=\"Mer omfattande förändringsarbete behövs\",Självskattning!A15,\"\")","v":""},{"$f":"IF(Självskattning!C15=\"Mer omfattande förändringsarbete behövs\",Självskattning!B15,\"\")","v":""},{"$f":"IF(Självskattning!C15=\"Mer omfattande förändringsarbete behövs\",IF(ISBLANK(Självskattning!D15),\"\",Självskattning!D15),\"\")","v":""}]
[null,{"$f":"IF(Självskattning!C16=\"Mer omfattande förändringsarbete behövs\",Självskattning!A16,\"\")","v":""},{"$f":"IF(Självskattning!C16=\"Mer omfattande förändringsarbete behövs\",Självskattning!B16,\"\")","v":""},{"$f":"IF(Självskattning!C16=\"Mer omfattande förändringsarbete behövs\",IF(ISBLANK(Självskattning!D16),\"\",Självskattning!D16),\"\")","v":""}]
[null,{"$f":"IF(Självskattning!C17=\"Mer omfattande förändringsarbete behövs\",Självskattning!A17,\"\")","v":""},{"$f":"IF(Självskattning!C17=\"Mer omfattande förändringsarbete behövs\",Självskattning!B17,\"\")","v":""},{"$f":"IF(Självskattning!C17=\"Mer omfattande förändringsarbete behövs\",IF(ISBLANK(Självskattning!D17),\"\",Självskattning!D17),\"\")","v":""}]
[null,{"$f":"IF(Självskattning!C18=\"Mer omfattande förändringsarbete behövs\",Självskattning!A18,\"\")","v":""},{"$f":"IF(Självskattning!C18=\"Mer omfattande förändringsarbete behövs\",Självskattning!B18,\"\")","v":""},{"$f":"IF(Självskattning!C18=\"Mer omfattande förändringsarbete behövs\",IF(ISBLANK(Självskattning!D18),\"\",Självskattning!D18),\"\")","v":""}]
[null,{"$f":"IF(Självskattning!C19=\"Mer omfattande förändringsarbete behövs\",Självskattning!A19,\"\")","v":""},{"$f":"IF(Självskattning!C19=\"Mer omfattande förändringsarbete behövs\",Självskattning!B19,\"\")","v":""},{"$f":"IF(Självskattning!C19=\"Mer omfattande förändringsarbete behövs\",IF(ISBLANK(Självskattning!D19),\"\",Självskattning!D19),\"\")","v":""}]
[null,{"$f":"IF(Självskattning!C20=\"Mer omfattande förändringsarbete behövs\",Självskattning!A20,\"\")","v":""},{"$f":"IF(Självskattning!C20=\"Mer omfattande förändringsarbete behövs\",Självskattning!B20,\"\")","v":""},{"$f":"IF(Självskattning!C20=\"Mer omfattande förändringsarbete behövs\",IF(ISBLANK(Självskattning!D20),\"\",Självskattning!D20),\"\")","v":""}]
[null,{"$f":"IF(Självskattning!C21=\"Mer omfattande förändringsarbete behövs\",Självskattning!A21,\"\")","v":""},{"$f":"IF(Självskattning!C21=\"Mer omfattande förändringsarbete behövs\",Självskattning!B21,\"\")","v":""},{"$f":"IF(Självskattning!C21=\"Mer omfattande förändringsarbete behövs\",IF(ISBLANK(Självskattning!D21),\"\",Självskattning!D21),\"\")","v":""}]
[null,{"$f":"IF(Självskattning!C22=\"Mer omfattande förändringsarbete behövs\",Självskattning!A22,\"\")","v":""},{"$f":"IF(Självskattning!C22=\"Mer omfattande förändringsarbete behövs\",Självskattning!B22,\"\")","v":""},{"$f":"IF(Självskattning!C22=\"Mer omfattande förändringsarbete behövs\",IF(ISBLANK(Självskattning!D22),\"\",Självskattning!D22),\"\")","v":""}]
[null,{"$f":"IF(Självskattning!C23=\"Mer omfattande förändringsarbete behövs\",Självskattning!A23,\"\")","v":""},{"$f":"IF(Självskattning!C23=\"Mer omfattande förändringsarbete behövs\",Självskattning!B23,\"\")","v":""},{"$f":"IF(Självskattning!C23=\"Mer omfattande förändringsarbete behövs\",IF(ISBLANK(Självskattning!D23),\"\",Självskattning!D23),\"\")","v":""}]
[null,{"$f":"IF(Självskattning!C24=\"Mer omfattande förändringsarbete behövs\",Självskattning!A24,\"\")","v":""},{"$f":"IF(Självskattning!C24=\"Mer omfattande förändringsarbete behövs\",Självskattning!B24,\"\")","v":""},{"$f":"IF(Självskattning!C24=\"Mer omfattande förändringsarbete behövs\",IF(ISBLANK(Självskattning!D24),\"\",Självskattning!D24),\"\")","v":""}]
[null,{"$f":"IF(Självskattning!C25=\"Mer omfattande förändringsarbete behövs\",Självskattning!A25,\"\")","v":""},{"$f":"IF(Självskattning!C25=\"Mer omfattande förändringsarbete behövs\",Självskattning!B25,\"\")","v":""},{"$f":"IF(Självskattning!C25=\"Mer omfattande förändringsarbete behövs\",IF(ISBLANK(Självskattning!D25),\"\",Självskattning!D25),\"\")","v":""}]
[null,{"$f":"IF(Självskattning!C26=\"Mer omfattande förändringsarbete behövs\",Självskattning!A26,\"\")","v":""},{"$f":"IF(Självskattning!C26=\"Mer omfattande förändringsarbete behövs\",Självskattning!B26,\"\")","v":""},{"$f":"IF(Självskattning!C26=\"Mer omfattande förändringsarbete behövs\",IF(ISBLANK(Självskattning!D26),\"\",Självskattning!D26),\"\")","v":""}]
[null,{"$f":"IF(Självskattning!C27=\"Mer omfattande förändringsarbete behövs\",Självskattning!A27,\"\")","v":""},{"$f":"IF(Självskattning!C27=\"Mer omfattande förändringsarbete behövs\",Självskattning!B27,\"\")","v":""},{"$f":"IF(Självskattning!C27=\"Mer omfattande förändringsarbete behövs\",IF(ISBLANK(Självskattning!D27),\"\",Självskattning!D27),\"\")","v":""}]
[null,{"$f":"IF(Självskattning!C28=\"Mer omfattande förändringsarbete behövs\",Självskattning!A28,\"\")","v":""},{"$f":"IF(Självskattning!C28=\"Mer omfattande förändringsarbete behövs\",Självskattning!B28,\"\")","v":""},{"$f":"IF(Självskattning!C28=\"Mer omfattande förändringsarbete behövs\",IF(ISBLANK(Självskattning!D28),\"\",Självskattning!D28),\"\")","v":""}]
[null,{"$f":"IF(Självskattning!C29=\"Mer omfattande förändringsarbete behövs\",Självskattning!A29,\"\")","v":""},{"$f":"IF(Självskattning!C29=\"Mer omfattande förändringsarbete behövs\",Självskattning!B29,\"\")","v":""},{"$f":"IF(Självskattning!C29=\"Mer omfattande förändringsarbete behövs\",IF(ISBLANK(Självskattning!D29),\"\",Självskattning!D29),\"\")","v":""}]
[null,{"$f":"IF(Självskattning!C30=\"Mer omfattande förändringsarbete behövs\",Självskattning!A30,\"\")","v":""},{"$f":"IF(Självskattning!C30=\"Mer omfattande förändringsarbete behövs\",Självskattning!B30,\"\")","v":""},{"$f":"IF(Självskattning!C30=\"Mer omfattande förändringsarbete behövs\",IF(ISBLANK(Självskattning!D30),\"\",Självskattning!D30),\"\")","v":""}]
[null,{"$f":"IF(Självskattning!C31=\"Mer omfattande förändringsarbete behövs\",Självskattning!A31,\"\")","v":""},{"$f":"IF(Självskattning!C31=\"Mer omfattande förändringsarbete behövs\",Självskattning!B31,\"\")","v":""},{"$f":"IF(Självskattning!C31=\"Mer omfattande förändringsarbete behövs\",IF(ISBLANK(Självskattning!D31),\"\",Självskattning!D31),\"\")","v":""}]
[null,{"$f":"IF(Självskattning!C32=\"Mer omfattande förändringsarbete behövs\",Självskattning!A32,\"\")","v":""},{"$f":"IF(Självskattning!C32=\"Mer omfattande förändringsarbete behövs\",Självskattning!B32,\"\")","v":""},{"$f":"IF(Självskattning!C32=\"Mer omfattande förändringsarbete behövs\",IF(ISBLANK(Självskattning!D32),\"\",Självskattning!D32),\"\")","v":""}]
[null,{"$f":"IF(Självskattning!C33=\"Mer omfattande förändringsarbete behövs\",Självskattning!A33,\"\")","v":""},{"$f":"IF(Självskattning!C33=\"Mer omfattande förändringsarbete behövs\",Självskattning!B33,\"\")","v":""},{"$f":"IF(Självskattning!C33=\"Mer omfattande förändringsarbete behövs\",IF(ISBLANK(Självskattning!D33),\"\",Självskattning!D33),\"\")","v":""}]
[null,{"$f":"IF(Självskattning!C34=\"Mer omfattande förändringsarbete behövs\",Självskattning!A34,\"\")","v":""},{"$f":"IF(Självskattning!C34=\"Mer omfattande förändringsarbete behövs\",Självskattning!B34,\"\")","v":""},{"$f":"IF(Självskattning!C34=\"Mer omfattande förändringsarbete behövs\",IF(ISBLANK(Självskattning!D34),\"\",Självskattning!D34),\"\")","v":""}]
[null,{"$f":"IF(Självskattning!C35=\"Mer omfattande förändringsarbete behövs\",Självskattning!A35,\"\")","v":""},{"$f":"IF(Självskattning!C35=\"Mer omfattande förändringsarbete behövs\",Självskattning!B35,\"\")","v":""},{"$f":"IF(Självskattning!C35=\"Mer omfattande förändringsarbete behövs\",IF(ISBLANK(Självskattning!D35),\"\",Självskattning!D35),\"\")","v":""}]
[null,{"$f":"IF(Självskattning!C36=\"Mer omfattande förändringsarbete behövs\",Självskattning!A36,\"\")","v":""},{"$f":"IF(Självskattning!C36=\"Mer omfattande förändringsarbete behövs\",Självskattning!B36,\"\")","v":""},{"$f":"IF(Självskattning!C36=\"Mer omfattande förändringsarbete behövs\",IF(ISBLANK(Självskattning!D36),\"\",Självskattning!D36),\"\")","v":""}]
[null,{"$f":"IF(Självskattning!C37=\"Mer omfattande förändringsarbete behövs\",Självskattning!A37,\"\")","v":""},{"$f":"IF(Självskattning!C37=\"Mer omfattande förändringsarbete behövs\",Självskattning!B37,\"\")","v":""},{"$f":"IF(Självskattning!C37=\"Mer omfattande förändringsarbete behövs\",IF(ISBLANK(Självskattning!D37),\"\",Självskattning!D37),\"\")","v":""}]
[null,{"$f":"IF(Självskattning!C38=\"Mer omfattande förändringsarbete behövs\",Självskattning!A38,\"\")","v":""},{"$f":"IF(Självskattning!C38=\"Mer omfattande förändringsarbete behövs\",Självskattning!B38,\"\")","v":""},{"$f":"IF(Självskattning!C38=\"Mer omfattande förändringsarbete behövs\",IF(ISBLANK(Självskattning!D38),\"\",Självskattning!D38),\"\")","v":""}]
[null,{"$f":"IF(Självskattning!C39=\"Mer omfattande förändringsarbete behövs\",Självskattning!A39,\"\")","v":""},{"$f":"IF(Självskattning!C39=\"Mer omfattande förändringsarbete behövs\",Självskattning!B39,\"\")","v":""},{"$f":"IF(Självskattning!C39=\"Mer omfattande förändringsarbete behövs\",IF(ISBLANK(Självskattning!D39),\"\",Självskattning!D39),\"\")","v":""}]
[null,{"$f":"IF(Självskattning!C40=\"Mer omfattande förändringsarbete behövs\",Självskattning!A40,\"\")","v":""},{"$f":"IF(Självskattning!C40=\"Mer omfattande förändringsarbete behövs\",Självskattning!B40,\"\")","v":""},{"$f":"IF(Självskattning!C40=\"Mer omfattande förändringsarbete behövs\",IF(ISBLANK(Självskattning!D40),\"\",Självskattning!D40),\"\")","v":""}]
[null,{"$f":"IF(Självskattning!C41=\"Mer omfattande förändringsarbete behövs\",Självskattning!A41,\"\")","v":""},{"$f":"IF(Självskattning!C41=\"Mer omfattande förändringsarbete behövs\",Självskattning!B41,\"\")","v":""},{"$f":"IF(Självskattning!C41=\"Mer omfattande förändringsarbete behövs\",IF(ISBLANK(Självskattning!D41),\"\",Självskattning!D41),\"\")","v":""}]
[null,{"$f":"IF(Självskattning!C42=\"Mer omfattande förändringsarbete behövs\",Självskattning!A42,\"\")","v":""},{"$f":"IF(Självskattning!C42=\"Mer omfattande förändringsarbete behövs\",Självskattning!B42,\"\")","v":""},{"$f":"IF(Självskattning!C42=\"Mer omfattande förändringsarbete behövs\",IF(ISBLANK(Självskattning!D42),\"\",Självskattning!D42),\"\")","v":""}]
[null,{"$f":"IF(Självskattning!C43=\"Mer omfattande förändringsarbete behövs\",Självskattning!A43,\"\")","v":""},{"$f":"IF(Självskattning!C43=\"Mer omfattande förändringsarbete behövs\",Självskattning!B43,\"\")","v":""},{"$f":"IF(Självskattning!C43=\"Mer omfattande förändringsarbete behövs\",IF(ISBLANK(Självskattning!D43),\"\",Självskattning!D43),\"\")","v":""}]
[null,{"$f":"IF(Självskattning!C44=\"Mer omfattande förändringsarbete behövs\",Självskattning!A44,\"\")","v":""},{"$f":"IF(Självskattning!C44=\"Mer omfattande förändringsarbete behövs\",Självskattning!B44,\"\")","v":""},{"$f":"IF(Självskattning!C44=\"Mer omfattande förändringsarbete behövs\",IF(ISBLANK(Självskattning!D44),\"\",Självskattning!D44),\"\")","v":""}]
[null,{"$f":"IF(Självskattning!C45=\"Mer omfattande förändringsarbete behövs\",Självskattning!A45,\"\")","v":""},{"$f":"IF(Självskattning!C45=\"Mer omfattande förändringsarbete behövs\",Självskattning!B45,\"\")","v":""},{"$f":"IF(Självskattning!C45=\"Mer omfattande förändringsarbete behövs\",IF(ISBLANK(Självskattning!D45),\"\",Självskattning!D45),\"\")","v":""}]
[null,{"$f":"IF(Självskattning!C46=\"Mer omfattande förändringsarbete behövs\",Självskattning!A46,\"\")","v":""},{"$f":"IF(Självskattning!C46=\"Mer omfattande förändringsarbete behövs\",Självskattning!B46,\"\")","v":""},{"$f":"IF(Självskattning!C46=\"Mer omfattande förändringsarbete behövs\",IF(ISBLANK(Självskattning!D46),\"\",Självskattning!D46),\"\")","v":""}]
[null,{"$f":"IF(Självskattning!C47=\"Mer omfattande förändringsarbete behövs\",Självskattning!A47,\"\")","v":""},{"$f":"IF(Självskattning!C47=\"Mer omfattande förändringsarbete behövs\",Självskattning!B47,\"\")","v":""},{"$f":"IF(Självskattning!C47=\"Mer omfattande förändringsarbete behövs\",IF(ISBLANK(Självskattning!D47),\"\",Självskattning!D47),\"\")","v":""}]
[null,{"$f":"IF(Självskattning!C48=\"Mer omfattande förändringsarbete behövs\",Självskattning!A48,\"\")","v":""},{"$f":"IF(Självskattning!C48=\"Mer omfattande förändringsarbete behövs\",Självskattning!B48,\"\")","v":""},{"$f":"IF(Självskattning!C48=\"Mer omfattande förändringsarbete behövs\",IF(ISBLANK(Självskattning!D48),\"\",Självskattning!D48),\"\")","v":""}]
[null,{"$f":"IF(Självskattning!C49=\"Mer omfattande förändringsarbete behövs\",Självskattning!A49,\"\")","v":""},{"$f":"IF(Självskattning!C49=\"Mer omfattande förändringsarbete behövs\",Självskattning!B49,\"\")","v":""},{"$f":"IF(Självskattning!C49=\"Mer omfattande förändringsarbete behövs\",IF(ISBLANK(Självskattning!D49),\"\",Självskattning!D49),\"\")","v":""}]
[null,{"$f":"IF(Självskattning!C50=\"Mer omfattande förändringsarbete behövs\",Självskattning!A50,\"\")","v":""},{"$f":"IF(Självskattning!C50=\"Mer omfattande förändringsarbete behövs\",Självskattning!B50,\"\")","v":""},{"$f":"IF(Självskattning!C50=\"Mer omfattande förändringsarbete behövs\",IF(ISBLANK(Självskattning!D50),\"\",Självskattning!D50),\"\")","v":""}]
[null,{"$f":"IF(Självskattning!C51=\"Mer omfattande förändringsarbete behövs\",Självskattning!A51,\"\")","v":""},{"$f":"IF(Självskattning!C51=\"Mer omfattande förändringsarbete behövs\",Självskattning!B51,\"\")","v":""},{"$f":"IF(Självskattning!C51=\"Mer omfattande förändringsarbete behövs\",IF(ISBLANK(Självskattning!D51),\"\",Självskattning!D51),\"\")","v":""}]
[null,{"$f":"IF(Självskattning!C52=\"Mer omfattande förändringsarbete behövs\",Självskattning!A52,\"\")","v":""},{"$f":"IF(Självskattning!C52=\"Mer omfattande förändringsarbete behövs\",Självskattning!B52,\"\")","v":""},{"$f":"IF(Självskattning!C52=\"Mer omfattande förändringsarbete behövs\",IF(ISBLANK(Självskattning!D52),\"\",Självskattning!D52),\"\")","v":""}]
[null,{"$f":"IF(Självskattning!C53=\"Mer omfattande förändringsarbete behövs\",Självskattning!A53,\"\")","v":""},{"$f":"IF(Självskattning!C53=\"Mer omfattande förändringsarbete behövs\",Självskattning!B53,\"\")","v":""},{"$f":"IF(Självskattning!C53=\"Mer omfattande förändringsarbete behövs\",IF(ISBLANK(Självskattning!D53),\"\",Självskattning!D53),\"\")","v":""}]
[null,{"$f":"IF(Självskattning!C54=\"Mer omfattande förändringsarbete behövs\",Självskattning!A54,\"\")","v":""},{"$f":"IF(Självskattning!C54=\"Mer omfattande förändringsarbete behövs\",Självskattning!B54,\"\")","v":""},{"$f":"IF(Självskattning!C54=\"Mer omfattande förändringsarbete behövs\",IF(ISBLANK(Självskattning!D54),\"\",Självskattning!D54),\"\")","v":""}]
[null,{"$f":"IF(Självskattning!C55=\"Mer omfattande förändringsarbete behövs\",Självskattning!A55,\"\")","v":""},{"$f":"IF(Självskattning!C55=\"Mer omfattande förändringsarbete behövs\",Självskattning!B55,\"\")","v":""},{"$f":"IF(Självskattning!C55=\"Mer omfattande förändringsarbete behövs\",IF(ISBLANK(Självskattning!D55),\"\",Självskattning!D55),\"\")","v":""}]
[null,{"$f":"IF(Självskattning!C56=\"Mer omfattande förändringsarbete behövs\",Självskattning!A56,\"\")","v":""},{"$f":"IF(Självskattning!C56=\"Mer omfattande förändringsarbete behövs\",Självskattning!B56,\"\")","v":""},{"$f":"IF(Självskattning!C56=\"Mer omfattande förändringsarbete behövs\",IF(ISBLANK(Självskattning!D56),\"\",Självskattning!D56),\"\")","v":""}]
[null,{"$f":"IF(Självskattning!C57=\"Mer omfattande förändringsarbete behövs\",Självskattning!A57,\"\")","v":""},{"$f":"IF(Självskattning!C57=\"Mer omfattande förändringsarbete behövs\",Självskattning!B57,\"\")","v":""},{"$f":"IF(Självskattning!C57=\"Mer omfattande förändringsarbete behövs\",IF(ISBLANK(Självskattning!D57),\"\",Självskattning!D57),\"\")","v":""}]
[null,{"$f":"IF(Självskattning!C58=\"Mer omfattande förändringsarbete behövs\",Självskattning!A58,\"\")","v":""},{"$f":"IF(Självskattning!C58=\"Mer omfattande förändringsarbete behövs\",Självskattning!B58,\"\")","v":""},{"$f":"IF(Självskattning!C58=\"Mer omfattande förändringsarbete behövs\",IF(ISBLANK(Självskattning!D58),\"\",Självskattning!D58),\"\")","v":""}]
[null,{"$f":"IF(Självskattning!C59=\"Mer omfattande förändringsarbete behövs\",Självskattning!A59,\"\")","v":""},{"$f":"IF(Självskattning!C59=\"Mer omfattande förändringsarbete behövs\",Självskattning!B59,\"\")","v":""},{"$f":"IF(Självskattning!C59=\"Mer omfattande förändringsarbete behövs\",IF(ISBLANK(Självskattning!D59),\"\",Självskattning!D59),\"\")","v":""}]
[null,{"$f":"IF(Självskattning!C60=\"Mer omfattande förändringsarbete behövs\",Självskattning!A60,\"\")","v":""},{"$f":"IF(Självskattning!C60=\"Mer omfattande förändringsarbete behövs\",Självskattning!B60,\"\")","v":""},{"$f":"IF(Självskattning!C60=\"Mer omfattande förändringsarbete behövs\",IF(ISBLANK(Självskattning!D60),\"\",Självskattning!D60),\"\")","v":""}]
[null,{"$f":"IF(Självskattning!C61=\"Mer omfattande förändringsarbete behövs\",Självskattning!A61,\"\")","v":""},{"$f":"IF(Självskattning!C61=\"Mer omfattande förändringsarbete behövs\",Självskattning!B61,\"\")","v":""},{"$f":"IF(Självskattning!C61=\"Mer omfattande förändringsarbete behövs\",IF(ISBLANK(Självskattning!D61),\"\",Självskattning!D61),\"\")","v":""}]
[null,{"$f":"IF(Självskattning!C62=\"Mer omfattande förändringsarbete behövs\",Självskattning!A62,\"\")","v":""},{"$f":"IF(Självskattning!C62=\"Mer omfattande förändringsarbete behövs\",Självskattning!B62,\"\")","v":""},{"$f":"IF(Självskattning!C62=\"Mer omfattande förändringsarbete behövs\",IF(ISBLANK(Självskattning!D62),\"\",Självskattning!D62),\"\")","v":""}]
[null,{"$f":"IF(Självskattning!C63=\"Mer omfattande förändringsarbete behövs\",Självskattning!A63,\"\")","v":""},{"$f":"IF(Självskattning!C63=\"Mer omfattande förändringsarbete behövs\",Självskattning!B63,\"\")","v":""},{"$f":"IF(Självskattning!C63=\"Mer omfattande förändringsarbete behövs\",IF(ISBLANK(Självskattning!D63),\"\",Självskattning!D63),\"\")","v":""}]
[null,{"$f":"IF(Självskattning!C64=\"Mer omfattande förändringsarbete behövs\",Självskattning!A64,\"\")","v":""},{"$f":"IF(Självskattning!C64=\"Mer omfattande förändringsarbete behövs\",Självskattning!B64,\"\")","v":""},{"$f":"IF(Självskattning!C64=\"Mer omfattande förändringsarbete behövs\",IF(ISBLANK(Självskattning!D64),\"\",Självskattning!D64),\"\")","v":""}]
[null,{"$f":"IF(Självskattning!C65=\"Mer omfattande förändringsarbete behövs\",Självskattning!A65,\"\")","v":""},{"$f":"IF(Självskattning!C65=\"Mer omfattande förändringsarbete behövs\",Självskattning!B65,\"\")","v":""},{"$f":"IF(Självskattning!C65=\"Mer omfattande förändringsarbete behövs\",IF(ISBLANK(Självskattning!D65),\"\",Självskattning!D65),\"\")","v":""}]
[null,{"$f":"IF(Självskattning!C66=\"Mer omfattande förändringsarbete behövs\",Självskattning!A66,\"\")","v":""},{"$f":"IF(Självskattning!C66=\"Mer omfattande förändringsarbete behövs\",Självskattning!B66,\"\")","v":""},{"$f":"IF(Självskattning!C66=\"Mer omfattande förändringsarbete behövs\",IF(ISBLANK(Självskattning!D66),\"\",Självskattning!D66),\"\")","v":""}]
[null,{"$f":"IF(Självskattning!C67=\"Mer omfattande förändringsarbete behövs\",Självskattning!A67,\"\")","v":""},{"$f":"IF(Självskattning!C67=\"Mer omfattande förändringsarbete behövs\",Självskattning!B67,\"\")","v":""},{"$f":"IF(Självskattning!C67=\"Mer omfattande förändringsarbete behövs\",IF(ISBLANK(Självskattning!D67),\"\",Självskattning!D67),\"\")","v":""}]
[null,{"$f":"IF(Självskattning!C68=\"Mer omfattande förändringsarbete behövs\",Självskattning!A68,\"\")","v":""},{"$f":"IF(Självskattning!C68=\"Mer omfattande förändringsarbete behövs\",Självskattning!B68,\"\")","v":""},{"$f":"IF(Självskattning!C68=\"Mer omfattande förändringsarbete behövs\",IF(ISBLANK(Självskattning!D68),\"\",Självskattning!D68),\"\")","v":""}]
[null,{"$f":"IF(Självskattning!C69=\"Mer omfattande förändringsarbete behövs\",Självskattning!A69,\"\")","v":""},{"$f":"IF(Självskattning!C69=\"Mer omfattande förändringsarbete behövs\",Självskattning!B69,\"\")","v":""},{"$f":"IF(Självskattning!C69=\"Mer omfattande förändringsarbete behövs\",IF(ISBLANK(Självskattning!D69),\"\",Självskattning!D69),\"\")","v":""}]
[null,{"$f":"IF(Självskattning!C70=\"Mer omfattande förändringsarbete behövs\",Självskattning!A70,\"\")","v":""},{"$f":"IF(Självskattning!C70=\"Mer omfattande förändringsarbete behövs\",Självskattning!B70,\"\")","v":""},{"$f":"IF(Självskattning!C70=\"Mer omfattande förändringsarbete behövs\",IF(ISBLANK(Självskattning!D70),\"\",Självskattning!D70),\"\")","v":""}]
[null,{"$f":"IF(Självskattning!C71=\"Mer omfattande förändringsarbete behövs\",Självskattning!A71,\"\")","v":""},{"$f":"IF(Självskattning!C71=\"Mer omfattande förändringsarbete behövs\",Självskattning!B71,\"\")","v":""},{"$f":"IF(Självskattning!C71=\"Mer omfattande förändringsarbete behövs\",IF(ISBLANK(Självskattning!D71),\"\",Självskattning!D71),\"\")","v":""}]
[null,{"$f":"IF(Självskattning!C72=\"Mer omfattande förändringsarbete behövs\",Självskattning!A72,\"\")","v":""},{"$f":"IF(Självskattning!C72=\"Mer omfattande förändringsarbete behövs\",Självskattning!B72,\"\")","v":""},{"$f":"IF(Självskattning!C72=\"Mer omfattande förändringsarbete behövs\",IF(ISBLANK(Självskattning!D72),\"\",Självskattning!D72),\"\")","v":""}]
[null,{"$f":"IF(Självskattning!C73=\"Mer omfattande förändringsarbete behövs\",Självskattning!A73,\"\")","v":""},{"$f":"IF(Självskattning!C73=\"Mer omfattande förändringsarbete behövs\",Självskattning!B73,\"\")","v":""},{"$f":"IF(Självskattning!C73=\"Mer omfattande förändringsarbete behövs\",IF(ISBLANK(Självskattning!D73),\"\",Självskattning!D73),\"\")","v":""}]
[null,{"$f":"IF(Självskattning!C74=\"Mer omfattande förändringsarbete behövs\",Självskattning!A74,\"\")","v":""},{"$f":"IF(Självskattning!C74=\"Mer omfattande förändringsarbete behövs\",Självskattning!B74,\"\")","v":""},{"$f":"IF(Självskattning!C74=\"Mer omfattande förändringsarbete behövs\",IF(ISBLANK(Självskattning!D74),\"\",Självskattning!D74),\"\")","v":""}]
[null,{"$f":"IF(Självskattning!C75=\"Mer omfattande förändringsarbete behövs\",Självskattning!A75,\"\")","v":""},{"$f":"IF(Självskattning!C75=\"Mer omfattande förändringsarbete behövs\",Självskattning!B75,\"\")","v":""},{"$f":"IF(Självskattning!C75=\"Mer omfattande förändringsarbete behövs\",IF(ISBLANK(Självskattning!D75),\"\",Självskattning!D75),\"\")","v":""}]
[null,{"$f":"IF(Självskattning!C76=\"Mer omfattande förändringsarbete behövs\",Självskattning!A76,\"\")","v":""},{"$f":"IF(Självskattning!C76=\"Mer omfattande förändringsarbete behövs\",Självskattning!B76,\"\")","v":""},{"$f":"IF(Självskattning!C76=\"Mer omfattande förändringsarbete behövs\",IF(ISBLANK(Självskattning!D76),\"\",Självskattning!D76),\"\")","v":""}]
[null,{"$f":"IF(Självskattning!C77=\"Mer omfattande förändringsarbete behövs\",Självskattning!A77,\"\")","v":""},{"$f":"IF(Självskattning!C77=\"Mer omfattande förändringsarbete behövs\",Självskattning!B77,\"\")","v":""},{"$f":"IF(Självskattning!C77=\"Mer omfattande förändringsarbete behövs\",IF(ISBLANK(Självskattning!D77),\"\",Självskattning!D77),\"\")","v":""}]
[null,{"$f":"IF(Självskattning!C78=\"Mer omfattande förändringsarbete behövs\",Självskattning!A78,\"\")","v":""},{"$f":"IF(Självskattning!C78=\"Mer omfattande förändringsarbete behövs\",Självskattning!B78,\"\")","v":""},{"$f":"IF(Självskattning!C78=\"Mer omfattande förändringsarbete behövs\",IF(ISBLANK(Självskattning!D78),\"\",Självskattning!D78),\"\")","v":""}]
[null,{"$f":"IF(Självskattning!C79=\"Mer omfattande förändringsarbete behövs\",Självskattning!A79,\"\")","v":""},{"$f":"IF(Självskattning!C79=\"Mer omfattande förändringsarbete behövs\",Självskattning!B79,\"\")","v":""},{"$f":"IF(Självskattning!C79=\"Mer omfattande förändringsarbete behövs\",IF(ISBLANK(Självskattning!D79),\"\",Självskattning!D79),\"\")","v":""}]
[null,{"$f":"IF(Självskattning!C80=\"Mer omfattande förändringsarbete behövs\",Självskattning!A80,\"\")","v":""},{"$f":"IF(Självskattning!C80=\"Mer omfattande förändringsarbete behövs\",Självskattning!B80,\"\")","v":""},{"$f":"IF(Självskattning!C80=\"Mer omfattande förändringsarbete behövs\",IF(ISBLANK(Självskattning!D80),\"\",Självskattning!D80),\"\")","v":""}]
[null,{"$f":"IF(Självskattning!C81=\"Mer omfattande förändringsarbete behövs\",Självskattning!A81,\"\")","v":""},{"$f":"IF(Självskattning!C81=\"Mer omfattande förändringsarbete behövs\",Självskattning!B81,\"\")","v":""},{"$f":"IF(Självskattning!C81=\"Mer omfattande förändringsarbete behövs\",IF(ISBLANK(Självskattning!D81),\"\",Självskattning!D81),\"\")","v":""}]
[null,{"$f":"IF(Självskattning!C82=\"Mer omfattande förändringsarbete behövs\",Självskattning!A82,\"\")","v":""},{"$f":"IF(Självskattning!C82=\"Mer omfattande förändringsarbete behövs\",Självskattning!B82,\"\")","v":""},{"$f":"IF(Självskattning!C82=\"Mer omfattande förändringsarbete behövs\",IF(ISBLANK(Självskattning!D82),\"\",Självskattning!D82),\"\")","v":""}]
[null,{"$f":"IF(Självskattning!C83=\"Mer omfattande förändringsarbete behövs\",Självskattning!A83,\"\")","v":""},{"$f":"IF(Självskattning!C83=\"Mer omfattande förändringsarbete behövs\",Självskattning!B83,\"\")","v":""},{"$f":"IF(Självskattning!C83=\"Mer omfattande förändringsarbete behövs\",IF(ISBLANK(Självskattning!D83),\"\",Självskattning!D83),\"\")","v":""}]
[null,{"$f":"IF(Självskattning!C84=\"Mer omfattande förändringsarbete behövs\",Självskattning!A84,\"\")","v":""},{"$f":"IF(Självskattning!C84=\"Mer omfattande förändringsarbete behövs\",Självskattning!B84,\"\")","v":""},{"$f":"IF(Självskattning!C84=\"Mer omfattande förändringsarbete behövs\",IF(ISBLANK(Självskattning!D84),\"\",Självskattning!D84),\"\")","v":""}]
[null,{"$f":"IF(Självskattning!C85=\"Mer omfattande förändringsarbete behövs\",Självskattning!A85,\"\")","v":""},{"$f":"IF(Självskattning!C85=\"Mer omfattande förändringsarbete behövs\",Självskattning!B85,\"\")","v":""},{"$f":"IF(Självskattning!C85=\"Mer omfattande förändringsarbete behövs\",IF(ISBLANK(Självskattning!D85),\"\",Självskattning!D85),\"\")","v":""}]
[null,{"$f":"IF(Självskattning!C86=\"Mer omfattande förändringsarbete behövs\",Självskattning!A86,\"\")","v":""},{"$f":"IF(Självskattning!C86=\"Mer omfattande förändringsarbete behövs\",Självskattning!B86,\"\")","v":""},{"$f":"IF(Självskattning!C86=\"Mer omfattande förändringsarbete behövs\",IF(ISBLANK(Självskattning!D86),\"\",Självskattning!D86),\"\")","v":""}]
[null,{"$f":"IF(Självskattning!C87=\"Mer omfattande förändringsarbete behövs\",Självskattning!A87,\"\")","v":""},{"$f":"IF(Självskattning!C87=\"Mer omfattande förändringsarbete behövs\",Självskattning!B87,\"\")","v":""},{"$f":"IF(Självskattning!C87=\"Mer omfattande förändringsarbete behövs\",IF(ISBLANK(Självskattning!D87),\"\",Självskattning!D87),\"\")","v":""}]
[null,{"$f":"IF(Självskattning!C88=\"Mer omfattande förändringsarbete behövs\",Självskattning!A88,\"\")","v":""},{"$f":"IF(Självskattning!C88=\"Mer omfattande förändringsarbete behövs\",Självskattning!B88,\"\")","v":""},{"$f":"IF(Självskattning!C88=\"Mer omfattande förändringsarbete behövs\",IF(ISBLANK(Självskattning!D88),\"\",Självskattning!D88),\"\")","v":""}]
[null,{"$f":"IF(Självskattning!C89=\"Mer omfattande förändringsarbete behövs\",Självskattning!A89,\"\")","v":""},{"$f":"IF(Självskattning!C89=\"Mer omfattande förändringsarbete behövs\",Självskattning!B89,\"\")","v":""},{"$f":"IF(Självskattning!C89=\"Mer omfattande förändringsarbete behövs\",IF(ISBLANK(Självskattning!D89),\"\",Självskattning!D89),\"\")","v":""}]
[null,{"$f":"IF(Självskattning!C90=\"Mer omfattande förändringsarbete behövs\",Självskattning!A90,\"\")","v":""},{"$f":"IF(Självskattning!C90=\"Mer omfattande förändringsarbete behövs\",Självskattning!B90,\"\")","v":""},{"$f":"IF(Självskattning!C90=\"Mer omfattande förändringsarbete behövs\",IF(ISBLANK(Självskattning!D90),\"\",Självskattning!D90),\"\")","v":""}]
[null,{"$f":"IF(Självskattning!C91=\"Mer omfattande förändringsarbete behövs\",Självskattning!A91,\"\")","v":""},{"$f":"IF(Självskattning!C91=\"Mer omfattande förändringsarbete behövs\",Självskattning!B91,\"\")","v":""},{"$f":"IF(Självskattning!C91=\"Mer omfattande förändringsarbete behövs\",IF(ISBLANK(Självskattning!D91),\"\",Självskattning!D91),\"\")","v":""}]
[null,{"$f":"IF(Självskattning!C92=\"Mer omfattande förändringsarbete behövs\",Självskattning!A92,\"\")","v":""},{"$f":"IF(Självskattning!C92=\"Mer omfattande förändringsarbete behövs\",Självskattning!B92,\"\")","v":""},{"$f":"IF(Självskattning!C92=\"Mer omfattande förändringsarbete behövs\",IF(ISBLANK(Självskattning!D92),\"\",Självskattning!D92),\"\")","v":""}]
[null,{"$f":"IF(Självskattning!C93=\"Mer omfattande förändringsarbete behövs\",Självskattning!A93,\"\")","v":""},{"$f":"IF(Självskattning!C93=\"Mer omfattande förändringsarbete behövs\",Självskattning!B93,\"\")","v":""},{"$f":"IF(Självskattning!C93=\"Mer omfattande förändringsarbete behövs\",IF(ISBLANK(Självskattning!D93),\"\",Självskattning!D93),\"\")","v":""}]
[null,{"$f":"IF(Självskattning!C94=\"Mer omfattande förändringsarbete behövs\",Självskattning!A94,\"\")","v":""},{"$f":"IF(Självskattning!C94=\"Mer omfattande förändringsarbete behövs\",Självskattning!B94,\"\")","v":""},{"$f":"IF(Självskattning!C94=\"Mer omfattande förändringsarbete behövs\",IF(ISBLANK(Självskattning!D94),\"\",Självskattning!D94),\"\")","v":""}]
[null,{"$f":"IF(Självskattning!C95=\"Mer omfattande förändringsarbete behövs\",Självskattning!A95,\"\")","v":""},{"$f":"IF(Självskattning!C95=\"Mer omfattande förändringsarbete behövs\",Självskattning!B95,\"\")","v":""},{"$f":"IF(Självskattning!C95=\"Mer omfattande förändringsarbete behövs\",IF(ISBLANK(Självskattning!D95),\"\",Självskattning!D95),\"\")","v":""}]
[null,{"$f":"IF(Självskattning!C96=\"Mer omfattande förändringsarbete behövs\",Självskattning!A96,\"\")","v":""},{"$f":"IF(Självskattning!C96=\"Mer omfattande förändringsarbete behövs\",Självskattning!B96,\"\")","v":""},{"$f":"IF(Självskattning!C96=\"Mer omfattande förändringsarbete behövs\",IF(ISBLANK(Självskattning!D96),\"\",Självskattning!D96),\"\")","v":""}]
[null,{"$f":"IF(Självskattning!C97=\"Mer omfattande förändringsarbete behövs\",Självskattning!A97,\"\")","v":""},{"$f":"IF(Självskattning!C97=\"Mer omfattande förändringsarbete behövs\",Självskattning!B97,\"\")","v":""},{"$f":"IF(Självskattning!C97=\"Mer omfattande förändringsarbete behövs\",IF(ISBLANK(Självskattning!D97),\"\",Självskattning!D97),\"\")","v":""}]
[null,{"$f":"IF(Självskattning!C98=\"Mer omfattande förändringsarbete behövs\",Självskattning!A98,\"\")","v":""},{"$f":"IF(Självskattning!C98=\"Mer omfattande förändringsarbete behövs\",Självskattning!B98,\"\")","v":""},{"$f":"IF(Självskattning!C98=\"Mer omfattande förändringsarbete behövs\",IF(ISBLANK(Självskattning!D98),\"\",Självskattning!D98),\"\")","v":""}]
[null,{"$f":"IF(Självskattning!C99=\"Mer omfattande förändringsarbete behövs\",Självskattning!A99,\"\")","v":""},{"$f":"IF(Självskattning!C99=\"Mer omfattande förändringsarbete behövs\",Självskattning!B99,\"\")","v":""},{"$f":"IF(Självskattning!C99=\"Mer omfattande förändringsarbete behövs\",IF(ISBLANK(Självskattning!D99),\"\",Självskattning!D99),\"\")","v":""}]
[null,{"$f":"IF(Självskattning!C100=\"Mer omfattande förändringsarbete behövs\",Självskattning!A100,\"\")","v":""},{"$f":"IF(Självskattning!C100=\"Mer omfattande förändringsarbete behövs\",Självskattning!B100,\"\")","v":""},{"$f":"IF(Självskattning!C100=\"Mer omfattande förändringsarbete behövs\",IF(ISBLANK(Självskattning!D100),\"\",Självskattning!D100),\"\")","v":""}]
[null,{"$f":"IF(Självskattning!C101=\"Mer omfattande förändringsarbete behövs\",Självskattning!A101,\"\")","v":""},{"$f":"IF(Självskattning!C101=\"Mer omfattande förändringsarbete behövs\",Självskattning!B101,\"\")","v":""},{"$f":"IF(Självskattning!C101=\"Mer omfattande förändringsarbete behövs\",IF(ISBLANK(Självskattning!D101),\"\",Självskattning!D101),\"\")","v":""}]
[null,{"$f":"IF(Självskattning!C102=\"Mer omfattande förändringsarbete behövs\",Självskattning!A102,\"\")","v":""},{"$f":"IF(Självskattning!C102=\"Mer omfattande förändringsarbete behövs\",Självskattning!B102,\"\")","v":""},{"$f":"IF(Självskattning!C102=\"Mer omfattande förändringsarbete behövs\",IF(ISBLANK(Självskattning!D102),\"\",Självskattning!D102),\"\")","v":""}]
[null,{"$f":"IF(Självskattning!C103=\"Mer omfattande förändringsarbete behövs\",Självskattning!A103,\"\")","v":""},{"$f":"IF(Självskattning!C103=\"Mer omfattande förändringsarbete behövs\",Självskattning!B103,\"\")","v":""},{"$f":"IF(Självskattning!C103=\"Mer omfattande förändringsarbete behövs\",IF(ISBLANK(Självskattning!D103),\"\",Självskattning!D103),\"\")","v":""}]
[null,{"$f":"IF(Självskattning!C104=\"Mer omfattande förändringsarbete behövs\",Självskattning!A104,\"\")","v":""},{"$f":"IF(Självskattning!C104=\"Mer omfattande förändringsarbete behövs\",Självskattning!B104,\"\")","v":""},{"$f":"IF(Självskattning!C104=\"Mer omfattande förändringsarbete behövs\",IF(ISBLANK(Självskattning!D104),\"\",Självskattning!D104),\"\")","v":""}]
[null,{"$f":"IF(Självskattning!C105=\"Mer omfattande förändringsarbete behövs\",Självskattning!A105,\"\")","v":""},{"$f":"IF(Självskattning!C105=\"Mer omfattande förändringsarbete behövs\",Självskattning!B105,\"\")","v":""},{"$f":"IF(Självskattning!C105=\"Mer omfattande förändringsarbete behövs\",IF(ISBLANK(Självskattning!D105),\"\",Självskattning!D105),\"\")","v":""}]
[null,{"$f":"IF(Självskattning!C106=\"Mer omfattande förändringsarbete behövs\",Självskattning!A106,\"\")","v":""},{"$f":"IF(Självskattning!C106=\"Mer omfattande förändringsarbete behövs\",Självskattning!B106,\"\")","v":""},{"$f":"IF(Självskattning!C106=\"Mer omfattande förändringsarbete behövs\",IF(ISBLANK(Självskattning!D106),\"\",Självskattning!D106),\"\")","v":""}]
[null,{"$f":"IF(Självskattning!C107=\"Mer omfattande förändringsarbete behövs\",Självskattning!A107,\"\")","v":""},{"$f":"IF(Självskattning!C107=\"Mer omfattande förändringsarbete behövs\",Självskattning!B107,\"\")","v":""},{"$f":"IF(Självskattning!C107=\"Mer omfattande förändringsarbete behövs\",IF(ISBLANK(Självskattning!D107),\"\",Självskattning!D107),\"\")","v":""}]
[null,{"$f":"IF(Självskattning!C108=\"Mer omfattande förändringsarbete behövs\",Självskattning!A108,\"\")","v":""},{"$f":"IF(Självskattning!C108=\"Mer omfattande förändringsarbete behövs\",Självskattning!B108,\"\")","v":""},{"$f":"IF(Självskattning!C108=\"Mer omfattande förändringsarbete behövs\",IF(ISBLANK(Självskattning!D108),\"\",Självskattning!D108),\"\")","v":""}]
[null,{"$f":"IF(Självskattning!C109=\"Mer omfattande förändringsarbete behövs\",Självskattning!A109,\"\")","v":""},{"$f":"IF(Självskattning!C109=\"Mer omfattande förändringsarbete behövs\",Självskattning!B109,\"\")","v":""},{"$f":"IF(Självskattning!C109=\"Mer omfattande förändringsarbete behövs\",IF(ISBLANK(Självskattning!D109),\"\",Självskattning!D109),\"\")","v":""}]
[null,{"$f":"IF(Självskattning!C110=\"Mer omfattande förändringsarbete behövs\",Självskattning!A110,\"\")","v":""},{"$f":"IF(Självskattning!C110=\"Mer omfattande förändringsarbete behövs\",Självskattning!B110,\"\")","v":""},{"$f":"IF(Självskattning!C110=\"Mer omfattande förändringsarbete behövs\",IF(ISBLANK(Självskattning!D110),\"\",Självskattning!D110),\"\")","v":""}]
[null,{"$f":"IF(Självskattning!C111=\"Mer omfattande förändringsarbete behövs\",Självskattning!A111,\"\")","v":""},{"$f":"IF(Självskattning!C111=\"Mer omfattande förändringsarbete behövs\",Självskattning!B111,\"\")","v":""},{"$f":"IF(Självskattning!C111=\"Mer omfattande förändringsarbete behövs\",IF(ISBLANK(Självskattning!D111),\"\",Självskattning!D111),\"\")","v":""}]
[null,{"$f":"IF(Självskattning!C112=\"Mer omfattande förändringsarbete behövs\",Självskattning!A112,\"\")","v":""},{"$f":"IF(Självskattning!C112=\"Mer omfattande förändringsarbete behövs\",Självskattning!B112,\"\")","v":""},{"$f":"IF(Självskattning!C112=\"Mer omfattande förändringsarbete behövs\",IF(ISBLANK(Självskattning!D112),\"\",Självskattning!D112),\"\")","v":""}]
[null,{"$f":"IF(Självskattning!C113=\"Mer omfattande förändringsarbete behövs\",Självskattning!A113,\"\")","v":""},{"$f":"IF(Självskattning!C113=\"Mer omfattande förändringsarbete behövs\",Självskattning!B113,\"\")","v":""},{"$f":"IF(Självskattning!C113=\"Mer omfattande förändringsarbete behövs\",IF(ISBLANK(Självskattning!D113),\"\",Självskattning!D113),\"\")","v":""}]
[null,{"$f":"IF(Självskattning!C114=\"Mer omfattande förändringsarbete behövs\",Självskattning!A114,\"\")","v":""},{"$f":"IF(Självskattning!C114=\"Mer omfattande förändringsarbete behövs\",Självskattning!B114,\"\")","v":""},{"$f":"IF(Självskattning!C114=\"Mer omfattande förändringsarbete behövs\",IF(ISBLANK(Självskattning!D114),\"\",Självskattning!D114),\"\")","v":""}]
[null,{"$f":"IF(Självskattning!C115=\"Mer omfattande förändringsarbete behövs\",Självskattning!A115,\"\")","v":""},{"$f":"IF(Självskattning!C115=\"Mer omfattande förändringsarbete behövs\",Självskattning!B115,\"\")","v":""},{"$f":"IF(Självskattning!C115=\"Mer omfattande förändringsarbete behövs\",IF(ISBLANK(Självskattning!D115),\"\",Självskattning!D115),\"\")","v":""}]
[null,{"$f":"IF(Självskattning!C116=\"Mer omfattande förändringsarbete behövs\",Självskattning!A116,\"\")","v":""},{"$f":"IF(Självskattning!C116=\"Mer omfattande förändringsarbete behövs\",Självskattning!B116,\"\")","v":""},{"$f":"IF(Självskattning!C116=\"Mer omfattande förändringsarbete behövs\",IF(ISBLANK(Självskattning!D116),\"\",Självskattning!D116),\"\")","v":""}]
[null,{"$f":"IF(Självskattning!C117=\"Mer omfattande förändringsarbete behövs\",Självskattning!A117,\"\")","v":""},{"$f":"IF(Självskattning!C117=\"Mer omfattande förändringsarbete behövs\",Självskattning!B117,\"\")","v":""},{"$f":"IF(Självskattning!C117=\"Mer omfattande förändringsarbete behövs\",IF(ISBLANK(Självskattning!D117),\"\",Självskattning!D117),\"\")","v":""}]
[null,{"$f":"IF(Självskattning!C118=\"Mer omfattande förändringsarbete behövs\",Självskattning!A118,\"\")","v":""},{"$f":"IF(Självskattning!C118=\"Mer omfattande förändringsarbete behövs\",Självskattning!B118,\"\")","v":""},{"$f":"IF(Självskattning!C118=\"Mer omfattande förändringsarbete behövs\",IF(ISBLANK(Självskattning!D118),\"\",Självskattning!D118),\"\")","v":""}]
[null,{"$f":"IF(Självskattning!C119=\"Mer omfattande förändringsarbete behövs\",Självskattning!A119,\"\")","v":""},{"$f":"IF(Självskattning!C119=\"Mer omfattande förändringsarbete behövs\",Självskattning!B119,\"\")","v":""},{"$f":"IF(Självskattning!C119=\"Mer omfattande förändringsarbete behövs\",IF(ISBLANK(Självskattning!D119),\"\",Självskattning!D119),\"\")","v":""}]
[null,{"$f":"IF(Självskattning!C120=\"Mer omfattande förändringsarbete behövs\",Självskattning!A120,\"\")","v":""},{"$f":"IF(Självskattning!C120=\"Mer omfattande förändringsarbete behövs\",Självskattning!B120,\"\")","v":""},{"$f":"IF(Självskattning!C120=\"Mer omfattande förändringsarbete behövs\",IF(ISBLANK(Självskattning!D120),\"\",Självskattning!D120),\"\")","v":""}]
[null,{"$f":"IF(Självskattning!C121=\"Mer omfattande förändringsarbete behövs\",Självskattning!A121,\"\")","v":""},{"$f":"IF(Självskattning!C121=\"Mer omfattande förändringsarbete behövs\",Självskattning!B121,\"\")","v":""},{"$f":"IF(Självskattning!C121=\"Mer omfattande förändringsarbete behövs\",IF(ISBLANK(Självskattning!D121),\"\",Självskattning!D121),\"\")","v":""}]
[null,{"$f":"IF(Självskattning!C122=\"Mer omfattande förändringsarbete behövs\",Självskattning!A122,\"\")","v":""},{"$f":"IF(Självskattning!C122=\"Mer omfattande förändringsarbete behövs\",Självskattning!B122,\"\")","v":""},{"$f":"IF(Självskattning!C122=\"Mer omfattande förändringsarbete behövs\",IF(ISBLANK(Självskattning!D122),\"\",Självskattning!D122),\"\")","v":""}]
[null,{"$f":"IF(Självskattning!C123=\"Mer omfattande förändringsarbete behövs\",Självskattning!A123,\"\")","v":""},{"$f":"IF(Självskattning!C123=\"Mer omfattande förändringsarbete behövs\",Självskattning!B123,\"\")","v":""},{"$f":"IF(Självskattning!C123=\"Mer omfattande förändringsarbete behövs\",IF(ISBLANK(Självskattning!D123),\"\",Självskattning!D123),\"\")","v":""}]
[null,{"$f":"IF(Självskattning!C124=\"Mer omfattande förändringsarbete behövs\",Självskattning!A124,\"\")","v":""},{"$f":"IF(Självskattning!C124=\"Mer omfattande förändringsarbete behövs\",Självskattning!B124,\"\")","v":""},{"$f":"IF(Självskattning!C124=\"Mer omfattande förändringsarbete behövs\",IF(ISBLANK(Självskattning!D124),\"\",Självskattning!D124),\"\")","v":""}]
[null,{"$f":"IF(Självskattning!C125=\"Mer omfattande förändringsarbete behövs\",Självskattning!A125,\"\")","v":""},{"$f":"IF(Självskattning!C125=\"Mer omfattande förändringsarbete behövs\",Självskattning!B125,\"\")","v":""},{"$f":"IF(Självskattning!C125=\"Mer omfattande förändringsarbete behövs\",IF(ISBLANK(Självskattning!D125),\"\",Självskattning!D125),\"\")","v":""}]
[null,{"$f":"IF(Självskattning!C126=\"Mer omfattande förändringsarbete behövs\",Självskattning!A126,\"\")","v":""},{"$f":"IF(Självskattning!C126=\"Mer omfattande förändringsarbete behövs\",Självskattning!B126,\"\")","v":""},{"$f":"IF(Självskattning!C126=\"Mer omfattande förändringsarbete behövs\",IF(ISBLANK(Självskattning!D126),\"\",Självskattning!D126),\"\")","v":""}]
[null,{"$f":"IF(Självskattning!C127=\"Mer omfattande förändringsarbete behövs\",Självskattning!A127,\"\")","v":""},{"$f":"IF(Självskattning!C127=\"Mer omfattande förändringsarbete behövs\",Självskattning!B127,\"\")","v":""},{"$f":"IF(Självskattning!C127=\"Mer omfattande förändringsarbete behövs\",IF(ISBLANK(Självskattning!D127),\"\",Självskattning!D127),\"\")","v":""}]
[null,{"$f":"IF(Självskattning!C128=\"Mer omfattande förändringsarbete behövs\",Självskattning!A128,\"\")","v":""},{"$f":"IF(Självskattning!C128=\"Mer omfattande förändringsarbete behövs\",Självskattning!B128,\"\")","v":""},{"$f":"IF(Självskattning!C128=\"Mer omfattande förändringsarbete behövs\",IF(ISBLANK(Självskattning!D128),\"\",Självskattning!D128),\"\")","v":""}]
[null,{"$f":"IF(Självskattning!C129=\"Mer omfattande förändringsarbete behövs\",Självskattning!A129,\"\")","v":""},{"$f":"IF(Självskattning!C129=\"Mer omfattande förändringsarbete behövs\",Självskattning!B129,\"\")","v":""},{"$f":"IF(Självskattning!C129=\"Mer omfattande förändringsarbete behövs\",IF(ISBLANK(Självskattning!D129),\"\",Självskattning!D129),\"\")","v":""}]
[null,{"$f":"IF(Självskattning!C130=\"Mer omfattande förändringsarbete behövs\",Självskattning!A130,\"\")","v":""},{"$f":"IF(Självskattning!C130=\"Mer omfattande förändringsarbete behövs\",Självskattning!B130,\"\")","v":""},{"$f":"IF(Självskattning!C130=\"Mer omfattande förändringsarbete behövs\",IF(ISBLANK(Självskattning!D130),\"\",Självskattning!D130),\"\")","v":""}]
[null,{"$f":"IF(Självskattning!C131=\"Mer omfattande förändringsarbete behövs\",Självskattning!A131,\"\")","v":""},{"$f":"IF(Självskattning!C131=\"Mer omfattande förändringsarbete behövs\",Självskattning!B131,\"\")","v":""},{"$f":"IF(Självskattning!C131=\"Mer omfattande förändringsarbete behövs\",IF(ISBLANK(Självskattning!D131),\"\",Självskattning!D131),\"\")","v":""}]
[null,{"$f":"IF(Självskattning!C132=\"Mer omfattande förändringsarbete behövs\",Självskattning!A132,\"\")","v":""},{"$f":"IF(Självskattning!C132=\"Mer omfattande förändringsarbete behövs\",Självskattning!B132,\"\")","v":""},{"$f":"IF(Självskattning!C132=\"Mer omfattande förändringsarbete behövs\",IF(ISBLANK(Självskattning!D132),\"\",Självskattning!D132),\"\")","v":""}]
[null,{"$f":"IF(Självskattning!C133=\"Mer omfattande förändringsarbete behövs\",Självskattning!A133,\"\")","v":""},{"$f":"IF(Självskattning!C133=\"Mer omfattande förändringsarbete behövs\",Självskattning!B133,\"\")","v":""},{"$f":"IF(Självskattning!C133=\"Mer omfattande förändringsarbete behövs\",IF(ISBLANK(Självskattning!D133),\"\",Självskattning!D133),\"\")","v":""}]
[null,{"$f":"IF(Självskattning!C134=\"Mer omfattande förändringsarbete behövs\",Självskattning!A134,\"\")","v":""},{"$f":"IF(Självskattning!C134=\"Mer omfattande förändringsarbete behövs\",Självskattning!B134,\"\")","v":""},{"$f":"IF(Självskattning!C134=\"Mer omfattande förändringsarbete behövs\",IF(ISBLANK(Självskattning!D134),\"\",Självskattning!D134),\"\")","v":""}]
[null,{"$f":"IF(Självskattning!C135=\"Mer omfattande förändringsarbete behövs\",Självskattning!A135,\"\")","v":""},{"$f":"IF(Självskattning!C135=\"Mer omfattande förändringsarbete behövs\",Självskattning!B135,\"\")","v":""},{"$f":"IF(Självskattning!C135=\"Mer omfattande förändringsarbete behövs\",IF(ISBLANK(Självskattning!D135),\"\",Självskattning!D135),\"\")","v":""}]
[null,{"$f":"IF(Självskattning!C136=\"Mer omfattande förändringsarbete behövs\",Självskattning!A136,\"\")","v":""},{"$f":"IF(Självskattning!C136=\"Mer omfattande förändringsarbete behövs\",Självskattning!B136,\"\")","v":""},{"$f":"IF(Självskattning!C136=\"Mer omfattande förändringsarbete behövs\",IF(ISBLANK(Självskattning!D136),\"\",Självskattning!D136),\"\")","v":""}]
[null,{"$f":"IF(Självskattning!C137=\"Mer omfattande förändringsarbete behövs\",Självskattning!A137,\"\")","v":""},{"$f":"IF(Självskattning!C137=\"Mer omfattande förändringsarbete behövs\",Självskattning!B137,\"\")","v":""},{"$f":"IF(Självskattning!C137=\"Mer omfattande förändringsarbete behövs\",IF(ISBLANK(Självskattning!D137),\"\",Självskattning!D137),\"\")","v":""}]
[null,{"$f":"IF(Självskattning!C138=\"Mer omfattande förändringsarbete behövs\",Självskattning!A138,\"\")","v":""},{"$f":"IF(Självskattning!C138=\"Mer omfattande förändringsarbete behövs\",Självskattning!B138,\"\")","v":""},{"$f":"IF(Självskattning!C138=\"Mer omfattande förändringsarbete behövs\",IF(ISBLANK(Självskattning!D138),\"\",Självskattning!D138),\"\")","v":""}]
[null,{"$f":"IF(Självskattning!C139=\"Mer omfattande förändringsarbete behövs\",Självskattning!A139,\"\")","v":""},{"$f":"IF(Självskattning!C139=\"Mer omfattande förändringsarbete behövs\",Självskattning!B139,\"\")","v":""},{"$f":"IF(Självskattning!C139=\"Mer omfattande förändringsarbete behövs\",IF(ISBLANK(Självskattning!D139),\"\",Självskattning!D139),\"\")","v":""}]
[null,{"$f":"IF(Självskattning!C140=\"Mer omfattande förändringsarbete behövs\",Självskattning!A140,\"\")","v":""},{"$f":"IF(Självskattning!C140=\"Mer omfattande förändringsarbete behövs\",Självskattning!B140,\"\")","v":""},{"$f":"IF(Självskattning!C140=\"Mer omfattande förändringsarbete behövs\",IF(ISBLANK(Självskattning!D140),\"\",Självskattning!D140),\"\")","v":""}]
[null,{"$f":"IF(Självskattning!C141=\"Mer omfattande förändringsarbete behövs\",Självskattning!A141,\"\")","v":""},{"$f":"IF(Självskattning!C141=\"Mer omfattande förändringsarbete behövs\",Självskattning!B141,\"\")","v":""},{"$f":"IF(Självskattning!C141=\"Mer omfattande förändringsarbete behövs\",IF(ISBLANK(Självskattning!D141),\"\",Självskattning!D141),\"\")","v":""}]
[null,{"$f":"IF(Självskattning!C142=\"Mer omfattande förändringsarbete behövs\",Självskattning!A142,\"\")","v":""},{"$f":"IF(Självskattning!C142=\"Mer omfattande förändringsarbete behövs\",Självskattning!B142,\"\")","v":""},{"$f":"IF(Självskattning!C142=\"Mer omfattande förändringsarbete behövs\",IF(ISBLANK(Självskattning!D142),\"\",Självskattning!D142),\"\")","v":""}]
[null,{"$f":"IF(Självskattning!C143=\"Mer omfattande förändringsarbete behövs\",Självskattning!A143,\"\")","v":""},{"$f":"IF(Självskattning!C143=\"Mer omfattande förändringsarbete behövs\",Självskattning!B143,\"\")","v":""},{"$f":"IF(Självskattning!C143=\"Mer omfattande förändringsarbete behövs\",IF(ISBLANK(Självskattning!D143),\"\",Självskattning!D143),\"\")","v":""}]
[null,{"$f":"IF(Självskattning!C144=\"Mer omfattande förändringsarbete behövs\",Självskattning!A144,\"\")","v":""},{"$f":"IF(Självskattning!C144=\"Mer omfattande förändringsarbete behövs\",Självskattning!B144,\"\")","v":""},{"$f":"IF(Självskattning!C144=\"Mer omfattande förändringsarbete behövs\",IF(ISBLANK(Självskattning!D144),\"\",Självskattning!D144),\"\")","v":""}]
[null,{"$f":"IF(Självskattning!C145=\"Mer omfattande förändringsarbete behövs\",Självskattning!A145,\"\")","v":""},{"$f":"IF(Självskattning!C145=\"Mer omfattande förändringsarbete behövs\",Självskattning!B145,\"\")","v":""},{"$f":"IF(Självskattning!C145=\"Mer omfattande förändringsarbete behövs\",IF(ISBLANK(Självskattning!D145),\"\",Självskattning!D145),\"\")","v":""}]
[null,{"$f":"IF(Självskattning!C146=\"Mer omfattande förändringsarbete behövs\",Självskattning!A146,\"\")","v":""},{"$f":"IF(Självskattning!C146=\"Mer omfattande förändringsarbete behövs\",Självskattning!B146,\"\")","v":""},{"$f":"IF(Självskattning!C146=\"Mer omfattande förändringsarbete behövs\",IF(ISBLANK(Självskattning!D146),\"\",Självskattning!D146),\"\")","v":""}]
[null,{"$f":"IF(Självskattning!C147=\"Mer omfattande förändringsarbete behövs\",Självskattning!A147,\"\")","v":""},{"$f":"IF(Självskattning!C147=\"Mer omfattande förändringsarbete behövs\",Självskattning!B147,\"\")","v":""},{"$f":"IF(Självskattning!C147=\"Mer omfattande förändringsarbete behövs\",IF(ISBLANK(Självskattning!D147),\"\",Självskattning!D147),\"\")","v":""}]
[null,{"$f":"IF(Självskattning!C148=\"Mer omfattande förändringsarbete behövs\",Självskattning!A148,\"\")","v":""},{"$f":"IF(Självskattning!C148=\"Mer omfattande förändringsarbete behövs\",Självskattning!B148,\"\")","v":""},{"$f":"IF(Självskattning!C148=\"Mer omfattande förändringsarbete behövs\",IF(ISBLANK(Självskattning!D148),\"\",Självskattning!D148),\"\")","v":""}]
[null,{"$f":"IF(Självskattning!C149=\"Mer omfattande förändringsarbete behövs\",Självskattning!A149,\"\")","v":""},{"$f":"IF(Självskattning!C149=\"Mer omfattande förändringsarbete behövs\",Självskattning!B149,\"\")","v":""},{"$f":"IF(Självskattning!C149=\"Mer omfattande förändringsarbete behövs\",IF(ISBLANK(Självskattning!D149),\"\",Självskattning!D149),\"\")","v":""}]
[null,{"$f":"IF(Självskattning!C150=\"Mer omfattande förändringsarbete behövs\",Självskattning!A150,\"\")","v":""},{"$f":"IF(Självskattning!C150=\"Mer omfattande förändringsarbete behövs\",Självskattning!B150,\"\")","v":""},{"$f":"IF(Självskattning!C150=\"Mer omfattande förändringsarbete behövs\",IF(ISBLANK(Självskattning!D150),\"\",Självskattning!D150),\"\")","v":""}]
[null,{"$f":"IF(Självskattning!C151=\"Mer omfattande förändringsarbete behövs\",Självskattning!A151,\"\")","v":""},{"$f":"IF(Självskattning!C151=\"Mer omfattande förändringsarbete behövs\",Självskattning!B151,\"\")","v":""},{"$f":"IF(Självskattning!C151=\"Mer omfattande förändringsarbete behövs\",IF(ISBLANK(Självskattning!D151),\"\",Självskattning!D151),\"\")","v":""}]
[null,{"$f":"IF(Självskattning!C152=\"Mer omfattande förändringsarbete behövs\",Självskattning!A152,\"\")","v":""},{"$f":"IF(Självskattning!C152=\"Mer omfattande förändringsarbete behövs\",Självskattning!B152,\"\")","v":""},{"$f":"IF(Självskattning!C152=\"Mer omfattande förändringsarbete behövs\",IF(ISBLANK(Självskattning!D152),\"\",Självskattning!D152),\"\")","v":""}]
[null,{"$f":"IF(Självskattning!C153=\"Mer omfattande förändringsarbete behövs\",Självskattning!A153,\"\")","v":""},{"$f":"IF(Självskattning!C153=\"Mer omfattande förändringsarbete behövs\",Självskattning!B153,\"\")","v":""},{"$f":"IF(Självskattning!C153=\"Mer omfattande förändringsarbete behövs\",IF(ISBLANK(Självskattning!D153),\"\",Självskattning!D153),\"\")","v":""}]
[null,{"$f":"IF(Självskattning!C154=\"Mer omfattande förändringsarbete behövs\",Självskattning!A154,\"\")","v":""},{"$f":"IF(Självskattning!C154=\"Mer omfattande förändringsarbete behövs\",Självskattning!B154,\"\")","v":""},{"$f":"IF(Självskattning!C154=\"Mer omfattande förändringsarbete behövs\",IF(ISBLANK(Självskattning!D154),\"\",Självskattning!D154),\"\")","v":""}]
[null,{"$f":"IF(Självskattning!C155=\"Mer omfattande förändringsarbete behövs\",Självskattning!A155,\"\")","v":""},{"$f":"IF(Självskattning!C155=\"Mer omfattande förändringsarbete behövs\",Självskattning!B155,\"\")","v":""},{"$f":"IF(Självskattning!C155=\"Mer omfattande förändringsarbete behövs\",IF(ISBLANK(Självskattning!D155),\"\",Självskattning!D155),\"\")","v":""}]
[null,{"$f":"IF(Självskattning!C156=\"Mer omfattande förändringsarbete behövs\",Självskattning!A156,\"\")","v":""},{"$f":"IF(Självskattning!C156=\"Mer omfattande förändringsarbete behövs\",Självskattning!B156,\"\")","v":""},{"$f":"IF(Självskattning!C156=\"Mer omfattande förändringsarbete behövs\",IF(ISBLANK(Självskattning!D156),\"\",Självskattning!D156),\"\")","v":""}]
[null,{"$f":"IF(Självskattning!C157=\"Mer omfattande förändringsarbete behövs\",Självskattning!A157,\"\")","v":""},{"$f":"IF(Självskattning!C157=\"Mer omfattande förändringsarbete behövs\",Självskattning!B157,\"\")","v":""},{"$f":"IF(Självskattning!C157=\"Mer omfattande förändringsarbete behövs\",IF(ISBLANK(Självskattning!D157),\"\",Självskattning!D157),\"\")","v":""}]
[null,{"$f":"IF(Självskattning!C158=\"Mer omfattande förändringsarbete behövs\",Självskattning!A158,\"\")","v":""},{"$f":"IF(Självskattning!C158=\"Mer omfattande förändringsarbete behövs\",Självskattning!B158,\"\")","v":""},{"$f":"IF(Självskattning!C158=\"Mer omfattande förändringsarbete behövs\",IF(ISBLANK(Självskattning!D158),\"\",Självskattning!D158),\"\")","v":""}]
[null,{"$f":"IF(Självskattning!C159=\"Mer omfattande förändringsarbete behövs\",Självskattning!A159,\"\")","v":""},{"$f":"IF(Självskattning!C159=\"Mer omfattande förändringsarbete behövs\",Självskattning!B159,\"\")","v":""},{"$f":"IF(Självskattning!C159=\"Mer omfattande förändringsarbete behövs\",IF(ISBLANK(Självskattning!D159),\"\",Självskattning!D159),\"\")","v":""}]
[null,{"$f":"IF(Självskattning!C160=\"Mer omfattande förändringsarbete behövs\",Självskattning!A160,\"\")","v":""},{"$f":"IF(Självskattning!C160=\"Mer omfattande förändringsarbete behövs\",Självskattning!B160,\"\")","v":""},{"$f":"IF(Självskattning!C160=\"Mer omfattande förändringsarbete behövs\",IF(ISBLANK(Självskattning!D160),\"\",Självskattning!D160),\"\")","v":""}]
[null,{"$f":"IF(Självskattning!C161=\"Mer omfattande förändringsarbete behövs\",Självskattning!A161,\"\")","v":""},{"$f":"IF(Självskattning!C161=\"Mer omfattande förändringsarbete behövs\",Självskattning!B161,\"\")","v":""},{"$f":"IF(Självskattning!C161=\"Mer omfattande förändringsarbete behövs\",IF(ISBLANK(Självskattning!D161),\"\",Självskattning!D161),\"\")","v":""}]
[null,{"$f":"IF(Självskattning!C162=\"Mer omfattande förändringsarbete behövs\",Självskattning!A162,\"\")","v":""},{"$f":"IF(Självskattning!C162=\"Mer omfattande förändringsarbete behövs\",Självskattning!B162,\"\")","v":""},{"$f":"IF(Självskattning!C162=\"Mer omfattande förändringsarbete behövs\",IF(ISBLANK(Självskattning!D162),\"\",Självskattning!D162),\"\")","v":""}]
[null,{"$f":"IF(Självskattning!C163=\"Mer omfattande förändringsarbete behövs\",Självskattning!A163,\"\")","v":""},{"$f":"IF(Självskattning!C163=\"Mer omfattande förändringsarbete behövs\",Självskattning!B163,\"\")","v":""},{"$f":"IF(Självskattning!C163=\"Mer omfattande förändringsarbete behövs\",IF(ISBLANK(Självskattning!D163),\"\",Självskattning!D163),\"\")","v":""}]
[null,{"$f":"IF(Självskattning!C164=\"Mer omfattande förändringsarbete behövs\",Självskattning!A164,\"\")","v":""},{"$f":"IF(Självskattning!C164=\"Mer omfattande förändringsarbete behövs\",Självskattning!B164,\"\")","v":""},{"$f":"IF(Självskattning!C164=\"Mer omfattande förändringsarbete behövs\",IF(ISBLANK(Självskattning!D164),\"\",Självskattning!D164),\"\")","v":""}]
[null,{"$f":"IF(Självskattning!C165=\"Mer omfattande förändringsarbete behövs\",Självskattning!A165,\"\")","v":""},{"$f":"IF(Självskattning!C165=\"Mer omfattande förändringsarbete behövs\",Självskattning!B165,\"\")","v":""},{"$f":"IF(Självskattning!C165=\"Mer omfattande förändringsarbete behövs\",IF(ISBLANK(Självskattning!D165),\"\",Självskattning!D165),\"\")","v":""}]
[null,{"$f":"IF(Självskattning!C166=\"Mer omfattande förändringsarbete behövs\",Självskattning!A166,\"\")","v":""},{"$f":"IF(Självskattning!C166=\"Mer omfattande förändringsarbete behövs\",Självskattning!B166,\"\")","v":""},{"$f":"IF(Självskattning!C166=\"Mer omfattande förändringsarbete behövs\",IF(ISBLANK(Självskattning!D166),\"\",Självskattning!D166),\"\")","v":""}]
[null,{"$f":"IF(Självskattning!C167=\"Mer omfattande förändringsarbete behövs\",Självskattning!A167,\"\")","v":""},{"$f":"IF(Självskattning!C167=\"Mer omfattande förändringsarbete behövs\",Självskattning!B167,\"\")","v":""},{"$f":"IF(Självskattning!C167=\"Mer omfattande förändringsarbete behövs\",IF(ISBLANK(Självskattning!D167),\"\",Självskattning!D167),\"\")","v":""}]
[null,{"$f":"IF(Självskattning!C168=\"Mer omfattande förändringsarbete behövs\",Självskattning!A168,\"\")","v":""},{"$f":"IF(Självskattning!C168=\"Mer omfattande förändringsarbete behövs\",Självskattning!B168,\"\")","v":""},{"$f":"IF(Självskattning!C168=\"Mer omfattande förändringsarbete behövs\",IF(ISBLANK(Självskattning!D168),\"\",Självskattning!D168),\"\")","v":""}]
[null,{"$f":"IF(Självskattning!C169=\"Mer omfattande förändringsarbete behövs\",Självskattning!A169,\"\")","v":""},{"$f":"IF(Självskattning!C169=\"Mer omfattande förändringsarbete behövs\",Självskattning!B169,\"\")","v":""},{"$f":"IF(Självskattning!C169=\"Mer omfattande förändringsarbete behövs\",IF(ISBLANK(Självskattning!D169),\"\",Självskattning!D169),\"\")","v":""}]
[null,{"$f":"IF(Självskattning!C170=\"Mer omfattande förändringsarbete behövs\",Självskattning!A170,\"\")","v":""},{"$f":"IF(Självskattning!C170=\"Mer omfattande förändringsarbete behövs\",Självskattning!B170,\"\")","v":""},{"$f":"IF(Självskattning!C170=\"Mer omfattande förändringsarbete behövs\",IF(ISBLANK(Självskattning!D170),\"\",Självskattning!D170),\"\")","v":""}]
[null,{"$f":"IF(Självskattning!C171=\"Mer omfattande förändringsarbete behövs\",Självskattning!A171,\"\")","v":""},{"$f":"IF(Självskattning!C171=\"Mer omfattande förändringsarbete behövs\",Självskattning!B171,\"\")","v":""},{"$f":"IF(Självskattning!C171=\"Mer omfattande förändringsarbete behövs\",IF(ISBLANK(Självskattning!D171),\"\",Självskattning!D171),\"\")","v":""}]
[null,{"$f":"IF(Självskattning!C172=\"Mer omfattande förändringsarbete behövs\",Självskattning!A172,\"\")","v":""},{"$f":"IF(Självskattning!C172=\"Mer omfattande förändringsarbete behövs\",Självskattning!B172,\"\")","v":""},{"$f":"IF(Självskattning!C172=\"Mer omfattande förändringsarbete behövs\",IF(ISBLANK(Självskattning!D172),\"\",Självskattning!D172),\"\")","v":""}]
[null,{"$f":"IF(Självskattning!C173=\"Mer omfattande förändringsarbete behövs\",Självskattning!A173,\"\")","v":""},{"$f":"IF(Självskattning!C173=\"Mer omfattande förändringsarbete behövs\",Självskattning!B173,\"\")","v":""},{"$f":"IF(Självskattning!C173=\"Mer omfattande förändringsarbete behövs\",IF(ISBLANK(Självskattning!D173),\"\",Självskattning!D173),\"\")","v":""}]
[null,{"$f":"IF(Självskattning!C174=\"Mer omfattande förändringsarbete behövs\",Självskattning!A174,\"\")","v":""},{"$f":"IF(Självskattning!C174=\"Mer omfattande förändringsarbete behövs\",Självskattning!B174,\"\")","v":""},{"$f":"IF(Självskattning!C174=\"Mer omfattande förändringsarbete behövs\",IF(ISBLANK(Självskattning!D174),\"\",Självskattning!D174),\"\")","v":""}]
[null,{"$f":"IF(Självskattning!C175=\"Mer omfattande förändringsarbete behövs\",Självskattning!A175,\"\")","v":""},{"$f":"IF(Självskattning!C175=\"Mer omfattande förändringsarbete behövs\",Självskattning!B175,\"\")","v":""},{"$f":"IF(Självskattning!C175=\"Mer omfattande förändringsarbete behövs\",IF(ISBLANK(Självskattning!D175),\"\",Självskattning!D175),\"\")","v":""}]
[null,{"$f":"IF(Självskattning!C176=\"Mer omfattande förändringsarbete behövs\",Självskattning!A176,\"\")","v":""},{"$f":"IF(Självskattning!C176=\"Mer omfattande förändringsarbete behövs\",Självskattning!B176,\"\")","v":""},{"$f":"IF(Självskattning!C176=\"Mer omfattande förändringsarbete behövs\",IF(ISBLANK(Självskattning!D176),\"\",Självskattning!D176),\"\")","v":""}]
[null,{"$f":"IF(Självskattning!C177=\"Mer omfattande förändringsarbete behövs\",Självskattning!A177,\"\")","v":""},{"$f":"IF(Självskattning!C177=\"Mer omfattande förändringsarbete behövs\",Självskattning!B177,\"\")","v":""},{"$f":"IF(Självskattning!C177=\"Mer omfattande förändringsarbete behövs\",IF(ISBLANK(Självskattning!D177),\"\",Självskattning!D177),\"\")","v":""}]
[null,{"$f":"IF(Självskattning!C178=\"Mer omfattande förändringsarbete behövs\",Självskattning!A178,\"\")","v":""},{"$f":"IF(Självskattning!C178=\"Mer omfattande förändringsarbete behövs\",Självskattning!B178,\"\")","v":""},{"$f":"IF(Självskattning!C178=\"Mer omfattande förändringsarbete behövs\",IF(ISBLANK(Självskattning!D178),\"\",Självskattning!D178),\"\")","v":""}]
[null,{"$f":"IF(Självskattning!C179=\"Mer omfattande förändringsarbete behövs\",Självskattning!A179,\"\")","v":""},{"$f":"IF(Självskattning!C179=\"Mer omfattande förändringsarbete behövs\",Självskattning!B179,\"\")","v":""},{"$f":"IF(Självskattning!C179=\"Mer omfattande förändringsarbete behövs\",IF(ISBLANK(Självskattning!D179),\"\",Självskattning!D179),\"\")","v":""}]
[null,{"$f":"IF(Självskattning!C180=\"Mer omfattande förändringsarbete behövs\",Självskattning!A180,\"\")","v":""},{"$f":"IF(Självskattning!C180=\"Mer omfattande förändringsarbete behövs\",Självskattning!B180,\"\")","v":""},{"$f":"IF(Självskattning!C180=\"Mer omfattande förändringsarbete behövs\",IF(ISBLANK(Självskattning!D180),\"\",Självskattning!D180),\"\")","v":""}]
[null,{"$f":"IF(Självskattning!C181=\"Mer omfattande förändringsarbete behövs\",Självskattning!A181,\"\")","v":""},{"$f":"IF(Självskattning!C181=\"Mer omfattande förändringsarbete behövs\",Självskattning!B181,\"\")","v":""},{"$f":"IF(Självskattning!C181=\"Mer omfattande förändringsarbete behövs\",IF(ISBLANK(Självskattning!D181),\"\",Självskattning!D181),\"\")","v":""}]
[null,{"$f":"IF(Självskattning!C182=\"Mer omfattande förändringsarbete behövs\",Självskattning!A182,\"\")","v":""},{"$f":"IF(Självskattning!C182=\"Mer omfattande förändringsarbete behövs\",Självskattning!B182,\"\")","v":""},{"$f":"IF(Självskattning!C182=\"Mer omfattande förändringsarbete behövs\",IF(ISBLANK(Självskattning!D182),\"\",Självskattning!D182),\"\")","v":""}]
[null,{"$f":"IF(Självskattning!C183=\"Mer omfattande förändringsarbete behövs\",Självskattning!A183,\"\")","v":""},{"$f":"IF(Självskattning!C183=\"Mer omfattande förändringsarbete behövs\",Självskattning!B183,\"\")","v":""},{"$f":"IF(Självskattning!C183=\"Mer omfattande förändringsarbete behövs\",IF(ISBLANK(Självskattning!D183),\"\",Självskattning!D183),\"\")","v":""}]
[null,{"$f":"IF(Självskattning!C184=\"Mer omfattande förändringsarbete behövs\",Självskattning!A184,\"\")","v":""},{"$f":"IF(Självskattning!C184=\"Mer omfattande förändringsarbete behövs\",Självskattning!B184,\"\")","v":""},{"$f":"IF(Självskattning!C184=\"Mer omfattande förändringsarbete behövs\",IF(ISBLANK(Självskattning!D184),\"\",Självskattning!D184),\"\")","v":""}]
[null,{"$f":"IF(Självskattning!C185=\"Mer omfattande förändringsarbete behövs\",Självskattning!A185,\"\")","v":""},{"$f":"IF(Självskattning!C185=\"Mer omfattande förändringsarbete behövs\",Självskattning!B185,\"\")","v":""},{"$f":"IF(Självskattning!C185=\"Mer omfattande förändringsarbete behövs\",IF(ISBLANK(Självskattning!D185),\"\",Självskattning!D185),\"\")","v":""}]
[null,{"$f":"IF(Självskattning!C186=\"Mer omfattande förändringsarbete behövs\",Självskattning!A186,\"\")","v":""},{"$f":"IF(Självskattning!C186=\"Mer omfattande förändringsarbete behövs\",Självskattning!B186,\"\")","v":""},{"$f":"IF(Självskattning!C186=\"Mer omfattande förändringsarbete behövs\",IF(ISBLANK(Självskattning!D186),\"\",Självskattning!D186),\"\")","v":""}]
[null,{"$f":"IF(Självskattning!C187=\"Mer omfattande förändringsarbete behövs\",Självskattning!A187,\"\")","v":""},{"$f":"IF(Självskattning!C187=\"Mer omfattande förändringsarbete behövs\",Självskattning!B187,\"\")","v":""},{"$f":"IF(Självskattning!C187=\"Mer omfattande förändringsarbete behövs\",IF(ISBLANK(Självskattning!D187),\"\",Självskattning!D187),\"\")","v":""}]
[null,{"$f":"IF(Självskattning!C188=\"Mer omfattande förändringsarbete behövs\",Självskattning!A188,\"\")","v":""},{"$f":"IF(Självskattning!C188=\"Mer omfattande förändringsarbete behövs\",Självskattning!B188,\"\")","v":""},{"$f":"IF(Självskattning!C188=\"Mer omfattande förändringsarbete behövs\",IF(ISBLANK(Självskattning!D188),\"\",Självskattning!D188),\"\")","v":""}]
[null,{"$f":"IF(Självskattning!C189=\"Mer omfattande förändringsarbete behövs\",Självskattning!A189,\"\")","v":""},{"$f":"IF(Självskattning!C189=\"Mer omfattande förändringsarbete behövs\",Självskattning!B189,\"\")","v":""},{"$f":"IF(Självskattning!C189=\"Mer omfattande förändringsarbete behövs\",IF(ISBLANK(Självskattning!D189),\"\",Självskattning!D189),\"\")","v":""}]
[null,{"$f":"IF(Självskattning!C190=\"Mer omfattande förändringsarbete behövs\",Självskattning!A190,\"\")","v":""},{"$f":"IF(Självskattning!C190=\"Mer omfattande förändringsarbete behövs\",Självskattning!B190,\"\")","v":""},{"$f":"IF(Självskattning!C190=\"Mer omfattande förändringsarbete behövs\",IF(ISBLANK(Självskattning!D190),\"\",Självskattning!D190),\"\")","v":""}]
[null,{"$f":"IF(Självskattning!C191=\"Mer omfattande förändringsarbete behövs\",Självskattning!A191,\"\")","v":""},{"$f":"IF(Självskattning!C191=\"Mer omfattande förändringsarbete behövs\",Självskattning!B191,\"\")","v":""},{"$f":"IF(Självskattning!C191=\"Mer omfattande förändringsarbete behövs\",IF(ISBLANK(Självskattning!D191),\"\",Självskattning!D191),\"\")","v":""}]
[null,{"$f":"IF(Självskattning!C192=\"Mer omfattande förändringsarbete behövs\",Självskattning!A192,\"\")","v":""},{"$f":"IF(Självskattning!C192=\"Mer omfattande förändringsarbete behövs\",Självskattning!B192,\"\")","v":""},{"$f":"IF(Självskattning!C192=\"Mer omfattande förändringsarbete behövs\",IF(ISBLANK(Självskattning!D192),\"\",Självskattning!D192),\"\")","v":""}]
[null,{"$f":"IF(Självskattning!C193=\"Mer omfattande förändringsarbete behövs\",Självskattning!A193,\"\")","v":""},{"$f":"IF(Självskattning!C193=\"Mer omfattande förändringsarbete behövs\",Självskattning!B193,\"\")","v":""},{"$f":"IF(Självskattning!C193=\"Mer omfattande förändringsarbete behövs\",IF(ISBLANK(Självskattning!D193),\"\",Självskattning!D193),\"\")","v":""}]
[null,{"$f":"IF(Självskattning!C194=\"Mer omfattande förändringsarbete behövs\",Självskattning!A194,\"\")","v":""},{"$f":"IF(Självskattning!C194=\"Mer omfattande förändringsarbete behövs\",Självskattning!B194,\"\")","v":""},{"$f":"IF(Självskattning!C194=\"Mer omfattande förändringsarbete behövs\",IF(ISBLANK(Självskattning!D194),\"\",Självskattning!D194),\"\")","v":""}]
[null,{"$f":"IF(Självskattning!C195=\"Mer omfattande förändringsarbete behövs\",Självskattning!A195,\"\")","v":""},{"$f":"IF(Självskattning!C195=\"Mer omfattande förändringsarbete behövs\",Självskattning!B195,\"\")","v":""},{"$f":"IF(Självskattning!C195=\"Mer omfattande förändringsarbete behövs\",IF(ISBLANK(Självskattning!D195),\"\",Självskattning!D195),\"\")","v":""}]
[null,{"$f":"IF(Självskattning!C196=\"Mer omfattande förändringsarbete behövs\",Självskattning!A196,\"\")","v":""},{"$f":"IF(Självskattning!C196=\"Mer omfattande förändringsarbete behövs\",Självskattning!B196,\"\")","v":""},{"$f":"IF(Självskattning!C196=\"Mer omfattande förändringsarbete behövs\",IF(ISBLANK(Självskattning!D196),\"\",Självskattning!D196),\"\")","v":""}]
[null,{"$f":"IF(Självskattning!C197=\"Mer omfattande förändringsarbete behövs\",Självskattning!A197,\"\")","v":""},{"$f":"IF(Självskattning!C197=\"Mer omfattande förändringsarbete behövs\",Självskattning!B197,\"\")","v":""},{"$f":"IF(Självskattning!C197=\"Mer omfattande förändringsarbete behövs\",IF(ISBLANK(Självskattning!D197),\"\",Självskattning!D197),\"\")","v":""}]
[null,{"$f":"IF(Självskattning!C198=\"Mer omfattande förändringsarbete behövs\",Självskattning!A198,\"\")","v":""},{"$f":"IF(Självskattning!C198=\"Mer omfattande förändringsarbete behövs\",Självskattning!B198,\"\")","v":""},{"$f":"IF(Självskattning!C198=\"Mer omfattande förändringsarbete behövs\",IF(ISBLANK(Självskattning!D198),\"\",Självskattning!D198),\"\")","v":""}]
[null,{"$f":"IF(Självskattning!C199=\"Mer omfattande förändringsarbete behövs\",Självskattning!A199,\"\")","v":""},{"$f":"IF(Självskattning!C199=\"Mer omfattande förändringsarbete behövs\",Självskattning!B199,\"\")","v":""},{"$f":"IF(Självskattning!C199=\"Mer omfattande förändringsarbete behövs\",IF(ISBLANK(Självskattning!D199),\"\",Självskattning!D199),\"\")","v":""}]
[null,{"$f":"IF(Självskattning!C200=\"Mer omfattande förändringsarbete behövs\",Självskattning!A200,\"\")","v":""},{"$f":"IF(Självskattning!C200=\"Mer omfattande förändringsarbete behövs\",Självskattning!B200,\"\")","v":""},{"$f":"IF(Självskattning!C200=\"Mer omfattande förändringsarbete behövs\",IF(ISBLANK(Självskattning!D200),\"\",Självskattning!D200),\"\")","v":""}]
[null,{"$f":"IF(Självskattning!C201=\"Mer omfattande förändringsarbete behövs\",Självskattning!A201,\"\")","v":""},{"$f":"IF(Självskattning!C201=\"Mer omfattande förändringsarbete behövs\",Självskattning!B201,\"\")","v":""},{"$f":"IF(Självskattning!C201=\"Mer omfattande förändringsarbete behövs\",IF(ISBLANK(Självskattning!D201),\"\",Självskattning!D201),\"\")","v":""}]
[null,{"$f":"IF(Självskattning!C202=\"Mer omfattande förändringsarbete behövs\",Självskattning!A202,\"\")","v":""},{"$f":"IF(Självskattning!C202=\"Mer omfattande förändringsarbete behövs\",Självskattning!B202,\"\")","v":""},{"$f":"IF(Självskattning!C202=\"Mer omfattande förändringsarbete behövs\",IF(ISBLANK(Självskattning!D202),\"\",Självskattning!D202),\"\")","v":""}]
[null,{"$f":"IF(Självskattning!C203=\"Mer omfattande förändringsarbete behövs\",Självskattning!A203,\"\")","v":""},{"$f":"IF(Självskattning!C203=\"Mer omfattande förändringsarbete behövs\",Självskattning!B203,\"\")","v":""},{"$f":"IF(Självskattning!C203=\"Mer omfattande förändringsarbete behövs\",IF(ISBLANK(Självskattning!D203),\"\",Självskattning!D203),\"\")","v":""}]
[null,{"$f":"IF(Självskattning!C204=\"Mer omfattande förändringsarbete behövs\",Självskattning!A204,\"\")","v":""},{"$f":"IF(Självskattning!C204=\"Mer omfattande förändringsarbete behövs\",Självskattning!B204,\"\")","v":""},{"$f":"IF(Självskattning!C204=\"Mer omfattande förändringsarbete behövs\",IF(ISBLANK(Självskattning!D204),\"\",Självskattning!D204),\"\")","v":""}]
[null,{"$f":"IF(Självskattning!C205=\"Mer omfattande förändringsarbete behövs\",Självskattning!A205,\"\")","v":""},{"$f":"IF(Självskattning!C205=\"Mer omfattande förändringsarbete behövs\",Självskattning!B205,\"\")","v":""},{"$f":"IF(Självskattning!C205=\"Mer omfattande förändringsarbete behövs\",IF(ISBLANK(Självskattning!D205),\"\",Självskattning!D205),\"\")","v":""}]
[null,{"$f":"IF(Självskattning!C206=\"Mer omfattande förändringsarbete behövs\",Självskattning!A206,\"\")","v":""},{"$f":"IF(Självskattning!C206=\"Mer omfattande förändringsarbete behövs\",Självskattning!B206,\"\")","v":""},{"$f":"IF(Självskattning!C206=\"Mer omfattande förändringsarbete behövs\",IF(ISBLANK(Självskattning!D206),\"\",Självskattning!D206),\"\")","v":""}]
[null,{"$f":"IF(Självskattning!C207=\"Mer omfattande förändringsarbete behövs\",Självskattning!A207,\"\")","v":""},{"$f":"IF(Självskattning!C207=\"Mer omfattande förändringsarbete behövs\",Självskattning!B207,\"\")","v":""},{"$f":"IF(Självskattning!C207=\"Mer omfattande förändringsarbete behövs\",IF(ISBLANK(Självskattning!D207),\"\",Självskattning!D207),\"\")","v":""}]
[null,{"$f":"IF(Självskattning!C208=\"Mer omfattande förändringsarbete behövs\",Självskattning!A208,\"\")","v":""},{"$f":"IF(Självskattning!C208=\"Mer omfattande förändringsarbete behövs\",Självskattning!B208,\"\")","v":""},{"$f":"IF(Självskattning!C208=\"Mer omfattande förändringsarbete behövs\",IF(ISBLANK(Självskattning!D208),\"\",Självskattning!D208),\"\")","v":""}]
[null,{"$f":"IF(Självskattning!C209=\"Mer omfattande förändringsarbete behövs\",Självskattning!A209,\"\")","v":""},{"$f":"IF(Självskattning!C209=\"Mer omfattande förändringsarbete behövs\",Självskattning!B209,\"\")","v":""},{"$f":"IF(Självskattning!C209=\"Mer omfattande förändringsarbete behövs\",IF(ISBLANK(Självskattning!D209),\"\",Självskattning!D209),\"\")","v":""}]
[null,{"$f":"IF(Självskattning!C210=\"Mer omfattande förändringsarbete behövs\",Självskattning!A210,\"\")","v":""},{"$f":"IF(Självskattning!C210=\"Mer omfattande förändringsarbete behövs\",Självskattning!B210,\"\")","v":""},{"$f":"IF(Självskattning!C210=\"Mer omfattande förändringsarbete behövs\",IF(ISBLANK(Självskattning!D210),\"\",Självskattning!D210),\"\")","v":""}]
[null,{"$f":"IF(Självskattning!C211=\"Mer omfattande förändringsarbete behövs\",Självskattning!A211,\"\")","v":""},{"$f":"IF(Självskattning!C211=\"Mer omfattande förändringsarbete behövs\",Självskattning!B211,\"\")","v":""},{"$f":"IF(Självskattning!C211=\"Mer omfattande förändringsarbete behövs\",IF(ISBLANK(Självskattning!D211),\"\",Självskattning!D211),\"\")","v":""}]
[null,{"$f":"IF(Självskattning!C212=\"Mer omfattande förändringsarbete behövs\",Självskattning!A212,\"\")","v":""},{"$f":"IF(Självskattning!C212=\"Mer omfattande förändringsarbete behövs\",Självskattning!B212,\"\")","v":""},{"$f":"IF(Självskattning!C212=\"Mer omfattande förändringsarbete behövs\",IF(ISBLANK(Självskattning!D212),\"\",Självskattning!D212),\"\")","v":""}]
[null,{"$f":"IF(Självskattning!C213=\"Mer omfattande förändringsarbete behövs\",Självskattning!A213,\"\")","v":""},{"$f":"IF(Självskattning!C213=\"Mer omfattande förändringsarbete behövs\",Självskattning!B213,\"\")","v":""},{"$f":"IF(Självskattning!C213=\"Mer omfattande förändringsarbete behövs\",IF(ISBLANK(Självskattning!D213),\"\",Självskattning!D213),\"\")","v":""}]
[null,{"$f":"IF(Självskattning!C214=\"Mer omfattande förändringsarbete behövs\",Självskattning!A214,\"\")","v":""},{"$f":"IF(Självskattning!C214=\"Mer omfattande förändringsarbete behövs\",Självskattning!B214,\"\")","v":""},{"$f":"IF(Självskattning!C214=\"Mer omfattande förändringsarbete behövs\",IF(ISBLANK(Självskattning!D214),\"\",Självskattning!D214),\"\")","v":""}]
[null,{"$f":"IF(Självskattning!C215=\"Mer omfattande förändringsarbete behövs\",Självskattning!A215,\"\")","v":""},{"$f":"IF(Självskattning!C215=\"Mer omfattande förändringsarbete behövs\",Självskattning!B215,\"\")","v":""},{"$f":"IF(Självskattning!C215=\"Mer omfattande förändringsarbete behövs\",IF(ISBLANK(Självskattning!D215),\"\",Självskattning!D215),\"\")","v":""}]
[null,{"$f":"IF(Självskattning!C216=\"Mer omfattande förändringsarbete behövs\",Självskattning!A216,\"\")","v":""},{"$f":"IF(Självskattning!C216=\"Mer omfattande förändringsarbete behövs\",Självskattning!B216,\"\")","v":""},{"$f":"IF(Självskattning!C216=\"Mer omfattande förändringsarbete behövs\",IF(ISBLANK(Självskattning!D216),\"\",Självskattning!D216),\"\")","v":""}]
[null,{"$f":"IF(Självskattning!C217=\"Mer omfattande förändringsarbete behövs\",Självskattning!A217,\"\")","v":""},{"$f":"IF(Självskattning!C217=\"Mer omfattande förändringsarbete behövs\",Självskattning!B217,\"\")","v":""},{"$f":"IF(Självskattning!C217=\"Mer omfattande förändringsarbete behövs\",IF(ISBLANK(Självskattning!D217),\"\",Självskattning!D217),\"\")","v":""}]
[null,{"$f":"IF(Självskattning!C218=\"Mer omfattande förändringsarbete behövs\",Självskattning!A218,\"\")","v":""},{"$f":"IF(Självskattning!C218=\"Mer omfattande förändringsarbete behövs\",Självskattning!B218,\"\")","v":""},{"$f":"IF(Självskattning!C218=\"Mer omfattande förändringsarbete behövs\",IF(ISBLANK(Självskattning!D218),\"\",Självskattning!D218),\"\")","v":""}]
[null,{"$f":"IF(Självskattning!C219=\"Mer omfattande förändringsarbete behövs\",Självskattning!A219,\"\")","v":""},{"$f":"IF(Självskattning!C219=\"Mer omfattande förändringsarbete behövs\",Självskattning!B219,\"\")","v":""},{"$f":"IF(Självskattning!C219=\"Mer omfattande förändringsarbete behövs\",IF(ISBLANK(Självskattning!D219),\"\",Självskattning!D219),\"\")","v":""}]
[null,{"$f":"IF(Självskattning!C220=\"Mer omfattande förändringsarbete behövs\",Självskattning!A220,\"\")","v":""},{"$f":"IF(Självskattning!C220=\"Mer omfattande förändringsarbete behövs\",Självskattning!B220,\"\")","v":""},{"$f":"IF(Självskattning!C220=\"Mer omfattande förändringsarbete behövs\",IF(ISBLANK(Självskattning!D220),\"\",Självskattning!D220),\"\")","v":""}]
[null,{"$f":"IF(Självskattning!C221=\"Mer omfattande förändringsarbete behövs\",Självskattning!A221,\"\")","v":""},{"$f":"IF(Självskattning!C221=\"Mer omfattande förändringsarbete behövs\",Självskattning!B221,\"\")","v":""},{"$f":"IF(Självskattning!C221=\"Mer omfattande förändringsarbete behövs\",IF(ISBLANK(Självskattning!D221),\"\",Självskattning!D221),\"\")","v":""}]
[null,{"$f":"IF(Självskattning!C222=\"Mer omfattande förändringsarbete behövs\",Självskattning!A222,\"\")","v":""},{"$f":"IF(Självskattning!C222=\"Mer omfattande förändringsarbete behövs\",Självskattning!B222,\"\")","v":""},{"$f":"IF(Självskattning!C222=\"Mer omfattande förändringsarbete behövs\",IF(ISBLANK(Självskattning!D222),\"\",Självskattning!D222),\"\")","v":""}]
[null,{"$f":"IF(Självskattning!C223=\"Mer omfattande förändringsarbete behövs\",Självskattning!A223,\"\")","v":""},{"$f":"IF(Självskattning!C223=\"Mer omfattande förändringsarbete behövs\",Självskattning!B223,\"\")","v":""},{"$f":"IF(Självskattning!C223=\"Mer omfattande förändringsarbete behövs\",IF(ISBLANK(Självskattning!D223),\"\",Självskattning!D223),\"\")","v":""}]
[null,{"$f":"IF(Självskattning!C224=\"Mer omfattande förändringsarbete behövs\",Självskattning!A224,\"\")","v":""},{"$f":"IF(Självskattning!C224=\"Mer omfattande förändringsarbete behövs\",Självskattning!B224,\"\")","v":""},{"$f":"IF(Självskattning!C224=\"Mer omfattande förändringsarbete behövs\",IF(ISBLANK(Självskattning!D224),\"\",Självskattning!D224),\"\")","v":""}]
[null,{"$f":"IF(Självskattning!C225=\"Mer omfattande förändringsarbete behövs\",Självskattning!A225,\"\")","v":""},{"$f":"IF(Självskattning!C225=\"Mer omfattande förändringsarbete behövs\",Självskattning!B225,\"\")","v":""},{"$f":"IF(Självskattning!C225=\"Mer omfattande förändringsarbete behövs\",IF(ISBLANK(Självskattning!D225),\"\",Självskattning!D225),\"\")","v":""}]
[null,{"$f":"IF(Självskattning!C226=\"Mer omfattande förändringsarbete behövs\",Självskattning!A226,\"\")","v":""},{"$f":"IF(Självskattning!C226=\"Mer omfattande förändringsarbete behövs\",Självskattning!B226,\"\")","v":""},{"$f":"IF(Självskattning!C226=\"Mer omfattande förändringsarbete behövs\",IF(ISBLANK(Självskattning!D226),\"\",Självskattning!D226),\"\")","v":""}]
[null,{"$f":"IF(Självskattning!C227=\"Mer omfattande förändringsarbete behövs\",Självskattning!A227,\"\")","v":""},{"$f":"IF(Självskattning!C227=\"Mer omfattande förändringsarbete behövs\",Självskattning!B227,\"\")","v":""},{"$f":"IF(Självskattning!C227=\"Mer omfattande förändringsarbete behövs\",IF(ISBLANK(Självskattning!D227),\"\",Självskattning!D227),\"\")","v":""}]
[null,{"$f":"IF(Självskattning!C228=\"Mer omfattande förändringsarbete behövs\",Självskattning!A228,\"\")","v":""},{"$f":"IF(Självskattning!C228=\"Mer omfattande förändringsarbete behövs\",Självskattning!B228,\"\")","v":""},{"$f":"IF(Självskattning!C228=\"Mer omfattande förändringsarbete behövs\",IF(ISBLANK(Självskattning!D228),\"\",Självskattning!D228),\"\")","v":""}]
[null,{"$f":"IF(Självskattning!C229=\"Mer omfattande förändringsarbete behövs\",Självskattning!A229,\"\")","v":""},{"$f":"IF(Självskattning!C229=\"Mer omfattande förändringsarbete behövs\",Självskattning!B229,\"\")","v":""},{"$f":"IF(Självskattning!C229=\"Mer omfattande förändringsarbete behövs\",IF(ISBLANK(Självskattning!D229),\"\",Självskattning!D229),\"\")","v":""}]
[null,{"$f":"IF(Självskattning!C230=\"Mer omfattande förändringsarbete behövs\",Självskattning!A230,\"\")","v":""},{"$f":"IF(Självskattning!C230=\"Mer omfattande förändringsarbete behövs\",Självskattning!B230,\"\")","v":""},{"$f":"IF(Självskattning!C230=\"Mer omfattande förändringsarbete behövs\",IF(ISBLANK(Självskattning!D230),\"\",Självskattning!D230),\"\")","v":""}]
[null,{"$f":"IF(Självskattning!C231=\"Mer omfattande förändringsarbete behövs\",Självskattning!A231,\"\")","v":""},{"$f":"IF(Självskattning!C231=\"Mer omfattande förändringsarbete behövs\",Självskattning!B231,\"\")","v":""},{"$f":"IF(Självskattning!C231=\"Mer omfattande förändringsarbete behövs\",IF(ISBLANK(Självskattning!D231),\"\",Självskattning!D231),\"\")","v":""}]
[null,{"$f":"IF(Självskattning!C232=\"Mer omfattande förändringsarbete behövs\",Självskattning!A232,\"\")","v":""},{"$f":"IF(Självskattning!C232=\"Mer omfattande förändringsarbete behövs\",Självskattning!B232,\"\")","v":""},{"$f":"IF(Självskattning!C232=\"Mer omfattande förändringsarbete behövs\",IF(ISBLANK(Självskattning!D232),\"\",Självskattning!D232),\"\")","v":""}]
[null,{"$f":"IF(Självskattning!C233=\"Mer omfattande förändringsarbete behövs\",Självskattning!A233,\"\")","v":""},{"$f":"IF(Självskattning!C233=\"Mer omfattande förändringsarbete behövs\",Självskattning!B233,\"\")","v":""},{"$f":"IF(Självskattning!C233=\"Mer omfattande förändringsarbete behövs\",IF(ISBLANK(Självskattning!D233),\"\",Självskattning!D233),\"\")","v":""}]
[null,{"$f":"IF(Självskattning!C234=\"Mer omfattande förändringsarbete behövs\",Självskattning!A234,\"\")","v":""},{"$f":"IF(Självskattning!C234=\"Mer omfattande förändringsarbete behövs\",Självskattning!B234,\"\")","v":""},{"$f":"IF(Självskattning!C234=\"Mer omfattande förändringsarbete behövs\",IF(ISBLANK(Självskattning!D234),\"\",Självskattning!D234),\"\")","v":""}]
[null,{"$f":"IF(Självskattning!C235=\"Mer omfattande förändringsarbete behövs\",Självskattning!A235,\"\")","v":""},{"$f":"IF(Självskattning!C235=\"Mer omfattande förändringsarbete behövs\",Självskattning!B235,\"\")","v":""},{"$f":"IF(Självskattning!C235=\"Mer omfattande förändringsarbete behövs\",IF(ISBLANK(Självskattning!D235),\"\",Självskattning!D235),\"\")","v":""}]
[null,{"$f":"IF(Självskattning!C236=\"Mer omfattande förändringsarbete behövs\",Självskattning!A236,\"\")","v":""},{"$f":"IF(Självskattning!C236=\"Mer omfattande förändringsarbete behövs\",Självskattning!B236,\"\")","v":""},{"$f":"IF(Självskattning!C236=\"Mer omfattande förändringsarbete behövs\",IF(ISBLANK(Självskattning!D236),\"\",Självskattning!D236),\"\")","v":""}]
[null,{"$f":"IF(Självskattning!C237=\"Mer omfattande förändringsarbete behövs\",Självskattning!A237,\"\")","v":""},{"$f":"IF(Självskattning!C237=\"Mer omfattande förändringsarbete behövs\",Självskattning!B237,\"\")","v":""},{"$f":"IF(Självskattning!C237=\"Mer omfattande förändringsarbete behövs\",IF(ISBLANK(Självskattning!D237),\"\",Självskattning!D237),\"\")","v":""}]
[null,{"$f":"IF(Självskattning!C238=\"Mer omfattande förändringsarbete behövs\",Självskattning!A238,\"\")","v":""},{"$f":"IF(Självskattning!C238=\"Mer omfattande förändringsarbete behövs\",Självskattning!B238,\"\")","v":""},{"$f":"IF(Självskattning!C238=\"Mer omfattande förändringsarbete behövs\",IF(ISBLANK(Självskattning!D238),\"\",Självskattning!D238),\"\")","v":""}]
[null,{"$f":"IF(Självskattning!C239=\"Mer omfattande förändringsarbete behövs\",Självskattning!A239,\"\")","v":""},{"$f":"IF(Självskattning!C239=\"Mer omfattande förändringsarbete behövs\",Självskattning!B239,\"\")","v":""},{"$f":"IF(Självskattning!C239=\"Mer omfattande förändringsarbete behövs\",IF(ISBLANK(Självskattning!D239),\"\",Självskattning!D239),\"\")","v":""}]
[null,{"$f":"IF(Självskattning!C240=\"Mer omfattande förändringsarbete behövs\",Självskattning!A240,\"\")","v":""},{"$f":"IF(Självskattning!C240=\"Mer omfattande förändringsarbete behövs\",Självskattning!B240,\"\")","v":""},{"$f":"IF(Självskattning!C240=\"Mer omfattande förändringsarbete behövs\",IF(ISBLANK(Självskattning!D240),\"\",Självskattning!D240),\"\")","v":""}]
[null,{"$f":"IF(Självskattning!C241=\"Mer omfattande förändringsarbete behövs\",Självskattning!A241,\"\")","v":""},{"$f":"IF(Självskattning!C241=\"Mer omfattande förändringsarbete behövs\",Självskattning!B241,\"\")","v":""},{"$f":"IF(Självskattning!C241=\"Mer omfattande förändringsarbete behövs\",IF(ISBLANK(Självskattning!D241),\"\",Självskattning!D241),\"\")","v":""}]
[null,{"$f":"IF(Självskattning!C242=\"Mer omfattande förändringsarbete behövs\",Självskattning!A242,\"\")","v":""},{"$f":"IF(Självskattning!C242=\"Mer omfattande förändringsarbete behövs\",Självskattning!B242,\"\")","v":""},{"$f":"IF(Självskattning!C242=\"Mer omfattande förändringsarbete behövs\",IF(ISBLANK(Självskattning!D242),\"\",Självskattning!D242),\"\")","v":""}]
[null,{"$f":"IF(Självskattning!C243=\"Mer omfattande förändringsarbete behövs\",Självskattning!A243,\"\")","v":""},{"$f":"IF(Självskattning!C243=\"Mer omfattande förändringsarbete behövs\",Självskattning!B243,\"\")","v":""},{"$f":"IF(Självskattning!C243=\"Mer omfattande förändringsarbete behövs\",IF(ISBLANK(Självskattning!D243),\"\",Självskattning!D243),\"\")","v":""}]
[null,{"$f":"IF(Självskattning!C244=\"Mer omfattande förändringsarbete behövs\",Självskattning!A244,\"\")","v":""},{"$f":"IF(Självskattning!C244=\"Mer omfattande förändringsarbete behövs\",Självskattning!B244,\"\")","v":""},{"$f":"IF(Självskattning!C244=\"Mer omfattande förändringsarbete behövs\",IF(ISBLANK(Självskattning!D244),\"\",Självskattning!D244),\"\")","v":""}]
[null,{"$f":"IF(Självskattning!C245=\"Mer omfattande förändringsarbete behövs\",Självskattning!A245,\"\")","v":""},{"$f":"IF(Självskattning!C245=\"Mer omfattande förändringsarbete behövs\",Självskattning!B245,\"\")","v":""},{"$f":"IF(Självskattning!C245=\"Mer omfattande förändringsarbete behövs\",IF(ISBLANK(Självskattning!D245),\"\",Självskattning!D245),\"\")","v":""}]
[null,{"$f":"IF(Självskattning!C246=\"Mer omfattande förändringsarbete behövs\",Självskattning!A246,\"\")","v":""},{"$f":"IF(Självskattning!C246=\"Mer omfattande förändringsarbete behövs\",Självskattning!B246,\"\")","v":""},{"$f":"IF(Självskattning!C246=\"Mer omfattande förändringsarbete behövs\",IF(ISBLANK(Självskattning!D246),\"\",Självskattning!D246),\"\")","v":""}]
[null,{"$f":"IF(Självskattning!C247=\"Mer omfattande förändringsarbete behövs\",Självskattning!A247,\"\")","v":""},{"$f":"IF(Självskattning!C247=\"Mer omfattande förändringsarbete behövs\",Självskattning!B247,\"\")","v":""},{"$f":"IF(Självskattning!C247=\"Mer omfattande förändringsarbete behövs\",IF(ISBLANK(Självskattning!D247),\"\",Självskattning!D247),\"\")","v":""}]
[null,{"$f":"IF(Självskattning!C248=\"Mer omfattande förändringsarbete behövs\",Självskattning!A248,\"\")","v":""},{"$f":"IF(Självskattning!C248=\"Mer omfattande förändringsarbete behövs\",Självskattning!B248,\"\")","v":""},{"$f":"IF(Självskattning!C248=\"Mer omfattande förändringsarbete behövs\",IF(ISBLANK(Självskattning!D248),\"\",Självskattning!D248),\"\")","v":""}]
[null,{"$f":"IF(Självskattning!C249=\"Mer omfattande förändringsarbete behövs\",Självskattning!A249,\"\")","v":""},{"$f":"IF(Självskattning!C249=\"Mer omfattande förändringsarbete behövs\",Självskattning!B249,\"\")","v":""},{"$f":"IF(Självskattning!C249=\"Mer omfattande förändringsarbete behövs\",IF(ISBLANK(Självskattning!D249),\"\",Självskattning!D249),\"\")","v":""}]
[null,{"$f":"IF(Självskattning!C250=\"Mer omfattande förändringsarbete behövs\",Självskattning!A250,\"\")","v":""},{"$f":"IF(Självskattning!C250=\"Mer omfattande förändringsarbete behövs\",Självskattning!B250,\"\")","v":""},{"$f":"IF(Självskattning!C250=\"Mer omfattande förändringsarbete behövs\",IF(ISBLANK(Självskattning!D250),\"\",Självskattning!D250),\"\")","v":""}]
[null,{"$f":"IF(Självskattning!C251=\"Mer omfattande förändringsarbete behövs\",Självskattning!A251,\"\")","v":""},{"$f":"IF(Självskattning!C251=\"Mer omfattande förändringsarbete behövs\",Självskattning!B251,\"\")","v":""},{"$f":"IF(Självskattning!C251=\"Mer omfattande förändringsarbete behövs\",IF(ISBLANK(Självskattning!D251),\"\",Självskattning!D251),\"\")","v":""}]
[null,{"$f":"IF(Självskattning!C252=\"Mer omfattande förändringsarbete behövs\",Självskattning!A252,\"\")","v":""},{"$f":"IF(Självskattning!C252=\"Mer omfattande förändringsarbete behövs\",Självskattning!B252,\"\")","v":""},{"$f":"IF(Självskattning!C252=\"Mer omfattande förändringsarbete behövs\",IF(ISBLANK(Självskattning!D252),\"\",Självskattning!D252),\"\")","v":""}]
[null,{"$f":"IF(Självskattning!C253=\"Mer omfattande förändringsarbete behövs\",Självskattning!A253,\"\")","v":""},{"$f":"IF(Självskattning!C253=\"Mer omfattande förändringsarbete behövs\",Självskattning!B253,\"\")","v":""},{"$f":"IF(Självskattning!C253=\"Mer omfattande förändringsarbete behövs\",IF(ISBLANK(Självskattning!D253),\"\",Självskattning!D253),\"\")","v":""}]
[null,{"$f":"IF(Självskattning!C254=\"Mer omfattande förändringsarbete behövs\",Självskattning!A254,\"\")","v":""},{"$f":"IF(Självskattning!C254=\"Mer omfattande förändringsarbete behövs\",Självskattning!B254,\"\")","v":""},{"$f":"IF(Självskattning!C254=\"Mer omfattande förändringsarbete behövs\",IF(ISBLANK(Självskattning!D254),\"\",Självskattning!D254),\"\")","v":""}]
[null,{"$f":"IF(Självskattning!C255=\"Mer omfattande förändringsarbete behövs\",Självskattning!A255,\"\")","v":""},{"$f":"IF(Självskattning!C255=\"Mer omfattande förändringsarbete behövs\",Självskattning!B255,\"\")","v":""},{"$f":"IF(Självskattning!C255=\"Mer omfattande förändringsarbete behövs\",IF(ISBLANK(Självskattning!D255),\"\",Självskattning!D255),\"\")","v":""}]
[null,{"$f":"IF(Självskattning!C256=\"Mer omfattande förändringsarbete behövs\",Självskattning!A256,\"\")","v":""},{"$f":"IF(Självskattning!C256=\"Mer omfattande förändringsarbete behövs\",Självskattning!B256,\"\")","v":""},{"$f":"IF(Självskattning!C256=\"Mer omfattande förändringsarbete behövs\",IF(ISBLANK(Självskattning!D256),\"\",Självskattning!D256),\"\")","v":""}]
[null,{"$f":"IF(Självskattning!C257=\"Mer omfattande förändringsarbete behövs\",Självskattning!A257,\"\")","v":""},{"$f":"IF(Självskattning!C257=\"Mer omfattande förändringsarbete behövs\",Självskattning!B257,\"\")","v":""},{"$f":"IF(Självskattning!C257=\"Mer omfattande förändringsarbete behövs\",IF(ISBLANK(Självskattning!D257),\"\",Självskattning!D257),\"\")","v":""}]
[null,{"$f":"IF(Självskattning!C258=\"Mer omfattande förändringsarbete behövs\",Självskattning!A258,\"\")","v":""},{"$f":"IF(Självskattning!C258=\"Mer omfattande förändringsarbete behövs\",Självskattning!B258,\"\")","v":""},{"$f":"IF(Självskattning!C258=\"Mer omfattande förändringsarbete behövs\",IF(ISBLANK(Självskattning!D258),\"\",Självskattning!D258),\"\")","v":""}]
[null,{"$f":"IF(Självskattning!C259=\"Mer omfattande förändringsarbete behövs\",Självskattning!A259,\"\")","v":""},{"$f":"IF(Självskattning!C259=\"Mer omfattande förändringsarbete behövs\",Självskattning!B259,\"\")","v":""},{"$f":"IF(Självskattning!C259=\"Mer omfattande förändringsarbete behövs\",IF(ISBLANK(Självskattning!D259),\"\",Självskattning!D259),\"\")","v":""}]
[null,{"$f":"IF(Självskattning!C260=\"Mer omfattande förändringsarbete behövs\",Självskattning!A260,\"\")","v":""},{"$f":"IF(Självskattning!C260=\"Mer omfattande förändringsarbete behövs\",Självskattning!B260,\"\")","v":""},{"$f":"IF(Självskattning!C260=\"Mer omfattande förändringsarbete behövs\",IF(ISBLANK(Självskattning!D260),\"\",Självskattning!D260),\"\")","v":""}]
[null,{"$f":"IF(Självskattning!C261=\"Mer omfattande förändringsarbete behövs\",Självskattning!A261,\"\")","v":""},{"$f":"IF(Självskattning!C261=\"Mer omfattande förändringsarbete behövs\",Självskattning!B261,\"\")","v":""},{"$f":"IF(Självskattning!C261=\"Mer omfattande förändringsarbete behövs\",IF(ISBLANK(Självskattning!D261),\"\",Självskattning!D261),\"\")","v":""}]
[null,{"$f":"IF(Självskattning!C262=\"Mer omfattande förändringsarbete behövs\",Självskattning!A262,\"\")","v":""},{"$f":"IF(Självskattning!C262=\"Mer omfattande förändringsarbete behövs\",Självskattning!B262,\"\")","v":""},{"$f":"IF(Självskattning!C262=\"Mer omfattande förändringsarbete behövs\",IF(ISBLANK(Självskattning!D262),\"\",Självskattning!D262),\"\")","v":""}]
[null,{"$f":"IF(Självskattning!C263=\"Mer omfattande förändringsarbete behövs\",Självskattning!A263,\"\")","v":""},{"$f":"IF(Självskattning!C263=\"Mer omfattande förändringsarbete behövs\",Självskattning!B263,\"\")","v":""},{"$f":"IF(Självskattning!C263=\"Mer omfattande förändringsarbete behövs\",IF(ISBLANK(Självskattning!D263),\"\",Självskattning!D263),\"\")","v":""}]
[null,{"$f":"IF(Självskattning!C264=\"Mer omfattande förändringsarbete behövs\",Självskattning!A264,\"\")","v":""},{"$f":"IF(Självskattning!C264=\"Mer omfattande förändringsarbete behövs\",Självskattning!B264,\"\")","v":""},{"$f":"IF(Självskattning!C264=\"Mer omfattande förändringsarbete behövs\",IF(ISBLANK(Självskattning!D264),\"\",Självskattning!D264),\"\")","v":""}]
[null,{"$f":"IF(Självskattning!C265=\"Mer omfattande förändringsarbete behövs\",Självskattning!A265,\"\")","v":""},{"$f":"IF(Självskattning!C265=\"Mer omfattande förändringsarbete behövs\",Självskattning!B265,\"\")","v":""},{"$f":"IF(Självskattning!C265=\"Mer omfattande förändringsarbete behövs\",IF(ISBLANK(Självskattning!D265),\"\",Självskattning!D265),\"\")","v":""}]
[null,{"$f":"IF(Självskattning!C266=\"Mer omfattande förändringsarbete behövs\",Självskattning!A266,\"\")","v":""},{"$f":"IF(Självskattning!C266=\"Mer omfattande förändringsarbete behövs\",Självskattning!B266,\"\")","v":""},{"$f":"IF(Självskattning!C266=\"Mer omfattande förändringsarbete behövs\",IF(ISBLANK(Självskattning!D266),\"\",Självskattning!D266),\"\")","v":""}]
[null,{"$f":"IF(Självskattning!C267=\"Mer omfattande förändringsarbete behövs\",Självskattning!A267,\"\")","v":""},{"$f":"IF(Självskattning!C267=\"Mer omfattande förändringsarbete behövs\",Självskattning!B267,\"\")","v":""},{"$f":"IF(Självskattning!C267=\"Mer omfattande förändringsarbete behövs\",IF(ISBLANK(Självskattning!D267),\"\",Självskattning!D267),\"\")","v":""}]
[null,{"$f":"IF(Självskattning!C268=\"Mer omfattande förändringsarbete behövs\",Självskattning!A268,\"\")","v":""},{"$f":"IF(Självskattning!C268=\"Mer omfattande förändringsarbete behövs\",Självskattning!B268,\"\")","v":""},{"$f":"IF(Självskattning!C268=\"Mer omfattande förändringsarbete behövs\",IF(ISBLANK(Självskattning!D268),\"\",Självskattning!D268),\"\")","v":""}]
[null,{"$f":"IF(Självskattning!C269=\"Mer omfattande förändringsarbete behövs\",Självskattning!A269,\"\")","v":""},{"$f":"IF(Självskattning!C269=\"Mer omfattande förändringsarbete behövs\",Självskattning!B269,\"\")","v":""},{"$f":"IF(Självskattning!C269=\"Mer omfattande förändringsarbete behövs\",IF(ISBLANK(Självskattning!D269),\"\",Självskattning!D269),\"\")","v":""}]
[null,{"$f":"IF(Självskattning!C270=\"Mer omfattande förändringsarbete behövs\",Självskattning!A270,\"\")","v":""},{"$f":"IF(Självskattning!C270=\"Mer omfattande förändringsarbete behövs\",Självskattning!B270,\"\")","v":""},{"$f":"IF(Självskattning!C270=\"Mer omfattande förändringsarbete behövs\",IF(ISBLANK(Självskattning!D270),\"\",Självskattning!D270),\"\")","v":""}]
[null,{"$f":"IF(Självskattning!C271=\"Mer omfattande förändringsarbete behövs\",Självskattning!A271,\"\")","v":""},{"$f":"IF(Självskattning!C271=\"Mer omfattande förändringsarbete behövs\",Självskattning!B271,\"\")","v":""},{"$f":"IF(Självskattning!C271=\"Mer omfattande förändringsarbete behövs\",IF(ISBLANK(Självskattning!D271),\"\",Självskattning!D271),\"\")","v":""}]
[null,{"$f":"IF(Självskattning!C272=\"Mer omfattande förändringsarbete behövs\",Självskattning!A272,\"\")","v":""},{"$f":"IF(Självskattning!C272=\"Mer omfattande förändringsarbete behövs\",Självskattning!B272,\"\")","v":""},{"$f":"IF(Självskattning!C272=\"Mer omfattande förändringsarbete behövs\",IF(ISBLANK(Självskattning!D272),\"\",Självskattning!D272),\"\")","v":""}]
[null,{"$f":"IF(Självskattning!C273=\"Mer omfattande förändringsarbete behövs\",Självskattning!A273,\"\")","v":""},{"$f":"IF(Självskattning!C273=\"Mer omfattande förändringsarbete behövs\",Självskattning!B273,\"\")","v":""},{"$f":"IF(Självskattning!C273=\"Mer omfattande förändringsarbete behövs\",IF(ISBLANK(Självskattning!D273),\"\",Självskattning!D273),\"\")","v":""}]
[null,{"$f":"IF(Självskattning!C274=\"Mer omfattande förändringsarbete behövs\",Självskattning!A274,\"\")","v":""},{"$f":"IF(Självskattning!C274=\"Mer omfattande förändringsarbete behövs\",Självskattning!B274,\"\")","v":""},{"$f":"IF(Självskattning!C274=\"Mer omfattande förändringsarbete behövs\",IF(ISBLANK(Självskattning!D274),\"\",Självskattning!D274),\"\")","v":""}]
[null,{"$f":"IF(Självskattning!C275=\"Mer omfattande förändringsarbete behövs\",Självskattning!A275,\"\")","v":""},{"$f":"IF(Självskattning!C275=\"Mer omfattande förändringsarbete behövs\",Självskattning!B275,\"\")","v":""},{"$f":"IF(Självskattning!C275=\"Mer omfattande förändringsarbete behövs\",IF(ISBLANK(Självskattning!D275),\"\",Självskattning!D275),\"\")","v":""}]
[null,{"$f":"IF(Självskattning!C276=\"Mer omfattande förändringsarbete behövs\",Självskattning!A276,\"\")","v":""},{"$f":"IF(Självskattning!C276=\"Mer omfattande förändringsarbete behövs\",Självskattning!B276,\"\")","v":""},{"$f":"IF(Självskattning!C276=\"Mer omfattande förändringsarbete behövs\",IF(ISBLANK(Självskattning!D276),\"\",Självskattning!D276),\"\")","v":""}]
[null,{"$f":"IF(Självskattning!C277=\"Mer omfattande förändringsarbete behövs\",Självskattning!A277,\"\")","v":""},{"$f":"IF(Självskattning!C277=\"Mer omfattande förändringsarbete behövs\",Självskattning!B277,\"\")","v":""},{"$f":"IF(Självskattning!C277=\"Mer omfattande förändringsarbete behövs\",IF(ISBLANK(Självskattning!D277),\"\",Självskattning!D277),\"\")","v":""}]
[null,{"$f":"IF(Självskattning!C278=\"Mer omfattande förändringsarbete behövs\",Självskattning!A278,\"\")","v":""},{"$f":"IF(Självskattning!C278=\"Mer omfattande förändringsarbete behövs\",Självskattning!B278,\"\")","v":""},{"$f":"IF(Självskattning!C278=\"Mer omfattande förändringsarbete behövs\",IF(ISBLANK(Självskattning!D278),\"\",Självskattning!D278),\"\")","v":""}]
[null,{"$f":"IF(Självskattning!C279=\"Mer omfattande förändringsarbete behövs\",Självskattning!A279,\"\")","v":""},{"$f":"IF(Självskattning!C279=\"Mer omfattande förändringsarbete behövs\",Självskattning!B279,\"\")","v":""},{"$f":"IF(Självskattning!C279=\"Mer omfattande förändringsarbete behövs\",IF(ISBLANK(Självskattning!D279),\"\",Självskattning!D279),\"\")","v":""}]
[null,{"$f":"IF(Självskattning!C280=\"Mer omfattande förändringsarbete behövs\",Självskattning!A280,\"\")","v":""},{"$f":"IF(Självskattning!C280=\"Mer omfattande förändringsarbete behövs\",Självskattning!B280,\"\")","v":""},{"$f":"IF(Självskattning!C280=\"Mer omfattande förändringsarbete behövs\",IF(ISBLANK(Självskattning!D280),\"\",Självskattning!D280),\"\")","v":""}]
[null,{"$f":"IF(Självskattning!C281=\"Mer omfattande förändringsarbete behövs\",Självskattning!A281,\"\")","v":""},{"$f":"IF(Självskattning!C281=\"Mer omfattande förändringsarbete behövs\",Självskattning!B281,\"\")","v":""},{"$f":"IF(Självskattning!C281=\"Mer omfattande förändringsarbete behövs\",IF(ISBLANK(Självskattning!D281),\"\",Självskattning!D281),\"\")","v":""}]
[null,{"$f":"IF(Självskattning!C282=\"Mer omfattande förändringsarbete behövs\",Självskattning!A282,\"\")","v":""},{"$f":"IF(Självskattning!C282=\"Mer omfattande förändringsarbete behövs\",Självskattning!B282,\"\")","v":""},{"$f":"IF(Självskattning!C282=\"Mer omfattande förändringsarbete behövs\",IF(ISBLANK(Självskattning!D282),\"\",Självskattning!D282),\"\")","v":""}]
[null,{"$f":"IF(Självskattning!C283=\"Mer omfattande förändringsarbete behövs\",Självskattning!A283,\"\")","v":""},{"$f":"IF(Självskattning!C283=\"Mer omfattande förändringsarbete behövs\",Självskattning!B283,\"\")","v":""},{"$f":"IF(Självskattning!C283=\"Mer omfattande förändringsarbete behövs\",IF(ISBLANK(Självskattning!D283),\"\",Självskattning!D283),\"\")","v":""}]
[null,{"$f":"IF(Självskattning!C284=\"Mer omfattande förändringsarbete behövs\",Självskattning!A284,\"\")","v":""},{"$f":"IF(Självskattning!C284=\"Mer omfattande förändringsarbete behövs\",Självskattning!B284,\"\")","v":""},{"$f":"IF(Självskattning!C284=\"Mer omfattande förändringsarbete behövs\",IF(ISBLANK(Självskattning!D284),\"\",Självskattning!D284),\"\")","v":""}]
[null,{"$f":"IF(Självskattning!C285=\"Mer omfattande förändringsarbete behövs\",Självskattning!A285,\"\")","v":""},{"$f":"IF(Självskattning!C285=\"Mer omfattande förändringsarbete behövs\",Självskattning!B285,\"\")","v":""},{"$f":"IF(Självskattning!C285=\"Mer omfattande förändringsarbete behövs\",IF(ISBLANK(Självskattning!D285),\"\",Självskattning!D285),\"\")","v":""}]
[null,{"$f":"IF(Självskattning!C286=\"Mer omfattande förändringsarbete behövs\",Självskattning!A286,\"\")","v":""},{"$f":"IF(Självskattning!C286=\"Mer omfattande förändringsarbete behövs\",Självskattning!B286,\"\")","v":""},{"$f":"IF(Självskattning!C286=\"Mer omfattande förändringsarbete behövs\",IF(ISBLANK(Självskattning!D286),\"\",Självskattning!D286),\"\")","v":""}]
[null,{"$f":"IF(Självskattning!C287=\"Mer omfattande förändringsarbete behövs\",Självskattning!A287,\"\")","v":""},{"$f":"IF(Självskattning!C287=\"Mer omfattande förändringsarbete behövs\",Självskattning!B287,\"\")","v":""},{"$f":"IF(Självskattning!C287=\"Mer omfattande förändringsarbete behövs\",IF(ISBLANK(Självskattning!D287),\"\",Självskattning!D287),\"\")","v":""}]
[null,{"$f":"IF(Självskattning!C288=\"Mer omfattande förändringsarbete behövs\",Självskattning!A288,\"\")","v":""},{"$f":"IF(Självskattning!C288=\"Mer omfattande förändringsarbete behövs\",Självskattning!B288,\"\")","v":""},{"$f":"IF(Självskattning!C288=\"Mer omfattande förändringsarbete behövs\",IF(ISBLANK(Självskattning!D288),\"\",Självskattning!D288),\"\")","v":""}]
[null,{"$f":"IF(Självskattning!C289=\"Mer omfattande förändringsarbete behövs\",Självskattning!A289,\"\")","v":""},{"$f":"IF(Självskattning!C289=\"Mer omfattande förändringsarbete behövs\",Självskattning!B289,\"\")","v":""},{"$f":"IF(Självskattning!C289=\"Mer omfattande förändringsarbete behövs\",IF(ISBLANK(Självskattning!D289),\"\",Självskattning!D289),\"\")","v":""}]
[null,{"$f":"IF(Självskattning!C290=\"Mer omfattande förändringsarbete behövs\",Självskattning!A290,\"\")","v":""},{"$f":"IF(Självskattning!C290=\"Mer omfattande förändringsarbete behövs\",Självskattning!B290,\"\")","v":""},{"$f":"IF(Självskattning!C290=\"Mer omfattande förändringsarbete behövs\",IF(ISBLANK(Självskattning!D290),\"\",Självskattning!D290),\"\")","v":""}]
[null,{"$f":"IF(Självskattning!C291=\"Mer omfattande förändringsarbete behövs\",Självskattning!A291,\"\")","v":""},{"$f":"IF(Självskattning!C291=\"Mer omfattande förändringsarbete behövs\",Självskattning!B291,\"\")","v":""},{"$f":"IF(Självskattning!C291=\"Mer omfattande förändringsarbete behövs\",IF(ISBLANK(Självskattning!D291),\"\",Självskattning!D291),\"\")","v":""}]
[null,{"$f":"IF(Självskattning!C292=\"Mer omfattande förändringsarbete behövs\",Självskattning!A292,\"\")","v":""},{"$f":"IF(Självskattning!C292=\"Mer omfattande förändringsarbete behövs\",Självskattning!B292,\"\")","v":""},{"$f":"IF(Självskattning!C292=\"Mer omfattande förändringsarbete behövs\",IF(ISBLANK(Självskattning!D292),\"\",Självskattning!D292),\"\")","v":""}]
[null,{"$f":"IF(Självskattning!C293=\"Mer omfattande förändringsarbete behövs\",Självskattning!A293,\"\")","v":""},{"$f":"IF(Självskattning!C293=\"Mer omfattande förändringsarbete behövs\",Självskattning!B293,\"\")","v":""},{"$f":"IF(Självskattning!C293=\"Mer omfattande förändringsarbete behövs\",IF(ISBLANK(Självskattning!D293),\"\",Självskattning!D293),\"\")","v":""}]
[null,{"$f":"IF(Självskattning!C294=\"Mer omfattande förändringsarbete behövs\",Självskattning!A294,\"\")","v":""},{"$f":"IF(Självskattning!C294=\"Mer omfattande förändringsarbete behövs\",Självskattning!B294,\"\")","v":""},{"$f":"IF(Självskattning!C294=\"Mer omfattande förändringsarbete behövs\",IF(ISBLANK(Självskattning!D294),\"\",Självskattning!D294),\"\")","v":""}]
[null,{"$f":"IF(Självskattning!C295=\"Mer omfattande förändringsarbete behövs\",Självskattning!A295,\"\")","v":""},{"$f":"IF(Självskattning!C295=\"Mer omfattande förändringsarbete behövs\",Självskattning!B295,\"\")","v":""},{"$f":"IF(Självskattning!C295=\"Mer omfattande förändringsarbete behövs\",IF(ISBLANK(Självskattning!D295),\"\",Självskattning!D295),\"\")","v":""}]
[null,{"$f":"IF(Självskattning!C296=\"Mer omfattande förändringsarbete behövs\",Självskattning!A296,\"\")","v":""},{"$f":"IF(Självskattning!C296=\"Mer omfattande förändringsarbete behövs\",Självskattning!B296,\"\")","v":""},{"$f":"IF(Självskattning!C296=\"Mer omfattande förändringsarbete behövs\",IF(ISBLANK(Självskattning!D296),\"\",Självskattning!D296),\"\")","v":""}]
[null,{"$f":"IF(Självskattning!C297=\"Mer omfattande förändringsarbete behövs\",Självskattning!A297,\"\")","v":""},{"$f":"IF(Självskattning!C297=\"Mer omfattande förändringsarbete behövs\",Självskattning!B297,\"\")","v":""},{"$f":"IF(Självskattning!C297=\"Mer omfattande förändringsarbete behövs\",IF(ISBLANK(Självskattning!D297),\"\",Självskattning!D297),\"\")","v":""}]
[null,{"$f":"IF(Självskattning!C298=\"Mer omfattande förändringsarbete behövs\",Självskattning!A298,\"\")","v":""},{"$f":"IF(Självskattning!C298=\"Mer omfattande förändringsarbete behövs\",Självskattning!B298,\"\")","v":""},{"$f":"IF(Självskattning!C298=\"Mer omfattande förändringsarbete behövs\",IF(ISBLANK(Självskattning!D298),\"\",Självskattning!D298),\"\")","v":""}]
[null,{"$f":"IF(Självskattning!C299=\"Mer omfattande förändringsarbete behövs\",Självskattning!A299,\"\")","v":""},{"$f":"IF(Självskattning!C299=\"Mer omfattande förändringsarbete behövs\",Självskattning!B299,\"\")","v":""},{"$f":"IF(Självskattning!C299=\"Mer omfattande förändringsarbete behövs\",IF(ISBLANK(Självskattning!D299),\"\",Självskattning!D299),\"\")","v":""}]
[null,{"$f":"IF(Självskattning!C300=\"Mer omfattande förändringsarbete behövs\",Självskattning!A300,\"\")","v":""},{"$f":"IF(Självskattning!C300=\"Mer omfattande förändringsarbete behövs\",Självskattning!B300,\"\")","v":""},{"$f":"IF(Självskattning!C300=\"Mer omfattande förändringsarbete behövs\",IF(ISBLANK(Självskattning!D300),\"\",Självskattning!D300),\"\")","v":""}]
[null,{"$f":"IF(Självskattning!C301=\"Mer omfattande förändringsarbete behövs\",Självskattning!A301,\"\")","v":""},{"$f":"IF(Självskattning!C301=\"Mer omfattande förändringsarbete behövs\",Självskattning!B301,\"\")","v":""},{"$f":"IF(Självskattning!C301=\"Mer omfattande förändringsarbete behövs\",IF(ISBLANK(Självskattning!D301),\"\",Självskattning!D301),\"\")","v":""}]
[null,{"$f":"IF(Självskattning!C302=\"Mer omfattande förändringsarbete behövs\",Självskattning!A302,\"\")","v":""},{"$f":"IF(Självskattning!C302=\"Mer omfattande förändringsarbete behövs\",Självskattning!B302,\"\")","v":""},{"$f":"IF(Självskattning!C302=\"Mer omfattande förändringsarbete behövs\",IF(ISBLANK(Självskattning!D302),\"\",Självskattning!D302),\"\")","v":""}]
[null,{"$f":"IF(Självskattning!C303=\"Mer omfattande förändringsarbete behövs\",Självskattning!A303,\"\")","v":""},{"$f":"IF(Självskattning!C303=\"Mer omfattande förändringsarbete behövs\",Självskattning!B303,\"\")","v":""},{"$f":"IF(Självskattning!C303=\"Mer omfattande förändringsarbete behövs\",IF(ISBLANK(Självskattning!D303),\"\",Självskattning!D303),\"\")","v":""}]
[null,{"$f":"IF(Självskattning!C304=\"Mer omfattande förändringsarbete behövs\",Självskattning!A304,\"\")","v":""},{"$f":"IF(Självskattning!C304=\"Mer omfattande förändringsarbete behövs\",Självskattning!B304,\"\")","v":""},{"$f":"IF(Självskattning!C304=\"Mer omfattande förändringsarbete behövs\",IF(ISBLANK(Självskattning!D304),\"\",Självskattning!D304),\"\")","v":""}]
[null,{"$f":"IF(Självskattning!C305=\"Mer omfattande förändringsarbete behövs\",Självskattning!A305,\"\")","v":""},{"$f":"IF(Självskattning!C305=\"Mer omfattande förändringsarbete behövs\",Självskattning!B305,\"\")","v":""},{"$f":"IF(Självskattning!C305=\"Mer omfattande förändringsarbete behövs\",IF(ISBLANK(Självskattning!D305),\"\",Självskattning!D305),\"\")","v":""}]
[null,{"$f":"IF(Självskattning!C306=\"Mer omfattande förändringsarbete behövs\",Självskattning!A306,\"\")","v":""},{"$f":"IF(Självskattning!C306=\"Mer omfattande förändringsarbete behövs\",Självskattning!B306,\"\")","v":""},{"$f":"IF(Självskattning!C306=\"Mer omfattande förändringsarbete behövs\",IF(ISBLANK(Självskattning!D306),\"\",Självskattning!D306),\"\")","v":""}]
[null,{"$f":"IF(Självskattning!C307=\"Mer omfattande förändringsarbete behövs\",Självskattning!A307,\"\")","v":""},{"$f":"IF(Självskattning!C307=\"Mer omfattande förändringsarbete behövs\",Självskattning!B307,\"\")","v":""},{"$f":"IF(Självskattning!C307=\"Mer omfattande förändringsarbete behövs\",IF(ISBLANK(Självskattning!D307),\"\",Självskattning!D307),\"\")","v":""}]
[null,{"$f":"IF(Självskattning!C308=\"Mer omfattande förändringsarbete behövs\",Självskattning!A308,\"\")","v":""},{"$f":"IF(Självskattning!C308=\"Mer omfattande förändringsarbete behövs\",Självskattning!B308,\"\")","v":""},{"$f":"IF(Självskattning!C308=\"Mer omfattande förändringsarbete behövs\",IF(ISBLANK(Självskattning!D308),\"\",Självskattning!D308),\"\")","v":""}]
[null,{"$f":"IF(Självskattning!C309=\"Mer omfattande förändringsarbete behövs\",Självskattning!A309,\"\")","v":""},{"$f":"IF(Självskattning!C309=\"Mer omfattande förändringsarbete behövs\",Självskattning!B309,\"\")","v":""},{"$f":"IF(Självskattning!C309=\"Mer omfattande förändringsarbete behövs\",IF(ISBLANK(Självskattning!D309),\"\",Självskattning!D309),\"\")","v":""}]
[null,{"$f":"IF(Självskattning!C310=\"Mer omfattande förändringsarbete behövs\",Självskattning!A310,\"\")","v":""},{"$f":"IF(Självskattning!C310=\"Mer omfattande förändringsarbete behövs\",Självskattning!B310,\"\")","v":""},{"$f":"IF(Självskattning!C310=\"Mer omfattande förändringsarbete behövs\",IF(ISBLANK(Självskattning!D310),\"\",Självskattning!D310),\"\")","v":""}]
[null,{"$f":"IF(Självskattning!C311=\"Mer omfattande förändringsarbete behövs\",Självskattning!A311,\"\")","v":""},{"$f":"IF(Självskattning!C311=\"Mer omfattande förändringsarbete behövs\",Självskattning!B311,\"\")","v":""},{"$f":"IF(Självskattning!C311=\"Mer omfattande förändringsarbete behövs\",IF(ISBLANK(Självskattning!D311),\"\",Självskattning!D311),\"\")","v":""}]
[null,{"$f":"IF(Självskattning!C312=\"Mer omfattande förändringsarbete behövs\",Självskattning!A312,\"\")","v":""},{"$f":"IF(Självskattning!C312=\"Mer omfattande förändringsarbete behövs\",Självskattning!B312,\"\")","v":""},{"$f":"IF(Självskattning!C312=\"Mer omfattande förändringsarbete behövs\",IF(ISBLANK(Självskattning!D312),\"\",Självskattning!D312),\"\")","v":""}]
[null,{"$f":"IF(Självskattning!C313=\"Mer omfattande förändringsarbete behövs\",Självskattning!A313,\"\")","v":""},{"$f":"IF(Självskattning!C313=\"Mer omfattande förändringsarbete behövs\",Självskattning!B313,\"\")","v":""},{"$f":"IF(Självskattning!C313=\"Mer omfattande förändringsarbete behövs\",IF(ISBLANK(Självskattning!D313),\"\",Självskattning!D313),\"\")","v":""}]
[null,{"$f":"IF(Självskattning!C314=\"Mer omfattande förändringsarbete behövs\",Självskattning!A314,\"\")","v":""},{"$f":"IF(Självskattning!C314=\"Mer omfattande förändringsarbete behövs\",Självskattning!B314,\"\")","v":""},{"$f":"IF(Självskattning!C314=\"Mer omfattande förändringsarbete behövs\",IF(ISBLANK(Självskattning!D314),\"\",Självskattning!D314),\"\")","v":""}]
[null,{"$f":"IF(Självskattning!C315=\"Mer omfattande förändringsarbete behövs\",Självskattning!A315,\"\")","v":""},{"$f":"IF(Självskattning!C315=\"Mer omfattande förändringsarbete behövs\",Självskattning!B315,\"\")","v":""},{"$f":"IF(Självskattning!C315=\"Mer omfattande förändringsarbete behövs\",IF(ISBLANK(Självskattning!D315),\"\",Självskattning!D315),\"\")","v":""}]
[null,{"$f":"IF(Självskattning!C316=\"Mer omfattande förändringsarbete behövs\",Självskattning!A316,\"\")","v":""},{"$f":"IF(Självskattning!C316=\"Mer omfattande förändringsarbete behövs\",Självskattning!B316,\"\")","v":""},{"$f":"IF(Självskattning!C316=\"Mer omfattande förändringsarbete behövs\",IF(ISBLANK(Självskattning!D316),\"\",Självskattning!D316),\"\")","v":""}]
[null,{"$f":"IF(Självskattning!C317=\"Mer omfattande förändringsarbete behövs\",Självskattning!A317,\"\")","v":""},{"$f":"IF(Självskattning!C317=\"Mer omfattande förändringsarbete behövs\",Självskattning!B317,\"\")","v":""},{"$f":"IF(Självskattning!C317=\"Mer omfattande förändringsarbete behövs\",IF(ISBLANK(Självskattning!D317),\"\",Självskattning!D317),\"\")","v":""}]
[null,{"$f":"IF(Självskattning!C318=\"Mer omfattande förändringsarbete behövs\",Självskattning!A318,\"\")","v":""},{"$f":"IF(Självskattning!C318=\"Mer omfattande förändringsarbete behövs\",Självskattning!B318,\"\")","v":""},{"$f":"IF(Självskattning!C318=\"Mer omfattande förändringsarbete behövs\",IF(ISBLANK(Självskattning!D318),\"\",Självskattning!D318),\"\")","v":""}]
[null,{"$f":"IF(Självskattning!C319=\"Mer omfattande förändringsarbete behövs\",Självskattning!A319,\"\")","v":""},{"$f":"IF(Självskattning!C319=\"Mer omfattande förändringsarbete behövs\",Självskattning!B319,\"\")","v":""},{"$f":"IF(Självskattning!C319=\"Mer omfattande förändringsarbete behövs\",IF(ISBLANK(Självskattning!D319),\"\",Självskattning!D319),\"\")","v":""}]
[null,{"$f":"IF(Självskattning!C320=\"Mer omfattande förändringsarbete behövs\",Självskattning!A320,\"\")","v":""},{"$f":"IF(Självskattning!C320=\"Mer omfattande förändringsarbete behövs\",Självskattning!B320,\"\")","v":""},{"$f":"IF(Självskattning!C320=\"Mer omfattande förändringsarbete behövs\",IF(ISBLANK(Självskattning!D320),\"\",Självskattning!D320),\"\")","v":""}]
[null,{"$f":"IF(Självskattning!C321=\"Mer omfattande förändringsarbete behövs\",Självskattning!A321,\"\")","v":""},{"$f":"IF(Självskattning!C321=\"Mer omfattande förändringsarbete behövs\",Självskattning!B321,\"\")","v":""},{"$f":"IF(Självskattning!C321=\"Mer omfattande förändringsarbete behövs\",IF(ISBLANK(Självskattning!D321),\"\",Självskattning!D321),\"\")","v":""}]
[null,{"$f":"IF(Självskattning!C322=\"Mer omfattande förändringsarbete behövs\",Självskattning!A322,\"\")","v":""},{"$f":"IF(Självskattning!C322=\"Mer omfattande förändringsarbete behövs\",Självskattning!B322,\"\")","v":""},{"$f":"IF(Självskattning!C322=\"Mer omfattande förändringsarbete behövs\",IF(ISBLANK(Självskattning!D322),\"\",Självskattning!D322),\"\")","v":""}]
[null,{"$f":"IF(Självskattning!C323=\"Mer omfattande förändringsarbete behövs\",Självskattning!A323,\"\")","v":""},{"$f":"IF(Självskattning!C323=\"Mer omfattande förändringsarbete behövs\",Självskattning!B323,\"\")","v":""},{"$f":"IF(Självskattning!C323=\"Mer omfattande förändringsarbete behövs\",IF(ISBLANK(Självskattning!D323),\"\",Självskattning!D323),\"\")","v":""}]
[null,{"$f":"IF(Självskattning!C324=\"Mer omfattande förändringsarbete behövs\",Självskattning!A324,\"\")","v":""},{"$f":"IF(Självskattning!C324=\"Mer omfattande förändringsarbete behövs\",Självskattning!B324,\"\")","v":""},{"$f":"IF(Självskattning!C324=\"Mer omfattande förändringsarbete behövs\",IF(ISBLANK(Självskattning!D324),\"\",Självskattning!D324),\"\")","v":""}]
[null,{"$f":"IF(Självskattning!C325=\"Mer omfattande förändringsarbete behövs\",Självskattning!A325,\"\")","v":""},{"$f":"IF(Självskattning!C325=\"Mer omfattande förändringsarbete behövs\",Självskattning!B325,\"\")","v":""},{"$f":"IF(Självskattning!C325=\"Mer omfattande förändringsarbete behövs\",IF(ISBLANK(Självskattning!D325),\"\",Självskattning!D325),\"\")","v":""}]
[null,{"$f":"IF(Självskattning!C326=\"Mer omfattande förändringsarbete behövs\",Självskattning!A326,\"\")","v":""},{"$f":"IF(Självskattning!C326=\"Mer omfattande förändringsarbete behövs\",Självskattning!B326,\"\")","v":""},{"$f":"IF(Självskattning!C326=\"Mer omfattande förändringsarbete behövs\",IF(ISBLANK(Självskattning!D326),\"\",Självskattning!D326),\"\")","v":""}]
[null,{"$f":"IF(Självskattning!C327=\"Mer omfattande förändringsarbete behövs\",Självskattning!A327,\"\")","v":""},{"$f":"IF(Självskattning!C327=\"Mer omfattande förändringsarbete behövs\",Självskattning!B327,\"\")","v":""},{"$f":"IF(Självskattning!C327=\"Mer omfattande förändringsarbete behövs\",IF(ISBLANK(Självskattning!D327),\"\",Självskattning!D327),\"\")","v":""}]
[null,{"$f":"IF(Självskattning!C328=\"Mer omfattande förändringsarbete behövs\",Självskattning!A328,\"\")","v":""},{"$f":"IF(Självskattning!C328=\"Mer omfattande förändringsarbete behövs\",Självskattning!B328,\"\")","v":""},{"$f":"IF(Självskattning!C328=\"Mer omfattande förändringsarbete behövs\",IF(ISBLANK(Självskattning!D328),\"\",Självskattning!D328),\"\")","v":""}]
[null,{"$f":"IF(Självskattning!C329=\"Mer omfattande förändringsarbete behövs\",Självskattning!A329,\"\")","v":""},{"$f":"IF(Självskattning!C329=\"Mer omfattande förändringsarbete behövs\",Självskattning!B329,\"\")","v":""},{"$f":"IF(Självskattning!C329=\"Mer omfattande förändringsarbete behövs\",IF(ISBLANK(Självskattning!D329),\"\",Självskattning!D329),\"\")","v":""}]
[null,{"$f":"IF(Självskattning!C330=\"Mer omfattande förändringsarbete behövs\",Självskattning!A330,\"\")","v":""},{"$f":"IF(Självskattning!C330=\"Mer omfattande förändringsarbete behövs\",Självskattning!B330,\"\")","v":""},{"$f":"IF(Självskattning!C330=\"Mer omfattande förändringsarbete behövs\",IF(ISBLANK(Självskattning!D330),\"\",Självskattning!D330),\"\")","v":""}]
[null,{"$f":"IF(Självskattning!C331=\"Mer omfattande förändringsarbete behövs\",Självskattning!A331,\"\")","v":""},{"$f":"IF(Självskattning!C331=\"Mer omfattande förändringsarbete behövs\",Självskattning!B331,\"\")","v":""},{"$f":"IF(Självskattning!C331=\"Mer omfattande förändringsarbete behövs\",IF(ISBLANK(Självskattning!D331),\"\",Självskattning!D331),\"\")","v":""}]
[null,{"$f":"IF(Självskattning!C332=\"Mer omfattande förändringsarbete behövs\",Självskattning!A332,\"\")","v":""},{"$f":"IF(Självskattning!C332=\"Mer omfattande förändringsarbete behövs\",Självskattning!B332,\"\")","v":""},{"$f":"IF(Självskattning!C332=\"Mer omfattande förändringsarbete behövs\",IF(ISBLANK(Självskattning!D332),\"\",Självskattning!D332),\"\")","v":""}]
[null,{"$f":"IF(Självskattning!C333=\"Mer omfattande förändringsarbete behövs\",Självskattning!A333,\"\")","v":""},{"$f":"IF(Självskattning!C333=\"Mer omfattande förändringsarbete behövs\",Självskattning!B333,\"\")","v":""},{"$f":"IF(Självskattning!C333=\"Mer omfattande förändringsarbete behövs\",IF(ISBLANK(Självskattning!D333),\"\",Självskattning!D333),\"\")","v":""}]
[null,{"$f":"IF(Självskattning!C334=\"Mer omfattande förändringsarbete behövs\",Självskattning!A334,\"\")","v":""},{"$f":"IF(Självskattning!C334=\"Mer omfattande förändringsarbete behövs\",Självskattning!B334,\"\")","v":""},{"$f":"IF(Självskattning!C334=\"Mer omfattande förändringsarbete behövs\",IF(ISBLANK(Självskattning!D334),\"\",Självskattning!D334),\"\")","v":""}]
[null,{"$f":"IF(Självskattning!C335=\"Mer omfattande förändringsarbete behövs\",Självskattning!A335,\"\")","v":""},{"$f":"IF(Självskattning!C335=\"Mer omfattande förändringsarbete behövs\",Självskattning!B335,\"\")","v":""},{"$f":"IF(Självskattning!C335=\"Mer omfattande förändringsarbete behövs\",IF(ISBLANK(Självskattning!D335),\"\",Självskattning!D335),\"\")","v":""}]
[null,{"$f":"IF(Självskattning!C336=\"Mer omfattande förändringsarbete behövs\",Självskattning!A336,\"\")","v":""},{"$f":"IF(Självskattning!C336=\"Mer omfattande förändringsarbete behövs\",Självskattning!B336,\"\")","v":""},{"$f":"IF(Självskattning!C336=\"Mer omfattande förändringsarbete behövs\",IF(ISBLANK(Självskattning!D336),\"\",Självskattning!D336),\"\")","v":""}]
[null,{"$f":"IF(Självskattning!C337=\"Mer omfattande förändringsarbete behövs\",Självskattning!A337,\"\")","v":""},{"$f":"IF(Självskattning!C337=\"Mer omfattande förändringsarbete behövs\",Självskattning!B337,\"\")","v":""},{"$f":"IF(Självskattning!C337=\"Mer omfattande förändringsarbete behövs\",IF(ISBLANK(Självskattning!D337),\"\",Självskattning!D337),\"\")","v":""}]
[null,{"$f":"IF(Självskattning!C338=\"Mer omfattande förändringsarbete behövs\",Självskattning!A338,\"\")","v":""},{"$f":"IF(Självskattning!C338=\"Mer omfattande förändringsarbete behövs\",Självskattning!B338,\"\")","v":""},{"$f":"IF(Självskattning!C338=\"Mer omfattande förändringsarbete behövs\",IF(ISBLANK(Självskattning!D338),\"\",Självskattning!D338),\"\")","v":""}]
[null,{"$f":"IF(Självskattning!C339=\"Mer omfattande förändringsarbete behövs\",Självskattning!A339,\"\")","v":""},{"$f":"IF(Självskattning!C339=\"Mer omfattande förändringsarbete behövs\",Självskattning!B339,\"\")","v":""},{"$f":"IF(Självskattning!C339=\"Mer omfattande förändringsarbete behövs\",IF(ISBLANK(Självskattning!D339),\"\",Självskattning!D339),\"\")","v":""}]
[null,{"$f":"IF(Självskattning!C340=\"Mer omfattande förändringsarbete behövs\",Självskattning!A340,\"\")","v":""},{"$f":"IF(Självskattning!C340=\"Mer omfattande förändringsarbete behövs\",Självskattning!B340,\"\")","v":""},{"$f":"IF(Självskattning!C340=\"Mer omfattande förändringsarbete behövs\",IF(ISBLANK(Självskattning!D340),\"\",Självskattning!D340),\"\")","v":""}]
[null,{"$f":"IF(Självskattning!C341=\"Mer omfattande förändringsarbete behövs\",Självskattning!A341,\"\")","v":""},{"$f":"IF(Självskattning!C341=\"Mer omfattande förändringsarbete behövs\",Självskattning!B341,\"\")","v":""},{"$f":"IF(Självskattning!C341=\"Mer omfattande förändringsarbete behövs\",IF(ISBLANK(Självskattning!D341),\"\",Självskattning!D341),\"\")","v":""}]
[null,{"$f":"IF(Självskattning!C342=\"Mer omfattande förändringsarbete behövs\",Självskattning!A342,\"\")","v":""},{"$f":"IF(Självskattning!C342=\"Mer omfattande förändringsarbete behövs\",Självskattning!B342,\"\")","v":""},{"$f":"IF(Självskattning!C342=\"Mer omfattande förändringsarbete behövs\",IF(ISBLANK(Självskattning!D342),\"\",Självskattning!D342),\"\")","v":""}]
[null,{"$f":"IF(Självskattning!C343=\"Mer omfattande förändringsarbete behövs\",Självskattning!A343,\"\")","v":""},{"$f":"IF(Självskattning!C343=\"Mer omfattande förändringsarbete behövs\",Självskattning!B343,\"\")","v":""},{"$f":"IF(Självskattning!C343=\"Mer omfattande förändringsarbete behövs\",IF(ISBLANK(Självskattning!D343),\"\",Självskattning!D343),\"\")","v":""}]
[null,{"$f":"IF(Självskattning!C344=\"Mer omfattande förändringsarbete behövs\",Självskattning!A344,\"\")","v":""},{"$f":"IF(Självskattning!C344=\"Mer omfattande förändringsarbete behövs\",Självskattning!B344,\"\")","v":""},{"$f":"IF(Självskattning!C344=\"Mer omfattande förändringsarbete behövs\",IF(ISBLANK(Självskattning!D344),\"\",Självskattning!D344),\"\")","v":""}]
[null,{"$f":"IF(Självskattning!C345=\"Mer omfattande förändringsarbete behövs\",Självskattning!A345,\"\")","v":""},{"$f":"IF(Självskattning!C345=\"Mer omfattande förändringsarbete behövs\",Självskattning!B345,\"\")","v":""},{"$f":"IF(Självskattning!C345=\"Mer omfattande förändringsarbete behövs\",IF(ISBLANK(Självskattning!D345),\"\",Självskattning!D345),\"\")","v":""}]
[null,{"$f":"IF(Självskattning!C346=\"Mer omfattande förändringsarbete behövs\",Självskattning!A346,\"\")","v":""},{"$f":"IF(Självskattning!C346=\"Mer omfattande förändringsarbete behövs\",Självskattning!B346,\"\")","v":""},{"$f":"IF(Självskattning!C346=\"Mer omfattande förändringsarbete behövs\",IF(ISBLANK(Självskattning!D346),\"\",Självskattning!D346),\"\")","v":""}]
[null,{"$f":"IF(Självskattning!C347=\"Mer omfattande förändringsarbete behövs\",Självskattning!A347,\"\")","v":""},{"$f":"IF(Självskattning!C347=\"Mer omfattande förändringsarbete behövs\",Självskattning!B347,\"\")","v":""},{"$f":"IF(Självskattning!C347=\"Mer omfattande förändringsarbete behövs\",IF(ISBLANK(Självskattning!D347),\"\",Självskattning!D347),\"\")","v":""}]
[null,{"$f":"IF(Självskattning!C348=\"Mer omfattande förändringsarbete behövs\",Självskattning!A348,\"\")","v":""},{"$f":"IF(Självskattning!C348=\"Mer omfattande förändringsarbete behövs\",Självskattning!B348,\"\")","v":""},{"$f":"IF(Självskattning!C348=\"Mer omfattande förändringsarbete behövs\",IF(ISBLANK(Självskattning!D348),\"\",Självskattning!D348),\"\")","v":""}]
[null,{"$f":"IF(Självskattning!C349=\"Mer omfattande förändringsarbete behövs\",Självskattning!A349,\"\")","v":""},{"$f":"IF(Självskattning!C349=\"Mer omfattande förändringsarbete behövs\",Självskattning!B349,\"\")","v":""},{"$f":"IF(Självskattning!C349=\"Mer omfattande förändringsarbete behövs\",IF(ISBLANK(Självskattning!D349),\"\",Självskattning!D349),\"\")","v":""}]
[null,{"$f":"IF(Självskattning!C350=\"Mer omfattande förändringsarbete behövs\",Självskattning!A350,\"\")","v":""},{"$f":"IF(Självskattning!C350=\"Mer omfattande förändringsarbete behövs\",Självskattning!B350,\"\")","v":""},{"$f":"IF(Självskattning!C350=\"Mer omfattande förändringsarbete behövs\",IF(ISBLANK(Självskattning!D350),\"\",Självskattning!D350),\"\")","v":""}]
[null,{"$f":"IF(Självskattning!C351=\"Mer omfattande förändringsarbete behövs\",Självskattning!A351,\"\")","v":""},{"$f":"IF(Självskattning!C351=\"Mer omfattande förändringsarbete behövs\",Självskattning!B351,\"\")","v":""},{"$f":"IF(Självskattning!C351=\"Mer omfattande förändringsarbete behövs\",IF(ISBLANK(Självskattning!D351),\"\",Självskattning!D351),\"\")","v":""}]
[null,{"$f":"IF(Självskattning!C352=\"Mer omfattande förändringsarbete behövs\",Självskattning!A352,\"\")","v":""},{"$f":"IF(Självskattning!C352=\"Mer omfattande förändringsarbete behövs\",Självskattning!B352,\"\")","v":""},{"$f":"IF(Självskattning!C352=\"Mer omfattande förändringsarbete behövs\",IF(ISBLANK(Självskattning!D352),\"\",Självskattning!D352),\"\")","v":""}]
[null,{"$f":"IF(Självskattning!C353=\"Mer omfattande förändringsarbete behövs\",Självskattning!A353,\"\")","v":""},{"$f":"IF(Självskattning!C353=\"Mer omfattande förändringsarbete behövs\",Självskattning!B353,\"\")","v":""},{"$f":"IF(Självskattning!C353=\"Mer omfattande förändringsarbete behövs\",IF(ISBLANK(Självskattning!D353),\"\",Självskattning!D353),\"\")","v":""}]
[null,{"$f":"IF(Självskattning!C354=\"Mer omfattande förändringsarbete behövs\",Självskattning!A354,\"\")","v":""},{"$f":"IF(Självskattning!C354=\"Mer omfattande förändringsarbete behövs\",Självskattning!B354,\"\")","v":""},{"$f":"IF(Självskattning!C354=\"Mer omfattande förändringsarbete behövs\",IF(ISBLANK(Självskattning!D354),\"\",Självskattning!D354),\"\")","v":""}]
[null,{"$f":"IF(Självskattning!C355=\"Mer omfattande förändringsarbete behövs\",Självskattning!A355,\"\")","v":""},{"$f":"IF(Självskattning!C355=\"Mer omfattande förändringsarbete behövs\",Självskattning!B355,\"\")","v":""},{"$f":"IF(Självskattning!C355=\"Mer omfattande förändringsarbete behövs\",IF(ISBLANK(Självskattning!D355),\"\",Självskattning!D355),\"\")","v":""}]
[null,{"$f":"IF(Självskattning!C356=\"Mer omfattande förändringsarbete behövs\",Självskattning!A356,\"\")","v":""},{"$f":"IF(Självskattning!C356=\"Mer omfattande förändringsarbete behövs\",Självskattning!B356,\"\")","v":""},{"$f":"IF(Självskattning!C356=\"Mer omfattande förändringsarbete behövs\",IF(ISBLANK(Självskattning!D356),\"\",Självskattning!D356),\"\")","v":""}]
[null,{"$f":"IF(Självskattning!C357=\"Mer omfattande förändringsarbete behövs\",Självskattning!A357,\"\")","v":""},{"$f":"IF(Självskattning!C357=\"Mer omfattande förändringsarbete behövs\",Självskattning!B357,\"\")","v":""},{"$f":"IF(Självskattning!C357=\"Mer omfattande förändringsarbete behövs\",IF(ISBLANK(Självskattning!D357),\"\",Självskattning!D357),\"\")","v":""}]
[null,{"$f":"IF(Självskattning!C358=\"Mer omfattande förändringsarbete behövs\",Självskattning!A358,\"\")","v":""},{"$f":"IF(Självskattning!C358=\"Mer omfattande förändringsarbete behövs\",Självskattning!B358,\"\")","v":""},{"$f":"IF(Självskattning!C358=\"Mer omfattande förändringsarbete behövs\",IF(ISBLANK(Självskattning!D358),\"\",Självskattning!D358),\"\")","v":""}]
[null,{"$f":"IF(Självskattning!C359=\"Mer omfattande förändringsarbete behövs\",Självskattning!A359,\"\")","v":""},{"$f":"IF(Självskattning!C359=\"Mer omfattande förändringsarbete behövs\",Självskattning!B359,\"\")","v":""},{"$f":"IF(Självskattning!C359=\"Mer omfattande förändringsarbete behövs\",IF(ISBLANK(Självskattning!D359),\"\",Självskattning!D359),\"\")","v":""}]
[null,{"$f":"IF(Självskattning!C360=\"Mer omfattande förändringsarbete behövs\",Självskattning!A360,\"\")","v":""},{"$f":"IF(Självskattning!C360=\"Mer omfattande förändringsarbete behövs\",Självskattning!B360,\"\")","v":""},{"$f":"IF(Självskattning!C360=\"Mer omfattande förändringsarbete behövs\",IF(ISBLANK(Självskattning!D360),\"\",Självskattning!D360),\"\")","v":""}]
[null,{"$f":"IF(Självskattning!C361=\"Mer omfattande förändringsarbete behövs\",Självskattning!A361,\"\")","v":""},{"$f":"IF(Självskattning!C361=\"Mer omfattande förändringsarbete behövs\",Självskattning!B361,\"\")","v":""},{"$f":"IF(Självskattning!C361=\"Mer omfattande förändringsarbete behövs\",IF(ISBLANK(Självskattning!D361),\"\",Självskattning!D361),\"\")","v":""}]
[null,{"$f":"IF(Självskattning!C362=\"Mer omfattande förändringsarbete behövs\",Självskattning!A362,\"\")","v":""},{"$f":"IF(Självskattning!C362=\"Mer omfattande förändringsarbete behövs\",Självskattning!B362,\"\")","v":""},{"$f":"IF(Självskattning!C362=\"Mer omfattande förändringsarbete behövs\",IF(ISBLANK(Självskattning!D362),\"\",Självskattning!D362),\"\")","v":""}]
[null,{"$f":"IF(Självskattning!C363=\"Mer omfattande förändringsarbete behövs\",Självskattning!A363,\"\")","v":""},{"$f":"IF(Självskattning!C363=\"Mer omfattande förändringsarbete behövs\",Självskattning!B363,\"\")","v":""},{"$f":"IF(Självskattning!C363=\"Mer omfattande förändringsarbete behövs\",IF(ISBLANK(Självskattning!D363),\"\",Självskattning!D363),\"\")","v":""}]
[null,{"$f":"IF(Självskattning!C364=\"Mer omfattande förändringsarbete behövs\",Självskattning!A364,\"\")","v":""},{"$f":"IF(Självskattning!C364=\"Mer omfattande förändringsarbete behövs\",Självskattning!B364,\"\")","v":""},{"$f":"IF(Självskattning!C364=\"Mer omfattande förändringsarbete behövs\",IF(ISBLANK(Självskattning!D364),\"\",Självskattning!D364),\"\")","v":""}]
[null,{"$f":"IF(Självskattning!C365=\"Mer omfattande förändringsarbete behövs\",Självskattning!A365,\"\")","v":""},{"$f":"IF(Självskattning!C365=\"Mer omfattande förändringsarbete behövs\",Självskattning!B365,\"\")","v":""},{"$f":"IF(Självskattning!C365=\"Mer omfattande förändringsarbete behövs\",IF(ISBLANK(Självskattning!D365),\"\",Självskattning!D365),\"\")","v":""}]
[null,{"$f":"IF(Självskattning!C366=\"Mer omfattande förändringsarbete behövs\",Självskattning!A366,\"\")","v":""},{"$f":"IF(Självskattning!C366=\"Mer omfattande förändringsarbete behövs\",Självskattning!B366,\"\")","v":""},{"$f":"IF(Självskattning!C366=\"Mer omfattande förändringsarbete behövs\",IF(ISBLANK(Självskattning!D366),\"\",Självskattning!D366),\"\")","v":""}]
[null,{"$f":"IF(Självskattning!C367=\"Mer omfattande förändringsarbete behövs\",Självskattning!A367,\"\")","v":""},{"$f":"IF(Självskattning!C367=\"Mer omfattande förändringsarbete behövs\",Självskattning!B367,\"\")","v":""},{"$f":"IF(Självskattning!C367=\"Mer omfattande förändringsarbete behövs\",IF(ISBLANK(Självskattning!D367),\"\",Självskattning!D367),\"\")","v":""}]
[null,{"$f":"IF(Självskattning!C368=\"Mer omfattande förändringsarbete behövs\",Självskattning!A368,\"\")","v":""},{"$f":"IF(Självskattning!C368=\"Mer omfattande förändringsarbete behövs\",Självskattning!B368,\"\")","v":""},{"$f":"IF(Självskattning!C368=\"Mer omfattande förändringsarbete behövs\",IF(ISBLANK(Självskattning!D368),\"\",Självskattning!D368),\"\")","v":""}]
[null,{"$f":"IF(Självskattning!C369=\"Mer omfattande förändringsarbete behövs\",Självskattning!A369,\"\")","v":""},{"$f":"IF(Självskattning!C369=\"Mer omfattande förändringsarbete behövs\",Självskattning!B369,\"\")","v":""},{"$f":"IF(Självskattning!C369=\"Mer omfattande förändringsarbete behövs\",IF(ISBLANK(Självskattning!D369),\"\",Självskattning!D369),\"\")","v":""}]
[null,{"$f":"IF(Självskattning!C370=\"Mer omfattande förändringsarbete behövs\",Självskattning!A370,\"\")","v":""},{"$f":"IF(Självskattning!C370=\"Mer omfattande förändringsarbete behövs\",Självskattning!B370,\"\")","v":""},{"$f":"IF(Självskattning!C370=\"Mer omfattande förändringsarbete behövs\",IF(ISBLANK(Självskattning!D370),\"\",Självskattning!D370),\"\")","v":""}]
[null,{"$f":"IF(Självskattning!C371=\"Mer omfattande förändringsarbete behövs\",Självskattning!A371,\"\")","v":""},{"$f":"IF(Självskattning!C371=\"Mer omfattande förändringsarbete behövs\",Självskattning!B371,\"\")","v":""},{"$f":"IF(Självskattning!C371=\"Mer omfattande förändringsarbete behövs\",IF(ISBLANK(Självskattning!D371),\"\",Självskattning!D371),\"\")","v":""}]
[null,{"$f":"IF(Självskattning!C372=\"Mer omfattande förändringsarbete behövs\",Självskattning!A372,\"\")","v":""},{"$f":"IF(Självskattning!C372=\"Mer omfattande förändringsarbete behövs\",Självskattning!B372,\"\")","v":""},{"$f":"IF(Självskattning!C372=\"Mer omfattande förändringsarbete behövs\",IF(ISBLANK(Självskattning!D372),\"\",Självskattning!D372),\"\")","v":""}]
[null,{"$f":"IF(Självskattning!C373=\"Mer omfattande förändringsarbete behövs\",Självskattning!A373,\"\")","v":""},{"$f":"IF(Självskattning!C373=\"Mer omfattande förändringsarbete behövs\",Självskattning!B373,\"\")","v":""},{"$f":"IF(Självskattning!C373=\"Mer omfattande förändringsarbete behövs\",IF(ISBLANK(Självskattning!D373),\"\",Självskattning!D373),\"\")","v":""}]
[null,{"$f":"IF(Självskattning!C374=\"Mer omfattande förändringsarbete behövs\",Självskattning!A374,\"\")","v":""},{"$f":"IF(Självskattning!C374=\"Mer omfattande förändringsarbete behövs\",Självskattning!B374,\"\")","v":""},{"$f":"IF(Självskattning!C374=\"Mer omfattande förändringsarbete behövs\",IF(ISBLANK(Självskattning!D374),\"\",Självskattning!D374),\"\")","v":""}]
[null,{"$f":"IF(Självskattning!C375=\"Mer omfattande förändringsarbete behövs\",Självskattning!A375,\"\")","v":""},{"$f":"IF(Självskattning!C375=\"Mer omfattande förändringsarbete behövs\",Självskattning!B375,\"\")","v":""},{"$f":"IF(Självskattning!C375=\"Mer omfattande förändringsarbete behövs\",IF(ISBLANK(Självskattning!D375),\"\",Självskattning!D375),\"\")","v":""}]
[null,{"$f":"IF(Självskattning!C376=\"Mer omfattande förändringsarbete behövs\",Självskattning!A376,\"\")","v":""},{"$f":"IF(Självskattning!C376=\"Mer omfattande förändringsarbete behövs\",Självskattning!B376,\"\")","v":""},{"$f":"IF(Självskattning!C376=\"Mer omfattande förändringsarbete behövs\",IF(ISBLANK(Självskattning!D376),\"\",Självskattning!D376),\"\")","v":""}]
[null,{"$f":"IF(Självskattning!C377=\"Mer omfattande förändringsarbete behövs\",Självskattning!A377,\"\")","v":""},{"$f":"IF(Självskattning!C377=\"Mer omfattande förändringsarbete behövs\",Självskattning!B377,\"\")","v":""},{"$f":"IF(Självskattning!C377=\"Mer omfattande förändringsarbete behövs\",IF(ISBLANK(Självskattning!D377),\"\",Självskattning!D377),\"\")","v":""}]
[null,{"$f":"IF(Självskattning!C378=\"Mer omfattande förändringsarbete behövs\",Självskattning!A378,\"\")","v":""},{"$f":"IF(Självskattning!C378=\"Mer omfattande förändringsarbete behövs\",Självskattning!B378,\"\")","v":""},{"$f":"IF(Självskattning!C378=\"Mer omfattande förändringsarbete behövs\",IF(ISBLANK(Självskattning!D378),\"\",Självskattning!D378),\"\")","v":""}]
[null,{"$f":"IF(Självskattning!C379=\"Mer omfattande förändringsarbete behövs\",Självskattning!A379,\"\")","v":""},{"$f":"IF(Självskattning!C379=\"Mer omfattande förändringsarbete behövs\",Självskattning!B379,\"\")","v":""},{"$f":"IF(Självskattning!C379=\"Mer omfattande förändringsarbete behövs\",IF(ISBLANK(Självskattning!D379),\"\",Självskattning!D379),\"\")","v":""}]
[null,{"$f":"IF(Självskattning!C380=\"Mer omfattande förändringsarbete behövs\",Självskattning!A380,\"\")","v":""},{"$f":"IF(Självskattning!C380=\"Mer omfattande förändringsarbete behövs\",Självskattning!B380,\"\")","v":""},{"$f":"IF(Självskattning!C380=\"Mer omfattande förändringsarbete behövs\",IF(ISBLANK(Självskattning!D380),\"\",Självskattning!D380),\"\")","v":""}]
[null,{"$f":"IF(Självskattning!C381=\"Mer omfattande förändringsarbete behövs\",Självskattning!A381,\"\")","v":""},{"$f":"IF(Självskattning!C381=\"Mer omfattande förändringsarbete behövs\",Självskattning!B381,\"\")","v":""},{"$f":"IF(Självskattning!C381=\"Mer omfattande förändringsarbete behövs\",IF(ISBLANK(Självskattning!D381),\"\",Självskattning!D381),\"\")","v":""}]
[null,{"$f":"IF(Självskattning!C382=\"Mer omfattande förändringsarbete behövs\",Självskattning!A382,\"\")","v":""},{"$f":"IF(Självskattning!C382=\"Mer omfattande förändringsarbete behövs\",Självskattning!B382,\"\")","v":""},{"$f":"IF(Självskattning!C382=\"Mer omfattande förändringsarbete behövs\",IF(ISBLANK(Självskattning!D382),\"\",Självskattning!D382),\"\")","v":""}]
[null,{"$f":"IF(Självskattning!C383=\"Mer omfattande förändringsarbete behövs\",Självskattning!A383,\"\")","v":""},{"$f":"IF(Självskattning!C383=\"Mer omfattande förändringsarbete behövs\",Självskattning!B383,\"\")","v":""},{"$f":"IF(Självskattning!C383=\"Mer omfattande förändringsarbete behövs\",IF(ISBLANK(Självskattning!D383),\"\",Självskattning!D383),\"\")","v":""}]
[null,{"$f":"IF(Självskattning!C384=\"Mer omfattande förändringsarbete behövs\",Självskattning!A384,\"\")","v":""},{"$f":"IF(Självskattning!C384=\"Mer omfattande förändringsarbete behövs\",Självskattning!B384,\"\")","v":""},{"$f":"IF(Självskattning!C384=\"Mer omfattande förändringsarbete behövs\",IF(ISBLANK(Självskattning!D384),\"\",Självskattning!D384),\"\")","v":""}]
[null,{"$f":"IF(Självskattning!C385=\"Mer omfattande förändringsarbete behövs\",Självskattning!A385,\"\")","v":""},{"$f":"IF(Självskattning!C385=\"Mer omfattande förändringsarbete behövs\",Självskattning!B385,\"\")","v":""},{"$f":"IF(Självskattning!C385=\"Mer omfattande förändringsarbete behövs\",IF(ISBLANK(Självskattning!D385),\"\",Självskattning!D385),\"\")","v":""}]
[null,{"$f":"IF(Självskattning!C386=\"Mer omfattande förändringsarbete behövs\",Självskattning!A386,\"\")","v":""},{"$f":"IF(Självskattning!C386=\"Mer omfattande förändringsarbete behövs\",Självskattning!B386,\"\")","v":""},{"$f":"IF(Självskattning!C386=\"Mer omfattande förändringsarbete behövs\",IF(ISBLANK(Självskattning!D386),\"\",Självskattning!D386),\"\")","v":""}]
[null,{"$f":"IF(Självskattning!C387=\"Mer omfattande förändringsarbete behövs\",Självskattning!A387,\"\")","v":""},{"$f":"IF(Självskattning!C387=\"Mer omfattande förändringsarbete behövs\",Självskattning!B387,\"\")","v":""},{"$f":"IF(Självskattning!C387=\"Mer omfattande förändringsarbete behövs\",IF(ISBLANK(Självskattning!D387),\"\",Självskattning!D387),\"\")","v":""}]
[null,{"$f":"IF(Självskattning!C388=\"Mer omfattande förändringsarbete behövs\",Självskattning!A388,\"\")","v":""},{"$f":"IF(Självskattning!C388=\"Mer omfattande förändringsarbete behövs\",Självskattning!B388,\"\")","v":""},{"$f":"IF(Självskattning!C388=\"Mer omfattande förändringsarbete behövs\",IF(ISBLANK(Självskattning!D388),\"\",Självskattning!D388),\"\")","v":""}]
[null,{"$f":"IF(Självskattning!C389=\"Mer omfattande förändringsarbete behövs\",Självskattning!A389,\"\")","v":""},{"$f":"IF(Självskattning!C389=\"Mer omfattande förändringsarbete behövs\",Självskattning!B389,\"\")","v":""},{"$f":"IF(Självskattning!C389=\"Mer omfattande förändringsarbete behövs\",IF(ISBLANK(Självskattning!D389),\"\",Självskattning!D389),\"\")","v":""}]
[null,{"$f":"IF(Självskattning!C390=\"Mer omfattande förändringsarbete behövs\",Självskattning!A390,\"\")","v":""},{"$f":"IF(Självskattning!C390=\"Mer omfattande förändringsarbete behövs\",Självskattning!B390,\"\")","v":""},{"$f":"IF(Självskattning!C390=\"Mer omfattande förändringsarbete behövs\",IF(ISBLANK(Självskattning!D390),\"\",Självskattning!D390),\"\")","v":""}]
[null,{"$f":"IF(Självskattning!C391=\"Mer omfattande förändringsarbete behövs\",Självskattning!A391,\"\")","v":""},{"$f":"IF(Självskattning!C391=\"Mer omfattande förändringsarbete behövs\",Självskattning!B391,\"\")","v":""},{"$f":"IF(Självskattning!C391=\"Mer omfattande förändringsarbete behövs\",IF(ISBLANK(Självskattning!D391),\"\",Självskattning!D391),\"\")","v":""}]
[null,{"$f":"IF(Självskattning!C392=\"Mer omfattande förändringsarbete behövs\",Självskattning!A392,\"\")","v":""},{"$f":"IF(Självskattning!C392=\"Mer omfattande förändringsarbete behövs\",Självskattning!B392,\"\")","v":""},{"$f":"IF(Självskattning!C392=\"Mer omfattande förändringsarbete behövs\",IF(ISBLANK(Självskattning!D392),\"\",Självskattning!D392),\"\")","v":""}]
[null,{"$f":"IF(Självskattning!C393=\"Mer omfattande förändringsarbete behövs\",Självskattning!A393,\"\")","v":""},{"$f":"IF(Självskattning!C393=\"Mer omfattande förändringsarbete behövs\",Självskattning!B393,\"\")","v":""},{"$f":"IF(Självskattning!C393=\"Mer omfattande förändringsarbete behövs\",IF(ISBLANK(Självskattning!D393),\"\",Självskattning!D393),\"\")","v":""}]
[null,{"$f":"IF(Självskattning!C394=\"Mer omfattande förändringsarbete behövs\",Självskattning!A394,\"\")","v":""},{"$f":"IF(Självskattning!C394=\"Mer omfattande förändringsarbete behövs\",Självskattning!B394,\"\")","v":""},{"$f":"IF(Självskattning!C394=\"Mer omfattande förändringsarbete behövs\",IF(ISBLANK(Självskattning!D394),\"\",Självskattning!D394),\"\")","v":""}]
[null,{"$f":"IF(Självskattning!C395=\"Mer omfattande förändringsarbete behövs\",Självskattning!A395,\"\")","v":""},{"$f":"IF(Självskattning!C395=\"Mer omfattande förändringsarbete behövs\",Självskattning!B395,\"\")","v":""},{"$f":"IF(Självskattning!C395=\"Mer omfattande förändringsarbete behövs\",IF(ISBLANK(Självskattning!D395),\"\",Självskattning!D395),\"\")","v":""}]
[null,{"$f":"IF(Självskattning!C396=\"Mer omfattande förändringsarbete behövs\",Självskattning!A396,\"\")","v":""},{"$f":"IF(Självskattning!C396=\"Mer omfattande förändringsarbete behövs\",Självskattning!B396,\"\")","v":""},{"$f":"IF(Självskattning!C396=\"Mer omfattande förändringsarbete behövs\",IF(ISBLANK(Självskattning!D396),\"\",Självskattning!D396),\"\")","v":""}]
[null,{"$f":"IF(Självskattning!C397=\"Mer omfattande förändringsarbete behövs\",Självskattning!A397,\"\")","v":""},{"$f":"IF(Självskattning!C397=\"Mer omfattande förändringsarbete behövs\",Självskattning!B397,\"\")","v":""},{"$f":"IF(Självskattning!C397=\"Mer omfattande förändringsarbete behövs\",IF(ISBLANK(Självskattning!D397),\"\",Självskattning!D397),\"\")","v":""}]
[null,{"$f":"IF(Självskattning!C398=\"Mer omfattande förändringsarbete behövs\",Självskattning!A398,\"\")","v":""},{"$f":"IF(Självskattning!C398=\"Mer omfattande förändringsarbete behövs\",Självskattning!B398,\"\")","v":""},{"$f":"IF(Självskattning!C398=\"Mer omfattande förändringsarbete behövs\",IF(ISBLANK(Självskattning!D398),\"\",Självskattning!D398),\"\")","v":""}]
[null,{"$f":"IF(Självskattning!C399=\"Mer omfattande förändringsarbete behövs\",Självskattning!A399,\"\")","v":""},{"$f":"IF(Självskattning!C399=\"Mer omfattande förändringsarbete behövs\",Självskattning!B399,\"\")","v":""},{"$f":"IF(Självskattning!C399=\"Mer omfattande förändringsarbete behövs\",IF(ISBLANK(Självskattning!D399),\"\",Självskattning!D399),\"\")","v":""}]
[null,{"$f":"IF(Självskattning!C400=\"Mer omfattande förändringsarbete behövs\",Självskattning!A400,\"\")","v":""},{"$f":"IF(Självskattning!C400=\"Mer omfattande förändringsarbete behövs\",Självskattning!B400,\"\")","v":""},{"$f":"IF(Självskattning!C400=\"Mer omfattande förändringsarbete behövs\",IF(ISBLANK(Självskattning!D400),\"\",Självskattning!D400),\"\")","v":""}]
[null,{"$f":"IF(Självskattning!C401=\"Mer omfattande förändringsarbete behövs\",Självskattning!A401,\"\")","v":""},{"$f":"IF(Självskattning!C401=\"Mer omfattande förändringsarbete behövs\",Självskattning!B401,\"\")","v":""},{"$f":"IF(Självskattning!C401=\"Mer omfattande förändringsarbete behövs\",IF(ISBLANK(Självskattning!D401),\"\",Självskattning!D401),\"\")","v":""}]
[null,{"$f":"IF(Självskattning!C402=\"Mer omfattande förändringsarbete behövs\",Självskattning!A402,\"\")","v":""},{"$f":"IF(Självskattning!C402=\"Mer omfattande förändringsarbete behövs\",Självskattning!B402,\"\")","v":""},{"$f":"IF(Självskattning!C402=\"Mer omfattande förändringsarbete behövs\",IF(ISBLANK(Självskattning!D402),\"\",Självskattning!D402),\"\")","v":""}]
[null,{"$f":"IF(Självskattning!C403=\"Mer omfattande förändringsarbete behövs\",Självskattning!A403,\"\")","v":""},{"$f":"IF(Självskattning!C403=\"Mer omfattande förändringsarbete behövs\",Självskattning!B403,\"\")","v":""},{"$f":"IF(Självskattning!C403=\"Mer omfattande förändringsarbete behövs\",IF(ISBLANK(Självskattning!D403),\"\",Självskattning!D403),\"\")","v":""}]
[null,{"$f":"IF(Självskattning!C404=\"Mer omfattande förändringsarbete behövs\",Självskattning!A404,\"\")","v":""},{"$f":"IF(Självskattning!C404=\"Mer omfattande förändringsarbete behövs\",Självskattning!B404,\"\")","v":""},{"$f":"IF(Självskattning!C404=\"Mer omfattande förändringsarbete behövs\",IF(ISBLANK(Självskattning!D404),\"\",Självskattning!D404),\"\")","v":""}]
[null,{"$f":"IF(Självskattning!C405=\"Mer omfattande förändringsarbete behövs\",Självskattning!A405,\"\")","v":""},{"$f":"IF(Självskattning!C405=\"Mer omfattande förändringsarbete behövs\",Självskattning!B405,\"\")","v":""},{"$f":"IF(Självskattning!C405=\"Mer omfattande förändringsarbete behövs\",IF(ISBLANK(Självskattning!D405),\"\",Självskattning!D405),\"\")","v":""}]
[null,{"$f":"IF(Självskattning!C406=\"Mer omfattande förändringsarbete behövs\",Självskattning!A406,\"\")","v":""},{"$f":"IF(Självskattning!C406=\"Mer omfattande förändringsarbete behövs\",Självskattning!B406,\"\")","v":""},{"$f":"IF(Självskattning!C406=\"Mer omfattande förändringsarbete behövs\",IF(ISBLANK(Självskattning!D406),\"\",Självskattning!D406),\"\")","v":""}]
[null,{"$f":"IF(Självskattning!C407=\"Mer omfattande förändringsarbete behövs\",Självskattning!A407,\"\")","v":""},{"$f":"IF(Självskattning!C407=\"Mer omfattande förändringsarbete behövs\",Självskattning!B407,\"\")","v":""},{"$f":"IF(Självskattning!C407=\"Mer omfattande förändringsarbete behövs\",IF(ISBLANK(Självskattning!D407),\"\",Självskattning!D407),\"\")","v":""}]
[null,{"$f":"IF(Självskattning!C408=\"Mer omfattande förändringsarbete behövs\",Självskattning!A408,\"\")","v":""},{"$f":"IF(Självskattning!C408=\"Mer omfattande förändringsarbete behövs\",Självskattning!B408,\"\")","v":""},{"$f":"IF(Självskattning!C408=\"Mer omfattande förändringsarbete behövs\",IF(ISBLANK(Självskattning!D408),\"\",Självskattning!D408),\"\")","v":""}]
[null,{"$f":"IF(Självskattning!C409=\"Mer omfattande förändringsarbete behövs\",Självskattning!A409,\"\")","v":""},{"$f":"IF(Självskattning!C409=\"Mer omfattande förändringsarbete behövs\",Självskattning!B409,\"\")","v":""},{"$f":"IF(Självskattning!C409=\"Mer omfattande förändringsarbete behövs\",IF(ISBLANK(Självskattning!D409),\"\",Självskattning!D409),\"\")","v":""}]
[null,{"$f":"IF(Självskattning!C410=\"Mer omfattande förändringsarbete behövs\",Självskattning!A410,\"\")","v":""},{"$f":"IF(Självskattning!C410=\"Mer omfattande förändringsarbete behövs\",Självskattning!B410,\"\")","v":""},{"$f":"IF(Självskattning!C410=\"Mer omfattande förändringsarbete behövs\",IF(ISBLANK(Självskattning!D410),\"\",Självskattning!D410),\"\")","v":""}]
[null,{"$f":"IF(Självskattning!C411=\"Mer omfattande förändringsarbete behövs\",Självskattning!A411,\"\")","v":""},{"$f":"IF(Självskattning!C411=\"Mer omfattande förändringsarbete behövs\",Självskattning!B411,\"\")","v":""},{"$f":"IF(Självskattning!C411=\"Mer omfattande förändringsarbete behövs\",IF(ISBLANK(Självskattning!D411),\"\",Självskattning!D411),\"\")","v":""}]
[null,{"$f":"IF(Självskattning!C412=\"Mer omfattande förändringsarbete behövs\",Självskattning!A412,\"\")","v":""},{"$f":"IF(Självskattning!C412=\"Mer omfattande förändringsarbete behövs\",Självskattning!B412,\"\")","v":""},{"$f":"IF(Självskattning!C412=\"Mer omfattande förändringsarbete behövs\",IF(ISBLANK(Självskattning!D412),\"\",Självskattning!D412),\"\")","v":""}]
[null,{"$f":"IF(Självskattning!C413=\"Mer omfattande förändringsarbete behövs\",Självskattning!A413,\"\")","v":""},{"$f":"IF(Självskattning!C413=\"Mer omfattande förändringsarbete behövs\",Självskattning!B413,\"\")","v":""},{"$f":"IF(Självskattning!C413=\"Mer omfattande förändringsarbete behövs\",IF(ISBLANK(Självskattning!D413),\"\",Självskattning!D413),\"\")","v":""}]
[null,{"$f":"IF(Självskattning!C414=\"Mer omfattande förändringsarbete behövs\",Självskattning!A414,\"\")","v":""},{"$f":"IF(Självskattning!C414=\"Mer omfattande förändringsarbete behövs\",Självskattning!B414,\"\")","v":""},{"$f":"IF(Självskattning!C414=\"Mer omfattande förändringsarbete behövs\",IF(ISBLANK(Självskattning!D414),\"\",Självskattning!D414),\"\")","v":""}]
[null,{"$f":"IF(Självskattning!C415=\"Mer omfattande förändringsarbete behövs\",Självskattning!A415,\"\")","v":""},{"$f":"IF(Självskattning!C415=\"Mer omfattande förändringsarbete behövs\",Självskattning!B415,\"\")","v":""},{"$f":"IF(Självskattning!C415=\"Mer omfattande förändringsarbete behövs\",IF(ISBLANK(Självskattning!D415),\"\",Självskattning!D415),\"\")","v":""}]
[null,{"$f":"IF(Självskattning!C416=\"Mer omfattande förändringsarbete behövs\",Självskattning!A416,\"\")","v":""},{"$f":"IF(Självskattning!C416=\"Mer omfattande förändringsarbete behövs\",Självskattning!B416,\"\")","v":""},{"$f":"IF(Självskattning!C416=\"Mer omfattande förändringsarbete behövs\",IF(ISBLANK(Självskattning!D416),\"\",Självskattning!D416),\"\")","v":""}]
[null,{"$f":"IF(Självskattning!C417=\"Mer omfattande förändringsarbete behövs\",Självskattning!A417,\"\")","v":""},{"$f":"IF(Självskattning!C417=\"Mer omfattande förändringsarbete behövs\",Självskattning!B417,\"\")","v":""},{"$f":"IF(Självskattning!C417=\"Mer omfattande förändringsarbete behövs\",IF(ISBLANK(Självskattning!D417),\"\",Självskattning!D417),\"\")","v":""}]
[null,{"$f":"IF(Självskattning!C418=\"Mer omfattande förändringsarbete behövs\",Självskattning!A418,\"\")","v":""},{"$f":"IF(Självskattning!C418=\"Mer omfattande förändringsarbete behövs\",Självskattning!B418,\"\")","v":""},{"$f":"IF(Självskattning!C418=\"Mer omfattande förändringsarbete behövs\",IF(ISBLANK(Självskattning!D418),\"\",Självskattning!D418),\"\")","v":""}]
[null,{"$f":"IF(Självskattning!C419=\"Mer omfattande förändringsarbete behövs\",Självskattning!A419,\"\")","v":""},{"$f":"IF(Självskattning!C419=\"Mer omfattande förändringsarbete behövs\",Självskattning!B419,\"\")","v":""},{"$f":"IF(Självskattning!C419=\"Mer omfattande förändringsarbete behövs\",IF(ISBLANK(Självskattning!D419),\"\",Självskattning!D419),\"\")","v":""}]
[null,{"$f":"IF(Självskattning!C420=\"Mer omfattande förändringsarbete behövs\",Självskattning!A420,\"\")","v":""},{"$f":"IF(Självskattning!C420=\"Mer omfattande förändringsarbete behövs\",Självskattning!B420,\"\")","v":""},{"$f":"IF(Självskattning!C420=\"Mer omfattande förändringsarbete behövs\",IF(ISBLANK(Självskattning!D420),\"\",Självskattning!D420),\"\")","v":""}]
[null,{"$f":"IF(Självskattning!C421=\"Mer omfattande förändringsarbete behövs\",Självskattning!A421,\"\")","v":""},{"$f":"IF(Självskattning!C421=\"Mer omfattande förändringsarbete behövs\",Självskattning!B421,\"\")","v":""},{"$f":"IF(Självskattning!C421=\"Mer omfattande förändringsarbete behövs\",IF(ISBLANK(Självskattning!D421),\"\",Självskattning!D421),\"\")","v":""}]
[null,{"$f":"IF(Självskattning!C422=\"Mer omfattande förändringsarbete behövs\",Självskattning!A422,\"\")","v":""},{"$f":"IF(Självskattning!C422=\"Mer omfattande förändringsarbete behövs\",Självskattning!B422,\"\")","v":""},{"$f":"IF(Självskattning!C422=\"Mer omfattande förändringsarbete behövs\",IF(ISBLANK(Självskattning!D422),\"\",Självskattning!D422),\"\")","v":""}]
[null,{"$f":"IF(Självskattning!C423=\"Mer omfattande förändringsarbete behövs\",Självskattning!A423,\"\")","v":""},{"$f":"IF(Självskattning!C423=\"Mer omfattande förändringsarbete behövs\",Självskattning!B423,\"\")","v":""},{"$f":"IF(Självskattning!C423=\"Mer omfattande förändringsarbete behövs\",IF(ISBLANK(Självskattning!D423),\"\",Självskattning!D423),\"\")","v":""}]
[null,{"$f":"IF(Självskattning!C424=\"Mer omfattande förändringsarbete behövs\",Självskattning!A424,\"\")","v":""},{"$f":"IF(Självskattning!C424=\"Mer omfattande förändringsarbete behövs\",Självskattning!B424,\"\")","v":""},{"$f":"IF(Självskattning!C424=\"Mer omfattande förändringsarbete behövs\",IF(ISBLANK(Självskattning!D424),\"\",Självskattning!D424),\"\")","v":""}]
[null,{"$f":"IF(Självskattning!C425=\"Mer omfattande förändringsarbete behövs\",Självskattning!A425,\"\")","v":""},{"$f":"IF(Självskattning!C425=\"Mer omfattande förändringsarbete behövs\",Självskattning!B425,\"\")","v":""},{"$f":"IF(Självskattning!C425=\"Mer omfattande förändringsarbete behövs\",IF(ISBLANK(Självskattning!D425),\"\",Självskattning!D425),\"\")","v":""}]
[null,{"$f":"IF(Självskattning!C426=\"Mer omfattande förändringsarbete behövs\",Självskattning!A426,\"\")","v":""},{"$f":"IF(Självskattning!C426=\"Mer omfattande förändringsarbete behövs\",Självskattning!B426,\"\")","v":""},{"$f":"IF(Självskattning!C426=\"Mer omfattande förändringsarbete behövs\",IF(ISBLANK(Självskattning!D426),\"\",Självskattning!D426),\"\")","v":""}]
[null,{"$f":"IF(Självskattning!C427=\"Mer omfattande förändringsarbete behövs\",Självskattning!A427,\"\")","v":""},{"$f":"IF(Självskattning!C427=\"Mer omfattande förändringsarbete behövs\",Självskattning!B427,\"\")","v":""},{"$f":"IF(Självskattning!C427=\"Mer omfattande förändringsarbete behövs\",IF(ISBLANK(Självskattning!D427),\"\",Självskattning!D427),\"\")","v":""}]
[null,{"$f":"IF(Självskattning!C428=\"Mer omfattande förändringsarbete behövs\",Självskattning!A428,\"\")","v":""},{"$f":"IF(Självskattning!C428=\"Mer omfattande förändringsarbete behövs\",Självskattning!B428,\"\")","v":""},{"$f":"IF(Självskattning!C428=\"Mer omfattande förändringsarbete behövs\",IF(ISBLANK(Självskattning!D428),\"\",Självskattning!D428),\"\")","v":""}]
[null,{"$f":"IF(Självskattning!C429=\"Mer omfattande förändringsarbete behövs\",Självskattning!A429,\"\")","v":""},{"$f":"IF(Självskattning!C429=\"Mer omfattande förändringsarbete behövs\",Självskattning!B429,\"\")","v":""},{"$f":"IF(Självskattning!C429=\"Mer omfattande förändringsarbete behövs\",IF(ISBLANK(Självskattning!D429),\"\",Självskattning!D429),\"\")","v":""}]
[null,{"$f":"IF(Självskattning!C430=\"Mer omfattande förändringsarbete behövs\",Självskattning!A430,\"\")","v":""},{"$f":"IF(Självskattning!C430=\"Mer omfattande förändringsarbete behövs\",Självskattning!B430,\"\")","v":""},{"$f":"IF(Självskattning!C430=\"Mer omfattande förändringsarbete behövs\",IF(ISBLANK(Självskattning!D430),\"\",Självskattning!D430),\"\")","v":""}]
[null,{"$f":"IF(Självskattning!C431=\"Mer omfattande förändringsarbete behövs\",Självskattning!A431,\"\")","v":""},{"$f":"IF(Självskattning!C431=\"Mer omfattande förändringsarbete behövs\",Självskattning!B431,\"\")","v":""},{"$f":"IF(Självskattning!C431=\"Mer omfattande förändringsarbete behövs\",IF(ISBLANK(Självskattning!D431),\"\",Självskattning!D431),\"\")","v":""}]
[null,{"$f":"IF(Självskattning!C432=\"Mer omfattande förändringsarbete behövs\",Självskattning!A432,\"\")","v":""},{"$f":"IF(Självskattning!C432=\"Mer omfattande förändringsarbete behövs\",Självskattning!B432,\"\")","v":""},{"$f":"IF(Självskattning!C432=\"Mer omfattande förändringsarbete behövs\",IF(ISBLANK(Självskattning!D432),\"\",Självskattning!D432),\"\")","v":""}]
[null,{"$f":"IF(Självskattning!C433=\"Mer omfattande förändringsarbete behövs\",Självskattning!A433,\"\")","v":""},{"$f":"IF(Självskattning!C433=\"Mer omfattande förändringsarbete behövs\",Självskattning!B433,\"\")","v":""},{"$f":"IF(Självskattning!C433=\"Mer omfattande förändringsarbete behövs\",IF(ISBLANK(Självskattning!D433),\"\",Självskattning!D433),\"\")","v":""}]
[null,{"$f":"IF(Självskattning!C434=\"Mer omfattande förändringsarbete behövs\",Självskattning!A434,\"\")","v":""},{"$f":"IF(Självskattning!C434=\"Mer omfattande förändringsarbete behövs\",Självskattning!B434,\"\")","v":""},{"$f":"IF(Självskattning!C434=\"Mer omfattande förändringsarbete behövs\",IF(ISBLANK(Självskattning!D434),\"\",Självskattning!D434),\"\")","v":""}]
[null,{"$f":"IF(Självskattning!C435=\"Mer omfattande förändringsarbete behövs\",Självskattning!A435,\"\")","v":""},{"$f":"IF(Självskattning!C435=\"Mer omfattande förändringsarbete behövs\",Självskattning!B435,\"\")","v":""},{"$f":"IF(Självskattning!C435=\"Mer omfattande förändringsarbete behövs\",IF(ISBLANK(Självskattning!D435),\"\",Självskattning!D435),\"\")","v":""}]
[null,{"$f":"IF(Självskattning!C436=\"Mer omfattande förändringsarbete behövs\",Självskattning!A436,\"\")","v":""},{"$f":"IF(Självskattning!C436=\"Mer omfattande förändringsarbete behövs\",Självskattning!B436,\"\")","v":""},{"$f":"IF(Självskattning!C436=\"Mer omfattande förändringsarbete behövs\",IF(ISBLANK(Självskattning!D436),\"\",Självskattning!D436),\"\")","v":""}]
[null,{"$f":"IF(Självskattning!C437=\"Mer omfattande förändringsarbete behövs\",Självskattning!A437,\"\")","v":""},{"$f":"IF(Självskattning!C437=\"Mer omfattande förändringsarbete behövs\",Självskattning!B437,\"\")","v":""},{"$f":"IF(Självskattning!C437=\"Mer omfattande förändringsarbete behövs\",IF(ISBLANK(Självskattning!D437),\"\",Självskattning!D437),\"\")","v":""}]
[null,{"$f":"IF(Självskattning!C438=\"Mer omfattande förändringsarbete behövs\",Självskattning!A438,\"\")","v":""},{"$f":"IF(Självskattning!C438=\"Mer omfattande förändringsarbete behövs\",Självskattning!B438,\"\")","v":""},{"$f":"IF(Självskattning!C438=\"Mer omfattande förändringsarbete behövs\",IF(ISBLANK(Självskattning!D438),\"\",Självskattning!D438),\"\")","v":""}]
[null,{"$f":"IF(Självskattning!C439=\"Mer omfattande förändringsarbete behövs\",Självskattning!A439,\"\")","v":""},{"$f":"IF(Självskattning!C439=\"Mer omfattande förändringsarbete behövs\",Självskattning!B439,\"\")","v":""},{"$f":"IF(Självskattning!C439=\"Mer omfattande förändringsarbete behövs\",IF(ISBLANK(Självskattning!D439),\"\",Självskattning!D439),\"\")","v":""}]
[null,{"$f":"IF(Självskattning!C440=\"Mer omfattande förändringsarbete behövs\",Självskattning!A440,\"\")","v":""},{"$f":"IF(Självskattning!C440=\"Mer omfattande förändringsarbete behövs\",Självskattning!B440,\"\")","v":""},{"$f":"IF(Självskattning!C440=\"Mer omfattande förändringsarbete behövs\",IF(ISBLANK(Självskattning!D440),\"\",Självskattning!D440),\"\")","v":""}]
[null,{"$f":"IF(Självskattning!C441=\"Mer omfattande förändringsarbete behövs\",Självskattning!A441,\"\")","v":""},{"$f":"IF(Självskattning!C441=\"Mer omfattande förändringsarbete behövs\",Självskattning!B441,\"\")","v":""},{"$f":"IF(Självskattning!C441=\"Mer omfattande förändringsarbete behövs\",IF(ISBLANK(Självskattning!D441),\"\",Självskattning!D441),\"\")","v":""}]
[null,{"$f":"IF(Självskattning!C442=\"Mer omfattande förändringsarbete behövs\",Självskattning!A442,\"\")","v":""},{"$f":"IF(Självskattning!C442=\"Mer omfattande förändringsarbete behövs\",Självskattning!B442,\"\")","v":""},{"$f":"IF(Självskattning!C442=\"Mer omfattande förändringsarbete behövs\",IF(ISBLANK(Självskattning!D442),\"\",Självskattning!D442),\"\")","v":""}]
[null,{"$f":"IF(Självskattning!C443=\"Mer omfattande förändringsarbete behövs\",Självskattning!A443,\"\")","v":""},{"$f":"IF(Självskattning!C443=\"Mer omfattande förändringsarbete behövs\",Självskattning!B443,\"\")","v":""},{"$f":"IF(Självskattning!C443=\"Mer omfattande förändringsarbete behövs\",IF(ISBLANK(Självskattning!D443),\"\",Självskattning!D443),\"\")","v":""}]
[null,{"$f":"IF(Självskattning!C444=\"Mer omfattande förändringsarbete behövs\",Självskattning!A444,\"\")","v":""},{"$f":"IF(Självskattning!C444=\"Mer omfattande förändringsarbete behövs\",Självskattning!B444,\"\")","v":""},{"$f":"IF(Självskattning!C444=\"Mer omfattande förändringsarbete behövs\",IF(ISBLANK(Självskattning!D444),\"\",Självskattning!D444),\"\")","v":""}]
[null,{"$f":"IF(Självskattning!C445=\"Mer omfattande förändringsarbete behövs\",Självskattning!A445,\"\")","v":""},{"$f":"IF(Självskattning!C445=\"Mer omfattande förändringsarbete behövs\",Självskattning!B445,\"\")","v":""},{"$f":"IF(Självskattning!C445=\"Mer omfattande förändringsarbete behövs\",IF(ISBLANK(Självskattning!D445),\"\",Självskattning!D445),\"\")","v":""}]
[null,{"$f":"IF(Självskattning!C446=\"Mer omfattande förändringsarbete behövs\",Självskattning!A446,\"\")","v":""},{"$f":"IF(Självskattning!C446=\"Mer omfattande förändringsarbete behövs\",Självskattning!B446,\"\")","v":""},{"$f":"IF(Självskattning!C446=\"Mer omfattande förändringsarbete behövs\",IF(ISBLANK(Självskattning!D446),\"\",Självskattning!D446),\"\")","v":""}]
[null,{"$f":"IF(Självskattning!C447=\"Mer omfattande förändringsarbete behövs\",Självskattning!A447,\"\")","v":""},{"$f":"IF(Självskattning!C447=\"Mer omfattande förändringsarbete behövs\",Självskattning!B447,\"\")","v":""},{"$f":"IF(Självskattning!C447=\"Mer omfattande förändringsarbete behövs\",IF(ISBLANK(Självskattning!D447),\"\",Självskattning!D447),\"\")","v":""}]
[null,{"$f":"IF(Självskattning!C448=\"Mer omfattande förändringsarbete behövs\",Självskattning!A448,\"\")","v":""},{"$f":"IF(Självskattning!C448=\"Mer omfattande förändringsarbete behövs\",Självskattning!B448,\"\")","v":""},{"$f":"IF(Självskattning!C448=\"Mer omfattande förändringsarbete behövs\",IF(ISBLANK(Självskattning!D448),\"\",Självskattning!D448),\"\")","v":""}]
[null,{"$f":"IF(Självskattning!C449=\"Mer omfattande förändringsarbete behövs\",Självskattning!A449,\"\")","v":""},{"$f":"IF(Självskattning!C449=\"Mer omfattande förändringsarbete behövs\",Självskattning!B449,\"\")","v":""},{"$f":"IF(Självskattning!C449=\"Mer omfattande förändringsarbete behövs\",IF(ISBLANK(Självskattning!D449),\"\",Självskattning!D449),\"\")","v":""}]
[null,{"$f":"IF(Självskattning!C450=\"Mer omfattande förändringsarbete behövs\",Självskattning!A450,\"\")","v":""},{"$f":"IF(Självskattning!C450=\"Mer omfattande förändringsarbete behövs\",Självskattning!B450,\"\")","v":""},{"$f":"IF(Självskattning!C450=\"Mer omfattande förändringsarbete behövs\",IF(ISBLANK(Självskattning!D450),\"\",Självskattning!D450),\"\")","v":""}]
[null,{"$f":"IF(Självskattning!C451=\"Mer omfattande förändringsarbete behövs\",Självskattning!A451,\"\")","v":""},{"$f":"IF(Självskattning!C451=\"Mer omfattande förändringsarbete behövs\",Självskattning!B451,\"\")","v":""},{"$f":"IF(Självskattning!C451=\"Mer omfattande förändringsarbete behövs\",IF(ISBLANK(Självskattning!D451),\"\",Självskattning!D451),\"\")","v":""}]
[null,{"$f":"IF(Självskattning!C452=\"Mer omfattande förändringsarbete behövs\",Självskattning!A452,\"\")","v":""},{"$f":"IF(Självskattning!C452=\"Mer omfattande förändringsarbete behövs\",Självskattning!B452,\"\")","v":""},{"$f":"IF(Självskattning!C452=\"Mer omfattande förändringsarbete behövs\",IF(ISBLANK(Självskattning!D452),\"\",Självskattning!D452),\"\")","v":""}]
[null,{"$f":"IF(Självskattning!C453=\"Mer omfattande förändringsarbete behövs\",Självskattning!A453,\"\")","v":""},{"$f":"IF(Självskattning!C453=\"Mer omfattande förändringsarbete behövs\",Självskattning!B453,\"\")","v":""},{"$f":"IF(Självskattning!C453=\"Mer omfattande förändringsarbete behövs\",IF(ISBLANK(Självskattning!D453),\"\",Självskattning!D453),\"\")","v":""}]
[null,{"$f":"IF(Självskattning!C454=\"Mer omfattande förändringsarbete behövs\",Självskattning!A454,\"\")","v":""},{"$f":"IF(Självskattning!C454=\"Mer omfattande förändringsarbete behövs\",Självskattning!B454,\"\")","v":""},{"$f":"IF(Självskattning!C454=\"Mer omfattande förändringsarbete behövs\",IF(ISBLANK(Självskattning!D454),\"\",Självskattning!D454),\"\")","v":""}]
[null,{"$f":"IF(Självskattning!C455=\"Mer omfattande förändringsarbete behövs\",Självskattning!A455,\"\")","v":""},{"$f":"IF(Självskattning!C455=\"Mer omfattande förändringsarbete behövs\",Självskattning!B455,\"\")","v":""},{"$f":"IF(Självskattning!C455=\"Mer omfattande förändringsarbete behövs\",IF(ISBLANK(Självskattning!D455),\"\",Självskattning!D455),\"\")","v":""}]
[null,{"$f":"IF(Självskattning!C456=\"Mer omfattande förändringsarbete behövs\",Självskattning!A456,\"\")","v":""},{"$f":"IF(Självskattning!C456=\"Mer omfattande förändringsarbete behövs\",Självskattning!B456,\"\")","v":""},{"$f":"IF(Självskattning!C456=\"Mer omfattande förändringsarbete behövs\",IF(ISBLANK(Självskattning!D456),\"\",Självskattning!D456),\"\")","v":""}]
[null,{"$f":"IF(Självskattning!C457=\"Mer omfattande förändringsarbete behövs\",Självskattning!A457,\"\")","v":""},{"$f":"IF(Självskattning!C457=\"Mer omfattande förändringsarbete behövs\",Självskattning!B457,\"\")","v":""},{"$f":"IF(Självskattning!C457=\"Mer omfattande förändringsarbete behövs\",IF(ISBLANK(Självskattning!D457),\"\",Självskattning!D457),\"\")","v":""}]
[null,{"$f":"IF(Självskattning!C458=\"Mer omfattande förändringsarbete behövs\",Självskattning!A458,\"\")","v":""},{"$f":"IF(Självskattning!C458=\"Mer omfattande förändringsarbete behövs\",Självskattning!B458,\"\")","v":""},{"$f":"IF(Självskattning!C458=\"Mer omfattande förändringsarbete behövs\",IF(ISBLANK(Självskattning!D458),\"\",Självskattning!D458),\"\")","v":""}]
[null,{"$f":"IF(Självskattning!C459=\"Mer omfattande förändringsarbete behövs\",Självskattning!A459,\"\")","v":""},{"$f":"IF(Självskattning!C459=\"Mer omfattande förändringsarbete behövs\",Självskattning!B459,\"\")","v":""},{"$f":"IF(Självskattning!C459=\"Mer omfattande förändringsarbete behövs\",IF(ISBLANK(Självskattning!D459),\"\",Självskattning!D459),\"\")","v":""}]
[null,{"$f":"IF(Självskattning!C460=\"Mer omfattande förändringsarbete behövs\",Självskattning!A460,\"\")","v":""},{"$f":"IF(Självskattning!C460=\"Mer omfattande förändringsarbete behövs\",Självskattning!B460,\"\")","v":""},{"$f":"IF(Självskattning!C460=\"Mer omfattande förändringsarbete behövs\",IF(ISBLANK(Självskattning!D460),\"\",Självskattning!D460),\"\")","v":""}]
[null,{"$f":"IF(Självskattning!C461=\"Mer omfattande förändringsarbete behövs\",Självskattning!A461,\"\")","v":""},{"$f":"IF(Självskattning!C461=\"Mer omfattande förändringsarbete behövs\",Självskattning!B461,\"\")","v":""},{"$f":"IF(Självskattning!C461=\"Mer omfattande förändringsarbete behövs\",IF(ISBLANK(Självskattning!D461),\"\",Självskattning!D461),\"\")","v":""}]
[null,{"$f":"IF(Självskattning!C462=\"Mer omfattande förändringsarbete behövs\",Självskattning!A462,\"\")","v":""},{"$f":"IF(Självskattning!C462=\"Mer omfattande förändringsarbete behövs\",Självskattning!B462,\"\")","v":""},{"$f":"IF(Självskattning!C462=\"Mer omfattande förändringsarbete behövs\",IF(ISBLANK(Självskattning!D462),\"\",Självskattning!D462),\"\")","v":""}]
[null,{"$f":"IF(Självskattning!C463=\"Mer omfattande förändringsarbete behövs\",Självskattning!A463,\"\")","v":""},{"$f":"IF(Självskattning!C463=\"Mer omfattande förändringsarbete behövs\",Självskattning!B463,\"\")","v":""},{"$f":"IF(Självskattning!C463=\"Mer omfattande förändringsarbete behövs\",IF(ISBLANK(Självskattning!D463),\"\",Självskattning!D463),\"\")","v":""}]
[null,{"$f":"IF(Självskattning!C464=\"Mer omfattande förändringsarbete behövs\",Självskattning!A464,\"\")","v":""},{"$f":"IF(Självskattning!C464=\"Mer omfattande förändringsarbete behövs\",Självskattning!B464,\"\")","v":""},{"$f":"IF(Självskattning!C464=\"Mer omfattande förändringsarbete behövs\",IF(ISBLANK(Självskattning!D464),\"\",Självskattning!D464),\"\")","v":""}]
[null,{"$f":"IF(Självskattning!C465=\"Mer omfattande förändringsarbete behövs\",Självskattning!A465,\"\")","v":""},{"$f":"IF(Självskattning!C465=\"Mer omfattande förändringsarbete behövs\",Självskattning!B465,\"\")","v":""},{"$f":"IF(Självskattning!C465=\"Mer omfattande förändringsarbete behövs\",IF(ISBLANK(Självskattning!D465),\"\",Självskattning!D465),\"\")","v":""}]
[null,{"$f":"IF(Självskattning!C466=\"Mer omfattande förändringsarbete behövs\",Självskattning!A466,\"\")","v":""},{"$f":"IF(Självskattning!C466=\"Mer omfattande förändringsarbete behövs\",Självskattning!B466,\"\")","v":""},{"$f":"IF(Självskattning!C466=\"Mer omfattande förändringsarbete behövs\",IF(ISBLANK(Självskattning!D466),\"\",Självskattning!D466),\"\")","v":""}]
[null,{"$f":"IF(Självskattning!C467=\"Mer omfattande förändringsarbete behövs\",Självskattning!A467,\"\")","v":""},{"$f":"IF(Självskattning!C467=\"Mer omfattande förändringsarbete behövs\",Självskattning!B467,\"\")","v":""},{"$f":"IF(Självskattning!C467=\"Mer omfattande förändringsarbete behövs\",IF(ISBLANK(Självskattning!D467),\"\",Självskattning!D467),\"\")","v":""}]
[null,{"$f":"IF(Självskattning!C468=\"Mer omfattande förändringsarbete behövs\",Självskattning!A468,\"\")","v":""},{"$f":"IF(Självskattning!C468=\"Mer omfattande förändringsarbete behövs\",Självskattning!B468,\"\")","v":""},{"$f":"IF(Självskattning!C468=\"Mer omfattande förändringsarbete behövs\",IF(ISBLANK(Självskattning!D468),\"\",Självskattning!D468),\"\")","v":""}]
[null,{"$f":"IF(Självskattning!C469=\"Mer omfattande förändringsarbete behövs\",Självskattning!A469,\"\")","v":""},{"$f":"IF(Självskattning!C469=\"Mer omfattande förändringsarbete behövs\",Självskattning!B469,\"\")","v":""},{"$f":"IF(Självskattning!C469=\"Mer omfattande förändringsarbete behövs\",IF(ISBLANK(Självskattning!D469),\"\",Självskattning!D469),\"\")","v":""}]
[null,{"$f":"IF(Självskattning!C470=\"Mer omfattande förändringsarbete behövs\",Självskattning!A470,\"\")","v":""},{"$f":"IF(Självskattning!C470=\"Mer omfattande förändringsarbete behövs\",Självskattning!B470,\"\")","v":""},{"$f":"IF(Självskattning!C470=\"Mer omfattande förändringsarbete behövs\",IF(ISBLANK(Självskattning!D470),\"\",Självskattning!D470),\"\")","v":""}]
[null,{"$f":"IF(Självskattning!C471=\"Mer omfattande förändringsarbete behövs\",Självskattning!A471,\"\")","v":""},{"$f":"IF(Självskattning!C471=\"Mer omfattande förändringsarbete behövs\",Självskattning!B471,\"\")","v":""},{"$f":"IF(Självskattning!C471=\"Mer omfattande förändringsarbete behövs\",IF(ISBLANK(Självskattning!D471),\"\",Självskattning!D471),\"\")","v":""}]
[null,{"$f":"IF(Självskattning!C472=\"Mer omfattande förändringsarbete behövs\",Självskattning!A472,\"\")","v":""},{"$f":"IF(Självskattning!C472=\"Mer omfattande förändringsarbete behövs\",Självskattning!B472,\"\")","v":""},{"$f":"IF(Självskattning!C472=\"Mer omfattande förändringsarbete behövs\",IF(ISBLANK(Självskattning!D472),\"\",Självskattning!D472),\"\")","v":""}]
[null,{"$f":"IF(Självskattning!C473=\"Mer omfattande förändringsarbete behövs\",Självskattning!A473,\"\")","v":""},{"$f":"IF(Självskattning!C473=\"Mer omfattande förändringsarbete behövs\",Självskattning!B473,\"\")","v":""},{"$f":"IF(Självskattning!C473=\"Mer omfattande förändringsarbete behövs\",IF(ISBLANK(Självskattning!D473),\"\",Självskattning!D473),\"\")","v":""}]
[null,{"$f":"IF(Självskattning!C474=\"Mer omfattande förändringsarbete behövs\",Självskattning!A474,\"\")","v":""},{"$f":"IF(Självskattning!C474=\"Mer omfattande förändringsarbete behövs\",Självskattning!B474,\"\")","v":""},{"$f":"IF(Självskattning!C474=\"Mer omfattande förändringsarbete behövs\",IF(ISBLANK(Självskattning!D474),\"\",Självskattning!D474),\"\")","v":""}]
[null,{"$f":"IF(Självskattning!C475=\"Mer omfattande förändringsarbete behövs\",Självskattning!A475,\"\")","v":""},{"$f":"IF(Självskattning!C475=\"Mer omfattande förändringsarbete behövs\",Självskattning!B475,\"\")","v":""},{"$f":"IF(Självskattning!C475=\"Mer omfattande förändringsarbete behövs\",IF(ISBLANK(Självskattning!D475),\"\",Självskattning!D475),\"\")","v":""}]
[null,{"$f":"IF(Självskattning!C476=\"Mer omfattande förändringsarbete behövs\",Självskattning!A476,\"\")","v":""},{"$f":"IF(Självskattning!C476=\"Mer omfattande förändringsarbete behövs\",Självskattning!B476,\"\")","v":""},{"$f":"IF(Självskattning!C476=\"Mer omfattande förändringsarbete behövs\",IF(ISBLANK(Självskattning!D476),\"\",Självskattning!D476),\"\")","v":""}]
[null,{"$f":"IF(Självskattning!C477=\"Mer omfattande förändringsarbete behövs\",Självskattning!A477,\"\")","v":""},{"$f":"IF(Självskattning!C477=\"Mer omfattande förändringsarbete behövs\",Självskattning!B477,\"\")","v":""},{"$f":"IF(Självskattning!C477=\"Mer omfattande förändringsarbete behövs\",IF(ISBLANK(Självskattning!D477),\"\",Självskattning!D477),\"\")","v":""}]
[null,{"$f":"IF(Självskattning!C478=\"Mer omfattande förändringsarbete behövs\",Självskattning!A478,\"\")","v":""},{"$f":"IF(Självskattning!C478=\"Mer omfattande förändringsarbete behövs\",Självskattning!B478,\"\")","v":""},{"$f":"IF(Självskattning!C478=\"Mer omfattande förändringsarbete behövs\",IF(ISBLANK(Självskattning!D478),\"\",Självskattning!D478),\"\")","v":""}]
[null,{"$f":"IF(Självskattning!C479=\"Mer omfattande förändringsarbete behövs\",Självskattning!A479,\"\")","v":""},{"$f":"IF(Självskattning!C479=\"Mer omfattande förändringsarbete behövs\",Självskattning!B479,\"\")","v":""},{"$f":"IF(Självskattning!C479=\"Mer omfattande förändringsarbete behövs\",IF(ISBLANK(Självskattning!D479),\"\",Självskattning!D479),\"\")","v":""}]
[null,{"$f":"IF(Självskattning!C480=\"Mer omfattande förändringsarbete behövs\",Självskattning!A480,\"\")","v":""},{"$f":"IF(Självskattning!C480=\"Mer omfattande förändringsarbete behövs\",Självskattning!B480,\"\")","v":""},{"$f":"IF(Självskattning!C480=\"Mer omfattande förändringsarbete behövs\",IF(ISBLANK(Självskattning!D480),\"\",Självskattning!D480),\"\")","v":""}]
[null,{"$f":"IF(Självskattning!C481=\"Mer omfattande förändringsarbete behövs\",Självskattning!A481,\"\")","v":""},{"$f":"IF(Självskattning!C481=\"Mer omfattande förändringsarbete behövs\",Självskattning!B481,\"\")","v":""},{"$f":"IF(Självskattning!C481=\"Mer omfattande förändringsarbete behövs\",IF(ISBLANK(Självskattning!D481),\"\",Självskattning!D481),\"\")","v":""}]
[null,{"$f":"IF(Självskattning!C482=\"Mer omfattande förändringsarbete behövs\",Självskattning!A482,\"\")","v":""},{"$f":"IF(Självskattning!C482=\"Mer omfattande förändringsarbete behövs\",Självskattning!B482,\"\")","v":""},{"$f":"IF(Självskattning!C482=\"Mer omfattande förändringsarbete behövs\",IF(ISBLANK(Självskattning!D482),\"\",Självskattning!D482),\"\")","v":""}]
[null,{"$f":"IF(Självskattning!C483=\"Mer omfattande förändringsarbete behövs\",Självskattning!A483,\"\")","v":""},{"$f":"IF(Självskattning!C483=\"Mer omfattande förändringsarbete behövs\",Självskattning!B483,\"\")","v":""},{"$f":"IF(Självskattning!C483=\"Mer omfattande förändringsarbete behövs\",IF(ISBLANK(Självskattning!D483),\"\",Självskattning!D483),\"\")","v":""}]
[null,{"$f":"IF(Självskattning!C484=\"Mer omfattande förändringsarbete behövs\",Självskattning!A484,\"\")","v":""},{"$f":"IF(Självskattning!C484=\"Mer omfattande förändringsarbete behövs\",Självskattning!B484,\"\")","v":""},{"$f":"IF(Självskattning!C484=\"Mer omfattande förändringsarbete behövs\",IF(ISBLANK(Självskattning!D484),\"\",Självskattning!D484),\"\")","v":""}]
[null,{"$f":"IF(Självskattning!C485=\"Mer omfattande förändringsarbete behövs\",Självskattning!A485,\"\")","v":""},{"$f":"IF(Självskattning!C485=\"Mer omfattande förändringsarbete behövs\",Självskattning!B485,\"\")","v":""},{"$f":"IF(Självskattning!C485=\"Mer omfattande förändringsarbete behövs\",IF(ISBLANK(Självskattning!D485),\"\",Självskattning!D485),\"\")","v":""}]
[null,{"$f":"IF(Självskattning!C486=\"Mer omfattande förändringsarbete behövs\",Självskattning!A486,\"\")","v":""},{"$f":"IF(Självskattning!C486=\"Mer omfattande förändringsarbete behövs\",Självskattning!B486,\"\")","v":""},{"$f":"IF(Självskattning!C486=\"Mer omfattande förändringsarbete behövs\",IF(ISBLANK(Självskattning!D486),\"\",Självskattning!D486),\"\")","v":""}]
[null,{"$f":"IF(Självskattning!C487=\"Mer omfattande förändringsarbete behövs\",Självskattning!A487,\"\")","v":""},{"$f":"IF(Självskattning!C487=\"Mer omfattande förändringsarbete behövs\",Självskattning!B487,\"\")","v":""},{"$f":"IF(Självskattning!C487=\"Mer omfattande förändringsarbete behövs\",IF(ISBLANK(Självskattning!D487),\"\",Självskattning!D487),\"\")","v":""}]
[null,{"$f":"IF(Självskattning!C488=\"Mer omfattande förändringsarbete behövs\",Självskattning!A488,\"\")","v":""},{"$f":"IF(Självskattning!C488=\"Mer omfattande förändringsarbete behövs\",Självskattning!B488,\"\")","v":""},{"$f":"IF(Självskattning!C488=\"Mer omfattande förändringsarbete behövs\",IF(ISBLANK(Självskattning!D488),\"\",Självskattning!D488),\"\")","v":""}]
[null,{"$f":"IF(Självskattning!C489=\"Mer omfattande förändringsarbete behövs\",Självskattning!A489,\"\")","v":""},{"$f":"IF(Självskattning!C489=\"Mer omfattande förändringsarbete behövs\",Självskattning!B489,\"\")","v":""},{"$f":"IF(Självskattning!C489=\"Mer omfattande förändringsarbete behövs\",IF(ISBLANK(Självskattning!D489),\"\",Självskattning!D489),\"\")","v":""}]
[null,{"$f":"IF(Självskattning!C490=\"Mer omfattande förändringsarbete behövs\",Självskattning!A490,\"\")","v":""},{"$f":"IF(Självskattning!C490=\"Mer omfattande förändringsarbete behövs\",Självskattning!B490,\"\")","v":""},{"$f":"IF(Självskattning!C490=\"Mer omfattande förändringsarbete behövs\",IF(ISBLANK(Självskattning!D490),\"\",Självskattning!D490),\"\")","v":""}]
[null,{"$f":"IF(Självskattning!C491=\"Mer omfattande förändringsarbete behövs\",Självskattning!A491,\"\")","v":""},{"$f":"IF(Självskattning!C491=\"Mer omfattande förändringsarbete behövs\",Självskattning!B491,\"\")","v":""},{"$f":"IF(Självskattning!C491=\"Mer omfattande förändringsarbete behövs\",IF(ISBLANK(Självskattning!D491),\"\",Självskattning!D491),\"\")","v":""}]
[null,{"$f":"IF(Självskattning!C492=\"Mer omfattande förändringsarbete behövs\",Självskattning!A492,\"\")","v":""},{"$f":"IF(Självskattning!C492=\"Mer omfattande förändringsarbete behövs\",Självskattning!B492,\"\")","v":""},{"$f":"IF(Självskattning!C492=\"Mer omfattande förändringsarbete behövs\",IF(ISBLANK(Självskattning!D492),\"\",Självskattning!D492),\"\")","v":""}]
[null,{"$f":"IF(Självskattning!C493=\"Mer omfattande förändringsarbete behövs\",Självskattning!A493,\"\")","v":""},{"$f":"IF(Självskattning!C493=\"Mer omfattande förändringsarbete behövs\",Självskattning!B493,\"\")","v":""},{"$f":"IF(Självskattning!C493=\"Mer omfattande förändringsarbete behövs\",IF(ISBLANK(Självskattning!D493),\"\",Självskattning!D493),\"\")","v":""}]
[null,{"$f":"IF(Självskattning!C494=\"Mer omfattande förändringsarbete behövs\",Självskattning!A494,\"\")","v":""},{"$f":"IF(Självskattning!C494=\"Mer omfattande förändringsarbete behövs\",Självskattning!B494,\"\")","v":""},{"$f":"IF(Självskattning!C494=\"Mer omfattande förändringsarbete behövs\",IF(ISBLANK(Självskattning!D494),\"\",Självskattning!D494),\"\")","v":""}]
[null,{"$f":"IF(Självskattning!C495=\"Mer omfattande förändringsarbete behövs\",Självskattning!A495,\"\")","v":""},{"$f":"IF(Självskattning!C495=\"Mer omfattande förändringsarbete behövs\",Självskattning!B495,\"\")","v":""},{"$f":"IF(Självskattning!C495=\"Mer omfattande förändringsarbete behövs\",IF(ISBLANK(Självskattning!D495),\"\",Självskattning!D495),\"\")","v":""}]
[null,{"$f":"IF(Självskattning!C496=\"Mer omfattande förändringsarbete behövs\",Självskattning!A496,\"\")","v":""},{"$f":"IF(Självskattning!C496=\"Mer omfattande förändringsarbete behövs\",Självskattning!B496,\"\")","v":""},{"$f":"IF(Självskattning!C496=\"Mer omfattande förändringsarbete behövs\",IF(ISBLANK(Självskattning!D496),\"\",Självskattning!D496),\"\")","v":""}]
[null,{"$f":"IF(Självskattning!C497=\"Mer omfattande förändringsarbete behövs\",Självskattning!A497,\"\")","v":""},{"$f":"IF(Självskattning!C497=\"Mer omfattande förändringsarbete behövs\",Självskattning!B497,\"\")","v":""},{"$f":"IF(Självskattning!C497=\"Mer omfattande förändringsarbete behövs\",IF(ISBLANK(Självskattning!D497),\"\",Självskattning!D497),\"\")","v":""}]
[null,{"$f":"IF(Självskattning!C498=\"Mer omfattande förändringsarbete behövs\",Självskattning!A498,\"\")","v":""},{"$f":"IF(Självskattning!C498=\"Mer omfattande förändringsarbete behövs\",Självskattning!B498,\"\")","v":""},{"$f":"IF(Självskattning!C498=\"Mer omfattande förändringsarbete behövs\",IF(ISBLANK(Självskattning!D498),\"\",Självskattning!D498),\"\")","v":""}]
[null,{"$f":"IF(Självskattning!C499=\"Mer omfattande förändringsarbete behövs\",Självskattning!A499,\"\")","v":""},{"$f":"IF(Självskattning!C499=\"Mer omfattande förändringsarbete behövs\",Självskattning!B499,\"\")","v":""},{"$f":"IF(Självskattning!C499=\"Mer omfattande förändringsarbete behövs\",IF(ISBLANK(Självskattning!D499),\"\",Självskattning!D499),\"\")","v":""}]
[null,{"$f":"IF(Självskattning!C500=\"Mer omfattande förändringsarbete behövs\",Självskattning!A500,\"\")","v":""},{"$f":"IF(Självskattning!C500=\"Mer omfattande förändringsarbete behövs\",Självskattning!B500,\"\")","v":""},{"$f":"IF(Självskattning!C500=\"Mer omfattande förändringsarbete behövs\",IF(ISBLANK(Självskattning!D500),\"\",Självskattning!D500),\"\")","v":""}]
[null,{"$f":"IF(Självskattning!C501=\"Mer omfattande förändringsarbete behövs\",Självskattning!A501,\"\")","v":""},{"$f":"IF(Självskattning!C501=\"Mer omfattande förändringsarbete behövs\",Självskattning!B501,\"\")","v":""},{"$f":"IF(Självskattning!C501=\"Mer omfattande förändringsarbete behövs\",IF(ISBLANK(Självskattning!D501),\"\",Självskattning!D501),\"\")","v":""}]
[null,{"$f":"IF(Självskattning!C502=\"Mer omfattande förändringsarbete behövs\",Självskattning!A502,\"\")","v":""},{"$f":"IF(Självskattning!C502=\"Mer omfattande förändringsarbete behövs\",Självskattning!B502,\"\")","v":""},{"$f":"IF(Självskattning!C502=\"Mer omfattande förändringsarbete behövs\",IF(ISBLANK(Självskattning!D502),\"\",Självskattning!D502),\"\")","v":""}]
[null,{"$f":"IF(Självskattning!C503=\"Mer omfattande förändringsarbete behövs\",Självskattning!A503,\"\")","v":""},{"$f":"IF(Självskattning!C503=\"Mer omfattande förändringsarbete behövs\",Självskattning!B503,\"\")","v":""},{"$f":"IF(Självskattning!C503=\"Mer omfattande förändringsarbete behövs\",IF(ISBLANK(Självskattning!D503),\"\",Självskattning!D503),\"\")","v":""}]
[null,{"$f":"IF(Självskattning!C504=\"Mer omfattande förändringsarbete behövs\",Självskattning!A504,\"\")","v":""},{"$f":"IF(Självskattning!C504=\"Mer omfattande förändringsarbete behövs\",Självskattning!B504,\"\")","v":""},{"$f":"IF(Självskattning!C504=\"Mer omfattande förändringsarbete behövs\",IF(ISBLANK(Självskattning!D504),\"\",Självskattning!D504),\"\")","v":""}]
[null,{"$f":"IF(Självskattning!C505=\"Mer omfattande förändringsarbete behövs\",Självskattning!A505,\"\")","v":""},{"$f":"IF(Självskattning!C505=\"Mer omfattande förändringsarbete behövs\",Självskattning!B505,\"\")","v":""},{"$f":"IF(Självskattning!C505=\"Mer omfattande förändringsarbete behövs\",IF(ISBLANK(Självskattning!D505),\"\",Självskattning!D505),\"\")","v":""}]
[null,{"$f":"IF(Självskattning!C506=\"Mer omfattande förändringsarbete behövs\",Självskattning!A506,\"\")","v":""},{"$f":"IF(Självskattning!C506=\"Mer omfattande förändringsarbete behövs\",Självskattning!B506,\"\")","v":""},{"$f":"IF(Självskattning!C506=\"Mer omfattande förändringsarbete behövs\",IF(ISBLANK(Självskattning!D506),\"\",Självskattning!D506),\"\")","v":""}]
[null,{"$f":"IF(Självskattning!C507=\"Mer omfattande förändringsarbete behövs\",Självskattning!A507,\"\")","v":""},{"$f":"IF(Självskattning!C507=\"Mer omfattande förändringsarbete behövs\",Självskattning!B507,\"\")","v":""},{"$f":"IF(Självskattning!C507=\"Mer omfattande förändringsarbete behövs\",IF(ISBLANK(Självskattning!D507),\"\",Självskattning!D507),\"\")","v":""}]
[null,{"$f":"IF(Självskattning!C508=\"Mer omfattande förändringsarbete behövs\",Självskattning!A508,\"\")","v":""},{"$f":"IF(Självskattning!C508=\"Mer omfattande förändringsarbete behövs\",Självskattning!B508,\"\")","v":""},{"$f":"IF(Självskattning!C508=\"Mer omfattande förändringsarbete behövs\",IF(ISBLANK(Självskattning!D508),\"\",Självskattning!D508),\"\")","v":""}]
[null,{"$f":"IF(Självskattning!C509=\"Mer omfattande förändringsarbete behövs\",Självskattning!A509,\"\")","v":""},{"$f":"IF(Självskattning!C509=\"Mer omfattande förändringsarbete behövs\",Självskattning!B509,\"\")","v":""},{"$f":"IF(Självskattning!C509=\"Mer omfattande förändringsarbete behövs\",IF(ISBLANK(Självskattning!D509),\"\",Självskattning!D509),\"\")","v":""}]
[null,{"$f":"IF(Självskattning!C510=\"Mer omfattande förändringsarbete behövs\",Självskattning!A510,\"\")","v":""},{"$f":"IF(Självskattning!C510=\"Mer omfattande förändringsarbete behövs\",Självskattning!B510,\"\")","v":""},{"$f":"IF(Självskattning!C510=\"Mer omfattande förändringsarbete behövs\",IF(ISBLANK(Självskattning!D510),\"\",Självskattning!D510),\"\")","v":""}]
[null,{"$f":"IF(Självskattning!C511=\"Mer omfattande förändringsarbete behövs\",Självskattning!A511,\"\")","v":""},{"$f":"IF(Självskattning!C511=\"Mer omfattande förändringsarbete behövs\",Självskattning!B511,\"\")","v":""},{"$f":"IF(Självskattning!C511=\"Mer omfattande förändringsarbete behövs\",IF(ISBLANK(Självskattning!D511),\"\",Självskattning!D511),\"\")","v":""}]
[null,{"$f":"IF(Självskattning!C512=\"Mer omfattande förändringsarbete behövs\",Självskattning!A512,\"\")","v":""},{"$f":"IF(Självskattning!C512=\"Mer omfattande förändringsarbete behövs\",Självskattning!B512,\"\")","v":""},{"$f":"IF(Självskattning!C512=\"Mer omfattande förändringsarbete behövs\",IF(ISBLANK(Självskattning!D512),\"\",Självskattning!D512),\"\")","v":""}]
[null,{"$f":"IF(Självskattning!C513=\"Mer omfattande förändringsarbete behövs\",Självskattning!A513,\"\")","v":""},{"$f":"IF(Självskattning!C513=\"Mer omfattande förändringsarbete behövs\",Självskattning!B513,\"\")","v":""},{"$f":"IF(Självskattning!C513=\"Mer omfattande förändringsarbete behövs\",IF(ISBLANK(Självskattning!D513),\"\",Självskattning!D513),\"\")","v":""}]
[null,{"$f":"IF(Självskattning!C514=\"Mer omfattande förändringsarbete behövs\",Självskattning!A514,\"\")","v":""},{"$f":"IF(Självskattning!C514=\"Mer omfattande förändringsarbete behövs\",Självskattning!B514,\"\")","v":""},{"$f":"IF(Självskattning!C514=\"Mer omfattande förändringsarbete behövs\",IF(ISBLANK(Självskattning!D514),\"\",Självskattning!D514),\"\")","v":""}]
[null,{"$f":"IF(Självskattning!C515=\"Mer omfattande förändringsarbete behövs\",Självskattning!A515,\"\")","v":""},{"$f":"IF(Självskattning!C515=\"Mer omfattande förändringsarbete behövs\",Självskattning!B515,\"\")","v":""},{"$f":"IF(Självskattning!C515=\"Mer omfattande förändringsarbete behövs\",IF(ISBLANK(Självskattning!D515),\"\",Självskattning!D515),\"\")","v":""}]
[null,{"$f":"IF(Självskattning!C516=\"Mer omfattande förändringsarbete behövs\",Självskattning!A516,\"\")","v":""},{"$f":"IF(Självskattning!C516=\"Mer omfattande förändringsarbete behövs\",Självskattning!B516,\"\")","v":""},{"$f":"IF(Självskattning!C516=\"Mer omfattande förändringsarbete behövs\",IF(ISBLANK(Självskattning!D516),\"\",Självskattning!D516),\"\")","v":""}]
[null,{"$f":"IF(Självskattning!C517=\"Mer omfattande förändringsarbete behövs\",Självskattning!A517,\"\")","v":""},{"$f":"IF(Självskattning!C517=\"Mer omfattande förändringsarbete behövs\",Självskattning!B517,\"\")","v":""},{"$f":"IF(Självskattning!C517=\"Mer omfattande förändringsarbete behövs\",IF(ISBLANK(Självskattning!D517),\"\",Självskattning!D517),\"\")","v":""}]
[null,{"$f":"IF(Självskattning!C518=\"Mer omfattande förändringsarbete behövs\",Självskattning!A518,\"\")","v":""},{"$f":"IF(Självskattning!C518=\"Mer omfattande förändringsarbete behövs\",Självskattning!B518,\"\")","v":""},{"$f":"IF(Självskattning!C518=\"Mer omfattande förändringsarbete behövs\",IF(ISBLANK(Självskattning!D518),\"\",Självskattning!D518),\"\")","v":""}]
[null,{"$f":"IF(Självskattning!C519=\"Mer omfattande förändringsarbete behövs\",Självskattning!A519,\"\")","v":""},{"$f":"IF(Självskattning!C519=\"Mer omfattande förändringsarbete behövs\",Självskattning!B519,\"\")","v":""},{"$f":"IF(Självskattning!C519=\"Mer omfattande förändringsarbete behövs\",IF(ISBLANK(Självskattning!D519),\"\",Självskattning!D519),\"\")","v":""}]
[null,{"$f":"IF(Självskattning!C520=\"Mer omfattande förändringsarbete behövs\",Självskattning!A520,\"\")","v":""},{"$f":"IF(Självskattning!C520=\"Mer omfattande förändringsarbete behövs\",Självskattning!B520,\"\")","v":""},{"$f":"IF(Självskattning!C520=\"Mer omfattande förändringsarbete behövs\",IF(ISBLANK(Självskattning!D520),\"\",Självskattning!D520),\"\")","v":""}]
[null,{"$f":"IF(Självskattning!C521=\"Mer omfattande förändringsarbete behövs\",Självskattning!A521,\"\")","v":""},{"$f":"IF(Självskattning!C521=\"Mer omfattande förändringsarbete behövs\",Självskattning!B521,\"\")","v":""},{"$f":"IF(Självskattning!C521=\"Mer omfattande förändringsarbete behövs\",IF(ISBLANK(Självskattning!D521),\"\",Självskattning!D521),\"\")","v":""}]
[null,{"$f":"IF(Självskattning!C522=\"Mer omfattande förändringsarbete behövs\",Självskattning!A522,\"\")","v":""},{"$f":"IF(Självskattning!C522=\"Mer omfattande förändringsarbete behövs\",Självskattning!B522,\"\")","v":""},{"$f":"IF(Självskattning!C522=\"Mer omfattande förändringsarbete behövs\",IF(ISBLANK(Självskattning!D522),\"\",Självskattning!D522),\"\")","v":""}]
[null,{"$f":"IF(Självskattning!C523=\"Mer omfattande förändringsarbete behövs\",Självskattning!A523,\"\")","v":""},{"$f":"IF(Självskattning!C523=\"Mer omfattande förändringsarbete behövs\",Självskattning!B523,\"\")","v":""},{"$f":"IF(Självskattning!C523=\"Mer omfattande förändringsarbete behövs\",IF(ISBLANK(Självskattning!D523),\"\",Självskattning!D523),\"\")","v":""}]
[null,{"$f":"IF(Självskattning!C524=\"Mer omfattande förändringsarbete behövs\",Självskattning!A524,\"\")","v":""},{"$f":"IF(Självskattning!C524=\"Mer omfattande förändringsarbete behövs\",Självskattning!B524,\"\")","v":""},{"$f":"IF(Självskattning!C524=\"Mer omfattande förändringsarbete behövs\",IF(ISBLANK(Självskattning!D524),\"\",Självskattning!D524),\"\")","v":""}]
[null,{"$f":"IF(Självskattning!C525=\"Mer omfattande förändringsarbete behövs\",Självskattning!A525,\"\")","v":""},{"$f":"IF(Självskattning!C525=\"Mer omfattande förändringsarbete behövs\",Självskattning!B525,\"\")","v":""},{"$f":"IF(Självskattning!C525=\"Mer omfattande förändringsarbete behövs\",IF(ISBLANK(Självskattning!D525),\"\",Självskattning!D525),\"\")","v":""}]
[null,{"$f":"IF(Självskattning!C526=\"Mer omfattande förändringsarbete behövs\",Självskattning!A526,\"\")","v":""},{"$f":"IF(Självskattning!C526=\"Mer omfattande förändringsarbete behövs\",Självskattning!B526,\"\")","v":""},{"$f":"IF(Självskattning!C526=\"Mer omfattande förändringsarbete behövs\",IF(ISBLANK(Självskattning!D526),\"\",Självskattning!D526),\"\")","v":""}]
[null,{"$f":"IF(Självskattning!C527=\"Mer omfattande förändringsarbete behövs\",Självskattning!A527,\"\")","v":""},{"$f":"IF(Självskattning!C527=\"Mer omfattande förändringsarbete behövs\",Självskattning!B527,\"\")","v":""},{"$f":"IF(Självskattning!C527=\"Mer omfattande förändringsarbete behövs\",IF(ISBLANK(Självskattning!D527),\"\",Självskattning!D527),\"\")","v":""}]
[null,{"$f":"IF(Självskattning!C528=\"Mer omfattande förändringsarbete behövs\",Självskattning!A528,\"\")","v":""},{"$f":"IF(Självskattning!C528=\"Mer omfattande förändringsarbete behövs\",Självskattning!B528,\"\")","v":""},{"$f":"IF(Självskattning!C528=\"Mer omfattande förändringsarbete behövs\",IF(ISBLANK(Självskattning!D528),\"\",Självskattning!D528),\"\")","v":""}]
[null,{"$f":"IF(Självskattning!C529=\"Mer omfattande förändringsarbete behövs\",Självskattning!A529,\"\")","v":""},{"$f":"IF(Självskattning!C529=\"Mer omfattande förändringsarbete behövs\",Självskattning!B529,\"\")","v":""},{"$f":"IF(Självskattning!C529=\"Mer omfattande förändringsarbete behövs\",IF(ISBLANK(Självskattning!D529),\"\",Självskattning!D529),\"\")","v":""}]
[null,{"$f":"IF(Självskattning!C530=\"Mer omfattande förändringsarbete behövs\",Självskattning!A530,\"\")","v":""},{"$f":"IF(Självskattning!C530=\"Mer omfattande förändringsarbete behövs\",Självskattning!B530,\"\")","v":""},{"$f":"IF(Självskattning!C530=\"Mer omfattande förändringsarbete behövs\",IF(ISBLANK(Självskattning!D530),\"\",Självskattning!D530),\"\")","v":""}]
[null,{"$f":"IF(Självskattning!C531=\"Mer omfattande förändringsarbete behövs\",Självskattning!A531,\"\")","v":""},{"$f":"IF(Självskattning!C531=\"Mer omfattande förändringsarbete behövs\",Självskattning!B531,\"\")","v":""},{"$f":"IF(Självskattning!C531=\"Mer omfattande förändringsarbete behövs\",IF(ISBLANK(Självskattning!D531),\"\",Självskattning!D531),\"\")","v":""}]
[null,{"$f":"IF(Självskattning!C532=\"Mer omfattande förändringsarbete behövs\",Självskattning!A532,\"\")","v":""},{"$f":"IF(Självskattning!C532=\"Mer omfattande förändringsarbete behövs\",Självskattning!B532,\"\")","v":""},{"$f":"IF(Självskattning!C532=\"Mer omfattande förändringsarbete behövs\",IF(ISBLANK(Självskattning!D532),\"\",Självskattning!D532),\"\")","v":""}]
[null,{"$f":"IF(Självskattning!C533=\"Mer omfattande förändringsarbete behövs\",Självskattning!A533,\"\")","v":""},{"$f":"IF(Självskattning!C533=\"Mer omfattande förändringsarbete behövs\",Självskattning!B533,\"\")","v":""},{"$f":"IF(Självskattning!C533=\"Mer omfattande förändringsarbete behövs\",IF(ISBLANK(Självskattning!D533),\"\",Självskattning!D533),\"\")","v":""}]
[null,{"$f":"IF(Självskattning!C534=\"Mer omfattande förändringsarbete behövs\",Självskattning!A534,\"\")","v":""},{"$f":"IF(Självskattning!C534=\"Mer omfattande förändringsarbete behövs\",Självskattning!B534,\"\")","v":""},{"$f":"IF(Självskattning!C534=\"Mer omfattande förändringsarbete behövs\",IF(ISBLANK(Självskattning!D534),\"\",Självskattning!D534),\"\")","v":""}]
[null,{"$f":"IF(Självskattning!C535=\"Mer omfattande förändringsarbete behövs\",Självskattning!A535,\"\")","v":""},{"$f":"IF(Självskattning!C535=\"Mer omfattande förändringsarbete behövs\",Självskattning!B535,\"\")","v":""},{"$f":"IF(Självskattning!C535=\"Mer omfattande förändringsarbete behövs\",IF(ISBLANK(Självskattning!D535),\"\",Självskattning!D535),\"\")","v":""}]
[null,{"$f":"IF(Självskattning!C536=\"Mer omfattande förändringsarbete behövs\",Självskattning!A536,\"\")","v":""},{"$f":"IF(Självskattning!C536=\"Mer omfattande förändringsarbete behövs\",Självskattning!B536,\"\")","v":""},{"$f":"IF(Självskattning!C536=\"Mer omfattande förändringsarbete behövs\",IF(ISBLANK(Självskattning!D536),\"\",Självskattning!D536),\"\")","v":""}]
[null,{"$f":"IF(Självskattning!C537=\"Mer omfattande förändringsarbete behövs\",Självskattning!A537,\"\")","v":""},{"$f":"IF(Självskattning!C537=\"Mer omfattande förändringsarbete behövs\",Självskattning!B537,\"\")","v":""},{"$f":"IF(Självskattning!C537=\"Mer omfattande förändringsarbete behövs\",IF(ISBLANK(Självskattning!D537),\"\",Självskattning!D537),\"\")","v":""}]
[null,{"$f":"IF(Självskattning!C538=\"Mer omfattande förändringsarbete behövs\",Självskattning!A538,\"\")","v":""},{"$f":"IF(Självskattning!C538=\"Mer omfattande förändringsarbete behövs\",Självskattning!B538,\"\")","v":""},{"$f":"IF(Självskattning!C538=\"Mer omfattande förändringsarbete behövs\",IF(ISBLANK(Självskattning!D538),\"\",Självskattning!D538),\"\")","v":""}]
[null,{"$f":"IF(Självskattning!C539=\"Mer omfattande förändringsarbete behövs\",Självskattning!A539,\"\")","v":""},{"$f":"IF(Självskattning!C539=\"Mer omfattande förändringsarbete behövs\",Självskattning!B539,\"\")","v":""},{"$f":"IF(Självskattning!C539=\"Mer omfattande förändringsarbete behövs\",IF(ISBLANK(Självskattning!D539),\"\",Självskattning!D539),\"\")","v":""}]
[null,{"$f":"IF(Självskattning!C540=\"Mer omfattande förändringsarbete behövs\",Självskattning!A540,\"\")","v":""},{"$f":"IF(Självskattning!C540=\"Mer omfattande förändringsarbete behövs\",Självskattning!B540,\"\")","v":""},{"$f":"IF(Självskattning!C540=\"Mer omfattande förändringsarbete behövs\",IF(ISBLANK(Självskattning!D540),\"\",Självskattning!D540),\"\")","v":""}]
[null,{"$f":"IF(Självskattning!C541=\"Mer omfattande förändringsarbete behövs\",Självskattning!A541,\"\")","v":""},{"$f":"IF(Självskattning!C541=\"Mer omfattande förändringsarbete behövs\",Självskattning!B541,\"\")","v":""},{"$f":"IF(Självskattning!C541=\"Mer omfattande förändringsarbete behövs\",IF(ISBLANK(Självskattning!D541),\"\",Självskattning!D541),\"\")","v":""}]
[null,{"$f":"IF(Självskattning!C542=\"Mer omfattande förändringsarbete behövs\",Självskattning!A542,\"\")","v":""},{"$f":"IF(Självskattning!C542=\"Mer omfattande förändringsarbete behövs\",Självskattning!B542,\"\")","v":""},{"$f":"IF(Självskattning!C542=\"Mer omfattande förändringsarbete behövs\",IF(ISBLANK(Självskattning!D542),\"\",Självskattning!D542),\"\")","v":""}]
[null,{"$f":"IF(Självskattning!C543=\"Mer omfattande förändringsarbete behövs\",Självskattning!A543,\"\")","v":""},{"$f":"IF(Självskattning!C543=\"Mer omfattande förändringsarbete behövs\",Självskattning!B543,\"\")","v":""},{"$f":"IF(Självskattning!C543=\"Mer omfattande förändringsarbete behövs\",IF(ISBLANK(Självskattning!D543),\"\",Självskattning!D543),\"\")","v":""}]
[null,{"$f":"IF(Självskattning!C544=\"Mer omfattande förändringsarbete behövs\",Självskattning!A544,\"\")","v":""},{"$f":"IF(Självskattning!C544=\"Mer omfattande förändringsarbete behövs\",Självskattning!B544,\"\")","v":""},{"$f":"IF(Självskattning!C544=\"Mer omfattande förändringsarbete behövs\",IF(ISBLANK(Självskattning!D544),\"\",Självskattning!D544),\"\")","v":""}]
[null,{"$f":"IF(Självskattning!C545=\"Mer omfattande förändringsarbete behövs\",Självskattning!A545,\"\")","v":""},{"$f":"IF(Självskattning!C545=\"Mer omfattande förändringsarbete behövs\",Självskattning!B545,\"\")","v":""},{"$f":"IF(Självskattning!C545=\"Mer omfattande förändringsarbete behövs\",IF(ISBLANK(Självskattning!D545),\"\",Självskattning!D545),\"\")","v":""}]
[null,{"$f":"IF(Självskattning!C546=\"Mer omfattande förändringsarbete behövs\",Självskattning!A546,\"\")","v":""},{"$f":"IF(Självskattning!C546=\"Mer omfattande förändringsarbete behövs\",Självskattning!B546,\"\")","v":""},{"$f":"IF(Självskattning!C546=\"Mer omfattande förändringsarbete behövs\",IF(ISBLANK(Självskattning!D546),\"\",Självskattning!D546),\"\")","v":""}]
[null,{"$f":"IF(Självskattning!C547=\"Mer omfattande förändringsarbete behövs\",Självskattning!A547,\"\")","v":""},{"$f":"IF(Självskattning!C547=\"Mer omfattande förändringsarbete behövs\",Självskattning!B547,\"\")","v":""},{"$f":"IF(Självskattning!C547=\"Mer omfattande förändringsarbete behövs\",IF(ISBLANK(Självskattning!D547),\"\",Självskattning!D547),\"\")","v":""}]
[null,{"$f":"IF(Självskattning!C548=\"Mer omfattande förändringsarbete behövs\",Självskattning!A548,\"\")","v":""},{"$f":"IF(Självskattning!C548=\"Mer omfattande förändringsarbete behövs\",Självskattning!B548,\"\")","v":""},{"$f":"IF(Självskattning!C548=\"Mer omfattande förändringsarbete behövs\",IF(ISBLANK(Självskattning!D548),\"\",Självskattning!D548),\"\")","v":""}]
[null,{"$f":"IF(Självskattning!C549=\"Mer omfattande förändringsarbete behövs\",Självskattning!A549,\"\")","v":""},{"$f":"IF(Självskattning!C549=\"Mer omfattande förändringsarbete behövs\",Självskattning!B549,\"\")","v":""},{"$f":"IF(Självskattning!C549=\"Mer omfattande förändringsarbete behövs\",IF(ISBLANK(Självskattning!D549),\"\",Självskattning!D549),\"\")","v":""}]
[null,{"$f":"IF(Självskattning!C550=\"Mer omfattande förändringsarbete behövs\",Självskattning!A550,\"\")","v":""},{"$f":"IF(Självskattning!C550=\"Mer omfattande förändringsarbete behövs\",Självskattning!B550,\"\")","v":""},{"$f":"IF(Självskattning!C550=\"Mer omfattande förändringsarbete behövs\",IF(ISBLANK(Självskattning!D550),\"\",Självskattning!D550),\"\")","v":""}]
[null,{"$f":"IF(Självskattning!C551=\"Mer omfattande förändringsarbete behövs\",Självskattning!A551,\"\")","v":""},{"$f":"IF(Självskattning!C551=\"Mer omfattande förändringsarbete behövs\",Självskattning!B551,\"\")","v":""},{"$f":"IF(Självskattning!C551=\"Mer omfattande förändringsarbete behövs\",IF(ISBLANK(Självskattning!D551),\"\",Självskattning!D551),\"\")","v":""}]
[null,{"$f":"IF(Självskattning!C552=\"Mer omfattande förändringsarbete behövs\",Självskattning!A552,\"\")","v":""},{"$f":"IF(Självskattning!C552=\"Mer omfattande förändringsarbete behövs\",Självskattning!B552,\"\")","v":""},{"$f":"IF(Självskattning!C552=\"Mer omfattande förändringsarbete behövs\",IF(ISBLANK(Självskattning!D552),\"\",Självskattning!D552),\"\")","v":""}]
[null,{"$f":"IF(Självskattning!C553=\"Mer omfattande förändringsarbete behövs\",Självskattning!A553,\"\")","v":""},{"$f":"IF(Självskattning!C553=\"Mer omfattande förändringsarbete behövs\",Självskattning!B553,\"\")","v":""},{"$f":"IF(Självskattning!C553=\"Mer omfattande förändringsarbete behövs\",IF(ISBLANK(Självskattning!D553),\"\",Självskattning!D553),\"\")","v":""}]
[null,{"$f":"IF(Självskattning!C554=\"Mer omfattande förändringsarbete behövs\",Självskattning!A554,\"\")","v":""},{"$f":"IF(Självskattning!C554=\"Mer omfattande förändringsarbete behövs\",Självskattning!B554,\"\")","v":""},{"$f":"IF(Självskattning!C554=\"Mer omfattande förändringsarbete behövs\",IF(ISBLANK(Självskattning!D554),\"\",Självskattning!D554),\"\")","v":""}]
[null,{"$f":"IF(Självskattning!C555=\"Mer omfattande förändringsarbete behövs\",Självskattning!A555,\"\")","v":""},{"$f":"IF(Självskattning!C555=\"Mer omfattande förändringsarbete behövs\",Självskattning!B555,\"\")","v":""},{"$f":"IF(Självskattning!C555=\"Mer omfattande förändringsarbete behövs\",IF(ISBLANK(Självskattning!D555),\"\",Självskattning!D555),\"\")","v":""}]
[null,{"$f":"IF(Självskattning!C556=\"Mer omfattande förändringsarbete behövs\",Självskattning!A556,\"\")","v":""},{"$f":"IF(Självskattning!C556=\"Mer omfattande förändringsarbete behövs\",Självskattning!B556,\"\")","v":""},{"$f":"IF(Självskattning!C556=\"Mer omfattande förändringsarbete behövs\",IF(ISBLANK(Självskattning!D556),\"\",Självskattning!D556),\"\")","v":""}]
[null,{"$f":"IF(Självskattning!C557=\"Mer omfattande förändringsarbete behövs\",Självskattning!A557,\"\")","v":""},{"$f":"IF(Självskattning!C557=\"Mer omfattande förändringsarbete behövs\",Självskattning!B557,\"\")","v":""},{"$f":"IF(Självskattning!C557=\"Mer omfattande förändringsarbete behövs\",IF(ISBLANK(Självskattning!D557),\"\",Självskattning!D557),\"\")","v":""}]
[null,{"$f":"IF(Självskattning!C558=\"Mer omfattande förändringsarbete behövs\",Självskattning!A558,\"\")","v":""},{"$f":"IF(Självskattning!C558=\"Mer omfattande förändringsarbete behövs\",Självskattning!B558,\"\")","v":""},{"$f":"IF(Självskattning!C558=\"Mer omfattande förändringsarbete behövs\",IF(ISBLANK(Självskattning!D558),\"\",Självskattning!D558),\"\")","v":""}]
[null,{"$f":"IF(Självskattning!C559=\"Mer omfattande förändringsarbete behövs\",Självskattning!A559,\"\")","v":""},{"$f":"IF(Självskattning!C559=\"Mer omfattande förändringsarbete behövs\",Självskattning!B559,\"\")","v":""},{"$f":"IF(Självskattning!C559=\"Mer omfattande förändringsarbete behövs\",IF(ISBLANK(Självskattning!D559),\"\",Självskattning!D559),\"\")","v":""}]
[null,{"$f":"IF(Självskattning!C560=\"Mer omfattande förändringsarbete behövs\",Självskattning!A560,\"\")","v":""},{"$f":"IF(Självskattning!C560=\"Mer omfattande förändringsarbete behövs\",Självskattning!B560,\"\")","v":""},{"$f":"IF(Självskattning!C560=\"Mer omfattande förändringsarbete behövs\",IF(ISBLANK(Självskattning!D560),\"\",Självskattning!D560),\"\")","v":""}]
[null,{"$f":"IF(Självskattning!C561=\"Mer omfattande förändringsarbete behövs\",Självskattning!A561,\"\")","v":""},{"$f":"IF(Självskattning!C561=\"Mer omfattande förändringsarbete behövs\",Självskattning!B561,\"\")","v":""},{"$f":"IF(Självskattning!C561=\"Mer omfattande förändringsarbete behövs\",IF(ISBLANK(Självskattning!D561),\"\",Självskattning!D561),\"\")","v":""}]
[null,{"$f":"IF(Självskattning!C562=\"Mer omfattande förändringsarbete behövs\",Självskattning!A562,\"\")","v":""},{"$f":"IF(Självskattning!C562=\"Mer omfattande förändringsarbete behövs\",Självskattning!B562,\"\")","v":""},{"$f":"IF(Självskattning!C562=\"Mer omfattande förändringsarbete behövs\",IF(ISBLANK(Självskattning!D562),\"\",Självskattning!D562),\"\")","v":""}]
[null,{"$f":"IF(Självskattning!C563=\"Mer omfattande förändringsarbete behövs\",Självskattning!A563,\"\")","v":""},{"$f":"IF(Självskattning!C563=\"Mer omfattande förändringsarbete behövs\",Självskattning!B563,\"\")","v":""},{"$f":"IF(Självskattning!C563=\"Mer omfattande förändringsarbete behövs\",IF(ISBLANK(Självskattning!D563),\"\",Självskattning!D563),\"\")","v":""}]
[null,{"$f":"IF(Självskattning!C564=\"Mer omfattande förändringsarbete behövs\",Självskattning!A564,\"\")","v":""},{"$f":"IF(Självskattning!C564=\"Mer omfattande förändringsarbete behövs\",Självskattning!B564,\"\")","v":""},{"$f":"IF(Självskattning!C564=\"Mer omfattande förändringsarbete behövs\",IF(ISBLANK(Självskattning!D564),\"\",Självskattning!D564),\"\")","v":""}]
[null,{"$f":"IF(Självskattning!C565=\"Mer omfattande förändringsarbete behövs\",Självskattning!A565,\"\")","v":""},{"$f":"IF(Självskattning!C565=\"Mer omfattande förändringsarbete behövs\",Självskattning!B565,\"\")","v":""},{"$f":"IF(Självskattning!C565=\"Mer omfattande förändringsarbete behövs\",IF(ISBLANK(Självskattning!D565),\"\",Självskattning!D565),\"\")","v":""}]
[null,{"$f":"IF(Självskattning!C566=\"Mer omfattande förändringsarbete behövs\",Självskattning!A566,\"\")","v":""},{"$f":"IF(Självskattning!C566=\"Mer omfattande förändringsarbete behövs\",Självskattning!B566,\"\")","v":""},{"$f":"IF(Självskattning!C566=\"Mer omfattande förändringsarbete behövs\",IF(ISBLANK(Självskattning!D566),\"\",Självskattning!D566),\"\")","v":""}]
[null,{"$f":"IF(Självskattning!C567=\"Mer omfattande förändringsarbete behövs\",Självskattning!A567,\"\")","v":""},{"$f":"IF(Självskattning!C567=\"Mer omfattande förändringsarbete behövs\",Självskattning!B567,\"\")","v":""},{"$f":"IF(Självskattning!C567=\"Mer omfattande förändringsarbete behövs\",IF(ISBLANK(Självskattning!D567),\"\",Självskattning!D567),\"\")","v":""}]
[null,{"$f":"IF(Självskattning!C568=\"Mer omfattande förändringsarbete behövs\",Självskattning!A568,\"\")","v":""},{"$f":"IF(Självskattning!C568=\"Mer omfattande förändringsarbete behövs\",Självskattning!B568,\"\")","v":""},{"$f":"IF(Självskattning!C568=\"Mer omfattande förändringsarbete behövs\",IF(ISBLANK(Självskattning!D568),\"\",Självskattning!D568),\"\")","v":""}]
[null,{"$f":"IF(Självskattning!C569=\"Mer omfattande förändringsarbete behövs\",Självskattning!A569,\"\")","v":""},{"$f":"IF(Självskattning!C569=\"Mer omfattande förändringsarbete behövs\",Självskattning!B569,\"\")","v":""},{"$f":"IF(Självskattning!C569=\"Mer omfattande förändringsarbete behövs\",IF(ISBLANK(Självskattning!D569),\"\",Självskattning!D569),\"\")","v":""}]
[null,{"$f":"IF(Självskattning!C570=\"Mer omfattande förändringsarbete behövs\",Självskattning!A570,\"\")","v":""},{"$f":"IF(Självskattning!C570=\"Mer omfattande förändringsarbete behövs\",Självskattning!B570,\"\")","v":""},{"$f":"IF(Självskattning!C570=\"Mer omfattande förändringsarbete behövs\",IF(ISBLANK(Självskattning!D570),\"\",Självskattning!D570),\"\")","v":""}]
[null,{"$f":"IF(Självskattning!C571=\"Mer omfattande förändringsarbete behövs\",Självskattning!A571,\"\")","v":""},{"$f":"IF(Självskattning!C571=\"Mer omfattande förändringsarbete behövs\",Självskattning!B571,\"\")","v":""},{"$f":"IF(Självskattning!C571=\"Mer omfattande förändringsarbete behövs\",IF(ISBLANK(Självskattning!D571),\"\",Självskattning!D571),\"\")","v":""}]
[null,{"$f":"IF(Självskattning!C572=\"Mer omfattande förändringsarbete behövs\",Självskattning!A572,\"\")","v":""},{"$f":"IF(Självskattning!C572=\"Mer omfattande förändringsarbete behövs\",Självskattning!B572,\"\")","v":""},{"$f":"IF(Självskattning!C572=\"Mer omfattande förändringsarbete behövs\",IF(ISBLANK(Självskattning!D572),\"\",Självskattning!D572),\"\")","v":""}]
[null,{"$f":"IF(Självskattning!C573=\"Mer omfattande förändringsarbete behövs\",Självskattning!A573,\"\")","v":""},{"$f":"IF(Självskattning!C573=\"Mer omfattande förändringsarbete behövs\",Självskattning!B573,\"\")","v":""},{"$f":"IF(Självskattning!C573=\"Mer omfattande förändringsarbete behövs\",IF(ISBLANK(Självskattning!D573),\"\",Självskattning!D573),\"\")","v":""}]
[null,{"$f":"IF(Självskattning!C574=\"Mer omfattande förändringsarbete behövs\",Självskattning!A574,\"\")","v":""},{"$f":"IF(Självskattning!C574=\"Mer omfattande förändringsarbete behövs\",Självskattning!B574,\"\")","v":""},{"$f":"IF(Självskattning!C574=\"Mer omfattande förändringsarbete behövs\",IF(ISBLANK(Självskattning!D574),\"\",Självskattning!D574),\"\")","v":""}]
[null,{"$f":"IF(Självskattning!C575=\"Mer omfattande förändringsarbete behövs\",Självskattning!A575,\"\")","v":""},{"$f":"IF(Självskattning!C575=\"Mer omfattande förändringsarbete behövs\",Självskattning!B575,\"\")","v":""},{"$f":"IF(Självskattning!C575=\"Mer omfattande förändringsarbete behövs\",IF(ISBLANK(Självskattning!D575),\"\",Självskattning!D575),\"\")","v":""}]
[null,{"$f":"IF(Självskattning!C576=\"Mer omfattande förändringsarbete behövs\",Självskattning!A576,\"\")","v":""},{"$f":"IF(Självskattning!C576=\"Mer omfattande förändringsarbete behövs\",Självskattning!B576,\"\")","v":""},{"$f":"IF(Självskattning!C576=\"Mer omfattande förändringsarbete behövs\",IF(ISBLANK(Självskattning!D576),\"\",Självskattning!D576),\"\")","v":""}]
[null,{"$f":"IF(Självskattning!C577=\"Mer omfattande förändringsarbete behövs\",Självskattning!A577,\"\")","v":""},{"$f":"IF(Självskattning!C577=\"Mer omfattande förändringsarbete behövs\",Självskattning!B577,\"\")","v":""},{"$f":"IF(Självskattning!C577=\"Mer omfattande förändringsarbete behövs\",IF(ISBLANK(Självskattning!D577),\"\",Självskattning!D577),\"\")","v":""}]
[null,{"$f":"IF(Självskattning!C578=\"Mer omfattande förändringsarbete behövs\",Självskattning!A578,\"\")","v":""},{"$f":"IF(Självskattning!C578=\"Mer omfattande förändringsarbete behövs\",Självskattning!B578,\"\")","v":""},{"$f":"IF(Självskattning!C578=\"Mer omfattande förändringsarbete behövs\",IF(ISBLANK(Självskattning!D578),\"\",Självskattning!D578),\"\")","v":""}]
[null,{"$f":"IF(Självskattning!C579=\"Mer omfattande förändringsarbete behövs\",Självskattning!A579,\"\")","v":""},{"$f":"IF(Självskattning!C579=\"Mer omfattande förändringsarbete behövs\",Självskattning!B579,\"\")","v":""},{"$f":"IF(Självskattning!C579=\"Mer omfattande förändringsarbete behövs\",IF(ISBLANK(Självskattning!D579),\"\",Självskattning!D579),\"\")","v":""}]
[null,{"$f":"IF(Självskattning!C580=\"Mer omfattande förändringsarbete behövs\",Självskattning!A580,\"\")","v":""},{"$f":"IF(Självskattning!C580=\"Mer omfattande förändringsarbete behövs\",Självskattning!B580,\"\")","v":""},{"$f":"IF(Självskattning!C580=\"Mer omfattande förändringsarbete behövs\",IF(ISBLANK(Självskattning!D580),\"\",Självskattning!D580),\"\")","v":""}]
[null,{"$f":"IF(Självskattning!C581=\"Mer omfattande förändringsarbete behövs\",Självskattning!A581,\"\")","v":""},{"$f":"IF(Självskattning!C581=\"Mer omfattande förändringsarbete behövs\",Självskattning!B581,\"\")","v":""},{"$f":"IF(Självskattning!C581=\"Mer omfattande förändringsarbete behövs\",IF(ISBLANK(Självskattning!D581),\"\",Självskattning!D581),\"\")","v":""}]
[null,{"$f":"IF(Självskattning!C582=\"Mer omfattande förändringsarbete behövs\",Självskattning!A582,\"\")","v":""},{"$f":"IF(Självskattning!C582=\"Mer omfattande förändringsarbete behövs\",Självskattning!B582,\"\")","v":""},{"$f":"IF(Självskattning!C582=\"Mer omfattande förändringsarbete behövs\",IF(ISBLANK(Självskattning!D582),\"\",Självskattning!D582),\"\")","v":""}]
[null,{"$f":"IF(Självskattning!C583=\"Mer omfattande förändringsarbete behövs\",Självskattning!A583,\"\")","v":""},{"$f":"IF(Självskattning!C583=\"Mer omfattande förändringsarbete behövs\",Självskattning!B583,\"\")","v":""},{"$f":"IF(Självskattning!C583=\"Mer omfattande förändringsarbete behövs\",IF(ISBLANK(Självskattning!D583),\"\",Självskattning!D583),\"\")","v":""}]
[null,{"$f":"IF(Självskattning!C584=\"Mer omfattande förändringsarbete behövs\",Självskattning!A584,\"\")","v":""},{"$f":"IF(Självskattning!C584=\"Mer omfattande förändringsarbete behövs\",Självskattning!B584,\"\")","v":""},{"$f":"IF(Självskattning!C584=\"Mer omfattande förändringsarbete behövs\",IF(ISBLANK(Självskattning!D584),\"\",Självskattning!D584),\"\")","v":""}]
[null,{"$f":"IF(Självskattning!C585=\"Mer omfattande förändringsarbete behövs\",Självskattning!A585,\"\")","v":""},{"$f":"IF(Självskattning!C585=\"Mer omfattande förändringsarbete behövs\",Självskattning!B585,\"\")","v":""},{"$f":"IF(Självskattning!C585=\"Mer omfattande förändringsarbete behövs\",IF(ISBLANK(Självskattning!D585),\"\",Självskattning!D585),\"\")","v":""}]
[null,{"$f":"IF(Självskattning!C586=\"Mer omfattande förändringsarbete behövs\",Självskattning!A586,\"\")","v":""},{"$f":"IF(Självskattning!C586=\"Mer omfattande förändringsarbete behövs\",Självskattning!B586,\"\")","v":""},{"$f":"IF(Självskattning!C586=\"Mer omfattande förändringsarbete behövs\",IF(ISBLANK(Självskattning!D586),\"\",Självskattning!D586),\"\")","v":""}]
[null,{"$f":"IF(Självskattning!C587=\"Mer omfattande förändringsarbete behövs\",Självskattning!A587,\"\")","v":""},{"$f":"IF(Självskattning!C587=\"Mer omfattande förändringsarbete behövs\",Självskattning!B587,\"\")","v":""},{"$f":"IF(Självskattning!C587=\"Mer omfattande förändringsarbete behövs\",IF(ISBLANK(Självskattning!D587),\"\",Självskattning!D587),\"\")","v":""}]
[null,{"$f":"IF(Självskattning!C588=\"Mer omfattande förändringsarbete behövs\",Självskattning!A588,\"\")","v":""},{"$f":"IF(Självskattning!C588=\"Mer omfattande förändringsarbete behövs\",Självskattning!B588,\"\")","v":""},{"$f":"IF(Självskattning!C588=\"Mer omfattande förändringsarbete behövs\",IF(ISBLANK(Självskattning!D588),\"\",Självskattning!D588),\"\")","v":""}]
[null,{"$f":"IF(Självskattning!C589=\"Mer omfattande förändringsarbete behövs\",Självskattning!A589,\"\")","v":""},{"$f":"IF(Självskattning!C589=\"Mer omfattande förändringsarbete behövs\",Självskattning!B589,\"\")","v":""},{"$f":"IF(Självskattning!C589=\"Mer omfattande förändringsarbete behövs\",IF(ISBLANK(Självskattning!D589),\"\",Självskattning!D589),\"\")","v":""}]
[null,{"$f":"IF(Självskattning!C590=\"Mer omfattande förändringsarbete behövs\",Självskattning!A590,\"\")","v":""},{"$f":"IF(Självskattning!C590=\"Mer omfattande förändringsarbete behövs\",Självskattning!B590,\"\")","v":""},{"$f":"IF(Självskattning!C590=\"Mer omfattande förändringsarbete behövs\",IF(ISBLANK(Självskattning!D590),\"\",Självskattning!D590),\"\")","v":""}]
[null,{"$f":"IF(Självskattning!C591=\"Mer omfattande förändringsarbete behövs\",Självskattning!A591,\"\")","v":""},{"$f":"IF(Självskattning!C591=\"Mer omfattande förändringsarbete behövs\",Självskattning!B591,\"\")","v":""},{"$f":"IF(Självskattning!C591=\"Mer omfattande förändringsarbete behövs\",IF(ISBLANK(Självskattning!D591),\"\",Självskattning!D591),\"\")","v":""}]
[null,{"$f":"IF(Självskattning!C592=\"Mer omfattande förändringsarbete behövs\",Självskattning!A592,\"\")","v":""},{"$f":"IF(Självskattning!C592=\"Mer omfattande förändringsarbete behövs\",Självskattning!B592,\"\")","v":""},{"$f":"IF(Självskattning!C592=\"Mer omfattande förändringsarbete behövs\",IF(ISBLANK(Självskattning!D592),\"\",Självskattning!D592),\"\")","v":""}]
[null,{"$f":"IF(Självskattning!C593=\"Mer omfattande förändringsarbete behövs\",Självskattning!A593,\"\")","v":""},{"$f":"IF(Självskattning!C593=\"Mer omfattande förändringsarbete behövs\",Självskattning!B593,\"\")","v":""},{"$f":"IF(Självskattning!C593=\"Mer omfattande förändringsarbete behövs\",IF(ISBLANK(Självskattning!D593),\"\",Självskattning!D593),\"\")","v":""}]
[null,{"$f":"IF(Självskattning!C594=\"Mer omfattande förändringsarbete behövs\",Självskattning!A594,\"\")","v":""},{"$f":"IF(Självskattning!C594=\"Mer omfattande förändringsarbete behövs\",Självskattning!B594,\"\")","v":""},{"$f":"IF(Självskattning!C594=\"Mer omfattande förändringsarbete behövs\",IF(ISBLANK(Självskattning!D594),\"\",Självskattning!D594),\"\")","v":""}]
[null,{"$f":"IF(Självskattning!C595=\"Mer omfattande förändringsarbete behövs\",Självskattning!A595,\"\")","v":""},{"$f":"IF(Självskattning!C595=\"Mer omfattande förändringsarbete behövs\",Självskattning!B595,\"\")","v":""},{"$f":"IF(Självskattning!C595=\"Mer omfattande förändringsarbete behövs\",IF(ISBLANK(Självskattning!D595),\"\",Självskattning!D595),\"\")","v":""}]
[null,{"$f":"IF(Självskattning!C596=\"Mer omfattande förändringsarbete behövs\",Självskattning!A596,\"\")","v":""},{"$f":"IF(Självskattning!C596=\"Mer omfattande förändringsarbete behövs\",Självskattning!B596,\"\")","v":""},{"$f":"IF(Självskattning!C596=\"Mer omfattande förändringsarbete behövs\",IF(ISBLANK(Självskattning!D596),\"\",Självskattning!D596),\"\")","v":""}]
[null,{"$f":"IF(Självskattning!C597=\"Mer omfattande förändringsarbete behövs\",Självskattning!A597,\"\")","v":""},{"$f":"IF(Självskattning!C597=\"Mer omfattande förändringsarbete behövs\",Självskattning!B597,\"\")","v":""},{"$f":"IF(Självskattning!C597=\"Mer omfattande förändringsarbete behövs\",IF(ISBLANK(Självskattning!D597),\"\",Självskattning!D597),\"\")","v":""}]
[null,{"$f":"IF(Självskattning!C598=\"Mer omfattande förändringsarbete behövs\",Självskattning!A598,\"\")","v":""},{"$f":"IF(Självskattning!C598=\"Mer omfattande förändringsarbete behövs\",Självskattning!B598,\"\")","v":""},{"$f":"IF(Självskattning!C598=\"Mer omfattande förändringsarbete behövs\",IF(ISBLANK(Självskattning!D598),\"\",Självskattning!D598),\"\")","v":""}]
[null,{"$f":"IF(Självskattning!C599=\"Mer omfattande förändringsarbete behövs\",Självskattning!A599,\"\")","v":""},{"$f":"IF(Självskattning!C599=\"Mer omfattande förändringsarbete behövs\",Självskattning!B599,\"\")","v":""},{"$f":"IF(Självskattning!C599=\"Mer omfattande förändringsarbete behövs\",IF(ISBLANK(Självskattning!D599),\"\",Självskattning!D599),\"\")","v":""}]
[null,{"$f":"IF(Självskattning!C600=\"Mer omfattande förändringsarbete behövs\",Självskattning!A600,\"\")","v":""},{"$f":"IF(Självskattning!C600=\"Mer omfattande förändringsarbete behövs\",Självskattning!B600,\"\")","v":""},{"$f":"IF(Självskattning!C600=\"Mer omfattande förändringsarbete behövs\",IF(ISBLANK(Självskattning!D600),\"\",Självskattning!D600),\"\")","v":""}]
[null,{"$f":"IF(Självskattning!C601=\"Mer omfattande förändringsarbete behövs\",Självskattning!A601,\"\")","v":""},{"$f":"IF(Självskattning!C601=\"Mer omfattande förändringsarbete behövs\",Självskattning!B601,\"\")","v":""},{"$f":"IF(Självskattning!C601=\"Mer omfattande förändringsarbete behövs\",IF(ISBLANK(Självskattning!D601),\"\",Självskattning!D601),\"\")","v":""}]
[null,{"$f":"IF(Självskattning!C602=\"Mer omfattande förändringsarbete behövs\",Självskattning!A602,\"\")","v":""},{"$f":"IF(Självskattning!C602=\"Mer omfattande förändringsarbete behövs\",Självskattning!B602,\"\")","v":""},{"$f":"IF(Självskattning!C602=\"Mer omfattande förändringsarbete behövs\",IF(ISBLANK(Självskattning!D602),\"\",Självskattning!D602),\"\")","v":""}]
[null,{"$f":"IF(Självskattning!C603=\"Mer omfattande förändringsarbete behövs\",Självskattning!A603,\"\")","v":""},{"$f":"IF(Självskattning!C603=\"Mer omfattande förändringsarbete behövs\",Självskattning!B603,\"\")","v":""},{"$f":"IF(Självskattning!C603=\"Mer omfattande förändringsarbete behövs\",IF(ISBLANK(Självskattning!D603),\"\",Självskattning!D603),\"\")","v":""}]
[null,{"$f":"IF(Självskattning!C604=\"Mer omfattande förändringsarbete behövs\",Självskattning!A604,\"\")","v":""},{"$f":"IF(Självskattning!C604=\"Mer omfattande förändringsarbete behövs\",Självskattning!B604,\"\")","v":""},{"$f":"IF(Självskattning!C604=\"Mer omfattande förändringsarbete behövs\",IF(ISBLANK(Självskattning!D604),\"\",Självskattning!D604),\"\")","v":""}]
[null,{"$f":"IF(Självskattning!C605=\"Mer omfattande förändringsarbete behövs\",Självskattning!A605,\"\")","v":""},{"$f":"IF(Självskattning!C605=\"Mer omfattande förändringsarbete behövs\",Självskattning!B605,\"\")","v":""},{"$f":"IF(Självskattning!C605=\"Mer omfattande förändringsarbete behövs\",IF(ISBLANK(Självskattning!D605),\"\",Självskattning!D605),\"\")","v":""}]
[null,{"$f":"IF(Självskattning!C606=\"Mer omfattande förändringsarbete behövs\",Självskattning!A606,\"\")","v":""},{"$f":"IF(Självskattning!C606=\"Mer omfattande förändringsarbete behövs\",Självskattning!B606,\"\")","v":""},{"$f":"IF(Självskattning!C606=\"Mer omfattande förändringsarbete behövs\",IF(ISBLANK(Självskattning!D606),\"\",Självskattning!D606),\"\")","v":""}]
[null,{"$f":"IF(Självskattning!C607=\"Mer omfattande förändringsarbete behövs\",Självskattning!A607,\"\")","v":""},{"$f":"IF(Självskattning!C607=\"Mer omfattande förändringsarbete behövs\",Självskattning!B607,\"\")","v":""},{"$f":"IF(Självskattning!C607=\"Mer omfattande förändringsarbete behövs\",IF(ISBLANK(Självskattning!D607),\"\",Självskattning!D607),\"\")","v":""}]
[null,{"$f":"IF(Självskattning!C608=\"Mer omfattande förändringsarbete behövs\",Självskattning!A608,\"\")","v":""},{"$f":"IF(Självskattning!C608=\"Mer omfattande förändringsarbete behövs\",Självskattning!B608,\"\")","v":""},{"$f":"IF(Självskattning!C608=\"Mer omfattande förändringsarbete behövs\",IF(ISBLANK(Självskattning!D608),\"\",Självskattning!D608),\"\")","v":""}]
[null,{"$f":"IF(Självskattning!C609=\"Mer omfattande förändringsarbete behövs\",Självskattning!A609,\"\")","v":""},{"$f":"IF(Självskattning!C609=\"Mer omfattande förändringsarbete behövs\",Självskattning!B609,\"\")","v":""},{"$f":"IF(Självskattning!C609=\"Mer omfattande förändringsarbete behövs\",IF(ISBLANK(Självskattning!D609),\"\",Självskattning!D609),\"\")","v":""}]
[null,{"$f":"IF(Självskattning!C610=\"Mer omfattande förändringsarbete behövs\",Självskattning!A610,\"\")","v":""},{"$f":"IF(Självskattning!C610=\"Mer omfattande förändringsarbete behövs\",Självskattning!B610,\"\")","v":""},{"$f":"IF(Självskattning!C610=\"Mer omfattande förändringsarbete behövs\",IF(ISBLANK(Självskattning!D610),\"\",Självskattning!D610),\"\")","v":""}]
[null,{"$f":"IF(Självskattning!C611=\"Mer omfattande förändringsarbete behövs\",Självskattning!A611,\"\")","v":""},{"$f":"IF(Självskattning!C611=\"Mer omfattande förändringsarbete behövs\",Självskattning!B611,\"\")","v":""},{"$f":"IF(Självskattning!C611=\"Mer omfattande förändringsarbete behövs\",IF(ISBLANK(Självskattning!D611),\"\",Självskattning!D611),\"\")","v":""}]
[null,{"$f":"IF(Självskattning!C612=\"Mer omfattande förändringsarbete behövs\",Självskattning!A612,\"\")","v":""},{"$f":"IF(Självskattning!C612=\"Mer omfattande förändringsarbete behövs\",Självskattning!B612,\"\")","v":""},{"$f":"IF(Självskattning!C612=\"Mer omfattande förändringsarbete behövs\",IF(ISBLANK(Självskattning!D612),\"\",Självskattning!D612),\"\")","v":""}]
[null,{"$f":"IF(Självskattning!C613=\"Mer omfattande förändringsarbete behövs\",Självskattning!A613,\"\")","v":""},{"$f":"IF(Självskattning!C613=\"Mer omfattande förändringsarbete behövs\",Självskattning!B613,\"\")","v":""},{"$f":"IF(Självskattning!C613=\"Mer omfattande förändringsarbete behövs\",IF(ISBLANK(Självskattning!D613),\"\",Självskattning!D613),\"\")","v":""}]
[null,{"$f":"IF(Självskattning!C614=\"Mer omfattande förändringsarbete behövs\",Självskattning!A614,\"\")","v":""},{"$f":"IF(Självskattning!C614=\"Mer omfattande förändringsarbete behövs\",Självskattning!B614,\"\")","v":""},{"$f":"IF(Självskattning!C614=\"Mer omfattande förändringsarbete behövs\",IF(ISBLANK(Självskattning!D614),\"\",Självskattning!D614),\"\")","v":""}]
[null,{"$f":"IF(Självskattning!C615=\"Mer omfattande förändringsarbete behövs\",Självskattning!A615,\"\")","v":""},{"$f":"IF(Självskattning!C615=\"Mer omfattande förändringsarbete behövs\",Självskattning!B615,\"\")","v":""},{"$f":"IF(Självskattning!C615=\"Mer omfattande förändringsarbete behövs\",IF(ISBLANK(Självskattning!D615),\"\",Självskattning!D615),\"\")","v":""}]
[null,{"$f":"IF(Självskattning!C616=\"Mer omfattande förändringsarbete behövs\",Självskattning!A616,\"\")","v":""},{"$f":"IF(Självskattning!C616=\"Mer omfattande förändringsarbete behövs\",Självskattning!B616,\"\")","v":""},{"$f":"IF(Självskattning!C616=\"Mer omfattande förändringsarbete behövs\",IF(ISBLANK(Självskattning!D616),\"\",Självskattning!D616),\"\")","v":""}]
[null,"ETT MINDRE FÖRÄNDRINGSARBETE BEHÖVS","KOMMENTAR","LÄSHÄNVISNINGAR"]
[null,{"$f":"IF(Självskattning!C3=\"Ett mindre förändringsarbete behövs\",Självskattning!A3,\"\")","v":""},{"$f":"IF(Självskattning!C3=\"Ett mindre förändringsarbete behövs\",Självskattning!B3,\"\")","v":""},{"$f":"IF(Självskattning!C3=\"Ett mindre förändringsarbete behövs\",Självskattning!D3,\"\")","v":""}]
[null,{"$f":"IF(Självskattning!C4=\"Ett mindre förändringsarbete behövs\",Självskattning!A4,\"\")","v":""},{"$f":"IF(Självskattning!C4=\"Ett mindre förändringsarbete behövs\",Självskattning!B4,\"\")","v":""},{"$f":"IF(Självskattning!C4=\"Ett mindre förändringsarbete behövs\",Självskattning!D4,\"\")","v":""}]
[null,{"$f":"IF(Självskattning!C5=\"Ett mindre förändringsarbete behövs\",Självskattning!A5,\"\")","v":""},{"$f":"IF(Självskattning!C5=\"Ett mindre förändringsarbete behövs\",Självskattning!B5,\"\")","v":""},{"$f":"IF(Självskattning!C5=\"Ett mindre förändringsarbete behövs\",Självskattning!D5,\"\")","v":""}]
[null,{"$f":"IF(Självskattning!C6=\"Ett mindre förändringsarbete behövs\",Självskattning!A6,\"\")","v":""},{"$f":"IF(Självskattning!C6=\"Ett mindre förändringsarbete behövs\",Självskattning!B6,\"\")","v":""},{"$f":"IF(Självskattning!C6=\"Ett mindre förändringsarbete behövs\",Självskattning!D6,\"\")","v":""}]
[null,{"$f":"IF(Självskattning!C7=\"Ett mindre förändringsarbete behövs\",Självskattning!A7,\"\")","v":""},{"$f":"IF(Självskattning!C7=\"Ett mindre förändringsarbete behövs\",Självskattning!B7,\"\")","v":""},{"$f":"IF(Självskattning!C7=\"Ett mindre förändringsarbete behövs\",Självskattning!D7,\"\")","v":""}]
[null,{"$f":"IF(Självskattning!C8=\"Ett mindre förändringsarbete behövs\",Självskattning!A8,\"\")","v":""},{"$f":"IF(Självskattning!C8=\"Ett mindre förändringsarbete behövs\",Självskattning!B8,\"\")","v":""},{"$f":"IF(Självskattning!C8=\"Ett mindre förändringsarbete behövs\",Självskattning!D8,\"\")","v":""}]
[null,{"$f":"IF(Självskattning!C9=\"Ett mindre förändringsarbete behövs\",Självskattning!A9,\"\")","v":""},{"$f":"IF(Självskattning!C9=\"Ett mindre förändringsarbete behövs\",Självskattning!B9,\"\")","v":""},{"$f":"IF(Självskattning!C9=\"Ett mindre förändringsarbete behövs\",Självskattning!D9,\"\")","v":""}]
[null,{"$f":"IF(Självskattning!C10=\"Ett mindre förändringsarbete behövs\",Självskattning!A10,\"\")","v":""},{"$f":"IF(Självskattning!C10=\"Ett mindre förändringsarbete behövs\",Självskattning!B10,\"\")","v":""},{"$f":"IF(Självskattning!C10=\"Ett mindre förändringsarbete behövs\",Självskattning!D10,\"\")","v":""}]
[null,{"$f":"IF(Självskattning!C11=\"Ett mindre förändringsarbete behövs\",Självskattning!A11,\"\")","v":""},{"$f":"IF(Självskattning!C11=\"Ett mindre förändringsarbete behövs\",Självskattning!B11,\"\")","v":""},{"$f":"IF(Självskattning!C11=\"Ett mindre förändringsarbete behövs\",Självskattning!D11,\"\")","v":""}]
[null,{"$f":"IF(Självskattning!C12=\"Ett mindre förändringsarbete behövs\",Självskattning!A12,\"\")","v":""},{"$f":"IF(Självskattning!C12=\"Ett mindre förändringsarbete behövs\",Självskattning!B12,\"\")","v":""},{"$f":"IF(Självskattning!C12=\"Ett mindre förändringsarbete behövs\",Självskattning!D12,\"\")","v":""}]
[null,{"$f":"IF(Självskattning!C13=\"Ett mindre förändringsarbete behövs\",Självskattning!A13,\"\")","v":""},{"$f":"IF(Självskattning!C13=\"Ett mindre förändringsarbete behövs\",Självskattning!B13,\"\")","v":""},{"$f":"IF(Självskattning!C13=\"Ett mindre förändringsarbete behövs\",Självskattning!D13,\"\")","v":""}]
[null,{"$f":"IF(Självskattning!C14=\"Ett mindre förändringsarbete behövs\",Självskattning!A14,\"\")","v":""},{"$f":"IF(Självskattning!C14=\"Ett mindre förändringsarbete behövs\",Självskattning!B14,\"\")","v":""},{"$f":"IF(Självskattning!C14=\"Ett mindre förändringsarbete behövs\",Självskattning!D14,\"\")","v":""}]
[null,{"$f":"IF(Självskattning!C15=\"Ett mindre förändringsarbete behövs\",Självskattning!A15,\"\")","v":""},{"$f":"IF(Självskattning!C15=\"Ett mindre förändringsarbete behövs\",Självskattning!B15,\"\")","v":""},{"$f":"IF(Självskattning!C15=\"Ett mindre förändringsarbete behövs\",Självskattning!D15,\"\")","v":""}]
[null,{"$f":"IF(Självskattning!C16=\"Ett mindre förändringsarbete behövs\",Självskattning!A16,\"\")","v":""},{"$f":"IF(Självskattning!C16=\"Ett mindre förändringsarbete behövs\",Självskattning!B16,\"\")","v":""},{"$f":"IF(Självskattning!C16=\"Ett mindre förändringsarbete behövs\",Självskattning!D16,\"\")","v":""}]
[null,{"$f":"IF(Självskattning!C17=\"Ett mindre förändringsarbete behövs\",Självskattning!A17,\"\")","v":""},{"$f":"IF(Självskattning!C17=\"Ett mindre förändringsarbete behövs\",Självskattning!B17,\"\")","v":""},{"$f":"IF(Självskattning!C17=\"Ett mindre förändringsarbete behövs\",Självskattning!D17,\"\")","v":""}]
[null,{"$f":"IF(Självskattning!C18=\"Ett mindre förändringsarbete behövs\",Självskattning!A18,\"\")","v":""},{"$f":"IF(Självskattning!C18=\"Ett mindre förändringsarbete behövs\",Självskattning!B18,\"\")","v":""},{"$f":"IF(Självskattning!C18=\"Ett mindre förändringsarbete behövs\",Självskattning!D18,\"\")","v":""}]
[null,{"$f":"IF(Självskattning!C19=\"Ett mindre förändringsarbete behövs\",Självskattning!A19,\"\")","v":""},{"$f":"IF(Självskattning!C19=\"Ett mindre förändringsarbete behövs\",Självskattning!B19,\"\")","v":""},{"$f":"IF(Självskattning!C19=\"Ett mindre förändringsarbete behövs\",Självskattning!D19,\"\")","v":""}]
[null,{"$f":"IF(Självskattning!C20=\"Ett mindre förändringsarbete behövs\",Självskattning!A20,\"\")","v":""},{"$f":"IF(Självskattning!C20=\"Ett mindre förändringsarbete behövs\",Självskattning!B20,\"\")","v":""},{"$f":"IF(Självskattning!C20=\"Ett mindre förändringsarbete behövs\",Självskattning!D20,\"\")","v":""}]
[null,{"$f":"IF(Självskattning!C21=\"Ett mindre förändringsarbete behövs\",Självskattning!A21,\"\")","v":""},{"$f":"IF(Självskattning!C21=\"Ett mindre förändringsarbete behövs\",Självskattning!B21,\"\")","v":""},{"$f":"IF(Självskattning!C21=\"Ett mindre förändringsarbete behövs\",Självskattning!D21,\"\")","v":""}]
[null,{"$f":"IF(Självskattning!C22=\"Ett mindre förändringsarbete behövs\",Självskattning!A22,\"\")","v":""},{"$f":"IF(Självskattning!C22=\"Ett mindre förändringsarbete behövs\",Självskattning!B22,\"\")","v":""},{"$f":"IF(Självskattning!C22=\"Ett mindre förändringsarbete behövs\",Självskattning!D22,\"\")","v":""}]
[null,{"$f":"IF(Självskattning!C23=\"Ett mindre förändringsarbete behövs\",Självskattning!A23,\"\")","v":""},{"$f":"IF(Självskattning!C23=\"Ett mindre förändringsarbete behövs\",Självskattning!B23,\"\")","v":""},{"$f":"IF(Självskattning!C23=\"Ett mindre förändringsarbete behövs\",Självskattning!D23,\"\")","v":""}]
[null,{"$f":"IF(Självskattning!C24=\"Ett mindre förändringsarbete behövs\",Självskattning!A24,\"\")","v":""},{"$f":"IF(Självskattning!C24=\"Ett mindre förändringsarbete behövs\",Självskattning!B24,\"\")","v":""},{"$f":"IF(Självskattning!C24=\"Ett mindre förändringsarbete behövs\",Självskattning!D24,\"\")","v":""}]
[null,{"$f":"IF(Självskattning!C25=\"Ett mindre förändringsarbete behövs\",Självskattning!A25,\"\")","v":""},{"$f":"IF(Självskattning!C25=\"Ett mindre förändringsarbete behövs\",Självskattning!B25,\"\")","v":""},{"$f":"IF(Självskattning!C25=\"Ett mindre förändringsarbete behövs\",Självskattning!D25,\"\")","v":""}]
[null,{"$f":"IF(Självskattning!C26=\"Ett mindre förändringsarbete behövs\",Självskattning!A26,\"\")","v":""},{"$f":"IF(Självskattning!C26=\"Ett mindre förändringsarbete behövs\",Självskattning!B26,\"\")","v":""},{"$f":"IF(Självskattning!C26=\"Ett mindre förändringsarbete behövs\",Självskattning!D26,\"\")","v":""}]
[null,{"$f":"IF(Självskattning!C27=\"Ett mindre förändringsarbete behövs\",Självskattning!A27,\"\")","v":""},{"$f":"IF(Självskattning!C27=\"Ett mindre förändringsarbete behövs\",Självskattning!B27,\"\")","v":""},{"$f":"IF(Självskattning!C27=\"Ett mindre förändringsarbete behövs\",Självskattning!D27,\"\")","v":""}]
[null,{"$f":"IF(Självskattning!C28=\"Ett mindre förändringsarbete behövs\",Självskattning!A28,\"\")","v":""},{"$f":"IF(Självskattning!C28=\"Ett mindre förändringsarbete behövs\",Självskattning!B28,\"\")","v":""},{"$f":"IF(Självskattning!C28=\"Ett mindre förändringsarbete behövs\",Självskattning!D28,\"\")","v":""}]
[null,{"$f":"IF(Självskattning!C29=\"Ett mindre förändringsarbete behövs\",Självskattning!A29,\"\")","v":""},{"$f":"IF(Självskattning!C29=\"Ett mindre förändringsarbete behövs\",Självskattning!B29,\"\")","v":""},{"$f":"IF(Självskattning!C29=\"Ett mindre förändringsarbete behövs\",Självskattning!D29,\"\")","v":""}]
[null,{"$f":"IF(Självskattning!C30=\"Ett mindre förändringsarbete behövs\",Självskattning!A30,\"\")","v":""},{"$f":"IF(Självskattning!C30=\"Ett mindre förändringsarbete behövs\",Självskattning!B30,\"\")","v":""},{"$f":"IF(Självskattning!C30=\"Ett mindre förändringsarbete behövs\",Självskattning!D30,\"\")","v":""}]
[null,{"$f":"IF(Självskattning!C31=\"Ett mindre förändringsarbete behövs\",Självskattning!A31,\"\")","v":""},{"$f":"IF(Självskattning!C31=\"Ett mindre förändringsarbete behövs\",Självskattning!B31,\"\")","v":""},{"$f":"IF(Självskattning!C31=\"Ett mindre förändringsarbete behövs\",Självskattning!D31,\"\")","v":""}]
[null,{"$f":"IF(Självskattning!C32=\"Ett mindre förändringsarbete behövs\",Självskattning!A32,\"\")","v":""},{"$f":"IF(Självskattning!C32=\"Ett mindre förändringsarbete behövs\",Självskattning!B32,\"\")","v":""},{"$f":"IF(Självskattning!C32=\"Ett mindre förändringsarbete behövs\",Självskattning!D32,\"\")","v":""}]
[null,{"$f":"IF(Självskattning!C33=\"Ett mindre förändringsarbete behövs\",Självskattning!A33,\"\")","v":""},{"$f":"IF(Självskattning!C33=\"Ett mindre förändringsarbete behövs\",Självskattning!B33,\"\")","v":""},{"$f":"IF(Självskattning!C33=\"Ett mindre förändringsarbete behövs\",Självskattning!D33,\"\")","v":""}]
[null,{"$f":"IF(Självskattning!C34=\"Ett mindre förändringsarbete behövs\",Självskattning!A34,\"\")","v":""},{"$f":"IF(Självskattning!C34=\"Ett mindre förändringsarbete behövs\",Självskattning!B34,\"\")","v":""},{"$f":"IF(Självskattning!C34=\"Ett mindre förändringsarbete behövs\",Självskattning!D34,\"\")","v":""}]
[null,{"$f":"IF(Självskattning!C35=\"Ett mindre förändringsarbete behövs\",Självskattning!A35,\"\")","v":""},{"$f":"IF(Självskattning!C35=\"Ett mindre förändringsarbete behövs\",Självskattning!B35,\"\")","v":""},{"$f":"IF(Självskattning!C35=\"Ett mindre förändringsarbete behövs\",Självskattning!D35,\"\")","v":""}]
[null,{"$f":"IF(Självskattning!C36=\"Ett mindre förändringsarbete behövs\",Självskattning!A36,\"\")","v":""},{"$f":"IF(Självskattning!C36=\"Ett mindre förändringsarbete behövs\",Självskattning!B36,\"\")","v":""},{"$f":"IF(Självskattning!C36=\"Ett mindre förändringsarbete behövs\",Självskattning!D36,\"\")","v":""}]
[null,{"$f":"IF(Självskattning!C37=\"Ett mindre förändringsarbete behövs\",Självskattning!A37,\"\")","v":""},{"$f":"IF(Självskattning!C37=\"Ett mindre förändringsarbete behövs\",Självskattning!B37,\"\")","v":""},{"$f":"IF(Självskattning!C37=\"Ett mindre förändringsarbete behövs\",Självskattning!D37,\"\")","v":""}]
[null,{"$f":"IF(Självskattning!C38=\"Ett mindre förändringsarbete behövs\",Självskattning!A38,\"\")","v":""},{"$f":"IF(Självskattning!C38=\"Ett mindre förändringsarbete behövs\",Självskattning!B38,\"\")","v":""},{"$f":"IF(Självskattning!C38=\"Ett mindre förändringsarbete behövs\",Självskattning!D38,\"\")","v":""}]
[null,{"$f":"IF(Självskattning!C39=\"Ett mindre förändringsarbete behövs\",Självskattning!A39,\"\")","v":""},{"$f":"IF(Självskattning!C39=\"Ett mindre förändringsarbete behövs\",Självskattning!B39,\"\")","v":""},{"$f":"IF(Självskattning!C39=\"Ett mindre förändringsarbete behövs\",Självskattning!D39,\"\")","v":""}]
[null,{"$f":"IF(Självskattning!C40=\"Ett mindre förändringsarbete behövs\",Självskattning!A40,\"\")","v":""},{"$f":"IF(Självskattning!C40=\"Ett mindre förändringsarbete behövs\",Självskattning!B40,\"\")","v":""},{"$f":"IF(Självskattning!C40=\"Ett mindre förändringsarbete behövs\",Självskattning!D40,\"\")","v":""}]
[null,{"$f":"IF(Självskattning!C41=\"Ett mindre förändringsarbete behövs\",Självskattning!A41,\"\")","v":""},{"$f":"IF(Självskattning!C41=\"Ett mindre förändringsarbete behövs\",Självskattning!B41,\"\")","v":""},{"$f":"IF(Självskattning!C41=\"Ett mindre förändringsarbete behövs\",Självskattning!D41,\"\")","v":""}]
[null,{"$f":"IF(Självskattning!C42=\"Ett mindre förändringsarbete behövs\",Självskattning!A42,\"\")","v":""},{"$f":"IF(Självskattning!C42=\"Ett mindre förändringsarbete behövs\",Självskattning!B42,\"\")","v":""},{"$f":"IF(Självskattning!C42=\"Ett mindre förändringsarbete behövs\",Självskattning!D42,\"\")","v":""}]
[null,{"$f":"IF(Självskattning!C43=\"Ett mindre förändringsarbete behövs\",Självskattning!A43,\"\")","v":""},{"$f":"IF(Självskattning!C43=\"Ett mindre förändringsarbete behövs\",Självskattning!B43,\"\")","v":""},{"$f":"IF(Självskattning!C43=\"Ett mindre förändringsarbete behövs\",Självskattning!D43,\"\")","v":""}]
[null,{"$f":"IF(Självskattning!C44=\"Ett mindre förändringsarbete behövs\",Självskattning!A44,\"\")","v":""},{"$f":"IF(Självskattning!C44=\"Ett mindre förändringsarbete behövs\",Självskattning!B44,\"\")","v":""},{"$f":"IF(Självskattning!C44=\"Ett mindre förändringsarbete behövs\",Självskattning!D44,\"\")","v":""}]
[null,{"$f":"IF(Självskattning!C45=\"Ett mindre förändringsarbete behövs\",Självskattning!A45,\"\")","v":""},{"$f":"IF(Självskattning!C45=\"Ett mindre förändringsarbete behövs\",Självskattning!B45,\"\")","v":""},{"$f":"IF(Självskattning!C45=\"Ett mindre förändringsarbete behövs\",Självskattning!D45,\"\")","v":""}]
[null,{"$f":"IF(Självskattning!C46=\"Ett mindre förändringsarbete behövs\",Självskattning!A46,\"\")","v":""},{"$f":"IF(Självskattning!C46=\"Ett mindre förändringsarbete behövs\",Självskattning!B46,\"\")","v":""},{"$f":"IF(Självskattning!C46=\"Ett mindre förändringsarbete behövs\",Självskattning!D46,\"\")","v":""}]
[null,{"$f":"IF(Självskattning!C47=\"Ett mindre förändringsarbete behövs\",Självskattning!A47,\"\")","v":""},{"$f":"IF(Självskattning!C47=\"Ett mindre förändringsarbete behövs\",Självskattning!B47,\"\")","v":""},{"$f":"IF(Självskattning!C47=\"Ett mindre förändringsarbete behövs\",Självskattning!D47,\"\")","v":""}]
[null,{"$f":"IF(Självskattning!C48=\"Ett mindre förändringsarbete behövs\",Självskattning!A48,\"\")","v":""},{"$f":"IF(Självskattning!C48=\"Ett mindre förändringsarbete behövs\",Självskattning!B48,\"\")","v":""},{"$f":"IF(Självskattning!C48=\"Ett mindre förändringsarbete behövs\",Självskattning!D48,\"\")","v":""}]
[null,{"$f":"IF(Självskattning!C49=\"Ett mindre förändringsarbete behövs\",Självskattning!A49,\"\")","v":""},{"$f":"IF(Självskattning!C49=\"Ett mindre förändringsarbete behövs\",Självskattning!B49,\"\")","v":""},{"$f":"IF(Självskattning!C49=\"Ett mindre förändringsarbete behövs\",Självskattning!D49,\"\")","v":""}]
[null,{"$f":"IF(Självskattning!C50=\"Ett mindre förändringsarbete behövs\",Självskattning!A50,\"\")","v":""},{"$f":"IF(Självskattning!C50=\"Ett mindre förändringsarbete behövs\",Självskattning!B50,\"\")","v":""},{"$f":"IF(Självskattning!C50=\"Ett mindre förändringsarbete behövs\",Självskattning!D50,\"\")","v":""}]
[null,{"$f":"IF(Självskattning!C51=\"Ett mindre förändringsarbete behövs\",Självskattning!A51,\"\")","v":""},{"$f":"IF(Självskattning!C51=\"Ett mindre förändringsarbete behövs\",Självskattning!B51,\"\")","v":""},{"$f":"IF(Självskattning!C51=\"Ett mindre förändringsarbete behövs\",Självskattning!D51,\"\")","v":""}]
[null,{"$f":"IF(Självskattning!C52=\"Ett mindre förändringsarbete behövs\",Självskattning!A52,\"\")","v":""},{"$f":"IF(Självskattning!C52=\"Ett mindre förändringsarbete behövs\",Självskattning!B52,\"\")","v":""},{"$f":"IF(Självskattning!C52=\"Ett mindre förändringsarbete behövs\",Självskattning!D52,\"\")","v":""}]
[null,{"$f":"IF(Självskattning!C53=\"Ett mindre förändringsarbete behövs\",Självskattning!A53,\"\")","v":""},{"$f":"IF(Självskattning!C53=\"Ett mindre förändringsarbete behövs\",Självskattning!B53,\"\")","v":""},{"$f":"IF(Självskattning!C53=\"Ett mindre förändringsarbete behövs\",Självskattning!D53,\"\")","v":""}]
[null,{"$f":"IF(Självskattning!C54=\"Ett mindre förändringsarbete behövs\",Självskattning!A54,\"\")","v":""},{"$f":"IF(Självskattning!C54=\"Ett mindre förändringsarbete behövs\",Självskattning!B54,\"\")","v":""},{"$f":"IF(Självskattning!C54=\"Ett mindre förändringsarbete behövs\",Självskattning!D54,\"\")","v":""}]
[null,{"$f":"IF(Självskattning!C55=\"Ett mindre förändringsarbete behövs\",Självskattning!A55,\"\")","v":""},{"$f":"IF(Självskattning!C55=\"Ett mindre förändringsarbete behövs\",Självskattning!B55,\"\")","v":""},{"$f":"IF(Självskattning!C55=\"Ett mindre förändringsarbete behövs\",Självskattning!D55,\"\")","v":""}]
[null,{"$f":"IF(Självskattning!C56=\"Ett mindre förändringsarbete behövs\",Självskattning!A56,\"\")","v":""},{"$f":"IF(Självskattning!C56=\"Ett mindre förändringsarbete behövs\",Självskattning!B56,\"\")","v":""},{"$f":"IF(Självskattning!C56=\"Ett mindre förändringsarbete behövs\",Självskattning!D56,\"\")","v":""}]
[null,{"$f":"IF(Självskattning!C57=\"Ett mindre förändringsarbete behövs\",Självskattning!A57,\"\")","v":""},{"$f":"IF(Självskattning!C57=\"Ett mindre förändringsarbete behövs\",Självskattning!B57,\"\")","v":""},{"$f":"IF(Självskattning!C57=\"Ett mindre förändringsarbete behövs\",Självskattning!D57,\"\")","v":""}]
[null,{"$f":"IF(Självskattning!C58=\"Ett mindre förändringsarbete behövs\",Självskattning!A58,\"\")","v":""},{"$f":"IF(Självskattning!C58=\"Ett mindre förändringsarbete behövs\",Självskattning!B58,\"\")","v":""},{"$f":"IF(Självskattning!C58=\"Ett mindre förändringsarbete behövs\",Självskattning!D58,\"\")","v":""}]
[null,{"$f":"IF(Självskattning!C59=\"Ett mindre förändringsarbete behövs\",Självskattning!A59,\"\")","v":""},{"$f":"IF(Självskattning!C59=\"Ett mindre förändringsarbete behövs\",Självskattning!B59,\"\")","v":""},{"$f":"IF(Självskattning!C59=\"Ett mindre förändringsarbete behövs\",Självskattning!D59,\"\")","v":""}]
[null,{"$f":"IF(Självskattning!C60=\"Ett mindre förändringsarbete behövs\",Självskattning!A60,\"\")","v":""},{"$f":"IF(Självskattning!C60=\"Ett mindre förändringsarbete behövs\",Självskattning!B60,\"\")","v":""},{"$f":"IF(Självskattning!C60=\"Ett mindre förändringsarbete behövs\",Självskattning!D60,\"\")","v":""}]
[null,{"$f":"IF(Självskattning!C61=\"Ett mindre förändringsarbete behövs\",Självskattning!A61,\"\")","v":""},{"$f":"IF(Självskattning!C61=\"Ett mindre förändringsarbete behövs\",Självskattning!B61,\"\")","v":""},{"$f":"IF(Självskattning!C61=\"Ett mindre förändringsarbete behövs\",Självskattning!D61,\"\")","v":""}]
[null,{"$f":"IF(Självskattning!C62=\"Ett mindre förändringsarbete behövs\",Självskattning!A62,\"\")","v":""},{"$f":"IF(Självskattning!C62=\"Ett mindre förändringsarbete behövs\",Självskattning!B62,\"\")","v":""},{"$f":"IF(Självskattning!C62=\"Ett mindre förändringsarbete behövs\",Självskattning!D62,\"\")","v":""}]
[null,{"$f":"IF(Självskattning!C63=\"Ett mindre förändringsarbete behövs\",Självskattning!A63,\"\")","v":""},{"$f":"IF(Självskattning!C63=\"Ett mindre förändringsarbete behövs\",Självskattning!B63,\"\")","v":""},{"$f":"IF(Självskattning!C63=\"Ett mindre förändringsarbete behövs\",Självskattning!D63,\"\")","v":""}]
[null,{"$f":"IF(Självskattning!C64=\"Ett mindre förändringsarbete behövs\",Självskattning!A64,\"\")","v":""},{"$f":"IF(Självskattning!C64=\"Ett mindre förändringsarbete behövs\",Självskattning!B64,\"\")","v":""},{"$f":"IF(Självskattning!C64=\"Ett mindre förändringsarbete behövs\",Självskattning!D64,\"\")","v":""}]
[null,{"$f":"IF(Självskattning!C65=\"Ett mindre förändringsarbete behövs\",Självskattning!A65,\"\")","v":""},{"$f":"IF(Självskattning!C65=\"Ett mindre förändringsarbete behövs\",Självskattning!B65,\"\")","v":""},{"$f":"IF(Självskattning!C65=\"Ett mindre förändringsarbete behövs\",Självskattning!D65,\"\")","v":""}]
[null,{"$f":"IF(Självskattning!C66=\"Ett mindre förändringsarbete behövs\",Självskattning!A66,\"\")","v":""},{"$f":"IF(Självskattning!C66=\"Ett mindre förändringsarbete behövs\",Självskattning!B66,\"\")","v":""},{"$f":"IF(Självskattning!C66=\"Ett mindre förändringsarbete behövs\",Självskattning!D66,\"\")","v":""}]
[null,{"$f":"IF(Självskattning!C67=\"Ett mindre förändringsarbete behövs\",Självskattning!A67,\"\")","v":""},{"$f":"IF(Självskattning!C67=\"Ett mindre förändringsarbete behövs\",Självskattning!B67,\"\")","v":""},{"$f":"IF(Självskattning!C67=\"Ett mindre förändringsarbete behövs\",Självskattning!D67,\"\")","v":""}]
[null,{"$f":"IF(Självskattning!C68=\"Ett mindre förändringsarbete behövs\",Självskattning!A68,\"\")","v":""},{"$f":"IF(Självskattning!C68=\"Ett mindre förändringsarbete behövs\",Självskattning!B68,\"\")","v":""},{"$f":"IF(Självskattning!C68=\"Ett mindre förändringsarbete behövs\",Självskattning!D68,\"\")","v":""}]
[null,{"$f":"IF(Självskattning!C69=\"Ett mindre förändringsarbete behövs\",Självskattning!A69,\"\")","v":""},{"$f":"IF(Självskattning!C69=\"Ett mindre förändringsarbete behövs\",Självskattning!B69,\"\")","v":""},{"$f":"IF(Självskattning!C69=\"Ett mindre förändringsarbete behövs\",Självskattning!D69,\"\")","v":""}]
[null,{"$f":"IF(Självskattning!C70=\"Ett mindre förändringsarbete behövs\",Självskattning!A70,\"\")","v":""},{"$f":"IF(Självskattning!C70=\"Ett mindre förändringsarbete behövs\",Självskattning!B70,\"\")","v":""},{"$f":"IF(Självskattning!C70=\"Ett mindre förändringsarbete behövs\",Självskattning!D70,\"\")","v":""}]
[null,{"$f":"IF(Självskattning!C71=\"Ett mindre förändringsarbete behövs\",Självskattning!A71,\"\")","v":""},{"$f":"IF(Självskattning!C71=\"Ett mindre förändringsarbete behövs\",Självskattning!B71,\"\")","v":""},{"$f":"IF(Självskattning!C71=\"Ett mindre förändringsarbete behövs\",Självskattning!D71,\"\")","v":""}]
[null,{"$f":"IF(Självskattning!C72=\"Ett mindre förändringsarbete behövs\",Självskattning!A72,\"\")","v":""},{"$f":"IF(Självskattning!C72=\"Ett mindre förändringsarbete behövs\",Självskattning!B72,\"\")","v":""},{"$f":"IF(Självskattning!C72=\"Ett mindre förändringsarbete behövs\",Självskattning!D72,\"\")","v":""}]
[null,{"$f":"IF(Självskattning!C73=\"Ett mindre förändringsarbete behövs\",Självskattning!A73,\"\")","v":""},{"$f":"IF(Självskattning!C73=\"Ett mindre förändringsarbete behövs\",Självskattning!B73,\"\")","v":""},{"$f":"IF(Självskattning!C73=\"Ett mindre förändringsarbete behövs\",Självskattning!D73,\"\")","v":""}]
[null,{"$f":"IF(Självskattning!C74=\"Ett mindre förändringsarbete behövs\",Självskattning!A74,\"\")","v":""},{"$f":"IF(Självskattning!C74=\"Ett mindre förändringsarbete behövs\",Självskattning!B74,\"\")","v":""},{"$f":"IF(Självskattning!C74=\"Ett mindre förändringsarbete behövs\",Självskattning!D74,\"\")","v":""}]
[null,{"$f":"IF(Självskattning!C75=\"Ett mindre förändringsarbete behövs\",Självskattning!A75,\"\")","v":""},{"$f":"IF(Självskattning!C75=\"Ett mindre förändringsarbete behövs\",Självskattning!B75,\"\")","v":""},{"$f":"IF(Självskattning!C75=\"Ett mindre förändringsarbete behövs\",Självskattning!D75,\"\")","v":""}]
[null,{"$f":"IF(Självskattning!C76=\"Ett mindre förändringsarbete behövs\",Självskattning!A76,\"\")","v":""},{"$f":"IF(Självskattning!C76=\"Ett mindre förändringsarbete behövs\",Självskattning!B76,\"\")","v":""},{"$f":"IF(Självskattning!C76=\"Ett mindre förändringsarbete behövs\",Självskattning!D76,\"\")","v":""}]
[null,{"$f":"IF(Självskattning!C77=\"Ett mindre förändringsarbete behövs\",Självskattning!A77,\"\")","v":""},{"$f":"IF(Självskattning!C77=\"Ett mindre förändringsarbete behövs\",Självskattning!B77,\"\")","v":""},{"$f":"IF(Självskattning!C77=\"Ett mindre förändringsarbete behövs\",Självskattning!D77,\"\")","v":""}]
[null,{"$f":"IF(Självskattning!C78=\"Ett mindre förändringsarbete behövs\",Självskattning!A78,\"\")","v":""},{"$f":"IF(Självskattning!C78=\"Ett mindre förändringsarbete behövs\",Självskattning!B78,\"\")","v":""},{"$f":"IF(Självskattning!C78=\"Ett mindre förändringsarbete behövs\",Självskattning!D78,\"\")","v":""}]
[null,{"$f":"IF(Självskattning!C79=\"Ett mindre förändringsarbete behövs\",Självskattning!A79,\"\")","v":""},{"$f":"IF(Självskattning!C79=\"Ett mindre förändringsarbete behövs\",Självskattning!B79,\"\")","v":""},{"$f":"IF(Självskattning!C79=\"Ett mindre förändringsarbete behövs\",Självskattning!D79,\"\")","v":""}]
[null,{"$f":"IF(Självskattning!C80=\"Ett mindre förändringsarbete behövs\",Självskattning!A80,\"\")","v":""},{"$f":"IF(Självskattning!C80=\"Ett mindre förändringsarbete behövs\",Självskattning!B80,\"\")","v":""},{"$f":"IF(Självskattning!C80=\"Ett mindre förändringsarbete behövs\",Självskattning!D80,\"\")","v":""}]
[null,{"$f":"IF(Självskattning!C81=\"Ett mindre förändringsarbete behövs\",Självskattning!A81,\"\")","v":""},{"$f":"IF(Självskattning!C81=\"Ett mindre förändringsarbete behövs\",Självskattning!B81,\"\")","v":""},{"$f":"IF(Självskattning!C81=\"Ett mindre förändringsarbete behövs\",Självskattning!D81,\"\")","v":""}]
[null,{"$f":"IF(Självskattning!C82=\"Ett mindre förändringsarbete behövs\",Självskattning!A82,\"\")","v":""},{"$f":"IF(Självskattning!C82=\"Ett mindre förändringsarbete behövs\",Självskattning!B82,\"\")","v":""},{"$f":"IF(Självskattning!C82=\"Ett mindre förändringsarbete behövs\",Självskattning!D82,\"\")","v":""}]
[null,{"$f":"IF(Självskattning!C83=\"Ett mindre förändringsarbete behövs\",Självskattning!A83,\"\")","v":""},{"$f":"IF(Självskattning!C83=\"Ett mindre förändringsarbete behövs\",Självskattning!B83,\"\")","v":""},{"$f":"IF(Självskattning!C83=\"Ett mindre förändringsarbete behövs\",Självskattning!D83,\"\")","v":""}]
[null,{"$f":"IF(Självskattning!C84=\"Ett mindre förändringsarbete behövs\",Självskattning!A84,\"\")","v":""},{"$f":"IF(Självskattning!C84=\"Ett mindre förändringsarbete behövs\",Självskattning!B84,\"\")","v":""},{"$f":"IF(Självskattning!C84=\"Ett mindre förändringsarbete behövs\",Självskattning!D84,\"\")","v":""}]
[null,{"$f":"IF(Självskattning!C85=\"Ett mindre förändringsarbete behövs\",Självskattning!A85,\"\")","v":""},{"$f":"IF(Självskattning!C85=\"Ett mindre förändringsarbete behövs\",Självskattning!B85,\"\")","v":""},{"$f":"IF(Självskattning!C85=\"Ett mindre förändringsarbete behövs\",Självskattning!D85,\"\")","v":""}]
[null,{"$f":"IF(Självskattning!C86=\"Ett mindre förändringsarbete behövs\",Självskattning!A86,\"\")","v":""},{"$f":"IF(Självskattning!C86=\"Ett mindre förändringsarbete behövs\",Självskattning!B86,\"\")","v":""},{"$f":"IF(Självskattning!C86=\"Ett mindre förändringsarbete behövs\",Självskattning!D86,\"\")","v":""}]
[null,{"$f":"IF(Självskattning!C87=\"Ett mindre förändringsarbete behövs\",Självskattning!A87,\"\")","v":""},{"$f":"IF(Självskattning!C87=\"Ett mindre förändringsarbete behövs\",Självskattning!B87,\"\")","v":""},{"$f":"IF(Självskattning!C87=\"Ett mindre förändringsarbete behövs\",Självskattning!D87,\"\")","v":""}]
[null,{"$f":"IF(Självskattning!C88=\"Ett mindre förändringsarbete behövs\",Självskattning!A88,\"\")","v":""},{"$f":"IF(Självskattning!C88=\"Ett mindre förändringsarbete behövs\",Självskattning!B88,\"\")","v":""},{"$f":"IF(Självskattning!C88=\"Ett mindre förändringsarbete behövs\",Självskattning!D88,\"\")","v":""}]
[null,{"$f":"IF(Självskattning!C89=\"Ett mindre förändringsarbete behövs\",Självskattning!A89,\"\")","v":""},{"$f":"IF(Självskattning!C89=\"Ett mindre förändringsarbete behövs\",Självskattning!B89,\"\")","v":""},{"$f":"IF(Självskattning!C89=\"Ett mindre förändringsarbete behövs\",Självskattning!D89,\"\")","v":""}]
[null,{"$f":"IF(Självskattning!C90=\"Ett mindre förändringsarbete behövs\",Självskattning!A90,\"\")","v":""},{"$f":"IF(Självskattning!C90=\"Ett mindre förändringsarbete behövs\",Självskattning!B90,\"\")","v":""},{"$f":"IF(Självskattning!C90=\"Ett mindre förändringsarbete behövs\",Självskattning!D90,\"\")","v":""}]
[null,{"$f":"IF(Självskattning!C91=\"Ett mindre förändringsarbete behövs\",Självskattning!A91,\"\")","v":""},{"$f":"IF(Självskattning!C91=\"Ett mindre förändringsarbete behövs\",Självskattning!B91,\"\")","v":""},{"$f":"IF(Självskattning!C91=\"Ett mindre förändringsarbete behövs\",Självskattning!D91,\"\")","v":""}]
[null,{"$f":"IF(Självskattning!C92=\"Ett mindre förändringsarbete behövs\",Självskattning!A92,\"\")","v":""},{"$f":"IF(Självskattning!C92=\"Ett mindre förändringsarbete behövs\",Självskattning!B92,\"\")","v":""},{"$f":"IF(Självskattning!C92=\"Ett mindre förändringsarbete behövs\",Självskattning!D92,\"\")","v":""}]
[null,{"$f":"IF(Självskattning!C93=\"Ett mindre förändringsarbete behövs\",Självskattning!A93,\"\")","v":""},{"$f":"IF(Självskattning!C93=\"Ett mindre förändringsarbete behövs\",Självskattning!B93,\"\")","v":""},{"$f":"IF(Självskattning!C93=\"Ett mindre förändringsarbete behövs\",Självskattning!D93,\"\")","v":""}]
[null,{"$f":"IF(Självskattning!C94=\"Ett mindre förändringsarbete behövs\",Självskattning!A94,\"\")","v":""},{"$f":"IF(Självskattning!C94=\"Ett mindre förändringsarbete behövs\",Självskattning!B94,\"\")","v":""},{"$f":"IF(Självskattning!C94=\"Ett mindre förändringsarbete behövs\",Självskattning!D94,\"\")","v":""}]
[null,{"$f":"IF(Självskattning!C95=\"Ett mindre förändringsarbete behövs\",Självskattning!A95,\"\")","v":""},{"$f":"IF(Självskattning!C95=\"Ett mindre förändringsarbete behövs\",Självskattning!B95,\"\")","v":""},{"$f":"IF(Självskattning!C95=\"Ett mindre förändringsarbete behövs\",Självskattning!D95,\"\")","v":""}]
[null,{"$f":"IF(Självskattning!C96=\"Ett mindre förändringsarbete behövs\",Självskattning!A96,\"\")","v":""},{"$f":"IF(Självskattning!C96=\"Ett mindre förändringsarbete behövs\",Självskattning!B96,\"\")","v":""},{"$f":"IF(Självskattning!C96=\"Ett mindre förändringsarbete behövs\",Självskattning!D96,\"\")","v":""}]
[null,{"$f":"IF(Självskattning!C97=\"Ett mindre förändringsarbete behövs\",Självskattning!A97,\"\")","v":""},{"$f":"IF(Självskattning!C97=\"Ett mindre förändringsarbete behövs\",Självskattning!B97,\"\")","v":""},{"$f":"IF(Självskattning!C97=\"Ett mindre förändringsarbete behövs\",Självskattning!D97,\"\")","v":""}]
[null,{"$f":"IF(Självskattning!C98=\"Ett mindre förändringsarbete behövs\",Självskattning!A98,\"\")","v":""},{"$f":"IF(Självskattning!C98=\"Ett mindre förändringsarbete behövs\",Självskattning!B98,\"\")","v":""},{"$f":"IF(Självskattning!C98=\"Ett mindre förändringsarbete behövs\",Självskattning!D98,\"\")","v":""}]
[null,{"$f":"IF(Självskattning!C99=\"Ett mindre förändringsarbete behövs\",Självskattning!A99,\"\")","v":""},{"$f":"IF(Självskattning!C99=\"Ett mindre förändringsarbete behövs\",Självskattning!B99,\"\")","v":""},{"$f":"IF(Självskattning!C99=\"Ett mindre förändringsarbete behövs\",Självskattning!D99,\"\")","v":""}]
[null,{"$f":"IF(Självskattning!C100=\"Ett mindre förändringsarbete behövs\",Självskattning!A100,\"\")","v":""},{"$f":"IF(Självskattning!C100=\"Ett mindre förändringsarbete behövs\",Självskattning!B100,\"\")","v":""},{"$f":"IF(Självskattning!C100=\"Ett mindre förändringsarbete behövs\",Självskattning!D100,\"\")","v":""}]
[null,{"$f":"IF(Självskattning!C101=\"Ett mindre förändringsarbete behövs\",Självskattning!A101,\"\")","v":""},{"$f":"IF(Självskattning!C101=\"Ett mindre förändringsarbete behövs\",Självskattning!B101,\"\")","v":""},{"$f":"IF(Självskattning!C101=\"Ett mindre förändringsarbete behövs\",Självskattning!D101,\"\")","v":""}]
[null,{"$f":"IF(Självskattning!C102=\"Ett mindre förändringsarbete behövs\",Självskattning!A102,\"\")","v":""},{"$f":"IF(Självskattning!C102=\"Ett mindre förändringsarbete behövs\",Självskattning!B102,\"\")","v":""},{"$f":"IF(Självskattning!C102=\"Ett mindre förändringsarbete behövs\",Självskattning!D102,\"\")","v":""}]
[null,{"$f":"IF(Självskattning!C103=\"Ett mindre förändringsarbete behövs\",Självskattning!A103,\"\")","v":""},{"$f":"IF(Självskattning!C103=\"Ett mindre förändringsarbete behövs\",Självskattning!B103,\"\")","v":""},{"$f":"IF(Självskattning!C103=\"Ett mindre förändringsarbete behövs\",Självskattning!D103,\"\")","v":""}]
[null,{"$f":"IF(Självskattning!C104=\"Ett mindre förändringsarbete behövs\",Självskattning!A104,\"\")","v":""},{"$f":"IF(Självskattning!C104=\"Ett mindre förändringsarbete behövs\",Självskattning!B104,\"\")","v":""},{"$f":"IF(Självskattning!C104=\"Ett mindre förändringsarbete behövs\",Självskattning!D104,\"\")","v":""}]
[null,{"$f":"IF(Självskattning!C105=\"Ett mindre förändringsarbete behövs\",Självskattning!A105,\"\")","v":""},{"$f":"IF(Självskattning!C105=\"Ett mindre förändringsarbete behövs\",Självskattning!B105,\"\")","v":""},{"$f":"IF(Självskattning!C105=\"Ett mindre förändringsarbete behövs\",Självskattning!D105,\"\")","v":""}]
[null,{"$f":"IF(Självskattning!C106=\"Ett mindre förändringsarbete behövs\",Självskattning!A106,\"\")","v":""},{"$f":"IF(Självskattning!C106=\"Ett mindre förändringsarbete behövs\",Självskattning!B106,\"\")","v":""},{"$f":"IF(Självskattning!C106=\"Ett mindre förändringsarbete behövs\",Självskattning!D106,\"\")","v":""}]
[null,{"$f":"IF(Självskattning!C107=\"Ett mindre förändringsarbete behövs\",Självskattning!A107,\"\")","v":""},{"$f":"IF(Självskattning!C107=\"Ett mindre förändringsarbete behövs\",Självskattning!B107,\"\")","v":""},{"$f":"IF(Självskattning!C107=\"Ett mindre förändringsarbete behövs\",Självskattning!D107,\"\")","v":""}]
[null,{"$f":"IF(Självskattning!C108=\"Ett mindre förändringsarbete behövs\",Självskattning!A108,\"\")","v":""},{"$f":"IF(Självskattning!C108=\"Ett mindre förändringsarbete behövs\",Självskattning!B108,\"\")","v":""},{"$f":"IF(Självskattning!C108=\"Ett mindre förändringsarbete behövs\",Självskattning!D108,\"\")","v":""}]
[null,{"$f":"IF(Självskattning!C109=\"Ett mindre förändringsarbete behövs\",Självskattning!A109,\"\")","v":""},{"$f":"IF(Självskattning!C109=\"Ett mindre förändringsarbete behövs\",Självskattning!B109,\"\")","v":""},{"$f":"IF(Självskattning!C109=\"Ett mindre förändringsarbete behövs\",Självskattning!D109,\"\")","v":""}]
[null,{"$f":"IF(Självskattning!C110=\"Ett mindre förändringsarbete behövs\",Självskattning!A110,\"\")","v":""},{"$f":"IF(Självskattning!C110=\"Ett mindre förändringsarbete behövs\",Självskattning!B110,\"\")","v":""},{"$f":"IF(Självskattning!C110=\"Ett mindre förändringsarbete behövs\",Självskattning!D110,\"\")","v":""}]
[null,{"$f":"IF(Självskattning!C111=\"Ett mindre förändringsarbete behövs\",Självskattning!A111,\"\")","v":""},{"$f":"IF(Självskattning!C111=\"Ett mindre förändringsarbete behövs\",Självskattning!B111,\"\")","v":""},{"$f":"IF(Självskattning!C111=\"Ett mindre förändringsarbete behövs\",Självskattning!D111,\"\")","v":""}]
[null,{"$f":"IF(Självskattning!C112=\"Ett mindre förändringsarbete behövs\",Självskattning!A112,\"\")","v":""},{"$f":"IF(Självskattning!C112=\"Ett mindre förändringsarbete behövs\",Självskattning!B112,\"\")","v":""},{"$f":"IF(Självskattning!C112=\"Ett mindre förändringsarbete behövs\",Självskattning!D112,\"\")","v":""}]
[null,{"$f":"IF(Självskattning!C113=\"Ett mindre förändringsarbete behövs\",Självskattning!A113,\"\")","v":""},{"$f":"IF(Självskattning!C113=\"Ett mindre förändringsarbete behövs\",Självskattning!B113,\"\")","v":""},{"$f":"IF(Självskattning!C113=\"Ett mindre förändringsarbete behövs\",Självskattning!D113,\"\")","v":""}]
[null,{"$f":"IF(Självskattning!C114=\"Ett mindre förändringsarbete behövs\",Självskattning!A114,\"\")","v":""},{"$f":"IF(Självskattning!C114=\"Ett mindre förändringsarbete behövs\",Självskattning!B114,\"\")","v":""},{"$f":"IF(Självskattning!C114=\"Ett mindre förändringsarbete behövs\",Självskattning!D114,\"\")","v":""}]
[null,{"$f":"IF(Självskattning!C115=\"Ett mindre förändringsarbete behövs\",Självskattning!A115,\"\")","v":""},{"$f":"IF(Självskattning!C115=\"Ett mindre förändringsarbete behövs\",Självskattning!B115,\"\")","v":""},{"$f":"IF(Självskattning!C115=\"Ett mindre förändringsarbete behövs\",Självskattning!D115,\"\")","v":""}]
[null,{"$f":"IF(Självskattning!C116=\"Ett mindre förändringsarbete behövs\",Självskattning!A116,\"\")","v":""},{"$f":"IF(Självskattning!C116=\"Ett mindre förändringsarbete behövs\",Självskattning!B116,\"\")","v":""},{"$f":"IF(Självskattning!C116=\"Ett mindre förändringsarbete behövs\",Självskattning!D116,\"\")","v":""}]
[null,{"$f":"IF(Självskattning!C117=\"Ett mindre förändringsarbete behövs\",Självskattning!A117,\"\")","v":""},{"$f":"IF(Självskattning!C117=\"Ett mindre förändringsarbete behövs\",Självskattning!B117,\"\")","v":""},{"$f":"IF(Självskattning!C117=\"Ett mindre förändringsarbete behövs\",Självskattning!D117,\"\")","v":""}]
[null,{"$f":"IF(Självskattning!C118=\"Ett mindre förändringsarbete behövs\",Självskattning!A118,\"\")","v":""},{"$f":"IF(Självskattning!C118=\"Ett mindre förändringsarbete behövs\",Självskattning!B118,\"\")","v":""},{"$f":"IF(Självskattning!C118=\"Ett mindre förändringsarbete behövs\",Självskattning!D118,\"\")","v":""}]
[null,{"$f":"IF(Självskattning!C119=\"Ett mindre förändringsarbete behövs\",Självskattning!A119,\"\")","v":""},{"$f":"IF(Självskattning!C119=\"Ett mindre förändringsarbete behövs\",Självskattning!B119,\"\")","v":""},{"$f":"IF(Självskattning!C119=\"Ett mindre förändringsarbete behövs\",Självskattning!D119,\"\")","v":""}]
[null,{"$f":"IF(Självskattning!C120=\"Ett mindre förändringsarbete behövs\",Självskattning!A120,\"\")","v":""},{"$f":"IF(Självskattning!C120=\"Ett mindre förändringsarbete behövs\",Självskattning!B120,\"\")","v":""},{"$f":"IF(Självskattning!C120=\"Ett mindre förändringsarbete behövs\",Självskattning!D120,\"\")","v":""}]
[null,{"$f":"IF(Självskattning!C121=\"Ett mindre förändringsarbete behövs\",Självskattning!A121,\"\")","v":""},{"$f":"IF(Självskattning!C121=\"Ett mindre förändringsarbete behövs\",Självskattning!B121,\"\")","v":""},{"$f":"IF(Självskattning!C121=\"Ett mindre förändringsarbete behövs\",Självskattning!D121,\"\")","v":""}]
[null,{"$f":"IF(Självskattning!C122=\"Ett mindre förändringsarbete behövs\",Självskattning!A122,\"\")","v":""},{"$f":"IF(Självskattning!C122=\"Ett mindre förändringsarbete behövs\",Självskattning!B122,\"\")","v":""},{"$f":"IF(Självskattning!C122=\"Ett mindre förändringsarbete behövs\",Självskattning!D122,\"\")","v":""}]
[null,{"$f":"IF(Självskattning!C123=\"Ett mindre förändringsarbete behövs\",Självskattning!A123,\"\")","v":""},{"$f":"IF(Självskattning!C123=\"Ett mindre förändringsarbete behövs\",Självskattning!B123,\"\")","v":""},{"$f":"IF(Självskattning!C123=\"Ett mindre förändringsarbete behövs\",Självskattning!D123,\"\")","v":""}]
[null,{"$f":"IF(Självskattning!C124=\"Ett mindre förändringsarbete behövs\",Självskattning!A124,\"\")","v":""},{"$f":"IF(Självskattning!C124=\"Ett mindre förändringsarbete behövs\",Självskattning!B124,\"\")","v":""},{"$f":"IF(Självskattning!C124=\"Ett mindre förändringsarbete behövs\",Självskattning!D124,\"\")","v":""}]
[null,{"$f":"IF(Självskattning!C125=\"Ett mindre förändringsarbete behövs\",Självskattning!A125,\"\")","v":""},{"$f":"IF(Självskattning!C125=\"Ett mindre förändringsarbete behövs\",Självskattning!B125,\"\")","v":""},{"$f":"IF(Självskattning!C125=\"Ett mindre förändringsarbete behövs\",Självskattning!D125,\"\")","v":""}]
[null,{"$f":"IF(Självskattning!C126=\"Ett mindre förändringsarbete behövs\",Självskattning!A126,\"\")","v":""},{"$f":"IF(Självskattning!C126=\"Ett mindre förändringsarbete behövs\",Självskattning!B126,\"\")","v":""},{"$f":"IF(Självskattning!C126=\"Ett mindre förändringsarbete behövs\",Självskattning!D126,\"\")","v":""}]
[null,{"$f":"IF(Självskattning!C127=\"Ett mindre förändringsarbete behövs\",Självskattning!A127,\"\")","v":""},{"$f":"IF(Självskattning!C127=\"Ett mindre förändringsarbete behövs\",Självskattning!B127,\"\")","v":""},{"$f":"IF(Självskattning!C127=\"Ett mindre förändringsarbete behövs\",Självskattning!D127,\"\")","v":""}]
[null,{"$f":"IF(Självskattning!C128=\"Ett mindre förändringsarbete behövs\",Självskattning!A128,\"\")","v":""},{"$f":"IF(Självskattning!C128=\"Ett mindre förändringsarbete behövs\",Självskattning!B128,\"\")","v":""},{"$f":"IF(Självskattning!C128=\"Ett mindre förändringsarbete behövs\",Självskattning!D128,\"\")","v":""}]
[null,{"$f":"IF(Självskattning!C129=\"Ett mindre förändringsarbete behövs\",Självskattning!A129,\"\")","v":""},{"$f":"IF(Självskattning!C129=\"Ett mindre förändringsarbete behövs\",Självskattning!B129,\"\")","v":""},{"$f":"IF(Självskattning!C129=\"Ett mindre förändringsarbete behövs\",Självskattning!D129,\"\")","v":""}]
[null,{"$f":"IF(Självskattning!C130=\"Ett mindre förändringsarbete behövs\",Självskattning!A130,\"\")","v":""},{"$f":"IF(Självskattning!C130=\"Ett mindre förändringsarbete behövs\",Självskattning!B130,\"\")","v":""},{"$f":"IF(Självskattning!C130=\"Ett mindre förändringsarbete behövs\",Självskattning!D130,\"\")","v":""}]
[null,{"$f":"IF(Självskattning!C131=\"Ett mindre förändringsarbete behövs\",Självskattning!A131,\"\")","v":""},{"$f":"IF(Självskattning!C131=\"Ett mindre förändringsarbete behövs\",Självskattning!B131,\"\")","v":""},{"$f":"IF(Självskattning!C131=\"Ett mindre förändringsarbete behövs\",Självskattning!D131,\"\")","v":""}]
[null,{"$f":"IF(Självskattning!C132=\"Ett mindre förändringsarbete behövs\",Självskattning!A132,\"\")","v":""},{"$f":"IF(Självskattning!C132=\"Ett mindre förändringsarbete behövs\",Självskattning!B132,\"\")","v":""},{"$f":"IF(Självskattning!C132=\"Ett mindre förändringsarbete behövs\",Självskattning!D132,\"\")","v":""}]
[null,{"$f":"IF(Självskattning!C133=\"Ett mindre förändringsarbete behövs\",Självskattning!A133,\"\")","v":""},{"$f":"IF(Självskattning!C133=\"Ett mindre förändringsarbete behövs\",Självskattning!B133,\"\")","v":""},{"$f":"IF(Självskattning!C133=\"Ett mindre förändringsarbete behövs\",Självskattning!D133,\"\")","v":""}]
[null,{"$f":"IF(Självskattning!C134=\"Ett mindre förändringsarbete behövs\",Självskattning!A134,\"\")","v":""},{"$f":"IF(Självskattning!C134=\"Ett mindre förändringsarbete behövs\",Självskattning!B134,\"\")","v":""},{"$f":"IF(Självskattning!C134=\"Ett mindre förändringsarbete behövs\",Självskattning!D134,\"\")","v":""}]
[null,{"$f":"IF(Självskattning!C135=\"Ett mindre förändringsarbete behövs\",Självskattning!A135,\"\")","v":""},{"$f":"IF(Självskattning!C135=\"Ett mindre förändringsarbete behövs\",Självskattning!B135,\"\")","v":""},{"$f":"IF(Självskattning!C135=\"Ett mindre förändringsarbete behövs\",Självskattning!D135,\"\")","v":""}]
[null,{"$f":"IF(Självskattning!C136=\"Ett mindre förändringsarbete behövs\",Självskattning!A136,\"\")","v":""},{"$f":"IF(Självskattning!C136=\"Ett mindre förändringsarbete behövs\",Självskattning!B136,\"\")","v":""},{"$f":"IF(Självskattning!C136=\"Ett mindre förändringsarbete behövs\",Självskattning!D136,\"\")","v":""}]
[null,{"$f":"IF(Självskattning!C137=\"Ett mindre förändringsarbete behövs\",Självskattning!A137,\"\")","v":""},{"$f":"IF(Självskattning!C137=\"Ett mindre förändringsarbete behövs\",Självskattning!B137,\"\")","v":""},{"$f":"IF(Självskattning!C137=\"Ett mindre förändringsarbete behövs\",Självskattning!D137,\"\")","v":""}]
[null,{"$f":"IF(Självskattning!C138=\"Ett mindre förändringsarbete behövs\",Självskattning!A138,\"\")","v":""},{"$f":"IF(Självskattning!C138=\"Ett mindre förändringsarbete behövs\",Självskattning!B138,\"\")","v":""},{"$f":"IF(Självskattning!C138=\"Ett mindre förändringsarbete behövs\",Självskattning!D138,\"\")","v":""}]
[null,{"$f":"IF(Självskattning!C139=\"Ett mindre förändringsarbete behövs\",Självskattning!A139,\"\")","v":""},{"$f":"IF(Självskattning!C139=\"Ett mindre förändringsarbete behövs\",Självskattning!B139,\"\")","v":""},{"$f":"IF(Självskattning!C139=\"Ett mindre förändringsarbete behövs\",Självskattning!D139,\"\")","v":""}]
[null,{"$f":"IF(Självskattning!C140=\"Ett mindre förändringsarbete behövs\",Självskattning!A140,\"\")","v":""},{"$f":"IF(Självskattning!C140=\"Ett mindre förändringsarbete behövs\",Självskattning!B140,\"\")","v":""},{"$f":"IF(Självskattning!C140=\"Ett mindre förändringsarbete behövs\",Självskattning!D140,\"\")","v":""}]
[null,{"$f":"IF(Självskattning!C141=\"Ett mindre förändringsarbete behövs\",Självskattning!A141,\"\")","v":""},{"$f":"IF(Självskattning!C141=\"Ett mindre förändringsarbete behövs\",Självskattning!B141,\"\")","v":""},{"$f":"IF(Självskattning!C141=\"Ett mindre förändringsarbete behövs\",Självskattning!D141,\"\")","v":""}]
[null,{"$f":"IF(Självskattning!C142=\"Ett mindre förändringsarbete behövs\",Självskattning!A142,\"\")","v":""},{"$f":"IF(Självskattning!C142=\"Ett mindre förändringsarbete behövs\",Självskattning!B142,\"\")","v":""},{"$f":"IF(Självskattning!C142=\"Ett mindre förändringsarbete behövs\",Självskattning!D142,\"\")","v":""}]
[null,{"$f":"IF(Självskattning!C143=\"Ett mindre förändringsarbete behövs\",Självskattning!A143,\"\")","v":""},{"$f":"IF(Självskattning!C143=\"Ett mindre förändringsarbete behövs\",Självskattning!B143,\"\")","v":""},{"$f":"IF(Självskattning!C143=\"Ett mindre förändringsarbete behövs\",Självskattning!D143,\"\")","v":""}]
[null,{"$f":"IF(Självskattning!C144=\"Ett mindre förändringsarbete behövs\",Självskattning!A144,\"\")","v":""},{"$f":"IF(Självskattning!C144=\"Ett mindre förändringsarbete behövs\",Självskattning!B144,\"\")","v":""},{"$f":"IF(Självskattning!C144=\"Ett mindre förändringsarbete behövs\",Självskattning!D144,\"\")","v":""}]
[null,{"$f":"IF(Självskattning!C145=\"Ett mindre förändringsarbete behövs\",Självskattning!A145,\"\")","v":""},{"$f":"IF(Självskattning!C145=\"Ett mindre förändringsarbete behövs\",Självskattning!B145,\"\")","v":""},{"$f":"IF(Självskattning!C145=\"Ett mindre förändringsarbete behövs\",Självskattning!D145,\"\")","v":""}]
[null,{"$f":"IF(Självskattning!C146=\"Ett mindre förändringsarbete behövs\",Självskattning!A146,\"\")","v":""},{"$f":"IF(Självskattning!C146=\"Ett mindre förändringsarbete behövs\",Självskattning!B146,\"\")","v":""},{"$f":"IF(Självskattning!C146=\"Ett mindre förändringsarbete behövs\",Självskattning!D146,\"\")","v":""}]
[null,{"$f":"IF(Självskattning!C147=\"Ett mindre förändringsarbete behövs\",Självskattning!A147,\"\")","v":""},{"$f":"IF(Självskattning!C147=\"Ett mindre förändringsarbete behövs\",Självskattning!B147,\"\")","v":""},{"$f":"IF(Självskattning!C147=\"Ett mindre förändringsarbete behövs\",Självskattning!D147,\"\")","v":""}]
[null,{"$f":"IF(Självskattning!C148=\"Ett mindre förändringsarbete behövs\",Självskattning!A148,\"\")","v":""},{"$f":"IF(Självskattning!C148=\"Ett mindre förändringsarbete behövs\",Självskattning!B148,\"\")","v":""},{"$f":"IF(Självskattning!C148=\"Ett mindre förändringsarbete behövs\",Självskattning!D148,\"\")","v":""}]
[null,{"$f":"IF(Självskattning!C149=\"Ett mindre förändringsarbete behövs\",Självskattning!A149,\"\")","v":""},{"$f":"IF(Självskattning!C149=\"Ett mindre förändringsarbete behövs\",Självskattning!B149,\"\")","v":""},{"$f":"IF(Självskattning!C149=\"Ett mindre förändringsarbete behövs\",Självskattning!D149,\"\")","v":""}]
[null,{"$f":"IF(Självskattning!C150=\"Ett mindre förändringsarbete behövs\",Självskattning!A150,\"\")","v":""},{"$f":"IF(Självskattning!C150=\"Ett mindre förändringsarbete behövs\",Självskattning!B150,\"\")","v":""},{"$f":"IF(Självskattning!C150=\"Ett mindre förändringsarbete behövs\",Självskattning!D150,\"\")","v":""}]
[null,{"$f":"IF(Självskattning!C151=\"Ett mindre förändringsarbete behövs\",Självskattning!A151,\"\")","v":""},{"$f":"IF(Självskattning!C151=\"Ett mindre förändringsarbete behövs\",Självskattning!B151,\"\")","v":""},{"$f":"IF(Självskattning!C151=\"Ett mindre förändringsarbete behövs\",Självskattning!D151,\"\")","v":""}]
[null,{"$f":"IF(Självskattning!C152=\"Ett mindre förändringsarbete behövs\",Självskattning!A152,\"\")","v":""},{"$f":"IF(Självskattning!C152=\"Ett mindre förändringsarbete behövs\",Självskattning!B152,\"\")","v":""},{"$f":"IF(Självskattning!C152=\"Ett mindre förändringsarbete behövs\",Självskattning!D152,\"\")","v":""}]
[null,{"$f":"IF(Självskattning!C153=\"Ett mindre förändringsarbete behövs\",Självskattning!A153,\"\")","v":""},{"$f":"IF(Självskattning!C153=\"Ett mindre förändringsarbete behövs\",Självskattning!B153,\"\")","v":""},{"$f":"IF(Självskattning!C153=\"Ett mindre förändringsarbete behövs\",Självskattning!D153,\"\")","v":""}]
[null,{"$f":"IF(Självskattning!C154=\"Ett mindre förändringsarbete behövs\",Självskattning!A154,\"\")","v":""},{"$f":"IF(Självskattning!C154=\"Ett mindre förändringsarbete behövs\",Självskattning!B154,\"\")","v":""},{"$f":"IF(Självskattning!C154=\"Ett mindre förändringsarbete behövs\",Självskattning!D154,\"\")","v":""}]
[null,{"$f":"IF(Självskattning!C155=\"Ett mindre förändringsarbete behövs\",Självskattning!A155,\"\")","v":""},{"$f":"IF(Självskattning!C155=\"Ett mindre förändringsarbete behövs\",Självskattning!B155,\"\")","v":""},{"$f":"IF(Självskattning!C155=\"Ett mindre förändringsarbete behövs\",Självskattning!D155,\"\")","v":""}]
[null,{"$f":"IF(Självskattning!C156=\"Ett mindre förändringsarbete behövs\",Självskattning!A156,\"\")","v":""},{"$f":"IF(Självskattning!C156=\"Ett mindre förändringsarbete behövs\",Självskattning!B156,\"\")","v":""},{"$f":"IF(Självskattning!C156=\"Ett mindre förändringsarbete behövs\",Självskattning!D156,\"\")","v":""}]
[null,{"$f":"IF(Självskattning!C157=\"Ett mindre förändringsarbete behövs\",Självskattning!A157,\"\")","v":""},{"$f":"IF(Självskattning!C157=\"Ett mindre förändringsarbete behövs\",Självskattning!B157,\"\")","v":""},{"$f":"IF(Självskattning!C157=\"Ett mindre förändringsarbete behövs\",Självskattning!D157,\"\")","v":""}]
[null,{"$f":"IF(Självskattning!C158=\"Ett mindre förändringsarbete behövs\",Självskattning!A158,\"\")","v":""},{"$f":"IF(Självskattning!C158=\"Ett mindre förändringsarbete behövs\",Självskattning!B158,\"\")","v":""},{"$f":"IF(Självskattning!C158=\"Ett mindre förändringsarbete behövs\",Självskattning!D158,\"\")","v":""}]
[null,{"$f":"IF(Självskattning!C159=\"Ett mindre förändringsarbete behövs\",Självskattning!A159,\"\")","v":""},{"$f":"IF(Självskattning!C159=\"Ett mindre förändringsarbete behövs\",Självskattning!B159,\"\")","v":""},{"$f":"IF(Självskattning!C159=\"Ett mindre förändringsarbete behövs\",Självskattning!D159,\"\")","v":""}]
[null,{"$f":"IF(Självskattning!C160=\"Ett mindre förändringsarbete behövs\",Självskattning!A160,\"\")","v":""},{"$f":"IF(Självskattning!C160=\"Ett mindre förändringsarbete behövs\",Självskattning!B160,\"\")","v":""},{"$f":"IF(Självskattning!C160=\"Ett mindre förändringsarbete behövs\",Självskattning!D160,\"\")","v":""}]
[null,{"$f":"IF(Självskattning!C161=\"Ett mindre förändringsarbete behövs\",Självskattning!A161,\"\")","v":""},{"$f":"IF(Självskattning!C161=\"Ett mindre förändringsarbete behövs\",Självskattning!B161,\"\")","v":""},{"$f":"IF(Självskattning!C161=\"Ett mindre förändringsarbete behövs\",Självskattning!D161,\"\")","v":""}]
[null,{"$f":"IF(Självskattning!C162=\"Ett mindre förändringsarbete behövs\",Självskattning!A162,\"\")","v":""},{"$f":"IF(Självskattning!C162=\"Ett mindre förändringsarbete behövs\",Självskattning!B162,\"\")","v":""},{"$f":"IF(Självskattning!C162=\"Ett mindre förändringsarbete behövs\",Självskattning!D162,\"\")","v":""}]
[null,{"$f":"IF(Självskattning!C163=\"Ett mindre förändringsarbete behövs\",Självskattning!A163,\"\")","v":""},{"$f":"IF(Självskattning!C163=\"Ett mindre förändringsarbete behövs\",Självskattning!B163,\"\")","v":""},{"$f":"IF(Självskattning!C163=\"Ett mindre förändringsarbete behövs\",Självskattning!D163,\"\")","v":""}]
[null,{"$f":"IF(Självskattning!C164=\"Ett mindre förändringsarbete behövs\",Självskattning!A164,\"\")","v":""},{"$f":"IF(Självskattning!C164=\"Ett mindre förändringsarbete behövs\",Självskattning!B164,\"\")","v":""},{"$f":"IF(Självskattning!C164=\"Ett mindre förändringsarbete behövs\",Självskattning!D164,\"\")","v":""}]
[null,{"$f":"IF(Självskattning!C165=\"Ett mindre förändringsarbete behövs\",Självskattning!A165,\"\")","v":""},{"$f":"IF(Självskattning!C165=\"Ett mindre förändringsarbete behövs\",Självskattning!B165,\"\")","v":""},{"$f":"IF(Självskattning!C165=\"Ett mindre förändringsarbete behövs\",Självskattning!D165,\"\")","v":""}]
[null,{"$f":"IF(Självskattning!C166=\"Ett mindre förändringsarbete behövs\",Självskattning!A166,\"\")","v":""},{"$f":"IF(Självskattning!C166=\"Ett mindre förändringsarbete behövs\",Självskattning!B166,\"\")","v":""},{"$f":"IF(Självskattning!C166=\"Ett mindre förändringsarbete behövs\",Självskattning!D166,\"\")","v":""}]
[null,{"$f":"IF(Självskattning!C167=\"Ett mindre förändringsarbete behövs\",Självskattning!A167,\"\")","v":""},{"$f":"IF(Självskattning!C167=\"Ett mindre förändringsarbete behövs\",Självskattning!B167,\"\")","v":""},{"$f":"IF(Självskattning!C167=\"Ett mindre förändringsarbete behövs\",Självskattning!D167,\"\")","v":""}]
[null,{"$f":"IF(Självskattning!C168=\"Ett mindre förändringsarbete behövs\",Självskattning!A168,\"\")","v":""},{"$f":"IF(Självskattning!C168=\"Ett mindre förändringsarbete behövs\",Självskattning!B168,\"\")","v":""},{"$f":"IF(Självskattning!C168=\"Ett mindre förändringsarbete behövs\",Självskattning!D168,\"\")","v":""}]
[null,{"$f":"IF(Självskattning!C169=\"Ett mindre förändringsarbete behövs\",Självskattning!A169,\"\")","v":""},{"$f":"IF(Självskattning!C169=\"Ett mindre förändringsarbete behövs\",Självskattning!B169,\"\")","v":""},{"$f":"IF(Självskattning!C169=\"Ett mindre förändringsarbete behövs\",Självskattning!D169,\"\")","v":""}]
[null,{"$f":"IF(Självskattning!C170=\"Ett mindre förändringsarbete behövs\",Självskattning!A170,\"\")","v":""},{"$f":"IF(Självskattning!C170=\"Ett mindre förändringsarbete behövs\",Självskattning!B170,\"\")","v":""},{"$f":"IF(Självskattning!C170=\"Ett mindre förändringsarbete behövs\",Självskattning!D170,\"\")","v":""}]
[null,{"$f":"IF(Självskattning!C171=\"Ett mindre förändringsarbete behövs\",Självskattning!A171,\"\")","v":""},{"$f":"IF(Självskattning!C171=\"Ett mindre förändringsarbete behövs\",Självskattning!B171,\"\")","v":""},{"$f":"IF(Självskattning!C171=\"Ett mindre förändringsarbete behövs\",Självskattning!D171,\"\")","v":""}]
[null,{"$f":"IF(Självskattning!C172=\"Ett mindre förändringsarbete behövs\",Självskattning!A172,\"\")","v":""},{"$f":"IF(Självskattning!C172=\"Ett mindre förändringsarbete behövs\",Självskattning!B172,\"\")","v":""},{"$f":"IF(Självskattning!C172=\"Ett mindre förändringsarbete behövs\",Självskattning!D172,\"\")","v":""}]
[null,{"$f":"IF(Självskattning!C173=\"Ett mindre förändringsarbete behövs\",Självskattning!A173,\"\")","v":""},{"$f":"IF(Självskattning!C173=\"Ett mindre förändringsarbete behövs\",Självskattning!B173,\"\")","v":""},{"$f":"IF(Självskattning!C173=\"Ett mindre förändringsarbete behövs\",Självskattning!D173,\"\")","v":""}]
[null,{"$f":"IF(Självskattning!C174=\"Ett mindre förändringsarbete behövs\",Självskattning!A174,\"\")","v":""},{"$f":"IF(Självskattning!C174=\"Ett mindre förändringsarbete behövs\",Självskattning!B174,\"\")","v":""},{"$f":"IF(Självskattning!C174=\"Ett mindre förändringsarbete behövs\",Självskattning!D174,\"\")","v":""}]
[null,{"$f":"IF(Självskattning!C175=\"Ett mindre förändringsarbete behövs\",Självskattning!A175,\"\")","v":""},{"$f":"IF(Självskattning!C175=\"Ett mindre förändringsarbete behövs\",Självskattning!B175,\"\")","v":""},{"$f":"IF(Självskattning!C175=\"Ett mindre förändringsarbete behövs\",Självskattning!D175,\"\")","v":""}]
[null,{"$f":"IF(Självskattning!C176=\"Ett mindre förändringsarbete behövs\",Självskattning!A176,\"\")","v":""},{"$f":"IF(Självskattning!C176=\"Ett mindre förändringsarbete behövs\",Självskattning!B176,\"\")","v":""},{"$f":"IF(Självskattning!C176=\"Ett mindre förändringsarbete behövs\",Självskattning!D176,\"\")","v":""}]
[null,{"$f":"IF(Självskattning!C177=\"Ett mindre förändringsarbete behövs\",Självskattning!A177,\"\")","v":""},{"$f":"IF(Självskattning!C177=\"Ett mindre förändringsarbete behövs\",Självskattning!B177,\"\")","v":""},{"$f":"IF(Självskattning!C177=\"Ett mindre förändringsarbete behövs\",Självskattning!D177,\"\")","v":""}]
[null,{"$f":"IF(Självskattning!C178=\"Ett mindre förändringsarbete behövs\",Självskattning!A178,\"\")","v":""},{"$f":"IF(Självskattning!C178=\"Ett mindre förändringsarbete behövs\",Självskattning!B178,\"\")","v":""},{"$f":"IF(Självskattning!C178=\"Ett mindre förändringsarbete behövs\",Självskattning!D178,\"\")","v":""}]
[null,{"$f":"IF(Självskattning!C179=\"Ett mindre förändringsarbete behövs\",Självskattning!A179,\"\")","v":""},{"$f":"IF(Självskattning!C179=\"Ett mindre förändringsarbete behövs\",Självskattning!B179,\"\")","v":""},{"$f":"IF(Självskattning!C179=\"Ett mindre förändringsarbete behövs\",Självskattning!D179,\"\")","v":""}]
[null,{"$f":"IF(Självskattning!C180=\"Ett mindre förändringsarbete behövs\",Självskattning!A180,\"\")","v":""},{"$f":"IF(Självskattning!C180=\"Ett mindre förändringsarbete behövs\",Självskattning!B180,\"\")","v":""},{"$f":"IF(Självskattning!C180=\"Ett mindre förändringsarbete behövs\",Självskattning!D180,\"\")","v":""}]
[null,{"$f":"IF(Självskattning!C181=\"Ett mindre förändringsarbete behövs\",Självskattning!A181,\"\")","v":""},{"$f":"IF(Självskattning!C181=\"Ett mindre förändringsarbete behövs\",Självskattning!B181,\"\")","v":""},{"$f":"IF(Självskattning!C181=\"Ett mindre förändringsarbete behövs\",Självskattning!D181,\"\")","v":""}]
[null,{"$f":"IF(Självskattning!C182=\"Ett mindre förändringsarbete behövs\",Självskattning!A182,\"\")","v":""},{"$f":"IF(Självskattning!C182=\"Ett mindre förändringsarbete behövs\",Självskattning!B182,\"\")","v":""},{"$f":"IF(Självskattning!C182=\"Ett mindre förändringsarbete behövs\",Självskattning!D182,\"\")","v":""}]
[null,{"$f":"IF(Självskattning!C183=\"Ett mindre förändringsarbete behövs\",Självskattning!A183,\"\")","v":""},{"$f":"IF(Självskattning!C183=\"Ett mindre förändringsarbete behövs\",Självskattning!B183,\"\")","v":""},{"$f":"IF(Självskattning!C183=\"Ett mindre förändringsarbete behövs\",Självskattning!D183,\"\")","v":""}]
[null,{"$f":"IF(Självskattning!C184=\"Ett mindre förändringsarbete behövs\",Självskattning!A184,\"\")","v":""},{"$f":"IF(Självskattning!C184=\"Ett mindre förändringsarbete behövs\",Självskattning!B184,\"\")","v":""},{"$f":"IF(Självskattning!C184=\"Ett mindre förändringsarbete behövs\",Självskattning!D184,\"\")","v":""}]
[null,{"$f":"IF(Självskattning!C185=\"Ett mindre förändringsarbete behövs\",Självskattning!A185,\"\")","v":""},{"$f":"IF(Självskattning!C185=\"Ett mindre förändringsarbete behövs\",Självskattning!B185,\"\")","v":""},{"$f":"IF(Självskattning!C185=\"Ett mindre förändringsarbete behövs\",Självskattning!D185,\"\")","v":""}]
[null,{"$f":"IF(Självskattning!C186=\"Ett mindre förändringsarbete behövs\",Självskattning!A186,\"\")","v":""},{"$f":"IF(Självskattning!C186=\"Ett mindre förändringsarbete behövs\",Självskattning!B186,\"\")","v":""},{"$f":"IF(Självskattning!C186=\"Ett mindre förändringsarbete behövs\",Självskattning!D186,\"\")","v":""}]
[null,{"$f":"IF(Självskattning!C187=\"Ett mindre förändringsarbete behövs\",Självskattning!A187,\"\")","v":""},{"$f":"IF(Självskattning!C187=\"Ett mindre förändringsarbete behövs\",Självskattning!B187,\"\")","v":""},{"$f":"IF(Självskattning!C187=\"Ett mindre förändringsarbete behövs\",Självskattning!D187,\"\")","v":""}]
[null,{"$f":"IF(Självskattning!C188=\"Ett mindre förändringsarbete behövs\",Självskattning!A188,\"\")","v":""},{"$f":"IF(Självskattning!C188=\"Ett mindre förändringsarbete behövs\",Självskattning!B188,\"\")","v":""},{"$f":"IF(Självskattning!C188=\"Ett mindre förändringsarbete behövs\",Självskattning!D188,\"\")","v":""}]
[null,{"$f":"IF(Självskattning!C189=\"Ett mindre förändringsarbete behövs\",Självskattning!A189,\"\")","v":""},{"$f":"IF(Självskattning!C189=\"Ett mindre förändringsarbete behövs\",Självskattning!B189,\"\")","v":""},{"$f":"IF(Självskattning!C189=\"Ett mindre förändringsarbete behövs\",Självskattning!D189,\"\")","v":""}]
[null,{"$f":"IF(Självskattning!C190=\"Ett mindre förändringsarbete behövs\",Självskattning!A190,\"\")","v":""},{"$f":"IF(Självskattning!C190=\"Ett mindre förändringsarbete behövs\",Självskattning!B190,\"\")","v":""},{"$f":"IF(Självskattning!C190=\"Ett mindre förändringsarbete behövs\",Självskattning!D190,\"\")","v":""}]
[null,{"$f":"IF(Självskattning!C191=\"Ett mindre förändringsarbete behövs\",Självskattning!A191,\"\")","v":""},{"$f":"IF(Självskattning!C191=\"Ett mindre förändringsarbete behövs\",Självskattning!B191,\"\")","v":""},{"$f":"IF(Självskattning!C191=\"Ett mindre förändringsarbete behövs\",Självskattning!D191,\"\")","v":""}]
[null,{"$f":"IF(Självskattning!C192=\"Ett mindre förändringsarbete behövs\",Självskattning!A192,\"\")","v":""},{"$f":"IF(Självskattning!C192=\"Ett mindre förändringsarbete behövs\",Självskattning!B192,\"\")","v":""},{"$f":"IF(Självskattning!C192=\"Ett mindre förändringsarbete behövs\",Självskattning!D192,\"\")","v":""}]
[null,{"$f":"IF(Självskattning!C193=\"Ett mindre förändringsarbete behövs\",Självskattning!A193,\"\")","v":""},{"$f":"IF(Självskattning!C193=\"Ett mindre förändringsarbete behövs\",Självskattning!B193,\"\")","v":""},{"$f":"IF(Självskattning!C193=\"Ett mindre förändringsarbete behövs\",Självskattning!D193,\"\")","v":""}]
[null,{"$f":"IF(Självskattning!C194=\"Ett mindre förändringsarbete behövs\",Självskattning!A194,\"\")","v":""},{"$f":"IF(Självskattning!C194=\"Ett mindre förändringsarbete behövs\",Självskattning!B194,\"\")","v":""},{"$f":"IF(Självskattning!C194=\"Ett mindre förändringsarbete behövs\",Självskattning!D194,\"\")","v":""}]
[null,{"$f":"IF(Självskattning!C195=\"Ett mindre förändringsarbete behövs\",Självskattning!A195,\"\")","v":""},{"$f":"IF(Självskattning!C195=\"Ett mindre förändringsarbete behövs\",Självskattning!B195,\"\")","v":""},{"$f":"IF(Självskattning!C195=\"Ett mindre förändringsarbete behövs\",Självskattning!D195,\"\")","v":""}]
[null,{"$f":"IF(Självskattning!C196=\"Ett mindre förändringsarbete behövs\",Självskattning!A196,\"\")","v":""},{"$f":"IF(Självskattning!C196=\"Ett mindre förändringsarbete behövs\",Självskattning!B196,\"\")","v":""},{"$f":"IF(Självskattning!C196=\"Ett mindre förändringsarbete behövs\",Självskattning!D196,\"\")","v":""}]
[null,{"$f":"IF(Självskattning!C197=\"Ett mindre förändringsarbete behövs\",Självskattning!A197,\"\")","v":""},{"$f":"IF(Självskattning!C197=\"Ett mindre förändringsarbete behövs\",Självskattning!B197,\"\")","v":""},{"$f":"IF(Självskattning!C197=\"Ett mindre förändringsarbete behövs\",Självskattning!D197,\"\")","v":""}]
[null,{"$f":"IF(Självskattning!C198=\"Ett mindre förändringsarbete behövs\",Självskattning!A198,\"\")","v":""},{"$f":"IF(Självskattning!C198=\"Ett mindre förändringsarbete behövs\",Självskattning!B198,\"\")","v":""},{"$f":"IF(Självskattning!C198=\"Ett mindre förändringsarbete behövs\",Självskattning!D198,\"\")","v":""}]
[null,{"$f":"IF(Självskattning!C199=\"Ett mindre förändringsarbete behövs\",Självskattning!A199,\"\")","v":""},{"$f":"IF(Självskattning!C199=\"Ett mindre förändringsarbete behövs\",Självskattning!B199,\"\")","v":""},{"$f":"IF(Självskattning!C199=\"Ett mindre förändringsarbete behövs\",Självskattning!D199,\"\")","v":""}]
[null,{"$f":"IF(Självskattning!C200=\"Ett mindre förändringsarbete behövs\",Självskattning!A200,\"\")","v":""},{"$f":"IF(Självskattning!C200=\"Ett mindre förändringsarbete behövs\",Självskattning!B200,\"\")","v":""},{"$f":"IF(Självskattning!C200=\"Ett mindre förändringsarbete behövs\",Självskattning!D200,\"\")","v":""}]
[null,{"$f":"IF(Självskattning!C201=\"Ett mindre förändringsarbete behövs\",Självskattning!A201,\"\")","v":""},{"$f":"IF(Självskattning!C201=\"Ett mindre förändringsarbete behövs\",Självskattning!B201,\"\")","v":""},{"$f":"IF(Självskattning!C201=\"Ett mindre förändringsarbete behövs\",Självskattning!D201,\"\")","v":""}]
[null,{"$f":"IF(Självskattning!C202=\"Ett mindre förändringsarbete behövs\",Självskattning!A202,\"\")","v":""},{"$f":"IF(Självskattning!C202=\"Ett mindre förändringsarbete behövs\",Självskattning!B202,\"\")","v":""},{"$f":"IF(Självskattning!C202=\"Ett mindre förändringsarbete behövs\",Självskattning!D202,\"\")","v":""}]
[null,{"$f":"IF(Självskattning!C203=\"Ett mindre förändringsarbete behövs\",Självskattning!A203,\"\")","v":""},{"$f":"IF(Självskattning!C203=\"Ett mindre förändringsarbete behövs\",Självskattning!B203,\"\")","v":""},{"$f":"IF(Självskattning!C203=\"Ett mindre förändringsarbete behövs\",Självskattning!D203,\"\")","v":""}]
[null,{"$f":"IF(Självskattning!C204=\"Ett mindre förändringsarbete behövs\",Självskattning!A204,\"\")","v":""},{"$f":"IF(Självskattning!C204=\"Ett mindre förändringsarbete behövs\",Självskattning!B204,\"\")","v":""},{"$f":"IF(Självskattning!C204=\"Ett mindre förändringsarbete behövs\",Självskattning!D204,\"\")","v":""}]
[null,{"$f":"IF(Självskattning!C205=\"Ett mindre förändringsarbete behövs\",Självskattning!A205,\"\")","v":""},{"$f":"IF(Självskattning!C205=\"Ett mindre förändringsarbete behövs\",Självskattning!B205,\"\")","v":""},{"$f":"IF(Självskattning!C205=\"Ett mindre förändringsarbete behövs\",Självskattning!D205,\"\")","v":""}]
[null,{"$f":"IF(Självskattning!C206=\"Ett mindre förändringsarbete behövs\",Självskattning!A206,\"\")","v":""},{"$f":"IF(Självskattning!C206=\"Ett mindre förändringsarbete behövs\",Självskattning!B206,\"\")","v":""},{"$f":"IF(Självskattning!C206=\"Ett mindre förändringsarbete behövs\",Självskattning!D206,\"\")","v":""}]
[null,{"$f":"IF(Självskattning!C207=\"Ett mindre förändringsarbete behövs\",Självskattning!A207,\"\")","v":""},{"$f":"IF(Självskattning!C207=\"Ett mindre förändringsarbete behövs\",Självskattning!B207,\"\")","v":""},{"$f":"IF(Självskattning!C207=\"Ett mindre förändringsarbete behövs\",Självskattning!D207,\"\")","v":""}]
[null,{"$f":"IF(Självskattning!C208=\"Ett mindre förändringsarbete behövs\",Självskattning!A208,\"\")","v":""},{"$f":"IF(Självskattning!C208=\"Ett mindre förändringsarbete behövs\",Självskattning!B208,\"\")","v":""},{"$f":"IF(Självskattning!C208=\"Ett mindre förändringsarbete behövs\",Självskattning!D208,\"\")","v":""}]
[null,{"$f":"IF(Självskattning!C209=\"Ett mindre förändringsarbete behövs\",Självskattning!A209,\"\")","v":""},{"$f":"IF(Självskattning!C209=\"Ett mindre förändringsarbete behövs\",Självskattning!B209,\"\")","v":""},{"$f":"IF(Självskattning!C209=\"Ett mindre förändringsarbete behövs\",Självskattning!D209,\"\")","v":""}]
[null,{"$f":"IF(Självskattning!C210=\"Ett mindre förändringsarbete behövs\",Självskattning!A210,\"\")","v":""},{"$f":"IF(Självskattning!C210=\"Ett mindre förändringsarbete behövs\",Självskattning!B210,\"\")","v":""},{"$f":"IF(Självskattning!C210=\"Ett mindre förändringsarbete behövs\",Självskattning!D210,\"\")","v":""}]
[null,{"$f":"IF(Självskattning!C211=\"Ett mindre förändringsarbete behövs\",Självskattning!A211,\"\")","v":""},{"$f":"IF(Självskattning!C211=\"Ett mindre förändringsarbete behövs\",Självskattning!B211,\"\")","v":""},{"$f":"IF(Självskattning!C211=\"Ett mindre förändringsarbete behövs\",Självskattning!D211,\"\")","v":""}]
[null,{"$f":"IF(Självskattning!C212=\"Ett mindre förändringsarbete behövs\",Självskattning!A212,\"\")","v":""},{"$f":"IF(Självskattning!C212=\"Ett mindre förändringsarbete behövs\",Självskattning!B212,\"\")","v":""},{"$f":"IF(Självskattning!C212=\"Ett mindre förändringsarbete behövs\",Självskattning!D212,\"\")","v":""}]
[null,{"$f":"IF(Självskattning!C213=\"Ett mindre förändringsarbete behövs\",Självskattning!A213,\"\")","v":""},{"$f":"IF(Självskattning!C213=\"Ett mindre förändringsarbete behövs\",Självskattning!B213,\"\")","v":""},{"$f":"IF(Självskattning!C213=\"Ett mindre förändringsarbete behövs\",Självskattning!D213,\"\")","v":""}]
[null,{"$f":"IF(Självskattning!C214=\"Ett mindre förändringsarbete behövs\",Självskattning!A214,\"\")","v":""},{"$f":"IF(Självskattning!C214=\"Ett mindre förändringsarbete behövs\",Självskattning!B214,\"\")","v":""},{"$f":"IF(Självskattning!C214=\"Ett mindre förändringsarbete behövs\",Självskattning!D214,\"\")","v":""}]
[null,{"$f":"IF(Självskattning!C215=\"Ett mindre förändringsarbete behövs\",Självskattning!A215,\"\")","v":""},{"$f":"IF(Självskattning!C215=\"Ett mindre förändringsarbete behövs\",Självskattning!B215,\"\")","v":""},{"$f":"IF(Självskattning!C215=\"Ett mindre förändringsarbete behövs\",Självskattning!D215,\"\")","v":""}]
[null,{"$f":"IF(Självskattning!C216=\"Ett mindre förändringsarbete behövs\",Självskattning!A216,\"\")","v":""},{"$f":"IF(Självskattning!C216=\"Ett mindre förändringsarbete behövs\",Självskattning!B216,\"\")","v":""},{"$f":"IF(Självskattning!C216=\"Ett mindre förändringsarbete behövs\",Självskattning!D216,\"\")","v":""}]
[null,{"$f":"IF(Självskattning!C217=\"Ett mindre förändringsarbete behövs\",Självskattning!A217,\"\")","v":""},{"$f":"IF(Självskattning!C217=\"Ett mindre förändringsarbete behövs\",Självskattning!B217,\"\")","v":""},{"$f":"IF(Självskattning!C217=\"Ett mindre förändringsarbete behövs\",Självskattning!D217,\"\")","v":""}]
[null,{"$f":"IF(Självskattning!C218=\"Ett mindre förändringsarbete behövs\",Självskattning!A218,\"\")","v":""},{"$f":"IF(Självskattning!C218=\"Ett mindre förändringsarbete behövs\",Självskattning!B218,\"\")","v":""},{"$f":"IF(Självskattning!C218=\"Ett mindre förändringsarbete behövs\",Självskattning!D218,\"\")","v":""}]
[null,{"$f":"IF(Självskattning!C219=\"Ett mindre förändringsarbete behövs\",Självskattning!A219,\"\")","v":""},{"$f":"IF(Självskattning!C219=\"Ett mindre förändringsarbete behövs\",Självskattning!B219,\"\")","v":""},{"$f":"IF(Självskattning!C219=\"Ett mindre förändringsarbete behövs\",Självskattning!D219,\"\")","v":""}]
[null,{"$f":"IF(Självskattning!C220=\"Ett mindre förändringsarbete behövs\",Självskattning!A220,\"\")","v":""},{"$f":"IF(Självskattning!C220=\"Ett mindre förändringsarbete behövs\",Självskattning!B220,\"\")","v":""},{"$f":"IF(Självskattning!C220=\"Ett mindre förändringsarbete behövs\",Självskattning!D220,\"\")","v":""}]
[null,{"$f":"IF(Självskattning!C221=\"Ett mindre förändringsarbete behövs\",Självskattning!A221,\"\")","v":""},{"$f":"IF(Självskattning!C221=\"Ett mindre förändringsarbete behövs\",Självskattning!B221,\"\")","v":""},{"$f":"IF(Självskattning!C221=\"Ett mindre förändringsarbete behövs\",Självskattning!D221,\"\")","v":""}]
[null,{"$f":"IF(Självskattning!C222=\"Ett mindre förändringsarbete behövs\",Självskattning!A222,\"\")","v":""},{"$f":"IF(Självskattning!C222=\"Ett mindre förändringsarbete behövs\",Självskattning!B222,\"\")","v":""},{"$f":"IF(Självskattning!C222=\"Ett mindre förändringsarbete behövs\",Självskattning!D222,\"\")","v":""}]
[null,{"$f":"IF(Självskattning!C223=\"Ett mindre förändringsarbete behövs\",Självskattning!A223,\"\")","v":""},{"$f":"IF(Självskattning!C223=\"Ett mindre förändringsarbete behövs\",Självskattning!B223,\"\")","v":""},{"$f":"IF(Självskattning!C223=\"Ett mindre förändringsarbete behövs\",Självskattning!D223,\"\")","v":""}]
[null,{"$f":"IF(Självskattning!C224=\"Ett mindre förändringsarbete behövs\",Självskattning!A224,\"\")","v":""},{"$f":"IF(Självskattning!C224=\"Ett mindre förändringsarbete behövs\",Självskattning!B224,\"\")","v":""},{"$f":"IF(Självskattning!C224=\"Ett mindre förändringsarbete behövs\",Självskattning!D224,\"\")","v":""}]
[null,{"$f":"IF(Självskattning!C225=\"Ett mindre förändringsarbete behövs\",Självskattning!A225,\"\")","v":""},{"$f":"IF(Självskattning!C225=\"Ett mindre förändringsarbete behövs\",Självskattning!B225,\"\")","v":""},{"$f":"IF(Självskattning!C225=\"Ett mindre förändringsarbete behövs\",Självskattning!D225,\"\")","v":""}]
[null,{"$f":"IF(Självskattning!C226=\"Ett mindre förändringsarbete behövs\",Självskattning!A226,\"\")","v":""},{"$f":"IF(Självskattning!C226=\"Ett mindre förändringsarbete behövs\",Självskattning!B226,\"\")","v":""},{"$f":"IF(Självskattning!C226=\"Ett mindre förändringsarbete behövs\",Självskattning!D226,\"\")","v":""}]
[null,{"$f":"IF(Självskattning!C227=\"Ett mindre förändringsarbete behövs\",Självskattning!A227,\"\")","v":""},{"$f":"IF(Självskattning!C227=\"Ett mindre förändringsarbete behövs\",Självskattning!B227,\"\")","v":""},{"$f":"IF(Självskattning!C227=\"Ett mindre förändringsarbete behövs\",Självskattning!D227,\"\")","v":""}]
[null,{"$f":"IF(Självskattning!C228=\"Ett mindre förändringsarbete behövs\",Självskattning!A228,\"\")","v":""},{"$f":"IF(Självskattning!C228=\"Ett mindre förändringsarbete behövs\",Självskattning!B228,\"\")","v":""},{"$f":"IF(Självskattning!C228=\"Ett mindre förändringsarbete behövs\",Självskattning!D228,\"\")","v":""}]
[null,{"$f":"IF(Självskattning!C229=\"Ett mindre förändringsarbete behövs\",Självskattning!A229,\"\")","v":""},{"$f":"IF(Självskattning!C229=\"Ett mindre förändringsarbete behövs\",Självskattning!B229,\"\")","v":""},{"$f":"IF(Självskattning!C229=\"Ett mindre förändringsarbete behövs\",Självskattning!D229,\"\")","v":""}]
[null,{"$f":"IF(Självskattning!C230=\"Ett mindre förändringsarbete behövs\",Självskattning!A230,\"\")","v":""},{"$f":"IF(Självskattning!C230=\"Ett mindre förändringsarbete behövs\",Självskattning!B230,\"\")","v":""},{"$f":"IF(Självskattning!C230=\"Ett mindre förändringsarbete behövs\",Självskattning!D230,\"\")","v":""}]
[null,{"$f":"IF(Självskattning!C231=\"Ett mindre förändringsarbete behövs\",Självskattning!A231,\"\")","v":""},{"$f":"IF(Självskattning!C231=\"Ett mindre förändringsarbete behövs\",Självskattning!B231,\"\")","v":""},{"$f":"IF(Självskattning!C231=\"Ett mindre förändringsarbete behövs\",Självskattning!D231,\"\")","v":""}]
[null,{"$f":"IF(Självskattning!C232=\"Ett mindre förändringsarbete behövs\",Självskattning!A232,\"\")","v":""},{"$f":"IF(Självskattning!C232=\"Ett mindre förändringsarbete behövs\",Självskattning!B232,\"\")","v":""},{"$f":"IF(Självskattning!C232=\"Ett mindre förändringsarbete behövs\",Självskattning!D232,\"\")","v":""}]
[null,{"$f":"IF(Självskattning!C233=\"Ett mindre förändringsarbete behövs\",Självskattning!A233,\"\")","v":""},{"$f":"IF(Självskattning!C233=\"Ett mindre förändringsarbete behövs\",Självskattning!B233,\"\")","v":""},{"$f":"IF(Självskattning!C233=\"Ett mindre förändringsarbete behövs\",Självskattning!D233,\"\")","v":""}]
[null,{"$f":"IF(Självskattning!C234=\"Ett mindre förändringsarbete behövs\",Självskattning!A234,\"\")","v":""},{"$f":"IF(Självskattning!C234=\"Ett mindre förändringsarbete behövs\",Självskattning!B234,\"\")","v":""},{"$f":"IF(Självskattning!C234=\"Ett mindre förändringsarbete behövs\",Självskattning!D234,\"\")","v":""}]
[null,{"$f":"IF(Självskattning!C235=\"Ett mindre förändringsarbete behövs\",Självskattning!A235,\"\")","v":""},{"$f":"IF(Självskattning!C235=\"Ett mindre förändringsarbete behövs\",Självskattning!B235,\"\")","v":""},{"$f":"IF(Självskattning!C235=\"Ett mindre förändringsarbete behövs\",Självskattning!D235,\"\")","v":""}]
[null,{"$f":"IF(Självskattning!C236=\"Ett mindre förändringsarbete behövs\",Självskattning!A236,\"\")","v":""},{"$f":"IF(Självskattning!C236=\"Ett mindre förändringsarbete behövs\",Självskattning!B236,\"\")","v":""},{"$f":"IF(Självskattning!C236=\"Ett mindre förändringsarbete behövs\",Självskattning!D236,\"\")","v":""}]
[null,{"$f":"IF(Självskattning!C237=\"Ett mindre förändringsarbete behövs\",Självskattning!A237,\"\")","v":""},{"$f":"IF(Självskattning!C237=\"Ett mindre förändringsarbete behövs\",Självskattning!B237,\"\")","v":""},{"$f":"IF(Självskattning!C237=\"Ett mindre förändringsarbete behövs\",Självskattning!D237,\"\")","v":""}]
[null,{"$f":"IF(Självskattning!C238=\"Ett mindre förändringsarbete behövs\",Självskattning!A238,\"\")","v":""},{"$f":"IF(Självskattning!C238=\"Ett mindre förändringsarbete behövs\",Självskattning!B238,\"\")","v":""},{"$f":"IF(Självskattning!C238=\"Ett mindre förändringsarbete behövs\",Självskattning!D238,\"\")","v":""}]
[null,{"$f":"IF(Självskattning!C239=\"Ett mindre förändringsarbete behövs\",Självskattning!A239,\"\")","v":""},{"$f":"IF(Självskattning!C239=\"Ett mindre förändringsarbete behövs\",Självskattning!B239,\"\")","v":""},{"$f":"IF(Självskattning!C239=\"Ett mindre förändringsarbete behövs\",Självskattning!D239,\"\")","v":""}]
[null,{"$f":"IF(Självskattning!C240=\"Ett mindre förändringsarbete behövs\",Självskattning!A240,\"\")","v":""},{"$f":"IF(Självskattning!C240=\"Ett mindre förändringsarbete behövs\",Självskattning!B240,\"\")","v":""},{"$f":"IF(Självskattning!C240=\"Ett mindre förändringsarbete behövs\",Självskattning!D240,\"\")","v":""}]
[null,{"$f":"IF(Självskattning!C241=\"Ett mindre förändringsarbete behövs\",Självskattning!A241,\"\")","v":""},{"$f":"IF(Självskattning!C241=\"Ett mindre förändringsarbete behövs\",Självskattning!B241,\"\")","v":""},{"$f":"IF(Självskattning!C241=\"Ett mindre förändringsarbete behövs\",Självskattning!D241,\"\")","v":""}]
[null,{"$f":"IF(Självskattning!C242=\"Ett mindre förändringsarbete behövs\",Självskattning!A242,\"\")","v":""},{"$f":"IF(Självskattning!C242=\"Ett mindre förändringsarbete behövs\",Självskattning!B242,\"\")","v":""},{"$f":"IF(Självskattning!C242=\"Ett mindre förändringsarbete behövs\",Självskattning!D242,\"\")","v":""}]
[null,{"$f":"IF(Självskattning!C243=\"Ett mindre förändringsarbete behövs\",Självskattning!A243,\"\")","v":""},{"$f":"IF(Självskattning!C243=\"Ett mindre förändringsarbete behövs\",Självskattning!B243,\"\")","v":""},{"$f":"IF(Självskattning!C243=\"Ett mindre förändringsarbete behövs\",Självskattning!D243,\"\")","v":""}]
[null,{"$f":"IF(Självskattning!C244=\"Ett mindre förändringsarbete behövs\",Självskattning!A244,\"\")","v":""},{"$f":"IF(Självskattning!C244=\"Ett mindre förändringsarbete behövs\",Självskattning!B244,\"\")","v":""},{"$f":"IF(Självskattning!C244=\"Ett mindre förändringsarbete behövs\",Självskattning!D244,\"\")","v":""}]
[null,{"$f":"IF(Självskattning!C245=\"Ett mindre förändringsarbete behövs\",Självskattning!A245,\"\")","v":""},{"$f":"IF(Självskattning!C245=\"Ett mindre förändringsarbete behövs\",Självskattning!B245,\"\")","v":""},{"$f":"IF(Självskattning!C245=\"Ett mindre förändringsarbete behövs\",Självskattning!D245,\"\")","v":""}]
[null,{"$f":"IF(Självskattning!C246=\"Ett mindre förändringsarbete behövs\",Självskattning!A246,\"\")","v":""},{"$f":"IF(Självskattning!C246=\"Ett mindre förändringsarbete behövs\",Självskattning!B246,\"\")","v":""},{"$f":"IF(Självskattning!C246=\"Ett mindre förändringsarbete behövs\",Självskattning!D246,\"\")","v":""}]
[null,{"$f":"IF(Självskattning!C247=\"Ett mindre förändringsarbete behövs\",Självskattning!A247,\"\")","v":""},{"$f":"IF(Självskattning!C247=\"Ett mindre förändringsarbete behövs\",Självskattning!B247,\"\")","v":""},{"$f":"IF(Självskattning!C247=\"Ett mindre förändringsarbete behövs\",Självskattning!D247,\"\")","v":""}]
[null,{"$f":"IF(Självskattning!C248=\"Ett mindre förändringsarbete behövs\",Självskattning!A248,\"\")","v":""},{"$f":"IF(Självskattning!C248=\"Ett mindre förändringsarbete behövs\",Självskattning!B248,\"\")","v":""},{"$f":"IF(Självskattning!C248=\"Ett mindre förändringsarbete behövs\",Självskattning!D248,\"\")","v":""}]
[null,{"$f":"IF(Självskattning!C249=\"Ett mindre förändringsarbete behövs\",Självskattning!A249,\"\")","v":""},{"$f":"IF(Självskattning!C249=\"Ett mindre förändringsarbete behövs\",Självskattning!B249,\"\")","v":""},{"$f":"IF(Självskattning!C249=\"Ett mindre förändringsarbete behövs\",Självskattning!D249,\"\")","v":""}]
[null,{"$f":"IF(Självskattning!C250=\"Ett mindre förändringsarbete behövs\",Självskattning!A250,\"\")","v":""},{"$f":"IF(Självskattning!C250=\"Ett mindre förändringsarbete behövs\",Självskattning!B250,\"\")","v":""},{"$f":"IF(Självskattning!C250=\"Ett mindre förändringsarbete behövs\",Självskattning!D250,\"\")","v":""}]
[null,{"$f":"IF(Självskattning!C251=\"Ett mindre förändringsarbete behövs\",Självskattning!A251,\"\")","v":""},{"$f":"IF(Självskattning!C251=\"Ett mindre förändringsarbete behövs\",Självskattning!B251,\"\")","v":""},{"$f":"IF(Självskattning!C251=\"Ett mindre förändringsarbete behövs\",Självskattning!D251,\"\")","v":""}]
[null,{"$f":"IF(Självskattning!C252=\"Ett mindre förändringsarbete behövs\",Självskattning!A252,\"\")","v":""},{"$f":"IF(Självskattning!C252=\"Ett mindre förändringsarbete behövs\",Självskattning!B252,\"\")","v":""},{"$f":"IF(Självskattning!C252=\"Ett mindre förändringsarbete behövs\",Självskattning!D252,\"\")","v":""}]
[null,{"$f":"IF(Självskattning!C253=\"Ett mindre förändringsarbete behövs\",Självskattning!A253,\"\")","v":""},{"$f":"IF(Självskattning!C253=\"Ett mindre förändringsarbete behövs\",Självskattning!B253,\"\")","v":""},{"$f":"IF(Självskattning!C253=\"Ett mindre förändringsarbete behövs\",Självskattning!D253,\"\")","v":""}]
[null,{"$f":"IF(Självskattning!C254=\"Ett mindre förändringsarbete behövs\",Självskattning!A254,\"\")","v":""},{"$f":"IF(Självskattning!C254=\"Ett mindre förändringsarbete behövs\",Självskattning!B254,\"\")","v":""},{"$f":"IF(Självskattning!C254=\"Ett mindre förändringsarbete behövs\",Självskattning!D254,\"\")","v":""}]
[null,{"$f":"IF(Självskattning!C255=\"Ett mindre förändringsarbete behövs\",Självskattning!A255,\"\")","v":""},{"$f":"IF(Självskattning!C255=\"Ett mindre förändringsarbete behövs\",Självskattning!B255,\"\")","v":""},{"$f":"IF(Självskattning!C255=\"Ett mindre förändringsarbete behövs\",Självskattning!D255,\"\")","v":""}]
[null,{"$f":"IF(Självskattning!C256=\"Ett mindre förändringsarbete behövs\",Självskattning!A256,\"\")","v":""},{"$f":"IF(Självskattning!C256=\"Ett mindre förändringsarbete behövs\",Självskattning!B256,\"\")","v":""},{"$f":"IF(Självskattning!C256=\"Ett mindre förändringsarbete behövs\",Självskattning!D256,\"\")","v":""}]
[null,{"$f":"IF(Självskattning!C257=\"Ett mindre förändringsarbete behövs\",Självskattning!A257,\"\")","v":""},{"$f":"IF(Självskattning!C257=\"Ett mindre förändringsarbete behövs\",Självskattning!B257,\"\")","v":""},{"$f":"IF(Självskattning!C257=\"Ett mindre förändringsarbete behövs\",Självskattning!D257,\"\")","v":""}]
[null,{"$f":"IF(Självskattning!C258=\"Ett mindre förändringsarbete behövs\",Självskattning!A258,\"\")","v":""},{"$f":"IF(Självskattning!C258=\"Ett mindre förändringsarbete behövs\",Självskattning!B258,\"\")","v":""},{"$f":"IF(Självskattning!C258=\"Ett mindre förändringsarbete behövs\",Självskattning!D258,\"\")","v":""}]
[null,{"$f":"IF(Självskattning!C259=\"Ett mindre förändringsarbete behövs\",Självskattning!A259,\"\")","v":""},{"$f":"IF(Självskattning!C259=\"Ett mindre förändringsarbete behövs\",Självskattning!B259,\"\")","v":""},{"$f":"IF(Självskattning!C259=\"Ett mindre förändringsarbete behövs\",Självskattning!D259,\"\")","v":""}]
[null,{"$f":"IF(Självskattning!C260=\"Ett mindre förändringsarbete behövs\",Självskattning!A260,\"\")","v":""},{"$f":"IF(Självskattning!C260=\"Ett mindre förändringsarbete behövs\",Självskattning!B260,\"\")","v":""},{"$f":"IF(Självskattning!C260=\"Ett mindre förändringsarbete behövs\",Självskattning!D260,\"\")","v":""}]
[null,{"$f":"IF(Självskattning!C261=\"Ett mindre förändringsarbete behövs\",Självskattning!A261,\"\")","v":""},{"$f":"IF(Självskattning!C261=\"Ett mindre förändringsarbete behövs\",Självskattning!B261,\"\")","v":""},{"$f":"IF(Självskattning!C261=\"Ett mindre förändringsarbete behövs\",Självskattning!D261,\"\")","v":""}]
[null,{"$f":"IF(Självskattning!C262=\"Ett mindre förändringsarbete behövs\",Självskattning!A262,\"\")","v":""},{"$f":"IF(Självskattning!C262=\"Ett mindre förändringsarbete behövs\",Självskattning!B262,\"\")","v":""},{"$f":"IF(Självskattning!C262=\"Ett mindre förändringsarbete behövs\",Självskattning!D262,\"\")","v":""}]
[null,{"$f":"IF(Självskattning!C263=\"Ett mindre förändringsarbete behövs\",Självskattning!A263,\"\")","v":""},{"$f":"IF(Självskattning!C263=\"Ett mindre förändringsarbete behövs\",Självskattning!B263,\"\")","v":""},{"$f":"IF(Självskattning!C263=\"Ett mindre förändringsarbete behövs\",Självskattning!D263,\"\")","v":""}]
[null,{"$f":"IF(Självskattning!C264=\"Ett mindre förändringsarbete behövs\",Självskattning!A264,\"\")","v":""},{"$f":"IF(Självskattning!C264=\"Ett mindre förändringsarbete behövs\",Självskattning!B264,\"\")","v":""},{"$f":"IF(Självskattning!C264=\"Ett mindre förändringsarbete behövs\",Självskattning!D264,\"\")","v":""}]
[null,{"$f":"IF(Självskattning!C265=\"Ett mindre förändringsarbete behövs\",Självskattning!A265,\"\")","v":""},{"$f":"IF(Självskattning!C265=\"Ett mindre förändringsarbete behövs\",Självskattning!B265,\"\")","v":""},{"$f":"IF(Självskattning!C265=\"Ett mindre förändringsarbete behövs\",Självskattning!D265,\"\")","v":""}]
[null,{"$f":"IF(Självskattning!C266=\"Ett mindre förändringsarbete behövs\",Självskattning!A266,\"\")","v":""},{"$f":"IF(Självskattning!C266=\"Ett mindre förändringsarbete behövs\",Självskattning!B266,\"\")","v":""},{"$f":"IF(Självskattning!C266=\"Ett mindre förändringsarbete behövs\",Självskattning!D266,\"\")","v":""}]
[null,{"$f":"IF(Självskattning!C267=\"Ett mindre förändringsarbete behövs\",Självskattning!A267,\"\")","v":""},{"$f":"IF(Självskattning!C267=\"Ett mindre förändringsarbete behövs\",Självskattning!B267,\"\")","v":""},{"$f":"IF(Självskattning!C267=\"Ett mindre förändringsarbete behövs\",Självskattning!D267,\"\")","v":""}]
[null,{"$f":"IF(Självskattning!C268=\"Ett mindre förändringsarbete behövs\",Självskattning!A268,\"\")","v":""},{"$f":"IF(Självskattning!C268=\"Ett mindre förändringsarbete behövs\",Självskattning!B268,\"\")","v":""},{"$f":"IF(Självskattning!C268=\"Ett mindre förändringsarbete behövs\",Självskattning!D268,\"\")","v":""}]
[null,{"$f":"IF(Självskattning!C269=\"Ett mindre förändringsarbete behövs\",Självskattning!A269,\"\")","v":""},{"$f":"IF(Självskattning!C269=\"Ett mindre förändringsarbete behövs\",Självskattning!B269,\"\")","v":""},{"$f":"IF(Självskattning!C269=\"Ett mindre förändringsarbete behövs\",Självskattning!D269,\"\")","v":""}]
[null,{"$f":"IF(Självskattning!C270=\"Ett mindre förändringsarbete behövs\",Självskattning!A270,\"\")","v":""},{"$f":"IF(Självskattning!C270=\"Ett mindre förändringsarbete behövs\",Självskattning!B270,\"\")","v":""},{"$f":"IF(Självskattning!C270=\"Ett mindre förändringsarbete behövs\",Självskattning!D270,\"\")","v":""}]
[null,{"$f":"IF(Självskattning!C271=\"Ett mindre förändringsarbete behövs\",Självskattning!A271,\"\")","v":""},{"$f":"IF(Självskattning!C271=\"Ett mindre förändringsarbete behövs\",Självskattning!B271,\"\")","v":""},{"$f":"IF(Självskattning!C271=\"Ett mindre förändringsarbete behövs\",Självskattning!D271,\"\")","v":""}]
[null,{"$f":"IF(Självskattning!C272=\"Ett mindre förändringsarbete behövs\",Självskattning!A272,\"\")","v":""},{"$f":"IF(Självskattning!C272=\"Ett mindre förändringsarbete behövs\",Självskattning!B272,\"\")","v":""},{"$f":"IF(Självskattning!C272=\"Ett mindre förändringsarbete behövs\",Självskattning!D272,\"\")","v":""}]
[null,{"$f":"IF(Självskattning!C273=\"Ett mindre förändringsarbete behövs\",Självskattning!A273,\"\")","v":""},{"$f":"IF(Självskattning!C273=\"Ett mindre förändringsarbete behövs\",Självskattning!B273,\"\")","v":""},{"$f":"IF(Självskattning!C273=\"Ett mindre förändringsarbete behövs\",Självskattning!D273,\"\")","v":""}]
[null,{"$f":"IF(Självskattning!C274=\"Ett mindre förändringsarbete behövs\",Självskattning!A274,\"\")","v":""},{"$f":"IF(Självskattning!C274=\"Ett mindre förändringsarbete behövs\",Självskattning!B274,\"\")","v":""},{"$f":"IF(Självskattning!C274=\"Ett mindre förändringsarbete behövs\",Självskattning!D274,\"\")","v":""}]
[null,{"$f":"IF(Självskattning!C275=\"Ett mindre förändringsarbete behövs\",Självskattning!A275,\"\")","v":""},{"$f":"IF(Självskattning!C275=\"Ett mindre förändringsarbete behövs\",Självskattning!B275,\"\")","v":""},{"$f":"IF(Självskattning!C275=\"Ett mindre förändringsarbete behövs\",Självskattning!D275,\"\")","v":""}]
[null,{"$f":"IF(Självskattning!C276=\"Ett mindre förändringsarbete behövs\",Självskattning!A276,\"\")","v":""},{"$f":"IF(Självskattning!C276=\"Ett mindre förändringsarbete behövs\",Självskattning!B276,\"\")","v":""},{"$f":"IF(Självskattning!C276=\"Ett mindre förändringsarbete behövs\",Självskattning!D276,\"\")","v":""}]
[null,{"$f":"IF(Självskattning!C277=\"Ett mindre förändringsarbete behövs\",Självskattning!A277,\"\")","v":""},{"$f":"IF(Självskattning!C277=\"Ett mindre förändringsarbete behövs\",Självskattning!B277,\"\")","v":""},{"$f":"IF(Självskattning!C277=\"Ett mindre förändringsarbete behövs\",Självskattning!D277,\"\")","v":""}]
[null,{"$f":"IF(Självskattning!C278=\"Ett mindre förändringsarbete behövs\",Självskattning!A278,\"\")","v":""},{"$f":"IF(Självskattning!C278=\"Ett mindre förändringsarbete behövs\",Självskattning!B278,\"\")","v":""},{"$f":"IF(Självskattning!C278=\"Ett mindre förändringsarbete behövs\",Självskattning!D278,\"\")","v":""}]
[null,{"$f":"IF(Självskattning!C279=\"Ett mindre förändringsarbete behövs\",Självskattning!A279,\"\")","v":""},{"$f":"IF(Självskattning!C279=\"Ett mindre förändringsarbete behövs\",Självskattning!B279,\"\")","v":""},{"$f":"IF(Självskattning!C279=\"Ett mindre förändringsarbete behövs\",Självskattning!D279,\"\")","v":""}]
[null,{"$f":"IF(Självskattning!C280=\"Ett mindre förändringsarbete behövs\",Självskattning!A280,\"\")","v":""},{"$f":"IF(Självskattning!C280=\"Ett mindre förändringsarbete behövs\",Självskattning!B280,\"\")","v":""},{"$f":"IF(Självskattning!C280=\"Ett mindre förändringsarbete behövs\",Självskattning!D280,\"\")","v":""}]
[null,{"$f":"IF(Självskattning!C281=\"Ett mindre förändringsarbete behövs\",Självskattning!A281,\"\")","v":""},{"$f":"IF(Självskattning!C281=\"Ett mindre förändringsarbete behövs\",Självskattning!B281,\"\")","v":""},{"$f":"IF(Självskattning!C281=\"Ett mindre förändringsarbete behövs\",Självskattning!D281,\"\")","v":""}]
[null,{"$f":"IF(Självskattning!C282=\"Ett mindre förändringsarbete behövs\",Självskattning!A282,\"\")","v":""},{"$f":"IF(Självskattning!C282=\"Ett mindre förändringsarbete behövs\",Självskattning!B282,\"\")","v":""},{"$f":"IF(Självskattning!C282=\"Ett mindre förändringsarbete behövs\",Självskattning!D282,\"\")","v":""}]
[null,{"$f":"IF(Självskattning!C283=\"Ett mindre förändringsarbete behövs\",Självskattning!A283,\"\")","v":""},{"$f":"IF(Självskattning!C283=\"Ett mindre förändringsarbete behövs\",Självskattning!B283,\"\")","v":""},{"$f":"IF(Självskattning!C283=\"Ett mindre förändringsarbete behövs\",Självskattning!D283,\"\")","v":""}]
[null,{"$f":"IF(Självskattning!C284=\"Ett mindre förändringsarbete behövs\",Självskattning!A284,\"\")","v":""},{"$f":"IF(Självskattning!C284=\"Ett mindre förändringsarbete behövs\",Självskattning!B284,\"\")","v":""},{"$f":"IF(Självskattning!C284=\"Ett mindre förändringsarbete behövs\",Självskattning!D284,\"\")","v":""}]
[null,{"$f":"IF(Självskattning!C285=\"Ett mindre förändringsarbete behövs\",Självskattning!A285,\"\")","v":""},{"$f":"IF(Självskattning!C285=\"Ett mindre förändringsarbete behövs\",Självskattning!B285,\"\")","v":""},{"$f":"IF(Självskattning!C285=\"Ett mindre förändringsarbete behövs\",Självskattning!D285,\"\")","v":""}]
[null,{"$f":"IF(Självskattning!C286=\"Ett mindre förändringsarbete behövs\",Självskattning!A286,\"\")","v":""},{"$f":"IF(Självskattning!C286=\"Ett mindre förändringsarbete behövs\",Självskattning!B286,\"\")","v":""},{"$f":"IF(Självskattning!C286=\"Ett mindre förändringsarbete behövs\",Självskattning!D286,\"\")","v":""}]
[null,{"$f":"IF(Självskattning!C287=\"Ett mindre förändringsarbete behövs\",Självskattning!A287,\"\")","v":""},{"$f":"IF(Självskattning!C287=\"Ett mindre förändringsarbete behövs\",Självskattning!B287,\"\")","v":""},{"$f":"IF(Självskattning!C287=\"Ett mindre förändringsarbete behövs\",Självskattning!D287,\"\")","v":""}]
[null,{"$f":"IF(Självskattning!C288=\"Ett mindre förändringsarbete behövs\",Självskattning!A288,\"\")","v":""},{"$f":"IF(Självskattning!C288=\"Ett mindre förändringsarbete behövs\",Självskattning!B288,\"\")","v":""},{"$f":"IF(Självskattning!C288=\"Ett mindre förändringsarbete behövs\",Självskattning!D288,\"\")","v":""}]
[null,{"$f":"IF(Självskattning!C289=\"Ett mindre förändringsarbete behövs\",Självskattning!A289,\"\")","v":""},{"$f":"IF(Självskattning!C289=\"Ett mindre förändringsarbete behövs\",Självskattning!B289,\"\")","v":""},{"$f":"IF(Självskattning!C289=\"Ett mindre förändringsarbete behövs\",Självskattning!D289,\"\")","v":""}]
[null,{"$f":"IF(Självskattning!C290=\"Ett mindre förändringsarbete behövs\",Självskattning!A290,\"\")","v":""},{"$f":"IF(Självskattning!C290=\"Ett mindre förändringsarbete behövs\",Självskattning!B290,\"\")","v":""},{"$f":"IF(Självskattning!C290=\"Ett mindre förändringsarbete behövs\",Självskattning!D290,\"\")","v":""}]
[null,{"$f":"IF(Självskattning!C291=\"Ett mindre förändringsarbete behövs\",Självskattning!A291,\"\")","v":""},{"$f":"IF(Självskattning!C291=\"Ett mindre förändringsarbete behövs\",Självskattning!B291,\"\")","v":""},{"$f":"IF(Självskattning!C291=\"Ett mindre förändringsarbete behövs\",Självskattning!D291,\"\")","v":""}]
[null,{"$f":"IF(Självskattning!C292=\"Ett mindre förändringsarbete behövs\",Självskattning!A292,\"\")","v":""},{"$f":"IF(Självskattning!C292=\"Ett mindre förändringsarbete behövs\",Självskattning!B292,\"\")","v":""},{"$f":"IF(Självskattning!C292=\"Ett mindre förändringsarbete behövs\",Självskattning!D292,\"\")","v":""}]
[null,{"$f":"IF(Självskattning!C293=\"Ett mindre förändringsarbete behövs\",Självskattning!A293,\"\")","v":""},{"$f":"IF(Självskattning!C293=\"Ett mindre förändringsarbete behövs\",Självskattning!B293,\"\")","v":""},{"$f":"IF(Självskattning!C293=\"Ett mindre förändringsarbete behövs\",Självskattning!D293,\"\")","v":""}]
[null,{"$f":"IF(Självskattning!C294=\"Ett mindre förändringsarbete behövs\",Självskattning!A294,\"\")","v":""},{"$f":"IF(Självskattning!C294=\"Ett mindre förändringsarbete behövs\",Självskattning!B294,\"\")","v":""},{"$f":"IF(Självskattning!C294=\"Ett mindre förändringsarbete behövs\",Självskattning!D294,\"\")","v":""}]
[null,{"$f":"IF(Självskattning!C295=\"Ett mindre förändringsarbete behövs\",Självskattning!A295,\"\")","v":""},{"$f":"IF(Självskattning!C295=\"Ett mindre förändringsarbete behövs\",Självskattning!B295,\"\")","v":""},{"$f":"IF(Självskattning!C295=\"Ett mindre förändringsarbete behövs\",Självskattning!D295,\"\")","v":""}]
[null,{"$f":"IF(Självskattning!C296=\"Ett mindre förändringsarbete behövs\",Självskattning!A296,\"\")","v":""},{"$f":"IF(Självskattning!C296=\"Ett mindre förändringsarbete behövs\",Självskattning!B296,\"\")","v":""},{"$f":"IF(Självskattning!C296=\"Ett mindre förändringsarbete behövs\",Självskattning!D296,\"\")","v":""}]
[null,{"$f":"IF(Självskattning!C297=\"Ett mindre förändringsarbete behövs\",Självskattning!A297,\"\")","v":""},{"$f":"IF(Självskattning!C297=\"Ett mindre förändringsarbete behövs\",Självskattning!B297,\"\")","v":""},{"$f":"IF(Självskattning!C297=\"Ett mindre förändringsarbete behövs\",Självskattning!D297,\"\")","v":""}]
[null,{"$f":"IF(Självskattning!C298=\"Ett mindre förändringsarbete behövs\",Självskattning!A298,\"\")","v":""},{"$f":"IF(Självskattning!C298=\"Ett mindre förändringsarbete behövs\",Självskattning!B298,\"\")","v":""},{"$f":"IF(Självskattning!C298=\"Ett mindre förändringsarbete behövs\",Självskattning!D298,\"\")","v":""}]
[null,{"$f":"IF(Självskattning!C299=\"Ett mindre förändringsarbete behövs\",Självskattning!A299,\"\")","v":""},{"$f":"IF(Självskattning!C299=\"Ett mindre förändringsarbete behövs\",Självskattning!B299,\"\")","v":""},{"$f":"IF(Självskattning!C299=\"Ett mindre förändringsarbete behövs\",Självskattning!D299,\"\")","v":""}]
[null,{"$f":"IF(Självskattning!C300=\"Ett mindre förändringsarbete behövs\",Självskattning!A300,\"\")","v":""},{"$f":"IF(Självskattning!C300=\"Ett mindre förändringsarbete behövs\",Självskattning!B300,\"\")","v":""},{"$f":"IF(Självskattning!C300=\"Ett mindre förändringsarbete behövs\",Självskattning!D300,\"\")","v":""}]
[null,{"$f":"IF(Självskattning!C301=\"Ett mindre förändringsarbete behövs\",Självskattning!A301,\"\")","v":""},{"$f":"IF(Självskattning!C301=\"Ett mindre förändringsarbete behövs\",Självskattning!B301,\"\")","v":""},{"$f":"IF(Självskattning!C301=\"Ett mindre förändringsarbete behövs\",Självskattning!D301,\"\")","v":""}]
[null,{"$f":"IF(Självskattning!C302=\"Ett mindre förändringsarbete behövs\",Självskattning!A302,\"\")","v":""},{"$f":"IF(Självskattning!C302=\"Ett mindre förändringsarbete behövs\",Självskattning!B302,\"\")","v":""},{"$f":"IF(Självskattning!C302=\"Ett mindre förändringsarbete behövs\",Självskattning!D302,\"\")","v":""}]
[null,{"$f":"IF(Självskattning!C303=\"Ett mindre förändringsarbete behövs\",Självskattning!A303,\"\")","v":""},{"$f":"IF(Självskattning!C303=\"Ett mindre förändringsarbete behövs\",Självskattning!B303,\"\")","v":""},{"$f":"IF(Självskattning!C303=\"Ett mindre förändringsarbete behövs\",Självskattning!D303,\"\")","v":""}]
[null,{"$f":"IF(Självskattning!C304=\"Ett mindre förändringsarbete behövs\",Självskattning!A304,\"\")","v":""},{"$f":"IF(Självskattning!C304=\"Ett mindre förändringsarbete behövs\",Självskattning!B304,\"\")","v":""},{"$f":"IF(Självskattning!C304=\"Ett mindre förändringsarbete behövs\",Självskattning!D304,\"\")","v":""}]
[null,{"$f":"IF(Självskattning!C305=\"Ett mindre förändringsarbete behövs\",Självskattning!A305,\"\")","v":""},{"$f":"IF(Självskattning!C305=\"Ett mindre förändringsarbete behövs\",Självskattning!B305,\"\")","v":""},{"$f":"IF(Självskattning!C305=\"Ett mindre förändringsarbete behövs\",Självskattning!D305,\"\")","v":""}]
[null,{"$f":"IF(Självskattning!C306=\"Ett mindre förändringsarbete behövs\",Självskattning!A306,\"\")","v":""},{"$f":"IF(Självskattning!C306=\"Ett mindre förändringsarbete behövs\",Självskattning!B306,\"\")","v":""},{"$f":"IF(Självskattning!C306=\"Ett mindre förändringsarbete behövs\",Självskattning!D306,\"\")","v":""}]
[null,{"$f":"IF(Självskattning!C307=\"Ett mindre förändringsarbete behövs\",Självskattning!A307,\"\")","v":""},{"$f":"IF(Självskattning!C307=\"Ett mindre förändringsarbete behövs\",Självskattning!B307,\"\")","v":""},{"$f":"IF(Självskattning!C307=\"Ett mindre förändringsarbete behövs\",Självskattning!D307,\"\")","v":""}]
[null,{"$f":"IF(Självskattning!C308=\"Ett mindre förändringsarbete behövs\",Självskattning!A308,\"\")","v":""},{"$f":"IF(Självskattning!C308=\"Ett mindre förändringsarbete behövs\",Självskattning!B308,\"\")","v":""},{"$f":"IF(Självskattning!C308=\"Ett mindre förändringsarbete behövs\",Självskattning!D308,\"\")","v":""}]
[null,{"$f":"IF(Självskattning!C309=\"Ett mindre förändringsarbete behövs\",Självskattning!A309,\"\")","v":""},{"$f":"IF(Självskattning!C309=\"Ett mindre förändringsarbete behövs\",Självskattning!B309,\"\")","v":""},{"$f":"IF(Självskattning!C309=\"Ett mindre förändringsarbete behövs\",Självskattning!D309,\"\")","v":""}]
[null,{"$f":"IF(Självskattning!C310=\"Ett mindre förändringsarbete behövs\",Självskattning!A310,\"\")","v":""},{"$f":"IF(Självskattning!C310=\"Ett mindre förändringsarbete behövs\",Självskattning!B310,\"\")","v":""},{"$f":"IF(Självskattning!C310=\"Ett mindre förändringsarbete behövs\",Självskattning!D310,\"\")","v":""}]
[null,{"$f":"IF(Självskattning!C311=\"Ett mindre förändringsarbete behövs\",Självskattning!A311,\"\")","v":""},{"$f":"IF(Självskattning!C311=\"Ett mindre förändringsarbete behövs\",Självskattning!B311,\"\")","v":""},{"$f":"IF(Självskattning!C311=\"Ett mindre förändringsarbete behövs\",Självskattning!D311,\"\")","v":""}]
[null,{"$f":"IF(Självskattning!C312=\"Ett mindre förändringsarbete behövs\",Självskattning!A312,\"\")","v":""},{"$f":"IF(Självskattning!C312=\"Ett mindre förändringsarbete behövs\",Självskattning!B312,\"\")","v":""},{"$f":"IF(Självskattning!C312=\"Ett mindre förändringsarbete behövs\",Självskattning!D312,\"\")","v":""}]
[null,{"$f":"IF(Självskattning!C313=\"Ett mindre förändringsarbete behövs\",Självskattning!A313,\"\")","v":""},{"$f":"IF(Självskattning!C313=\"Ett mindre förändringsarbete behövs\",Självskattning!B313,\"\")","v":""},{"$f":"IF(Självskattning!C313=\"Ett mindre förändringsarbete behövs\",Självskattning!D313,\"\")","v":""}]
[null,{"$f":"IF(Självskattning!C314=\"Ett mindre förändringsarbete behövs\",Självskattning!A314,\"\")","v":""},{"$f":"IF(Självskattning!C314=\"Ett mindre förändringsarbete behövs\",Självskattning!B314,\"\")","v":""},{"$f":"IF(Självskattning!C314=\"Ett mindre förändringsarbete behövs\",Självskattning!D314,\"\")","v":""}]
[null,{"$f":"IF(Självskattning!C315=\"Ett mindre förändringsarbete behövs\",Självskattning!A315,\"\")","v":""},{"$f":"IF(Självskattning!C315=\"Ett mindre förändringsarbete behövs\",Självskattning!B315,\"\")","v":""},{"$f":"IF(Självskattning!C315=\"Ett mindre förändringsarbete behövs\",Självskattning!D315,\"\")","v":""}]
[null,{"$f":"IF(Självskattning!C316=\"Ett mindre förändringsarbete behövs\",Självskattning!A316,\"\")","v":""},{"$f":"IF(Självskattning!C316=\"Ett mindre förändringsarbete behövs\",Självskattning!B316,\"\")","v":""},{"$f":"IF(Självskattning!C316=\"Ett mindre förändringsarbete behövs\",Självskattning!D316,\"\")","v":""}]
[null,{"$f":"IF(Självskattning!C317=\"Ett mindre förändringsarbete behövs\",Självskattning!A317,\"\")","v":""},{"$f":"IF(Självskattning!C317=\"Ett mindre förändringsarbete behövs\",Självskattning!B317,\"\")","v":""},{"$f":"IF(Självskattning!C317=\"Ett mindre förändringsarbete behövs\",Självskattning!D317,\"\")","v":""}]
[null,{"$f":"IF(Självskattning!C318=\"Ett mindre förändringsarbete behövs\",Självskattning!A318,\"\")","v":""},{"$f":"IF(Självskattning!C318=\"Ett mindre förändringsarbete behövs\",Självskattning!B318,\"\")","v":""},{"$f":"IF(Självskattning!C318=\"Ett mindre förändringsarbete behövs\",Självskattning!D318,\"\")","v":""}]
[null,{"$f":"IF(Självskattning!C319=\"Ett mindre förändringsarbete behövs\",Självskattning!A319,\"\")","v":""},{"$f":"IF(Självskattning!C319=\"Ett mindre förändringsarbete behövs\",Självskattning!B319,\"\")","v":""},{"$f":"IF(Självskattning!C319=\"Ett mindre förändringsarbete behövs\",Självskattning!D319,\"\")","v":""}]
[null,{"$f":"IF(Självskattning!C320=\"Ett mindre förändringsarbete behövs\",Självskattning!A320,\"\")","v":""},{"$f":"IF(Självskattning!C320=\"Ett mindre förändringsarbete behövs\",Självskattning!B320,\"\")","v":""},{"$f":"IF(Självskattning!C320=\"Ett mindre förändringsarbete behövs\",Självskattning!D320,\"\")","v":""}]
[null,{"$f":"IF(Självskattning!C321=\"Ett mindre förändringsarbete behövs\",Självskattning!A321,\"\")","v":""},{"$f":"IF(Självskattning!C321=\"Ett mindre förändringsarbete behövs\",Självskattning!B321,\"\")","v":""},{"$f":"IF(Självskattning!C321=\"Ett mindre förändringsarbete behövs\",Självskattning!D321,\"\")","v":""}]
[null,{"$f":"IF(Självskattning!C322=\"Ett mindre förändringsarbete behövs\",Självskattning!A322,\"\")","v":""},{"$f":"IF(Självskattning!C322=\"Ett mindre förändringsarbete behövs\",Självskattning!B322,\"\")","v":""},{"$f":"IF(Självskattning!C322=\"Ett mindre förändringsarbete behövs\",Självskattning!D322,\"\")","v":""}]
[null,{"$f":"IF(Självskattning!C323=\"Ett mindre förändringsarbete behövs\",Självskattning!A323,\"\")","v":""},{"$f":"IF(Självskattning!C323=\"Ett mindre förändringsarbete behövs\",Självskattning!B323,\"\")","v":""},{"$f":"IF(Självskattning!C323=\"Ett mindre förändringsarbete behövs\",Självskattning!D323,\"\")","v":""}]
[null,{"$f":"IF(Självskattning!C324=\"Ett mindre förändringsarbete behövs\",Självskattning!A324,\"\")","v":""},{"$f":"IF(Självskattning!C324=\"Ett mindre förändringsarbete behövs\",Självskattning!B324,\"\")","v":""},{"$f":"IF(Självskattning!C324=\"Ett mindre förändringsarbete behövs\",Självskattning!D324,\"\")","v":""}]
[null,{"$f":"IF(Självskattning!C325=\"Ett mindre förändringsarbete behövs\",Självskattning!A325,\"\")","v":""},{"$f":"IF(Självskattning!C325=\"Ett mindre förändringsarbete behövs\",Självskattning!B325,\"\")","v":""},{"$f":"IF(Självskattning!C325=\"Ett mindre förändringsarbete behövs\",Självskattning!D325,\"\")","v":""}]
[null,{"$f":"IF(Självskattning!C326=\"Ett mindre förändringsarbete behövs\",Självskattning!A326,\"\")","v":""},{"$f":"IF(Självskattning!C326=\"Ett mindre förändringsarbete behövs\",Självskattning!B326,\"\")","v":""},{"$f":"IF(Självskattning!C326=\"Ett mindre förändringsarbete behövs\",Självskattning!D326,\"\")","v":""}]
[null,{"$f":"IF(Självskattning!C327=\"Ett mindre förändringsarbete behövs\",Självskattning!A327,\"\")","v":""},{"$f":"IF(Självskattning!C327=\"Ett mindre förändringsarbete behövs\",Självskattning!B327,\"\")","v":""},{"$f":"IF(Självskattning!C327=\"Ett mindre förändringsarbete behövs\",Självskattning!D327,\"\")","v":""}]
[null,{"$f":"IF(Självskattning!C328=\"Ett mindre förändringsarbete behövs\",Självskattning!A328,\"\")","v":""},{"$f":"IF(Självskattning!C328=\"Ett mindre förändringsarbete behövs\",Självskattning!B328,\"\")","v":""},{"$f":"IF(Självskattning!C328=\"Ett mindre förändringsarbete behövs\",Självskattning!D328,\"\")","v":""}]
[null,{"$f":"IF(Självskattning!C329=\"Ett mindre förändringsarbete behövs\",Självskattning!A329,\"\")","v":""},{"$f":"IF(Självskattning!C329=\"Ett mindre förändringsarbete behövs\",Självskattning!B329,\"\")","v":""},{"$f":"IF(Självskattning!C329=\"Ett mindre förändringsarbete behövs\",Självskattning!D329,\"\")","v":""}]
[null,{"$f":"IF(Självskattning!C330=\"Ett mindre förändringsarbete behövs\",Självskattning!A330,\"\")","v":""},{"$f":"IF(Självskattning!C330=\"Ett mindre förändringsarbete behövs\",Självskattning!B330,\"\")","v":""},{"$f":"IF(Självskattning!C330=\"Ett mindre förändringsarbete behövs\",Självskattning!D330,\"\")","v":""}]
[null,{"$f":"IF(Självskattning!C331=\"Ett mindre förändringsarbete behövs\",Självskattning!A331,\"\")","v":""},{"$f":"IF(Självskattning!C331=\"Ett mindre förändringsarbete behövs\",Självskattning!B331,\"\")","v":""},{"$f":"IF(Självskattning!C331=\"Ett mindre förändringsarbete behövs\",Självskattning!D331,\"\")","v":""}]
[null,{"$f":"IF(Självskattning!C332=\"Ett mindre förändringsarbete behövs\",Självskattning!A332,\"\")","v":""},{"$f":"IF(Självskattning!C332=\"Ett mindre förändringsarbete behövs\",Självskattning!B332,\"\")","v":""},{"$f":"IF(Självskattning!C332=\"Ett mindre förändringsarbete behövs\",Självskattning!D332,\"\")","v":""}]
[null,{"$f":"IF(Självskattning!C333=\"Ett mindre förändringsarbete behövs\",Självskattning!A333,\"\")","v":""},{"$f":"IF(Självskattning!C333=\"Ett mindre förändringsarbete behövs\",Självskattning!B333,\"\")","v":""},{"$f":"IF(Självskattning!C333=\"Ett mindre förändringsarbete behövs\",Självskattning!D333,\"\")","v":""}]
[null,{"$f":"IF(Självskattning!C334=\"Ett mindre förändringsarbete behövs\",Självskattning!A334,\"\")","v":""},{"$f":"IF(Självskattning!C334=\"Ett mindre förändringsarbete behövs\",Självskattning!B334,\"\")","v":""},{"$f":"IF(Självskattning!C334=\"Ett mindre förändringsarbete behövs\",Självskattning!D334,\"\")","v":""}]
[null,{"$f":"IF(Självskattning!C335=\"Ett mindre förändringsarbete behövs\",Självskattning!A335,\"\")","v":""},{"$f":"IF(Självskattning!C335=\"Ett mindre förändringsarbete behövs\",Självskattning!B335,\"\")","v":""},{"$f":"IF(Självskattning!C335=\"Ett mindre förändringsarbete behövs\",Självskattning!D335,\"\")","v":""}]
[null,{"$f":"IF(Självskattning!C336=\"Ett mindre förändringsarbete behövs\",Självskattning!A336,\"\")","v":""},{"$f":"IF(Självskattning!C336=\"Ett mindre förändringsarbete behövs\",Självskattning!B336,\"\")","v":""},{"$f":"IF(Självskattning!C336=\"Ett mindre förändringsarbete behövs\",Självskattning!D336,\"\")","v":""}]
[null,{"$f":"IF(Självskattning!C337=\"Ett mindre förändringsarbete behövs\",Självskattning!A337,\"\")","v":""},{"$f":"IF(Självskattning!C337=\"Ett mindre förändringsarbete behövs\",Självskattning!B337,\"\")","v":""},{"$f":"IF(Självskattning!C337=\"Ett mindre förändringsarbete behövs\",Självskattning!D337,\"\")","v":""}]
[null,{"$f":"IF(Självskattning!C338=\"Ett mindre förändringsarbete behövs\",Självskattning!A338,\"\")","v":""},{"$f":"IF(Självskattning!C338=\"Ett mindre förändringsarbete behövs\",Självskattning!B338,\"\")","v":""},{"$f":"IF(Självskattning!C338=\"Ett mindre förändringsarbete behövs\",Självskattning!D338,\"\")","v":""}]
[null,{"$f":"IF(Självskattning!C339=\"Ett mindre förändringsarbete behövs\",Självskattning!A339,\"\")","v":""},{"$f":"IF(Självskattning!C339=\"Ett mindre förändringsarbete behövs\",Självskattning!B339,\"\")","v":""},{"$f":"IF(Självskattning!C339=\"Ett mindre förändringsarbete behövs\",Självskattning!D339,\"\")","v":""}]
[null,{"$f":"IF(Självskattning!C340=\"Ett mindre förändringsarbete behövs\",Självskattning!A340,\"\")","v":""},{"$f":"IF(Självskattning!C340=\"Ett mindre förändringsarbete behövs\",Självskattning!B340,\"\")","v":""},{"$f":"IF(Självskattning!C340=\"Ett mindre förändringsarbete behövs\",Självskattning!D340,\"\")","v":""}]
[null,{"$f":"IF(Självskattning!C341=\"Ett mindre förändringsarbete behövs\",Självskattning!A341,\"\")","v":""},{"$f":"IF(Självskattning!C341=\"Ett mindre förändringsarbete behövs\",Självskattning!B341,\"\")","v":""},{"$f":"IF(Självskattning!C341=\"Ett mindre förändringsarbete behövs\",Självskattning!D341,\"\")","v":""}]
[null,{"$f":"IF(Självskattning!C342=\"Ett mindre förändringsarbete behövs\",Självskattning!A342,\"\")","v":""},{"$f":"IF(Självskattning!C342=\"Ett mindre förändringsarbete behövs\",Självskattning!B342,\"\")","v":""},{"$f":"IF(Självskattning!C342=\"Ett mindre förändringsarbete behövs\",Självskattning!D342,\"\")","v":""}]
[null,{"$f":"IF(Självskattning!C343=\"Ett mindre förändringsarbete behövs\",Självskattning!A343,\"\")","v":""},{"$f":"IF(Självskattning!C343=\"Ett mindre förändringsarbete behövs\",Självskattning!B343,\"\")","v":""},{"$f":"IF(Självskattning!C343=\"Ett mindre förändringsarbete behövs\",Självskattning!D343,\"\")","v":""}]
[null,{"$f":"IF(Självskattning!C344=\"Ett mindre förändringsarbete behövs\",Självskattning!A344,\"\")","v":""},{"$f":"IF(Självskattning!C344=\"Ett mindre förändringsarbete behövs\",Självskattning!B344,\"\")","v":""},{"$f":"IF(Självskattning!C344=\"Ett mindre förändringsarbete behövs\",Självskattning!D344,\"\")","v":""}]
[null,{"$f":"IF(Självskattning!C345=\"Ett mindre förändringsarbete behövs\",Självskattning!A345,\"\")","v":""},{"$f":"IF(Självskattning!C345=\"Ett mindre förändringsarbete behövs\",Självskattning!B345,\"\")","v":""},{"$f":"IF(Självskattning!C345=\"Ett mindre förändringsarbete behövs\",Självskattning!D345,\"\")","v":""}]
[null,{"$f":"IF(Självskattning!C346=\"Ett mindre förändringsarbete behövs\",Självskattning!A346,\"\")","v":""},{"$f":"IF(Självskattning!C346=\"Ett mindre förändringsarbete behövs\",Självskattning!B346,\"\")","v":""},{"$f":"IF(Självskattning!C346=\"Ett mindre förändringsarbete behövs\",Självskattning!D346,\"\")","v":""}]
[null,{"$f":"IF(Självskattning!C347=\"Ett mindre förändringsarbete behövs\",Självskattning!A347,\"\")","v":""},{"$f":"IF(Självskattning!C347=\"Ett mindre förändringsarbete behövs\",Självskattning!B347,\"\")","v":""},{"$f":"IF(Självskattning!C347=\"Ett mindre förändringsarbete behövs\",Självskattning!D347,\"\")","v":""}]
[null,{"$f":"IF(Självskattning!C348=\"Ett mindre förändringsarbete behövs\",Självskattning!A348,\"\")","v":""},{"$f":"IF(Självskattning!C348=\"Ett mindre förändringsarbete behövs\",Självskattning!B348,\"\")","v":""},{"$f":"IF(Självskattning!C348=\"Ett mindre förändringsarbete behövs\",Självskattning!D348,\"\")","v":""}]
[null,{"$f":"IF(Självskattning!C349=\"Ett mindre förändringsarbete behövs\",Självskattning!A349,\"\")","v":""},{"$f":"IF(Självskattning!C349=\"Ett mindre förändringsarbete behövs\",Självskattning!B349,\"\")","v":""},{"$f":"IF(Självskattning!C349=\"Ett mindre förändringsarbete behövs\",Självskattning!D349,\"\")","v":""}]
[null,{"$f":"IF(Självskattning!C350=\"Ett mindre förändringsarbete behövs\",Självskattning!A350,\"\")","v":""},{"$f":"IF(Självskattning!C350=\"Ett mindre förändringsarbete behövs\",Självskattning!B350,\"\")","v":""},{"$f":"IF(Självskattning!C350=\"Ett mindre förändringsarbete behövs\",Självskattning!D350,\"\")","v":""}]
[null,{"$f":"IF(Självskattning!C351=\"Ett mindre förändringsarbete behövs\",Självskattning!A351,\"\")","v":""},{"$f":"IF(Självskattning!C351=\"Ett mindre förändringsarbete behövs\",Självskattning!B351,\"\")","v":""},{"$f":"IF(Självskattning!C351=\"Ett mindre förändringsarbete behövs\",Självskattning!D351,\"\")","v":""}]
[null,{"$f":"IF(Självskattning!C352=\"Ett mindre förändringsarbete behövs\",Självskattning!A352,\"\")","v":""},{"$f":"IF(Självskattning!C352=\"Ett mindre förändringsarbete behövs\",Självskattning!B352,\"\")","v":""},{"$f":"IF(Självskattning!C352=\"Ett mindre förändringsarbete behövs\",Självskattning!D352,\"\")","v":""}]
[null,{"$f":"IF(Självskattning!C353=\"Ett mindre förändringsarbete behövs\",Självskattning!A353,\"\")","v":""},{"$f":"IF(Självskattning!C353=\"Ett mindre förändringsarbete behövs\",Självskattning!B353,\"\")","v":""},{"$f":"IF(Självskattning!C353=\"Ett mindre förändringsarbete behövs\",Självskattning!D353,\"\")","v":""}]
[null,{"$f":"IF(Självskattning!C354=\"Ett mindre förändringsarbete behövs\",Självskattning!A354,\"\")","v":""},{"$f":"IF(Självskattning!C354=\"Ett mindre förändringsarbete behövs\",Självskattning!B354,\"\")","v":""},{"$f":"IF(Självskattning!C354=\"Ett mindre förändringsarbete behövs\",Självskattning!D354,\"\")","v":""}]
[null,{"$f":"IF(Självskattning!C355=\"Ett mindre förändringsarbete behövs\",Självskattning!A355,\"\")","v":""},{"$f":"IF(Självskattning!C355=\"Ett mindre förändringsarbete behövs\",Självskattning!B355,\"\")","v":""},{"$f":"IF(Självskattning!C355=\"Ett mindre förändringsarbete behövs\",Självskattning!D355,\"\")","v":""}]
[null,{"$f":"IF(Självskattning!C356=\"Ett mindre förändringsarbete behövs\",Självskattning!A356,\"\")","v":""},{"$f":"IF(Självskattning!C356=\"Ett mindre förändringsarbete behövs\",Självskattning!B356,\"\")","v":""},{"$f":"IF(Självskattning!C356=\"Ett mindre förändringsarbete behövs\",Självskattning!D356,\"\")","v":""}]
[null,{"$f":"IF(Självskattning!C357=\"Ett mindre förändringsarbete behövs\",Självskattning!A357,\"\")","v":""},{"$f":"IF(Självskattning!C357=\"Ett mindre förändringsarbete behövs\",Självskattning!B357,\"\")","v":""},{"$f":"IF(Självskattning!C357=\"Ett mindre förändringsarbete behövs\",Självskattning!D357,\"\")","v":""}]
[null,{"$f":"IF(Självskattning!C358=\"Ett mindre förändringsarbete behövs\",Självskattning!A358,\"\")","v":""},{"$f":"IF(Självskattning!C358=\"Ett mindre förändringsarbete behövs\",Självskattning!B358,\"\")","v":""},{"$f":"IF(Självskattning!C358=\"Ett mindre förändringsarbete behövs\",Självskattning!D358,\"\")","v":""}]
[null,{"$f":"IF(Självskattning!C359=\"Ett mindre förändringsarbete behövs\",Självskattning!A359,\"\")","v":""},{"$f":"IF(Självskattning!C359=\"Ett mindre förändringsarbete behövs\",Självskattning!B359,\"\")","v":""},{"$f":"IF(Självskattning!C359=\"Ett mindre förändringsarbete behövs\",Självskattning!D359,\"\")","v":""}]
[null,{"$f":"IF(Självskattning!C360=\"Ett mindre förändringsarbete behövs\",Självskattning!A360,\"\")","v":""},{"$f":"IF(Självskattning!C360=\"Ett mindre förändringsarbete behövs\",Självskattning!B360,\"\")","v":""},{"$f":"IF(Självskattning!C360=\"Ett mindre förändringsarbete behövs\",Självskattning!D360,\"\")","v":""}]
[null,{"$f":"IF(Självskattning!C361=\"Ett mindre förändringsarbete behövs\",Självskattning!A361,\"\")","v":""},{"$f":"IF(Självskattning!C361=\"Ett mindre förändringsarbete behövs\",Självskattning!B361,\"\")","v":""},{"$f":"IF(Självskattning!C361=\"Ett mindre förändringsarbete behövs\",Självskattning!D361,\"\")","v":""}]
[null,{"$f":"IF(Självskattning!C362=\"Ett mindre förändringsarbete behövs\",Självskattning!A362,\"\")","v":""},{"$f":"IF(Självskattning!C362=\"Ett mindre förändringsarbete behövs\",Självskattning!B362,\"\")","v":""},{"$f":"IF(Självskattning!C362=\"Ett mindre förändringsarbete behövs\",Självskattning!D362,\"\")","v":""}]
[null,{"$f":"IF(Självskattning!C363=\"Ett mindre förändringsarbete behövs\",Självskattning!A363,\"\")","v":""},{"$f":"IF(Självskattning!C363=\"Ett mindre förändringsarbete behövs\",Självskattning!B363,\"\")","v":""},{"$f":"IF(Självskattning!C363=\"Ett mindre förändringsarbete behövs\",Självskattning!D363,\"\")","v":""}]
[null,{"$f":"IF(Självskattning!C364=\"Ett mindre förändringsarbete behövs\",Självskattning!A364,\"\")","v":""},{"$f":"IF(Självskattning!C364=\"Ett mindre förändringsarbete behövs\",Självskattning!B364,\"\")","v":""},{"$f":"IF(Självskattning!C364=\"Ett mindre förändringsarbete behövs\",Självskattning!D364,\"\")","v":""}]
[null,{"$f":"IF(Självskattning!C365=\"Ett mindre förändringsarbete behövs\",Självskattning!A365,\"\")","v":""},{"$f":"IF(Självskattning!C365=\"Ett mindre förändringsarbete behövs\",Självskattning!B365,\"\")","v":""},{"$f":"IF(Självskattning!C365=\"Ett mindre förändringsarbete behövs\",Självskattning!D365,\"\")","v":""}]
[null,{"$f":"IF(Självskattning!C366=\"Ett mindre förändringsarbete behövs\",Självskattning!A366,\"\")","v":""},{"$f":"IF(Självskattning!C366=\"Ett mindre förändringsarbete behövs\",Självskattning!B366,\"\")","v":""},{"$f":"IF(Självskattning!C366=\"Ett mindre förändringsarbete behövs\",Självskattning!D366,\"\")","v":""}]
[null,{"$f":"IF(Självskattning!C367=\"Ett mindre förändringsarbete behövs\",Självskattning!A367,\"\")","v":""},{"$f":"IF(Självskattning!C367=\"Ett mindre förändringsarbete behövs\",Självskattning!B367,\"\")","v":""},{"$f":"IF(Självskattning!C367=\"Ett mindre förändringsarbete behövs\",Självskattning!D367,\"\")","v":""}]
[null,{"$f":"IF(Självskattning!C368=\"Ett mindre förändringsarbete behövs\",Självskattning!A368,\"\")","v":""},{"$f":"IF(Självskattning!C368=\"Ett mindre förändringsarbete behövs\",Självskattning!B368,\"\")","v":""},{"$f":"IF(Självskattning!C368=\"Ett mindre förändringsarbete behövs\",Självskattning!D368,\"\")","v":""}]
[null,{"$f":"IF(Självskattning!C369=\"Ett mindre förändringsarbete behövs\",Självskattning!A369,\"\")","v":""},{"$f":"IF(Självskattning!C369=\"Ett mindre förändringsarbete behövs\",Självskattning!B369,\"\")","v":""},{"$f":"IF(Självskattning!C369=\"Ett mindre förändringsarbete behövs\",Självskattning!D369,\"\")","v":""}]
[null,{"$f":"IF(Självskattning!C370=\"Ett mindre förändringsarbete behövs\",Självskattning!A370,\"\")","v":""},{"$f":"IF(Självskattning!C370=\"Ett mindre förändringsarbete behövs\",Självskattning!B370,\"\")","v":""},{"$f":"IF(Självskattning!C370=\"Ett mindre förändringsarbete behövs\",Självskattning!D370,\"\")","v":""}]
[null,{"$f":"IF(Självskattning!C371=\"Ett mindre förändringsarbete behövs\",Självskattning!A371,\"\")","v":""},{"$f":"IF(Självskattning!C371=\"Ett mindre förändringsarbete behövs\",Självskattning!B371,\"\")","v":""},{"$f":"IF(Självskattning!C371=\"Ett mindre förändringsarbete behövs\",Självskattning!D371,\"\")","v":""}]
[null,{"$f":"IF(Självskattning!C372=\"Ett mindre förändringsarbete behövs\",Självskattning!A372,\"\")","v":""},{"$f":"IF(Självskattning!C372=\"Ett mindre förändringsarbete behövs\",Självskattning!B372,\"\")","v":""},{"$f":"IF(Självskattning!C372=\"Ett mindre förändringsarbete behövs\",Självskattning!D372,\"\")","v":""}]
[null,{"$f":"IF(Självskattning!C373=\"Ett mindre förändringsarbete behövs\",Självskattning!A373,\"\")","v":""},{"$f":"IF(Självskattning!C373=\"Ett mindre förändringsarbete behövs\",Självskattning!B373,\"\")","v":""},{"$f":"IF(Självskattning!C373=\"Ett mindre förändringsarbete behövs\",Självskattning!D373,\"\")","v":""}]
[null,{"$f":"IF(Självskattning!C374=\"Ett mindre förändringsarbete behövs\",Självskattning!A374,\"\")","v":""},{"$f":"IF(Självskattning!C374=\"Ett mindre förändringsarbete behövs\",Självskattning!B374,\"\")","v":""},{"$f":"IF(Självskattning!C374=\"Ett mindre förändringsarbete behövs\",Självskattning!D374,\"\")","v":""}]
[null,{"$f":"IF(Självskattning!C375=\"Ett mindre förändringsarbete behövs\",Självskattning!A375,\"\")","v":""},{"$f":"IF(Självskattning!C375=\"Ett mindre förändringsarbete behövs\",Självskattning!B375,\"\")","v":""},{"$f":"IF(Självskattning!C375=\"Ett mindre förändringsarbete behövs\",Självskattning!D375,\"\")","v":""}]
[null,{"$f":"IF(Självskattning!C376=\"Ett mindre förändringsarbete behövs\",Självskattning!A376,\"\")","v":""},{"$f":"IF(Självskattning!C376=\"Ett mindre förändringsarbete behövs\",Självskattning!B376,\"\")","v":""},{"$f":"IF(Självskattning!C376=\"Ett mindre förändringsarbete behövs\",Självskattning!D376,\"\")","v":""}]
[null,{"$f":"IF(Självskattning!C377=\"Ett mindre förändringsarbete behövs\",Självskattning!A377,\"\")","v":""},{"$f":"IF(Självskattning!C377=\"Ett mindre förändringsarbete behövs\",Självskattning!B377,\"\")","v":""},{"$f":"IF(Självskattning!C377=\"Ett mindre förändringsarbete behövs\",Självskattning!D377,\"\")","v":""}]
[null,{"$f":"IF(Självskattning!C378=\"Ett mindre förändringsarbete behövs\",Självskattning!A378,\"\")","v":""},{"$f":"IF(Självskattning!C378=\"Ett mindre förändringsarbete behövs\",Självskattning!B378,\"\")","v":""},{"$f":"IF(Självskattning!C378=\"Ett mindre förändringsarbete behövs\",Självskattning!D378,\"\")","v":""}]
[null,{"$f":"IF(Självskattning!C379=\"Ett mindre förändringsarbete behövs\",Självskattning!A379,\"\")","v":""},{"$f":"IF(Självskattning!C379=\"Ett mindre förändringsarbete behövs\",Självskattning!B379,\"\")","v":""},{"$f":"IF(Självskattning!C379=\"Ett mindre förändringsarbete behövs\",Självskattning!D379,\"\")","v":""}]
[null,{"$f":"IF(Självskattning!C380=\"Ett mindre förändringsarbete behövs\",Självskattning!A380,\"\")","v":""},{"$f":"IF(Självskattning!C380=\"Ett mindre förändringsarbete behövs\",Självskattning!B380,\"\")","v":""},{"$f":"IF(Självskattning!C380=\"Ett mindre förändringsarbete behövs\",Självskattning!D380,\"\")","v":""}]
[null,{"$f":"IF(Självskattning!C381=\"Ett mindre förändringsarbete behövs\",Självskattning!A381,\"\")","v":""},{"$f":"IF(Självskattning!C381=\"Ett mindre förändringsarbete behövs\",Självskattning!B381,\"\")","v":""},{"$f":"IF(Självskattning!C381=\"Ett mindre förändringsarbete behövs\",Självskattning!D381,\"\")","v":""}]
[null,{"$f":"IF(Självskattning!C382=\"Ett mindre förändringsarbete behövs\",Självskattning!A382,\"\")","v":""},{"$f":"IF(Självskattning!C382=\"Ett mindre förändringsarbete behövs\",Självskattning!B382,\"\")","v":""},{"$f":"IF(Självskattning!C382=\"Ett mindre förändringsarbete behövs\",Självskattning!D382,\"\")","v":""}]
[null,{"$f":"IF(Självskattning!C383=\"Ett mindre förändringsarbete behövs\",Självskattning!A383,\"\")","v":""},{"$f":"IF(Självskattning!C383=\"Ett mindre förändringsarbete behövs\",Självskattning!B383,\"\")","v":""},{"$f":"IF(Självskattning!C383=\"Ett mindre förändringsarbete behövs\",Självskattning!D383,\"\")","v":""}]
[null,{"$f":"IF(Självskattning!C384=\"Ett mindre förändringsarbete behövs\",Självskattning!A384,\"\")","v":""},{"$f":"IF(Självskattning!C384=\"Ett mindre förändringsarbete behövs\",Självskattning!B384,\"\")","v":""},{"$f":"IF(Självskattning!C384=\"Ett mindre förändringsarbete behövs\",Självskattning!D384,\"\")","v":""}]
[null,{"$f":"IF(Självskattning!C385=\"Ett mindre förändringsarbete behövs\",Självskattning!A385,\"\")","v":""},{"$f":"IF(Självskattning!C385=\"Ett mindre förändringsarbete behövs\",Självskattning!B385,\"\")","v":""},{"$f":"IF(Självskattning!C385=\"Ett mindre förändringsarbete behövs\",Självskattning!D385,\"\")","v":""}]
[null,{"$f":"IF(Självskattning!C386=\"Ett mindre förändringsarbete behövs\",Självskattning!A386,\"\")","v":""},{"$f":"IF(Självskattning!C386=\"Ett mindre förändringsarbete behövs\",Självskattning!B386,\"\")","v":""},{"$f":"IF(Självskattning!C386=\"Ett mindre förändringsarbete behövs\",Självskattning!D386,\"\")","v":""}]
[null,{"$f":"IF(Självskattning!C387=\"Ett mindre förändringsarbete behövs\",Självskattning!A387,\"\")","v":""},{"$f":"IF(Självskattning!C387=\"Ett mindre förändringsarbete behövs\",Självskattning!B387,\"\")","v":""},{"$f":"IF(Självskattning!C387=\"Ett mindre förändringsarbete behövs\",Självskattning!D387,\"\")","v":""}]
[null,{"$f":"IF(Självskattning!C388=\"Ett mindre förändringsarbete behövs\",Självskattning!A388,\"\")","v":""},{"$f":"IF(Självskattning!C388=\"Ett mindre förändringsarbete behövs\",Självskattning!B388,\"\")","v":""},{"$f":"IF(Självskattning!C388=\"Ett mindre förändringsarbete behövs\",Självskattning!D388,\"\")","v":""}]
[null,{"$f":"IF(Självskattning!C389=\"Ett mindre förändringsarbete behövs\",Självskattning!A389,\"\")","v":""},{"$f":"IF(Självskattning!C389=\"Ett mindre förändringsarbete behövs\",Självskattning!B389,\"\")","v":""},{"$f":"IF(Självskattning!C389=\"Ett mindre förändringsarbete behövs\",Självskattning!D389,\"\")","v":""}]
[null,{"$f":"IF(Självskattning!C390=\"Ett mindre förändringsarbete behövs\",Självskattning!A390,\"\")","v":""},{"$f":"IF(Självskattning!C390=\"Ett mindre förändringsarbete behövs\",Självskattning!B390,\"\")","v":""},{"$f":"IF(Självskattning!C390=\"Ett mindre förändringsarbete behövs\",Självskattning!D390,\"\")","v":""}]
[null,{"$f":"IF(Självskattning!C391=\"Ett mindre förändringsarbete behövs\",Självskattning!A391,\"\")","v":""},{"$f":"IF(Självskattning!C391=\"Ett mindre förändringsarbete behövs\",Självskattning!B391,\"\")","v":""},{"$f":"IF(Självskattning!C391=\"Ett mindre förändringsarbete behövs\",Självskattning!D391,\"\")","v":""}]
[null,{"$f":"IF(Självskattning!C392=\"Ett mindre förändringsarbete behövs\",Självskattning!A392,\"\")","v":""},{"$f":"IF(Självskattning!C392=\"Ett mindre förändringsarbete behövs\",Självskattning!B392,\"\")","v":""},{"$f":"IF(Självskattning!C392=\"Ett mindre förändringsarbete behövs\",Självskattning!D392,\"\")","v":""}]
[null,{"$f":"IF(Självskattning!C393=\"Ett mindre förändringsarbete behövs\",Självskattning!A393,\"\")","v":""},{"$f":"IF(Självskattning!C393=\"Ett mindre förändringsarbete behövs\",Självskattning!B393,\"\")","v":""},{"$f":"IF(Självskattning!C393=\"Ett mindre förändringsarbete behövs\",Självskattning!D393,\"\")","v":""}]
[null,{"$f":"IF(Självskattning!C394=\"Ett mindre förändringsarbete behövs\",Självskattning!A394,\"\")","v":""},{"$f":"IF(Självskattning!C394=\"Ett mindre förändringsarbete behövs\",Självskattning!B394,\"\")","v":""},{"$f":"IF(Självskattning!C394=\"Ett mindre förändringsarbete behövs\",Självskattning!D394,\"\")","v":""}]
[null,{"$f":"IF(Självskattning!C395=\"Ett mindre förändringsarbete behövs\",Självskattning!A395,\"\")","v":""},{"$f":"IF(Självskattning!C395=\"Ett mindre förändringsarbete behövs\",Självskattning!B395,\"\")","v":""},{"$f":"IF(Självskattning!C395=\"Ett mindre förändringsarbete behövs\",Självskattning!D395,\"\")","v":""}]
[null,{"$f":"IF(Självskattning!C396=\"Ett mindre förändringsarbete behövs\",Självskattning!A396,\"\")","v":""},{"$f":"IF(Självskattning!C396=\"Ett mindre förändringsarbete behövs\",Självskattning!B396,\"\")","v":""},{"$f":"IF(Självskattning!C396=\"Ett mindre förändringsarbete behövs\",Självskattning!D396,\"\")","v":""}]
[null,{"$f":"IF(Självskattning!C397=\"Ett mindre förändringsarbete behövs\",Självskattning!A397,\"\")","v":""},{"$f":"IF(Självskattning!C397=\"Ett mindre förändringsarbete behövs\",Självskattning!B397,\"\")","v":""},{"$f":"IF(Självskattning!C397=\"Ett mindre förändringsarbete behövs\",Självskattning!D397,\"\")","v":""}]
[null,{"$f":"IF(Självskattning!C398=\"Ett mindre förändringsarbete behövs\",Självskattning!A398,\"\")","v":""},{"$f":"IF(Självskattning!C398=\"Ett mindre förändringsarbete behövs\",Självskattning!B398,\"\")","v":""},{"$f":"IF(Självskattning!C398=\"Ett mindre förändringsarbete behövs\",Självskattning!D398,\"\")","v":""}]
[null,{"$f":"IF(Självskattning!C399=\"Ett mindre förändringsarbete behövs\",Självskattning!A399,\"\")","v":""},{"$f":"IF(Självskattning!C399=\"Ett mindre förändringsarbete behövs\",Självskattning!B399,\"\")","v":""},{"$f":"IF(Självskattning!C399=\"Ett mindre förändringsarbete behövs\",Självskattning!D399,\"\")","v":""}]
[null,{"$f":"IF(Självskattning!C400=\"Ett mindre förändringsarbete behövs\",Självskattning!A400,\"\")","v":""},{"$f":"IF(Självskattning!C400=\"Ett mindre förändringsarbete behövs\",Självskattning!B400,\"\")","v":""},{"$f":"IF(Självskattning!C400=\"Ett mindre förändringsarbete behövs\",Självskattning!D400,\"\")","v":""}]
[null,{"$f":"IF(Självskattning!C401=\"Ett mindre förändringsarbete behövs\",Självskattning!A401,\"\")","v":""},{"$f":"IF(Självskattning!C401=\"Ett mindre förändringsarbete behövs\",Självskattning!B401,\"\")","v":""},{"$f":"IF(Självskattning!C401=\"Ett mindre förändringsarbete behövs\",Självskattning!D401,\"\")","v":""}]
[null,{"$f":"IF(Självskattning!C402=\"Ett mindre förändringsarbete behövs\",Självskattning!A402,\"\")","v":""},{"$f":"IF(Självskattning!C402=\"Ett mindre förändringsarbete behövs\",Självskattning!B402,\"\")","v":""},{"$f":"IF(Självskattning!C402=\"Ett mindre förändringsarbete behövs\",Självskattning!D402,\"\")","v":""}]
[null,{"$f":"IF(Självskattning!C403=\"Ett mindre förändringsarbete behövs\",Självskattning!A403,\"\")","v":""},{"$f":"IF(Självskattning!C403=\"Ett mindre förändringsarbete behövs\",Självskattning!B403,\"\")","v":""},{"$f":"IF(Självskattning!C403=\"Ett mindre förändringsarbete behövs\",Självskattning!D403,\"\")","v":""}]
[null,{"$f":"IF(Självskattning!C404=\"Ett mindre förändringsarbete behövs\",Självskattning!A404,\"\")","v":""},{"$f":"IF(Självskattning!C404=\"Ett mindre förändringsarbete behövs\",Självskattning!B404,\"\")","v":""},{"$f":"IF(Självskattning!C404=\"Ett mindre förändringsarbete behövs\",Självskattning!D404,\"\")","v":""}]
[null,{"$f":"IF(Självskattning!C405=\"Ett mindre förändringsarbete behövs\",Självskattning!A405,\"\")","v":""},{"$f":"IF(Självskattning!C405=\"Ett mindre förändringsarbete behövs\",Självskattning!B405,\"\")","v":""},{"$f":"IF(Självskattning!C405=\"Ett mindre förändringsarbete behövs\",Självskattning!D405,\"\")","v":""}]
[null,{"$f":"IF(Självskattning!C406=\"Ett mindre förändringsarbete behövs\",Självskattning!A406,\"\")","v":""},{"$f":"IF(Självskattning!C406=\"Ett mindre förändringsarbete behövs\",Självskattning!B406,\"\")","v":""},{"$f":"IF(Självskattning!C406=\"Ett mindre förändringsarbete behövs\",Självskattning!D406,\"\")","v":""}]
[null,{"$f":"IF(Självskattning!C407=\"Ett mindre förändringsarbete behövs\",Självskattning!A407,\"\")","v":""},{"$f":"IF(Självskattning!C407=\"Ett mindre förändringsarbete behövs\",Självskattning!B407,\"\")","v":""},{"$f":"IF(Självskattning!C407=\"Ett mindre förändringsarbete behövs\",Självskattning!D407,\"\")","v":""}]
[null,{"$f":"IF(Självskattning!C408=\"Ett mindre förändringsarbete behövs\",Självskattning!A408,\"\")","v":""},{"$f":"IF(Självskattning!C408=\"Ett mindre förändringsarbete behövs\",Självskattning!B408,\"\")","v":""},{"$f":"IF(Självskattning!C408=\"Ett mindre förändringsarbete behövs\",Självskattning!D408,\"\")","v":""}]
[null,{"$f":"IF(Självskattning!C409=\"Ett mindre förändringsarbete behövs\",Självskattning!A409,\"\")","v":""},{"$f":"IF(Självskattning!C409=\"Ett mindre förändringsarbete behövs\",Självskattning!B409,\"\")","v":""},{"$f":"IF(Självskattning!C409=\"Ett mindre förändringsarbete behövs\",Självskattning!D409,\"\")","v":""}]
[null,{"$f":"IF(Självskattning!C410=\"Ett mindre förändringsarbete behövs\",Självskattning!A410,\"\")","v":""},{"$f":"IF(Självskattning!C410=\"Ett mindre förändringsarbete behövs\",Självskattning!B410,\"\")","v":""},{"$f":"IF(Självskattning!C410=\"Ett mindre förändringsarbete behövs\",Självskattning!D410,\"\")","v":""}]
[null,{"$f":"IF(Självskattning!C411=\"Ett mindre förändringsarbete behövs\",Självskattning!A411,\"\")","v":""},{"$f":"IF(Självskattning!C411=\"Ett mindre förändringsarbete behövs\",Självskattning!B411,\"\")","v":""},{"$f":"IF(Självskattning!C411=\"Ett mindre förändringsarbete behövs\",Självskattning!D411,\"\")","v":""}]
[null,{"$f":"IF(Självskattning!C412=\"Ett mindre förändringsarbete behövs\",Självskattning!A412,\"\")","v":""},{"$f":"IF(Självskattning!C412=\"Ett mindre förändringsarbete behövs\",Självskattning!B412,\"\")","v":""},{"$f":"IF(Självskattning!C412=\"Ett mindre förändringsarbete behövs\",Självskattning!D412,\"\")","v":""}]
[null,{"$f":"IF(Självskattning!C413=\"Ett mindre förändringsarbete behövs\",Självskattning!A413,\"\")","v":""},{"$f":"IF(Självskattning!C413=\"Ett mindre förändringsarbete behövs\",Självskattning!B413,\"\")","v":""},{"$f":"IF(Självskattning!C413=\"Ett mindre förändringsarbete behövs\",Självskattning!D413,\"\")","v":""}]
[null,{"$f":"IF(Självskattning!C414=\"Ett mindre förändringsarbete behövs\",Självskattning!A414,\"\")","v":""},{"$f":"IF(Självskattning!C414=\"Ett mindre förändringsarbete behövs\",Självskattning!B414,\"\")","v":""},{"$f":"IF(Självskattning!C414=\"Ett mindre förändringsarbete behövs\",Självskattning!D414,\"\")","v":""}]
[null,{"$f":"IF(Självskattning!C415=\"Ett mindre förändringsarbete behövs\",Självskattning!A415,\"\")","v":""},{"$f":"IF(Självskattning!C415=\"Ett mindre förändringsarbete behövs\",Självskattning!B415,\"\")","v":""},{"$f":"IF(Självskattning!C415=\"Ett mindre förändringsarbete behövs\",Självskattning!D415,\"\")","v":""}]
[null,{"$f":"IF(Självskattning!C416=\"Ett mindre förändringsarbete behövs\",Självskattning!A416,\"\")","v":""},{"$f":"IF(Självskattning!C416=\"Ett mindre förändringsarbete behövs\",Självskattning!B416,\"\")","v":""},{"$f":"IF(Självskattning!C416=\"Ett mindre förändringsarbete behövs\",Självskattning!D416,\"\")","v":""}]
[null,{"$f":"IF(Självskattning!C417=\"Ett mindre förändringsarbete behövs\",Självskattning!A417,\"\")","v":""},{"$f":"IF(Självskattning!C417=\"Ett mindre förändringsarbete behövs\",Självskattning!B417,\"\")","v":""},{"$f":"IF(Självskattning!C417=\"Ett mindre förändringsarbete behövs\",Självskattning!D417,\"\")","v":""}]
[null,{"$f":"IF(Självskattning!C418=\"Ett mindre förändringsarbete behövs\",Självskattning!A418,\"\")","v":""},{"$f":"IF(Självskattning!C418=\"Ett mindre förändringsarbete behövs\",Självskattning!B418,\"\")","v":""},{"$f":"IF(Självskattning!C418=\"Ett mindre förändringsarbete behövs\",Självskattning!D418,\"\")","v":""}]
[null,{"$f":"IF(Självskattning!C419=\"Ett mindre förändringsarbete behövs\",Självskattning!A419,\"\")","v":""},{"$f":"IF(Självskattning!C419=\"Ett mindre förändringsarbete behövs\",Självskattning!B419,\"\")","v":""},{"$f":"IF(Självskattning!C419=\"Ett mindre förändringsarbete behövs\",Självskattning!D419,\"\")","v":""}]
[null,{"$f":"IF(Självskattning!C420=\"Ett mindre förändringsarbete behövs\",Självskattning!A420,\"\")","v":""},{"$f":"IF(Självskattning!C420=\"Ett mindre förändringsarbete behövs\",Självskattning!B420,\"\")","v":""},{"$f":"IF(Självskattning!C420=\"Ett mindre förändringsarbete behövs\",Självskattning!D420,\"\")","v":""}]
[null,{"$f":"IF(Självskattning!C421=\"Ett mindre förändringsarbete behövs\",Självskattning!A421,\"\")","v":""},{"$f":"IF(Självskattning!C421=\"Ett mindre förändringsarbete behövs\",Självskattning!B421,\"\")","v":""},{"$f":"IF(Självskattning!C421=\"Ett mindre förändringsarbete behövs\",Självskattning!D421,\"\")","v":""}]
[null,{"$f":"IF(Självskattning!C422=\"Ett mindre förändringsarbete behövs\",Självskattning!A422,\"\")","v":""},{"$f":"IF(Självskattning!C422=\"Ett mindre förändringsarbete behövs\",Självskattning!B422,\"\")","v":""},{"$f":"IF(Självskattning!C422=\"Ett mindre förändringsarbete behövs\",Självskattning!D422,\"\")","v":""}]
[null,{"$f":"IF(Självskattning!C423=\"Ett mindre förändringsarbete behövs\",Självskattning!A423,\"\")","v":""},{"$f":"IF(Självskattning!C423=\"Ett mindre förändringsarbete behövs\",Självskattning!B423,\"\")","v":""},{"$f":"IF(Självskattning!C423=\"Ett mindre förändringsarbete behövs\",Självskattning!D423,\"\")","v":""}]
[null,{"$f":"IF(Självskattning!C424=\"Ett mindre förändringsarbete behövs\",Självskattning!A424,\"\")","v":""},{"$f":"IF(Självskattning!C424=\"Ett mindre förändringsarbete behövs\",Självskattning!B424,\"\")","v":""},{"$f":"IF(Självskattning!C424=\"Ett mindre förändringsarbete behövs\",Självskattning!D424,\"\")","v":""}]
[null,{"$f":"IF(Självskattning!C425=\"Ett mindre förändringsarbete behövs\",Självskattning!A425,\"\")","v":""},{"$f":"IF(Självskattning!C425=\"Ett mindre förändringsarbete behövs\",Självskattning!B425,\"\")","v":""},{"$f":"IF(Självskattning!C425=\"Ett mindre förändringsarbete behövs\",Självskattning!D425,\"\")","v":""}]
[null,{"$f":"IF(Självskattning!C426=\"Ett mindre förändringsarbete behövs\",Självskattning!A426,\"\")","v":""},{"$f":"IF(Självskattning!C426=\"Ett mindre förändringsarbete behövs\",Självskattning!B426,\"\")","v":""},{"$f":"IF(Självskattning!C426=\"Ett mindre förändringsarbete behövs\",Självskattning!D426,\"\")","v":""}]
[null,{"$f":"IF(Självskattning!C427=\"Ett mindre förändringsarbete behövs\",Självskattning!A427,\"\")","v":""},{"$f":"IF(Självskattning!C427=\"Ett mindre förändringsarbete behövs\",Självskattning!B427,\"\")","v":""},{"$f":"IF(Självskattning!C427=\"Ett mindre förändringsarbete behövs\",Självskattning!D427,\"\")","v":""}]
[null,{"$f":"IF(Självskattning!C428=\"Ett mindre förändringsarbete behövs\",Självskattning!A428,\"\")","v":""},{"$f":"IF(Självskattning!C428=\"Ett mindre förändringsarbete behövs\",Självskattning!B428,\"\")","v":""},{"$f":"IF(Självskattning!C428=\"Ett mindre förändringsarbete behövs\",Självskattning!D428,\"\")","v":""}]
[null,{"$f":"IF(Självskattning!C429=\"Ett mindre förändringsarbete behövs\",Självskattning!A429,\"\")","v":""},{"$f":"IF(Självskattning!C429=\"Ett mindre förändringsarbete behövs\",Självskattning!B429,\"\")","v":""},{"$f":"IF(Självskattning!C429=\"Ett mindre förändringsarbete behövs\",Självskattning!D429,\"\")","v":""}]
[null,{"$f":"IF(Självskattning!C430=\"Ett mindre förändringsarbete behövs\",Självskattning!A430,\"\")","v":""},{"$f":"IF(Självskattning!C430=\"Ett mindre förändringsarbete behövs\",Självskattning!B430,\"\")","v":""},{"$f":"IF(Självskattning!C430=\"Ett mindre förändringsarbete behövs\",Självskattning!D430,\"\")","v":""}]
[null,{"$f":"IF(Självskattning!C431=\"Ett mindre förändringsarbete behövs\",Självskattning!A431,\"\")","v":""},{"$f":"IF(Självskattning!C431=\"Ett mindre förändringsarbete behövs\",Självskattning!B431,\"\")","v":""},{"$f":"IF(Självskattning!C431=\"Ett mindre förändringsarbete behövs\",Självskattning!D431,\"\")","v":""}]
[null,{"$f":"IF(Självskattning!C432=\"Ett mindre förändringsarbete behövs\",Självskattning!A432,\"\")","v":""},{"$f":"IF(Självskattning!C432=\"Ett mindre förändringsarbete behövs\",Självskattning!B432,\"\")","v":""},{"$f":"IF(Självskattning!C432=\"Ett mindre förändringsarbete behövs\",Självskattning!D432,\"\")","v":""}]
[null,{"$f":"IF(Självskattning!C433=\"Ett mindre förändringsarbete behövs\",Självskattning!A433,\"\")","v":""},{"$f":"IF(Självskattning!C433=\"Ett mindre förändringsarbete behövs\",Självskattning!B433,\"\")","v":""},{"$f":"IF(Självskattning!C433=\"Ett mindre förändringsarbete behövs\",Självskattning!D433,\"\")","v":""}]
[null,{"$f":"IF(Självskattning!C434=\"Ett mindre förändringsarbete behövs\",Självskattning!A434,\"\")","v":""},{"$f":"IF(Självskattning!C434=\"Ett mindre förändringsarbete behövs\",Självskattning!B434,\"\")","v":""},{"$f":"IF(Självskattning!C434=\"Ett mindre förändringsarbete behövs\",Självskattning!D434,\"\")","v":""}]
[null,{"$f":"IF(Självskattning!C435=\"Ett mindre förändringsarbete behövs\",Självskattning!A435,\"\")","v":""},{"$f":"IF(Självskattning!C435=\"Ett mindre förändringsarbete behövs\",Självskattning!B435,\"\")","v":""},{"$f":"IF(Självskattning!C435=\"Ett mindre förändringsarbete behövs\",Självskattning!D435,\"\")","v":""}]
[null,{"$f":"IF(Självskattning!C436=\"Ett mindre förändringsarbete behövs\",Självskattning!A436,\"\")","v":""},{"$f":"IF(Självskattning!C436=\"Ett mindre förändringsarbete behövs\",Självskattning!B436,\"\")","v":""},{"$f":"IF(Självskattning!C436=\"Ett mindre förändringsarbete behövs\",Självskattning!D436,\"\")","v":""}]
[null,{"$f":"IF(Självskattning!C437=\"Ett mindre förändringsarbete behövs\",Självskattning!A437,\"\")","v":""},{"$f":"IF(Självskattning!C437=\"Ett mindre förändringsarbete behövs\",Självskattning!B437,\"\")","v":""},{"$f":"IF(Självskattning!C437=\"Ett mindre förändringsarbete behövs\",Självskattning!D437,\"\")","v":""}]
[null,{"$f":"IF(Självskattning!C438=\"Ett mindre förändringsarbete behövs\",Självskattning!A438,\"\")","v":""},{"$f":"IF(Självskattning!C438=\"Ett mindre förändringsarbete behövs\",Självskattning!B438,\"\")","v":""},{"$f":"IF(Självskattning!C438=\"Ett mindre förändringsarbete behövs\",Självskattning!D438,\"\")","v":""}]
[null,{"$f":"IF(Självskattning!C439=\"Ett mindre förändringsarbete behövs\",Självskattning!A439,\"\")","v":""},{"$f":"IF(Självskattning!C439=\"Ett mindre förändringsarbete behövs\",Självskattning!B439,\"\")","v":""},{"$f":"IF(Självskattning!C439=\"Ett mindre förändringsarbete behövs\",Självskattning!D439,\"\")","v":""}]
[null,{"$f":"IF(Självskattning!C440=\"Ett mindre förändringsarbete behövs\",Självskattning!A440,\"\")","v":""},{"$f":"IF(Självskattning!C440=\"Ett mindre förändringsarbete behövs\",Självskattning!B440,\"\")","v":""},{"$f":"IF(Självskattning!C440=\"Ett mindre förändringsarbete behövs\",Självskattning!D440,\"\")","v":""}]
[null,{"$f":"IF(Självskattning!C441=\"Ett mindre förändringsarbete behövs\",Självskattning!A441,\"\")","v":""},{"$f":"IF(Självskattning!C441=\"Ett mindre förändringsarbete behövs\",Självskattning!B441,\"\")","v":""},{"$f":"IF(Självskattning!C441=\"Ett mindre förändringsarbete behövs\",Självskattning!D441,\"\")","v":""}]
[null,{"$f":"IF(Självskattning!C442=\"Ett mindre förändringsarbete behövs\",Självskattning!A442,\"\")","v":""},{"$f":"IF(Självskattning!C442=\"Ett mindre förändringsarbete behövs\",Självskattning!B442,\"\")","v":""},{"$f":"IF(Självskattning!C442=\"Ett mindre förändringsarbete behövs\",Självskattning!D442,\"\")","v":""}]
[null,{"$f":"IF(Självskattning!C443=\"Ett mindre förändringsarbete behövs\",Självskattning!A443,\"\")","v":""},{"$f":"IF(Självskattning!C443=\"Ett mindre förändringsarbete behövs\",Självskattning!B443,\"\")","v":""},{"$f":"IF(Självskattning!C443=\"Ett mindre förändringsarbete behövs\",Självskattning!D443,\"\")","v":""}]
[null,{"$f":"IF(Självskattning!C444=\"Ett mindre förändringsarbete behövs\",Självskattning!A444,\"\")","v":""},{"$f":"IF(Självskattning!C444=\"Ett mindre förändringsarbete behövs\",Självskattning!B444,\"\")","v":""},{"$f":"IF(Självskattning!C444=\"Ett mindre förändringsarbete behövs\",Självskattning!D444,\"\")","v":""}]
[null,{"$f":"IF(Självskattning!C445=\"Ett mindre förändringsarbete behövs\",Självskattning!A445,\"\")","v":""},{"$f":"IF(Självskattning!C445=\"Ett mindre förändringsarbete behövs\",Självskattning!B445,\"\")","v":""},{"$f":"IF(Självskattning!C445=\"Ett mindre förändringsarbete behövs\",Självskattning!D445,\"\")","v":""}]
[null,{"$f":"IF(Självskattning!C446=\"Ett mindre förändringsarbete behövs\",Självskattning!A446,\"\")","v":""},{"$f":"IF(Självskattning!C446=\"Ett mindre förändringsarbete behövs\",Självskattning!B446,\"\")","v":""},{"$f":"IF(Självskattning!C446=\"Ett mindre förändringsarbete behövs\",Självskattning!D446,\"\")","v":""}]
[null,{"$f":"IF(Självskattning!C447=\"Ett mindre förändringsarbete behövs\",Självskattning!A447,\"\")","v":""},{"$f":"IF(Självskattning!C447=\"Ett mindre förändringsarbete behövs\",Självskattning!B447,\"\")","v":""},{"$f":"IF(Självskattning!C447=\"Ett mindre förändringsarbete behövs\",Självskattning!D447,\"\")","v":""}]
[null,{"$f":"IF(Självskattning!C448=\"Ett mindre förändringsarbete behövs\",Självskattning!A448,\"\")","v":""},{"$f":"IF(Självskattning!C448=\"Ett mindre förändringsarbete behövs\",Självskattning!B448,\"\")","v":""},{"$f":"IF(Självskattning!C448=\"Ett mindre förändringsarbete behövs\",Självskattning!D448,\"\")","v":""}]
[null,{"$f":"IF(Självskattning!C449=\"Ett mindre förändringsarbete behövs\",Självskattning!A449,\"\")","v":""},{"$f":"IF(Självskattning!C449=\"Ett mindre förändringsarbete behövs\",Självskattning!B449,\"\")","v":""},{"$f":"IF(Självskattning!C449=\"Ett mindre förändringsarbete behövs\",Självskattning!D449,\"\")","v":""}]
[null,{"$f":"IF(Självskattning!C450=\"Ett mindre förändringsarbete behövs\",Självskattning!A450,\"\")","v":""},{"$f":"IF(Självskattning!C450=\"Ett mindre förändringsarbete behövs\",Självskattning!B450,\"\")","v":""},{"$f":"IF(Självskattning!C450=\"Ett mindre förändringsarbete behövs\",Självskattning!D450,\"\")","v":""}]
[null,{"$f":"IF(Självskattning!C451=\"Ett mindre förändringsarbete behövs\",Självskattning!A451,\"\")","v":""},{"$f":"IF(Självskattning!C451=\"Ett mindre förändringsarbete behövs\",Självskattning!B451,\"\")","v":""},{"$f":"IF(Självskattning!C451=\"Ett mindre förändringsarbete behövs\",Självskattning!D451,\"\")","v":""}]
[null,{"$f":"IF(Självskattning!C452=\"Ett mindre förändringsarbete behövs\",Självskattning!A452,\"\")","v":""},{"$f":"IF(Självskattning!C452=\"Ett mindre förändringsarbete behövs\",Självskattning!B452,\"\")","v":""},{"$f":"IF(Självskattning!C452=\"Ett mindre förändringsarbete behövs\",Självskattning!D452,\"\")","v":""}]
[null,{"$f":"IF(Självskattning!C453=\"Ett mindre förändringsarbete behövs\",Självskattning!A453,\"\")","v":""},{"$f":"IF(Självskattning!C453=\"Ett mindre förändringsarbete behövs\",Självskattning!B453,\"\")","v":""},{"$f":"IF(Självskattning!C453=\"Ett mindre förändringsarbete behövs\",Självskattning!D453,\"\")","v":""}]
[null,{"$f":"IF(Självskattning!C454=\"Ett mindre förändringsarbete behövs\",Självskattning!A454,\"\")","v":""},{"$f":"IF(Självskattning!C454=\"Ett mindre förändringsarbete behövs\",Självskattning!B454,\"\")","v":""},{"$f":"IF(Självskattning!C454=\"Ett mindre förändringsarbete behövs\",Självskattning!D454,\"\")","v":""}]
[null,{"$f":"IF(Självskattning!C455=\"Ett mindre förändringsarbete behövs\",Självskattning!A455,\"\")","v":""},{"$f":"IF(Självskattning!C455=\"Ett mindre förändringsarbete behövs\",Självskattning!B455,\"\")","v":""},{"$f":"IF(Självskattning!C455=\"Ett mindre förändringsarbete behövs\",Självskattning!D455,\"\")","v":""}]
[null,{"$f":"IF(Självskattning!C456=\"Ett mindre förändringsarbete behövs\",Självskattning!A456,\"\")","v":""},{"$f":"IF(Självskattning!C456=\"Ett mindre förändringsarbete behövs\",Självskattning!B456,\"\")","v":""},{"$f":"IF(Självskattning!C456=\"Ett mindre förändringsarbete behövs\",Självskattning!D456,\"\")","v":""}]
[null,{"$f":"IF(Självskattning!C457=\"Ett mindre förändringsarbete behövs\",Självskattning!A457,\"\")","v":""},{"$f":"IF(Självskattning!C457=\"Ett mindre förändringsarbete behövs\",Självskattning!B457,\"\")","v":""},{"$f":"IF(Självskattning!C457=\"Ett mindre förändringsarbete behövs\",Självskattning!D457,\"\")","v":""}]
[null,{"$f":"IF(Självskattning!C458=\"Ett mindre förändringsarbete behövs\",Självskattning!A458,\"\")","v":""},{"$f":"IF(Självskattning!C458=\"Ett mindre förändringsarbete behövs\",Självskattning!B458,\"\")","v":""},{"$f":"IF(Självskattning!C458=\"Ett mindre förändringsarbete behövs\",Självskattning!D458,\"\")","v":""}]
[null,{"$f":"IF(Självskattning!C459=\"Ett mindre förändringsarbete behövs\",Självskattning!A459,\"\")","v":""},{"$f":"IF(Självskattning!C459=\"Ett mindre förändringsarbete behövs\",Självskattning!B459,\"\")","v":""},{"$f":"IF(Självskattning!C459=\"Ett mindre förändringsarbete behövs\",Självskattning!D459,\"\")","v":""}]
[null,{"$f":"IF(Självskattning!C460=\"Ett mindre förändringsarbete behövs\",Självskattning!A460,\"\")","v":""},{"$f":"IF(Självskattning!C460=\"Ett mindre förändringsarbete behövs\",Självskattning!B460,\"\")","v":""},{"$f":"IF(Självskattning!C460=\"Ett mindre förändringsarbete behövs\",Självskattning!D460,\"\")","v":""}]
[null,{"$f":"IF(Självskattning!C461=\"Ett mindre förändringsarbete behövs\",Självskattning!A461,\"\")","v":""},{"$f":"IF(Självskattning!C461=\"Ett mindre förändringsarbete behövs\",Självskattning!B461,\"\")","v":""},{"$f":"IF(Självskattning!C461=\"Ett mindre förändringsarbete behövs\",Självskattning!D461,\"\")","v":""}]
[null,{"$f":"IF(Självskattning!C462=\"Ett mindre förändringsarbete behövs\",Självskattning!A462,\"\")","v":""},{"$f":"IF(Självskattning!C462=\"Ett mindre förändringsarbete behövs\",Självskattning!B462,\"\")","v":""},{"$f":"IF(Självskattning!C462=\"Ett mindre förändringsarbete behövs\",Självskattning!D462,\"\")","v":""}]
[null,{"$f":"IF(Självskattning!C463=\"Ett mindre förändringsarbete behövs\",Självskattning!A463,\"\")","v":""},{"$f":"IF(Självskattning!C463=\"Ett mindre förändringsarbete behövs\",Självskattning!B463,\"\")","v":""},{"$f":"IF(Självskattning!C463=\"Ett mindre förändringsarbete behövs\",Självskattning!D463,\"\")","v":""}]
[null,{"$f":"IF(Självskattning!C464=\"Ett mindre förändringsarbete behövs\",Självskattning!A464,\"\")","v":""},{"$f":"IF(Självskattning!C464=\"Ett mindre förändringsarbete behövs\",Självskattning!B464,\"\")","v":""},{"$f":"IF(Självskattning!C464=\"Ett mindre förändringsarbete behövs\",Självskattning!D464,\"\")","v":""}]
[null,{"$f":"IF(Självskattning!C465=\"Ett mindre förändringsarbete behövs\",Självskattning!A465,\"\")","v":""},{"$f":"IF(Självskattning!C465=\"Ett mindre förändringsarbete behövs\",Självskattning!B465,\"\")","v":""},{"$f":"IF(Självskattning!C465=\"Ett mindre förändringsarbete behövs\",Självskattning!D465,\"\")","v":""}]
[null,{"$f":"IF(Självskattning!C466=\"Ett mindre förändringsarbete behövs\",Självskattning!A466,\"\")","v":""},{"$f":"IF(Självskattning!C466=\"Ett mindre förändringsarbete behövs\",Självskattning!B466,\"\")","v":""},{"$f":"IF(Självskattning!C466=\"Ett mindre förändringsarbete behövs\",Självskattning!D466,\"\")","v":""}]
[null,{"$f":"IF(Självskattning!C467=\"Ett mindre förändringsarbete behövs\",Självskattning!A467,\"\")","v":""},{"$f":"IF(Självskattning!C467=\"Ett mindre förändringsarbete behövs\",Självskattning!B467,\"\")","v":""},{"$f":"IF(Självskattning!C467=\"Ett mindre förändringsarbete behövs\",Självskattning!D467,\"\")","v":""}]
[null,{"$f":"IF(Självskattning!C468=\"Ett mindre förändringsarbete behövs\",Självskattning!A468,\"\")","v":""},{"$f":"IF(Självskattning!C468=\"Ett mindre förändringsarbete behövs\",Självskattning!B468,\"\")","v":""},{"$f":"IF(Självskattning!C468=\"Ett mindre förändringsarbete behövs\",Självskattning!D468,\"\")","v":""}]
[null,{"$f":"IF(Självskattning!C469=\"Ett mindre förändringsarbete behövs\",Självskattning!A469,\"\")","v":""},{"$f":"IF(Självskattning!C469=\"Ett mindre förändringsarbete behövs\",Självskattning!B469,\"\")","v":""},{"$f":"IF(Självskattning!C469=\"Ett mindre förändringsarbete behövs\",Självskattning!D469,\"\")","v":""}]
[null,{"$f":"IF(Självskattning!C470=\"Ett mindre förändringsarbete behövs\",Självskattning!A470,\"\")","v":""},{"$f":"IF(Självskattning!C470=\"Ett mindre förändringsarbete behövs\",Självskattning!B470,\"\")","v":""},{"$f":"IF(Självskattning!C470=\"Ett mindre förändringsarbete behövs\",Självskattning!D470,\"\")","v":""}]
[null,{"$f":"IF(Självskattning!C471=\"Ett mindre förändringsarbete behövs\",Självskattning!A471,\"\")","v":""},{"$f":"IF(Självskattning!C471=\"Ett mindre förändringsarbete behövs\",Självskattning!B471,\"\")","v":""},{"$f":"IF(Självskattning!C471=\"Ett mindre förändringsarbete behövs\",Självskattning!D471,\"\")","v":""}]
[null,{"$f":"IF(Självskattning!C472=\"Ett mindre förändringsarbete behövs\",Självskattning!A472,\"\")","v":""},{"$f":"IF(Självskattning!C472=\"Ett mindre förändringsarbete behövs\",Självskattning!B472,\"\")","v":""},{"$f":"IF(Självskattning!C472=\"Ett mindre förändringsarbete behövs\",Självskattning!D472,\"\")","v":""}]
[null,{"$f":"IF(Självskattning!C473=\"Ett mindre förändringsarbete behövs\",Självskattning!A473,\"\")","v":""},{"$f":"IF(Självskattning!C473=\"Ett mindre förändringsarbete behövs\",Självskattning!B473,\"\")","v":""},{"$f":"IF(Självskattning!C473=\"Ett mindre förändringsarbete behövs\",Självskattning!D473,\"\")","v":""}]
[null,{"$f":"IF(Självskattning!C474=\"Ett mindre förändringsarbete behövs\",Självskattning!A474,\"\")","v":""},{"$f":"IF(Självskattning!C474=\"Ett mindre förändringsarbete behövs\",Självskattning!B474,\"\")","v":""},{"$f":"IF(Självskattning!C474=\"Ett mindre förändringsarbete behövs\",Självskattning!D474,\"\")","v":""}]
[null,{"$f":"IF(Självskattning!C475=\"Ett mindre förändringsarbete behövs\",Självskattning!A475,\"\")","v":""},{"$f":"IF(Självskattning!C475=\"Ett mindre förändringsarbete behövs\",Självskattning!B475,\"\")","v":""},{"$f":"IF(Självskattning!C475=\"Ett mindre förändringsarbete behövs\",Självskattning!D475,\"\")","v":""}]
[null,{"$f":"IF(Självskattning!C476=\"Ett mindre förändringsarbete behövs\",Självskattning!A476,\"\")","v":""},{"$f":"IF(Självskattning!C476=\"Ett mindre förändringsarbete behövs\",Självskattning!B476,\"\")","v":""},{"$f":"IF(Självskattning!C476=\"Ett mindre förändringsarbete behövs\",Självskattning!D476,\"\")","v":""}]
[null,{"$f":"IF(Självskattning!C477=\"Ett mindre förändringsarbete behövs\",Självskattning!A477,\"\")","v":""},{"$f":"IF(Självskattning!C477=\"Ett mindre förändringsarbete behövs\",Självskattning!B477,\"\")","v":""},{"$f":"IF(Självskattning!C477=\"Ett mindre förändringsarbete behövs\",Självskattning!D477,\"\")","v":""}]
[null,{"$f":"IF(Självskattning!C478=\"Ett mindre förändringsarbete behövs\",Självskattning!A478,\"\")","v":""},{"$f":"IF(Självskattning!C478=\"Ett mindre förändringsarbete behövs\",Självskattning!B478,\"\")","v":""},{"$f":"IF(Självskattning!C478=\"Ett mindre förändringsarbete behövs\",Självskattning!D478,\"\")","v":""}]
[null,{"$f":"IF(Självskattning!C479=\"Ett mindre förändringsarbete behövs\",Självskattning!A479,\"\")","v":""},{"$f":"IF(Självskattning!C479=\"Ett mindre förändringsarbete behövs\",Självskattning!B479,\"\")","v":""},{"$f":"IF(Självskattning!C479=\"Ett mindre förändringsarbete behövs\",Självskattning!D479,\"\")","v":""}]
[null,{"$f":"IF(Självskattning!C480=\"Ett mindre förändringsarbete behövs\",Självskattning!A480,\"\")","v":""},{"$f":"IF(Självskattning!C480=\"Ett mindre förändringsarbete behövs\",Självskattning!B480,\"\")","v":""},{"$f":"IF(Självskattning!C480=\"Ett mindre förändringsarbete behövs\",Självskattning!D480,\"\")","v":""}]
[null,{"$f":"IF(Självskattning!C481=\"Ett mindre förändringsarbete behövs\",Självskattning!A481,\"\")","v":""},{"$f":"IF(Självskattning!C481=\"Ett mindre förändringsarbete behövs\",Självskattning!B481,\"\")","v":""},{"$f":"IF(Självskattning!C481=\"Ett mindre förändringsarbete behövs\",Självskattning!D481,\"\")","v":""}]
[null,{"$f":"IF(Självskattning!C482=\"Ett mindre förändringsarbete behövs\",Självskattning!A482,\"\")","v":""},{"$f":"IF(Självskattning!C482=\"Ett mindre förändringsarbete behövs\",Självskattning!B482,\"\")","v":""},{"$f":"IF(Självskattning!C482=\"Ett mindre förändringsarbete behövs\",Självskattning!D482,\"\")","v":""}]
[null,{"$f":"IF(Självskattning!C483=\"Ett mindre förändringsarbete behövs\",Självskattning!A483,\"\")","v":""},{"$f":"IF(Självskattning!C483=\"Ett mindre förändringsarbete behövs\",Självskattning!B483,\"\")","v":""},{"$f":"IF(Självskattning!C483=\"Ett mindre förändringsarbete behövs\",Självskattning!D483,\"\")","v":""}]
[null,{"$f":"IF(Självskattning!C484=\"Ett mindre förändringsarbete behövs\",Självskattning!A484,\"\")","v":""},{"$f":"IF(Självskattning!C484=\"Ett mindre förändringsarbete behövs\",Självskattning!B484,\"\")","v":""},{"$f":"IF(Självskattning!C484=\"Ett mindre förändringsarbete behövs\",Självskattning!D484,\"\")","v":""}]
[null,{"$f":"IF(Självskattning!C485=\"Ett mindre förändringsarbete behövs\",Självskattning!A485,\"\")","v":""},{"$f":"IF(Självskattning!C485=\"Ett mindre förändringsarbete behövs\",Självskattning!B485,\"\")","v":""},{"$f":"IF(Självskattning!C485=\"Ett mindre förändringsarbete behövs\",Självskattning!D485,\"\")","v":""}]
[null,{"$f":"IF(Självskattning!C486=\"Ett mindre förändringsarbete behövs\",Självskattning!A486,\"\")","v":""},{"$f":"IF(Självskattning!C486=\"Ett mindre förändringsarbete behövs\",Självskattning!B486,\"\")","v":""},{"$f":"IF(Självskattning!C486=\"Ett mindre förändringsarbete behövs\",Självskattning!D486,\"\")","v":""}]
[null,{"$f":"IF(Självskattning!C487=\"Ett mindre förändringsarbete behövs\",Självskattning!A487,\"\")","v":""},{"$f":"IF(Självskattning!C487=\"Ett mindre förändringsarbete behövs\",Självskattning!B487,\"\")","v":""},{"$f":"IF(Självskattning!C487=\"Ett mindre förändringsarbete behövs\",Självskattning!D487,\"\")","v":""}]
[null,{"$f":"IF(Självskattning!C488=\"Ett mindre förändringsarbete behövs\",Självskattning!A488,\"\")","v":""},{"$f":"IF(Självskattning!C488=\"Ett mindre förändringsarbete behövs\",Självskattning!B488,\"\")","v":""},{"$f":"IF(Självskattning!C488=\"Ett mindre förändringsarbete behövs\",Självskattning!D488,\"\")","v":""}]
[null,{"$f":"IF(Självskattning!C489=\"Ett mindre förändringsarbete behövs\",Självskattning!A489,\"\")","v":""},{"$f":"IF(Självskattning!C489=\"Ett mindre förändringsarbete behövs\",Självskattning!B489,\"\")","v":""},{"$f":"IF(Självskattning!C489=\"Ett mindre förändringsarbete behövs\",Självskattning!D489,\"\")","v":""}]
[null,{"$f":"IF(Självskattning!C490=\"Ett mindre förändringsarbete behövs\",Självskattning!A490,\"\")","v":""},{"$f":"IF(Självskattning!C490=\"Ett mindre förändringsarbete behövs\",Självskattning!B490,\"\")","v":""},{"$f":"IF(Självskattning!C490=\"Ett mindre förändringsarbete behövs\",Självskattning!D490,\"\")","v":""}]
[null,{"$f":"IF(Självskattning!C491=\"Ett mindre förändringsarbete behövs\",Självskattning!A491,\"\")","v":""},{"$f":"IF(Självskattning!C491=\"Ett mindre förändringsarbete behövs\",Självskattning!B491,\"\")","v":""},{"$f":"IF(Självskattning!C491=\"Ett mindre förändringsarbete behövs\",Självskattning!D491,\"\")","v":""}]
[null,{"$f":"IF(Självskattning!C492=\"Ett mindre förändringsarbete behövs\",Självskattning!A492,\"\")","v":""},{"$f":"IF(Självskattning!C492=\"Ett mindre förändringsarbete behövs\",Självskattning!B492,\"\")","v":""},{"$f":"IF(Självskattning!C492=\"Ett mindre förändringsarbete behövs\",Självskattning!D492,\"\")","v":""}]
[null,{"$f":"IF(Självskattning!C493=\"Ett mindre förändringsarbete behövs\",Självskattning!A493,\"\")","v":""},{"$f":"IF(Självskattning!C493=\"Ett mindre förändringsarbete behövs\",Självskattning!B493,\"\")","v":""},{"$f":"IF(Självskattning!C493=\"Ett mindre förändringsarbete behövs\",Självskattning!D493,\"\")","v":""}]
[null,{"$f":"IF(Självskattning!C494=\"Ett mindre förändringsarbete behövs\",Självskattning!A494,\"\")","v":""},{"$f":"IF(Självskattning!C494=\"Ett mindre förändringsarbete behövs\",Självskattning!B494,\"\")","v":""},{"$f":"IF(Självskattning!C494=\"Ett mindre förändringsarbete behövs\",Självskattning!D494,\"\")","v":""}]
[null,{"$f":"IF(Självskattning!C495=\"Ett mindre förändringsarbete behövs\",Självskattning!A495,\"\")","v":""},{"$f":"IF(Självskattning!C495=\"Ett mindre förändringsarbete behövs\",Självskattning!B495,\"\")","v":""},{"$f":"IF(Självskattning!C495=\"Ett mindre förändringsarbete behövs\",Självskattning!D495,\"\")","v":""}]
[null,{"$f":"IF(Självskattning!C496=\"Ett mindre förändringsarbete behövs\",Självskattning!A496,\"\")","v":""},{"$f":"IF(Självskattning!C496=\"Ett mindre förändringsarbete behövs\",Självskattning!B496,\"\")","v":""},{"$f":"IF(Självskattning!C496=\"Ett mindre förändringsarbete behövs\",Självskattning!D496,\"\")","v":""}]
[null,{"$f":"IF(Självskattning!C497=\"Ett mindre förändringsarbete behövs\",Självskattning!A497,\"\")","v":""},{"$f":"IF(Självskattning!C497=\"Ett mindre förändringsarbete behövs\",Självskattning!B497,\"\")","v":""},{"$f":"IF(Självskattning!C497=\"Ett mindre förändringsarbete behövs\",Självskattning!D497,\"\")","v":""}]
[null,{"$f":"IF(Självskattning!C498=\"Ett mindre förändringsarbete behövs\",Självskattning!A498,\"\")","v":""},{"$f":"IF(Självskattning!C498=\"Ett mindre förändringsarbete behövs\",Självskattning!B498,\"\")","v":""},{"$f":"IF(Självskattning!C498=\"Ett mindre förändringsarbete behövs\",Självskattning!D498,\"\")","v":""}]
[null,{"$f":"IF(Självskattning!C499=\"Ett mindre förändringsarbete behövs\",Självskattning!A499,\"\")","v":""},{"$f":"IF(Självskattning!C499=\"Ett mindre förändringsarbete behövs\",Självskattning!B499,\"\")","v":""},{"$f":"IF(Självskattning!C499=\"Ett mindre förändringsarbete behövs\",Självskattning!D499,\"\")","v":""}]
[null,{"$f":"IF(Självskattning!C500=\"Ett mindre förändringsarbete behövs\",Självskattning!A500,\"\")","v":""},{"$f":"IF(Självskattning!C500=\"Ett mindre förändringsarbete behövs\",Självskattning!B500,\"\")","v":""},{"$f":"IF(Självskattning!C500=\"Ett mindre förändringsarbete behövs\",Självskattning!D500,\"\")","v":""}]
[null,{"$f":"IF(Självskattning!C501=\"Ett mindre förändringsarbete behövs\",Självskattning!A501,\"\")","v":""},{"$f":"IF(Självskattning!C501=\"Ett mindre förändringsarbete behövs\",Självskattning!B501,\"\")","v":""},{"$f":"IF(Självskattning!C501=\"Ett mindre förändringsarbete behövs\",Självskattning!D501,\"\")","v":""}]
[null,{"$f":"IF(Självskattning!C502=\"Ett mindre förändringsarbete behövs\",Självskattning!A502,\"\")","v":""},{"$f":"IF(Självskattning!C502=\"Ett mindre förändringsarbete behövs\",Självskattning!B502,\"\")","v":""},{"$f":"IF(Självskattning!C502=\"Ett mindre förändringsarbete behövs\",Självskattning!D502,\"\")","v":""}]
[null,"JA, I HUVUDSAK","KOMMENTAR","LÄSHÄNVISNINGAR"]
[null,{"$f":"IF(Självskattning!C3=\"Ja, i huvudsak\",Självskattning!A3,\"\")","v":""},{"$f":"IF(Självskattning!C3=\"Ja, i huvudsak\",Självskattning!B3,\"\")","v":""},{"$f":"IF(Självskattning!C3=\"Ja, i huvudsak\",Självskattning!D3,\"\")","v":""}]
[null,{"$f":"IF(Självskattning!C4=\"Ja, i huvudsak\",Självskattning!A4,\"\")","v":""},{"$f":"IF(Självskattning!C4=\"Ja, i huvudsak\",Självskattning!B4,\"\")","v":""},{"$f":"IF(Självskattning!C4=\"Ja, i huvudsak\",Självskattning!D4,\"\")","v":""}]
[null,{"$f":"IF(Självskattning!C5=\"Ja, i huvudsak\",Självskattning!A5,\"\")","v":""},{"$f":"IF(Självskattning!C5=\"Ja, i huvudsak\",Självskattning!B5,\"\")","v":""},{"$f":"IF(Självskattning!C5=\"Ja, i huvudsak\",Självskattning!D5,\"\")","v":""}]
[null,{"$f":"IF(Självskattning!C6=\"Ja, i huvudsak\",Självskattning!A6,\"\")","v":""},{"$f":"IF(Självskattning!C6=\"Ja, i huvudsak\",Självskattning!B6,\"\")","v":""},{"$f":"IF(Självskattning!C6=\"Ja, i huvudsak\",Självskattning!D6,\"\")","v":""}]
[null,{"$f":"IF(Självskattning!C7=\"Ja, i huvudsak\",Självskattning!A7,\"\")","v":""},{"$f":"IF(Självskattning!C7=\"Ja, i huvudsak\",Självskattning!B7,\"\")","v":""},{"$f":"IF(Självskattning!C7=\"Ja, i huvudsak\",Självskattning!D7,\"\")","v":""}]
[null,{"$f":"IF(Självskattning!C8=\"Ja, i huvudsak\",Självskattning!A8,\"\")","v":""},{"$f":"IF(Självskattning!C8=\"Ja, i huvudsak\",Självskattning!B8,\"\")","v":""},{"$f":"IF(Självskattning!C8=\"Ja, i huvudsak\",Självskattning!D8,\"\")","v":""}]
[null,{"$f":"IF(Självskattning!C9=\"Ja, i huvudsak\",Självskattning!A9,\"\")","v":""},{"$f":"IF(Självskattning!C9=\"Ja, i huvudsak\",Självskattning!B9,\"\")","v":""},{"$f":"IF(Självskattning!C9=\"Ja, i huvudsak\",Självskattning!D9,\"\")","v":""}]
[null,{"$f":"IF(Självskattning!C10=\"Ja, i huvudsak\",Självskattning!A10,\"\")","v":""},{"$f":"IF(Självskattning!C10=\"Ja, i huvudsak\",Självskattning!B10,\"\")","v":""},{"$f":"IF(Självskattning!C10=\"Ja, i huvudsak\",Självskattning!D10,\"\")","v":""}]
[null,{"$f":"IF(Självskattning!C11=\"Ja, i huvudsak\",Självskattning!A11,\"\")","v":""},{"$f":"IF(Självskattning!C11=\"Ja, i huvudsak\",Självskattning!B11,\"\")","v":""},{"$f":"IF(Självskattning!C11=\"Ja, i huvudsak\",Självskattning!D11,\"\")","v":""}]
[null,{"$f":"IF(Självskattning!C12=\"Ja, i huvudsak\",Självskattning!A12,\"\")","v":""},{"$f":"IF(Självskattning!C12=\"Ja, i huvudsak\",Självskattning!B12,\"\")","v":""},{"$f":"IF(Självskattning!C12=\"Ja, i huvudsak\",Självskattning!D12,\"\")","v":""}]
[null,{"$f":"IF(Självskattning!C13=\"Ja, i huvudsak\",Självskattning!A13,\"\")","v":""},{"$f":"IF(Självskattning!C13=\"Ja, i huvudsak\",Självskattning!B13,\"\")","v":""},{"$f":"IF(Självskattning!C13=\"Ja, i huvudsak\",Självskattning!D13,\"\")","v":""}]
[null,{"$f":"IF(Självskattning!C14=\"Ja, i huvudsak\",Självskattning!A14,\"\")","v":""},{"$f":"IF(Självskattning!C14=\"Ja, i huvudsak\",Självskattning!B14,\"\")","v":""},{"$f":"IF(Självskattning!C14=\"Ja, i huvudsak\",Självskattning!D14,\"\")","v":""}]
[null,{"$f":"IF(Självskattning!C15=\"Ja, i huvudsak\",Självskattning!A15,\"\")","v":""},{"$f":"IF(Självskattning!C15=\"Ja, i huvudsak\",Självskattning!B15,\"\")","v":""},{"$f":"IF(Självskattning!C15=\"Ja, i huvudsak\",Självskattning!D15,\"\")","v":""}]
[null,{"$f":"IF(Självskattning!C16=\"Ja, i huvudsak\",Självskattning!A16,\"\")","v":""},{"$f":"IF(Självskattning!C16=\"Ja, i huvudsak\",Självskattning!B16,\"\")","v":""},{"$f":"IF(Självskattning!C16=\"Ja, i huvudsak\",Självskattning!D16,\"\")","v":""}]
[null,{"$f":"IF(Självskattning!C17=\"Ja, i huvudsak\",Självskattning!A17,\"\")","v":""},{"$f":"IF(Självskattning!C17=\"Ja, i huvudsak\",Självskattning!B17,\"\")","v":""},{"$f":"IF(Självskattning!C17=\"Ja, i huvudsak\",Självskattning!D17,\"\")","v":""}]
[null,{"$f":"IF(Självskattning!C18=\"Ja, i huvudsak\",Självskattning!A18,\"\")","v":""},{"$f":"IF(Självskattning!C18=\"Ja, i huvudsak\",Självskattning!B18,\"\")","v":""},{"$f":"IF(Självskattning!C18=\"Ja, i huvudsak\",Självskattning!D18,\"\")","v":""}]
[null,{"$f":"IF(Självskattning!C19=\"Ja, i huvudsak\",Självskattning!A19,\"\")","v":""},{"$f":"IF(Självskattning!C19=\"Ja, i huvudsak\",Självskattning!B19,\"\")","v":""},{"$f":"IF(Självskattning!C19=\"Ja, i huvudsak\",Självskattning!D19,\"\")","v":""}]
[null,{"$f":"IF(Självskattning!C20=\"Ja, i huvudsak\",Självskattning!A20,\"\")","v":""},{"$f":"IF(Självskattning!C20=\"Ja, i huvudsak\",Självskattning!B20,\"\")","v":""},{"$f":"IF(Självskattning!C20=\"Ja, i huvudsak\",Självskattning!D20,\"\")","v":""}]
[null,{"$f":"IF(Självskattning!C21=\"Ja, i huvudsak\",Självskattning!A21,\"\")","v":""},{"$f":"IF(Självskattning!C21=\"Ja, i huvudsak\",Självskattning!B21,\"\")","v":""},{"$f":"IF(Självskattning!C21=\"Ja, i huvudsak\",Självskattning!D21,\"\")","v":""}]
[null,{"$f":"IF(Självskattning!C22=\"Ja, i huvudsak\",Självskattning!A22,\"\")","v":""},{"$f":"IF(Självskattning!C22=\"Ja, i huvudsak\",Självskattning!B22,\"\")","v":""},{"$f":"IF(Självskattning!C22=\"Ja, i huvudsak\",Självskattning!D22,\"\")","v":""}]
[null,{"$f":"IF(Självskattning!C23=\"Ja, i huvudsak\",Självskattning!A23,\"\")","v":""},{"$f":"IF(Självskattning!C23=\"Ja, i huvudsak\",Självskattning!B23,\"\")","v":""},{"$f":"IF(Självskattning!C23=\"Ja, i huvudsak\",Självskattning!D23,\"\")","v":""}]
[null,{"$f":"IF(Självskattning!C24=\"Ja, i huvudsak\",Självskattning!A24,\"\")","v":""},{"$f":"IF(Självskattning!C24=\"Ja, i huvudsak\",Självskattning!B24,\"\")","v":""},{"$f":"IF(Självskattning!C24=\"Ja, i huvudsak\",Självskattning!D24,\"\")","v":""}]
[null,{"$f":"IF(Självskattning!C25=\"Ja, i huvudsak\",Självskattning!A25,\"\")","v":""},{"$f":"IF(Självskattning!C25=\"Ja, i huvudsak\",Självskattning!B25,\"\")","v":""},{"$f":"IF(Självskattning!C25=\"Ja, i huvudsak\",Självskattning!D25,\"\")","v":""}]
[null,{"$f":"IF(Självskattning!C26=\"Ja, i huvudsak\",Självskattning!A26,\"\")","v":""},{"$f":"IF(Självskattning!C26=\"Ja, i huvudsak\",Självskattning!B26,\"\")","v":""},{"$f":"IF(Självskattning!C26=\"Ja, i huvudsak\",Självskattning!D26,\"\")","v":""}]
[null,{"$f":"IF(Självskattning!C27=\"Ja, i huvudsak\",Självskattning!A27,\"\")","v":""},{"$f":"IF(Självskattning!C27=\"Ja, i huvudsak\",Självskattning!B27,\"\")","v":""},{"$f":"IF(Självskattning!C27=\"Ja, i huvudsak\",Självskattning!D27,\"\")","v":""}]
[null,{"$f":"IF(Självskattning!C28=\"Ja, i huvudsak\",Självskattning!A28,\"\")","v":""},{"$f":"IF(Självskattning!C28=\"Ja, i huvudsak\",Självskattning!B28,\"\")","v":""},{"$f":"IF(Självskattning!C28=\"Ja, i huvudsak\",Självskattning!D28,\"\")","v":""}]
[null,{"$f":"IF(Självskattning!C29=\"Ja, i huvudsak\",Självskattning!A29,\"\")","v":""},{"$f":"IF(Självskattning!C29=\"Ja, i huvudsak\",Självskattning!B29,\"\")","v":""},{"$f":"IF(Självskattning!C29=\"Ja, i huvudsak\",Självskattning!D29,\"\")","v":""}]
[null,{"$f":"IF(Självskattning!C30=\"Ja, i huvudsak\",Självskattning!A30,\"\")","v":""},{"$f":"IF(Självskattning!C30=\"Ja, i huvudsak\",Självskattning!B30,\"\")","v":""},{"$f":"IF(Självskattning!C30=\"Ja, i huvudsak\",Självskattning!D30,\"\")","v":""}]
[null,{"$f":"IF(Självskattning!C31=\"Ja, i huvudsak\",Självskattning!A31,\"\")","v":""},{"$f":"IF(Självskattning!C31=\"Ja, i huvudsak\",Självskattning!B31,\"\")","v":""},{"$f":"IF(Självskattning!C31=\"Ja, i huvudsak\",Självskattning!D31,\"\")","v":""}]
[null,{"$f":"IF(Självskattning!C32=\"Ja, i huvudsak\",Självskattning!A32,\"\")","v":""},{"$f":"IF(Självskattning!C32=\"Ja, i huvudsak\",Självskattning!B32,\"\")","v":""},{"$f":"IF(Självskattning!C32=\"Ja, i huvudsak\",Självskattning!D32,\"\")","v":""}]
[null,{"$f":"IF(Självskattning!C33=\"Ja, i huvudsak\",Självskattning!A33,\"\")","v":""},{"$f":"IF(Självskattning!C33=\"Ja, i huvudsak\",Självskattning!B33,\"\")","v":""},{"$f":"IF(Självskattning!C33=\"Ja, i huvudsak\",Självskattning!D33,\"\")","v":""}]
[null,{"$f":"IF(Självskattning!C34=\"Ja, i huvudsak\",Självskattning!A34,\"\")","v":""},{"$f":"IF(Självskattning!C34=\"Ja, i huvudsak\",Självskattning!B34,\"\")","v":""},{"$f":"IF(Självskattning!C34=\"Ja, i huvudsak\",Självskattning!D34,\"\")","v":""}]
[null,{"$f":"IF(Självskattning!C35=\"Ja, i huvudsak\",Självskattning!A35,\"\")","v":""},{"$f":"IF(Självskattning!C35=\"Ja, i huvudsak\",Självskattning!B35,\"\")","v":""},{"$f":"IF(Självskattning!C35=\"Ja, i huvudsak\",Självskattning!D35,\"\")","v":""}]
[null,{"$f":"IF(Självskattning!C36=\"Ja, i huvudsak\",Självskattning!A36,\"\")","v":""},{"$f":"IF(Självskattning!C36=\"Ja, i huvudsak\",Självskattning!B36,\"\")","v":""},{"$f":"IF(Självskattning!C36=\"Ja, i huvudsak\",Självskattning!D36,\"\")","v":""}]
[null,{"$f":"IF(Självskattning!C37=\"Ja, i huvudsak\",Självskattning!A37,\"\")","v":""},{"$f":"IF(Självskattning!C37=\"Ja, i huvudsak\",Självskattning!B37,\"\")","v":""},{"$f":"IF(Självskattning!C37=\"Ja, i huvudsak\",Självskattning!D37,\"\")","v":""}]
[null,{"$f":"IF(Självskattning!C38=\"Ja, i huvudsak\",Självskattning!A38,\"\")","v":""},{"$f":"IF(Självskattning!C38=\"Ja, i huvudsak\",Självskattning!B38,\"\")","v":""},{"$f":"IF(Självskattning!C38=\"Ja, i huvudsak\",Självskattning!D38,\"\")","v":""}]
[null,{"$f":"IF(Självskattning!C39=\"Ja, i huvudsak\",Självskattning!A39,\"\")","v":""},{"$f":"IF(Självskattning!C39=\"Ja, i huvudsak\",Självskattning!B39,\"\")","v":""},{"$f":"IF(Självskattning!C39=\"Ja, i huvudsak\",Självskattning!D39,\"\")","v":""}]
[null,{"$f":"IF(Självskattning!C40=\"Ja, i huvudsak\",Självskattning!A40,\"\")","v":""},{"$f":"IF(Självskattning!C40=\"Ja, i huvudsak\",Självskattning!B40,\"\")","v":""},{"$f":"IF(Självskattning!C40=\"Ja, i huvudsak\",Självskattning!D40,\"\")","v":""}]
[null,{"$f":"IF(Självskattning!C41=\"Ja, i huvudsak\",Självskattning!A41,\"\")","v":""},{"$f":"IF(Självskattning!C41=\"Ja, i huvudsak\",Självskattning!B41,\"\")","v":""},{"$f":"IF(Självskattning!C41=\"Ja, i huvudsak\",Självskattning!D41,\"\")","v":""}]
[null,{"$f":"IF(Självskattning!C42=\"Ja, i huvudsak\",Självskattning!A42,\"\")","v":""},{"$f":"IF(Självskattning!C42=\"Ja, i huvudsak\",Självskattning!B42,\"\")","v":""},{"$f":"IF(Självskattning!C42=\"Ja, i huvudsak\",Självskattning!D42,\"\")","v":""}]
[null,{"$f":"IF(Självskattning!C43=\"Ja, i huvudsak\",Självskattning!A43,\"\")","v":""},{"$f":"IF(Självskattning!C43=\"Ja, i huvudsak\",Självskattning!B43,\"\")","v":""},{"$f":"IF(Självskattning!C43=\"Ja, i huvudsak\",Självskattning!D43,\"\")","v":""}]
[null,{"$f":"IF(Självskattning!C44=\"Ja, i huvudsak\",Självskattning!A44,\"\")","v":""},{"$f":"IF(Självskattning!C44=\"Ja, i huvudsak\",Självskattning!B44,\"\")","v":""},{"$f":"IF(Självskattning!C44=\"Ja, i huvudsak\",Självskattning!D44,\"\")","v":""}]
[null,{"$f":"IF(Självskattning!C45=\"Ja, i huvudsak\",Självskattning!A45,\"\")","v":""},{"$f":"IF(Självskattning!C45=\"Ja, i huvudsak\",Självskattning!B45,\"\")","v":""},{"$f":"IF(Självskattning!C45=\"Ja, i huvudsak\",Självskattning!D45,\"\")","v":""}]
[null,{"$f":"IF(Självskattning!C46=\"Ja, i huvudsak\",Självskattning!A46,\"\")","v":""},{"$f":"IF(Självskattning!C46=\"Ja, i huvudsak\",Självskattning!B46,\"\")","v":""},{"$f":"IF(Självskattning!C46=\"Ja, i huvudsak\",Självskattning!D46,\"\")","v":""}]
[null,{"$f":"IF(Självskattning!C47=\"Ja, i huvudsak\",Självskattning!A47,\"\")","v":""},{"$f":"IF(Självskattning!C47=\"Ja, i huvudsak\",Självskattning!B47,\"\")","v":""},{"$f":"IF(Självskattning!C47=\"Ja, i huvudsak\",Självskattning!D47,\"\")","v":""}]
[null,{"$f":"IF(Självskattning!C48=\"Ja, i huvudsak\",Självskattning!A48,\"\")","v":""},{"$f":"IF(Självskattning!C48=\"Ja, i huvudsak\",Självskattning!B48,\"\")","v":""},{"$f":"IF(Självskattning!C48=\"Ja, i huvudsak\",Självskattning!D48,\"\")","v":""}]
[null,{"$f":"IF(Självskattning!C49=\"Ja, i huvudsak\",Självskattning!A49,\"\")","v":""},{"$f":"IF(Självskattning!C49=\"Ja, i huvudsak\",Självskattning!B49,\"\")","v":""},{"$f":"IF(Självskattning!C49=\"Ja, i huvudsak\",Självskattning!D49,\"\")","v":""}]
[null,{"$f":"IF(Självskattning!C50=\"Ja, i huvudsak\",Självskattning!A50,\"\")","v":""},{"$f":"IF(Självskattning!C50=\"Ja, i huvudsak\",Självskattning!B50,\"\")","v":""},{"$f":"IF(Självskattning!C50=\"Ja, i huvudsak\",Självskattning!D50,\"\")","v":""}]
[null,{"$f":"IF(Självskattning!C51=\"Ja, i huvudsak\",Självskattning!A51,\"\")","v":""},{"$f":"IF(Självskattning!C51=\"Ja, i huvudsak\",Självskattning!B51,\"\")","v":""},{"$f":"IF(Självskattning!C51=\"Ja, i huvudsak\",Självskattning!D51,\"\")","v":""}]
[null,{"$f":"IF(Självskattning!C52=\"Ja, i huvudsak\",Självskattning!A52,\"\")","v":""},{"$f":"IF(Självskattning!C52=\"Ja, i huvudsak\",Självskattning!B52,\"\")","v":""},{"$f":"IF(Självskattning!C52=\"Ja, i huvudsak\",Självskattning!D52,\"\")","v":""}]
[null,{"$f":"IF(Självskattning!C53=\"Ja, i huvudsak\",Självskattning!A53,\"\")","v":""},{"$f":"IF(Självskattning!C53=\"Ja, i huvudsak\",Självskattning!B53,\"\")","v":""},{"$f":"IF(Självskattning!C53=\"Ja, i huvudsak\",Självskattning!D53,\"\")","v":""}]
[null,{"$f":"IF(Självskattning!C54=\"Ja, i huvudsak\",Självskattning!A54,\"\")","v":""},{"$f":"IF(Självskattning!C54=\"Ja, i huvudsak\",Självskattning!B54,\"\")","v":""},{"$f":"IF(Självskattning!C54=\"Ja, i huvudsak\",Självskattning!D54,\"\")","v":""}]
[null,{"$f":"IF(Självskattning!C55=\"Ja, i huvudsak\",Självskattning!A55,\"\")","v":""},{"$f":"IF(Självskattning!C55=\"Ja, i huvudsak\",Självskattning!B55,\"\")","v":""},{"$f":"IF(Självskattning!C55=\"Ja, i huvudsak\",Självskattning!D55,\"\")","v":""}]
[null,{"$f":"IF(Självskattning!C56=\"Ja, i huvudsak\",Självskattning!A56,\"\")","v":""},{"$f":"IF(Självskattning!C56=\"Ja, i huvudsak\",Självskattning!B56,\"\")","v":""},{"$f":"IF(Självskattning!C56=\"Ja, i huvudsak\",Självskattning!D56,\"\")","v":""}]
[null,{"$f":"IF(Självskattning!C57=\"Ja, i huvudsak\",Självskattning!A57,\"\")","v":""},{"$f":"IF(Självskattning!C57=\"Ja, i huvudsak\",Självskattning!B57,\"\")","v":""},{"$f":"IF(Självskattning!C57=\"Ja, i huvudsak\",Självskattning!D57,\"\")","v":""}]
[null,{"$f":"IF(Självskattning!C58=\"Ja, i huvudsak\",Självskattning!A58,\"\")","v":""},{"$f":"IF(Självskattning!C58=\"Ja, i huvudsak\",Självskattning!B58,\"\")","v":""},{"$f":"IF(Självskattning!C58=\"Ja, i huvudsak\",Självskattning!D58,\"\")","v":""}]
[null,{"$f":"IF(Självskattning!C59=\"Ja, i huvudsak\",Självskattning!A59,\"\")","v":""},{"$f":"IF(Självskattning!C59=\"Ja, i huvudsak\",Självskattning!B59,\"\")","v":""},{"$f":"IF(Självskattning!C59=\"Ja, i huvudsak\",Självskattning!D59,\"\")","v":""}]
[null,{"$f":"IF(Självskattning!C60=\"Ja, i huvudsak\",Självskattning!A60,\"\")","v":""},{"$f":"IF(Självskattning!C60=\"Ja, i huvudsak\",Självskattning!B60,\"\")","v":""},{"$f":"IF(Självskattning!C60=\"Ja, i huvudsak\",Självskattning!D60,\"\")","v":""}]
[null,{"$f":"IF(Självskattning!C61=\"Ja, i huvudsak\",Självskattning!A61,\"\")","v":""},{"$f":"IF(Självskattning!C61=\"Ja, i huvudsak\",Självskattning!B61,\"\")","v":""},{"$f":"IF(Självskattning!C61=\"Ja, i huvudsak\",Självskattning!D61,\"\")","v":""}]
[null,{"$f":"IF(Självskattning!C62=\"Ja, i huvudsak\",Självskattning!A62,\"\")","v":""},{"$f":"IF(Självskattning!C62=\"Ja, i huvudsak\",Självskattning!B62,\"\")","v":""},{"$f":"IF(Självskattning!C62=\"Ja, i huvudsak\",Självskattning!D62,\"\")","v":""}]
[null,{"$f":"IF(Självskattning!C63=\"Ja, i huvudsak\",Självskattning!A63,\"\")","v":""},{"$f":"IF(Självskattning!C63=\"Ja, i huvudsak\",Självskattning!B63,\"\")","v":""},{"$f":"IF(Självskattning!C63=\"Ja, i huvudsak\",Självskattning!D63,\"\")","v":""}]
[null,{"$f":"IF(Självskattning!C64=\"Ja, i huvudsak\",Självskattning!A64,\"\")","v":""},{"$f":"IF(Självskattning!C64=\"Ja, i huvudsak\",Självskattning!B64,\"\")","v":""},{"$f":"IF(Självskattning!C64=\"Ja, i huvudsak\",Självskattning!D64,\"\")","v":""}]
[null,{"$f":"IF(Självskattning!C65=\"Ja, i huvudsak\",Självskattning!A65,\"\")","v":""},{"$f":"IF(Självskattning!C65=\"Ja, i huvudsak\",Självskattning!B65,\"\")","v":""},{"$f":"IF(Självskattning!C65=\"Ja, i huvudsak\",Självskattning!D65,\"\")","v":""}]
[null,{"$f":"IF(Självskattning!C66=\"Ja, i huvudsak\",Självskattning!A66,\"\")","v":""},{"$f":"IF(Självskattning!C66=\"Ja, i huvudsak\",Självskattning!B66,\"\")","v":""},{"$f":"IF(Självskattning!C66=\"Ja, i huvudsak\",Självskattning!D66,\"\")","v":""}]
[null,{"$f":"IF(Självskattning!C67=\"Ja, i huvudsak\",Självskattning!A67,\"\")","v":""},{"$f":"IF(Självskattning!C67=\"Ja, i huvudsak\",Självskattning!B67,\"\")","v":""},{"$f":"IF(Självskattning!C67=\"Ja, i huvudsak\",Självskattning!D67,\"\")","v":""}]
[null,{"$f":"IF(Självskattning!C68=\"Ja, i huvudsak\",Självskattning!A68,\"\")","v":""},{"$f":"IF(Självskattning!C68=\"Ja, i huvudsak\",Självskattning!B68,\"\")","v":""},{"$f":"IF(Självskattning!C68=\"Ja, i huvudsak\",Självskattning!D68,\"\")","v":""}]
[null,{"$f":"IF(Självskattning!C69=\"Ja, i huvudsak\",Självskattning!A69,\"\")","v":""},{"$f":"IF(Självskattning!C69=\"Ja, i huvudsak\",Självskattning!B69,\"\")","v":""},{"$f":"IF(Självskattning!C69=\"Ja, i huvudsak\",Självskattning!D69,\"\")","v":""}]
[null,{"$f":"IF(Självskattning!C70=\"Ja, i huvudsak\",Självskattning!A70,\"\")","v":""},{"$f":"IF(Självskattning!C70=\"Ja, i huvudsak\",Självskattning!B70,\"\")","v":""},{"$f":"IF(Självskattning!C70=\"Ja, i huvudsak\",Självskattning!D70,\"\")","v":""}]
[null,{"$f":"IF(Självskattning!C71=\"Ja, i huvudsak\",Självskattning!A71,\"\")","v":""},{"$f":"IF(Självskattning!C71=\"Ja, i huvudsak\",Självskattning!B71,\"\")","v":""},{"$f":"IF(Självskattning!C71=\"Ja, i huvudsak\",Självskattning!D71,\"\")","v":""}]
[null,{"$f":"IF(Självskattning!C72=\"Ja, i huvudsak\",Självskattning!A72,\"\")","v":""},{"$f":"IF(Självskattning!C72=\"Ja, i huvudsak\",Självskattning!B72,\"\")","v":""},{"$f":"IF(Självskattning!C72=\"Ja, i huvudsak\",Självskattning!D72,\"\")","v":""}]
[null,{"$f":"IF(Självskattning!C73=\"Ja, i huvudsak\",Självskattning!A73,\"\")","v":""},{"$f":"IF(Självskattning!C73=\"Ja, i huvudsak\",Självskattning!B73,\"\")","v":""},{"$f":"IF(Självskattning!C73=\"Ja, i huvudsak\",Självskattning!D73,\"\")","v":""}]
[null,{"$f":"IF(Självskattning!C74=\"Ja, i huvudsak\",Självskattning!A74,\"\")","v":""},{"$f":"IF(Självskattning!C74=\"Ja, i huvudsak\",Självskattning!B74,\"\")","v":""},{"$f":"IF(Självskattning!C74=\"Ja, i huvudsak\",Självskattning!D74,\"\")","v":""}]
[null,{"$f":"IF(Självskattning!C75=\"Ja, i huvudsak\",Självskattning!A75,\"\")","v":""},{"$f":"IF(Självskattning!C75=\"Ja, i huvudsak\",Självskattning!B75,\"\")","v":""},{"$f":"IF(Självskattning!C75=\"Ja, i huvudsak\",Självskattning!D75,\"\")","v":""}]
[null,{"$f":"IF(Självskattning!C76=\"Ja, i huvudsak\",Självskattning!A76,\"\")","v":""},{"$f":"IF(Självskattning!C76=\"Ja, i huvudsak\",Självskattning!B76,\"\")","v":""},{"$f":"IF(Självskattning!C76=\"Ja, i huvudsak\",Självskattning!D76,\"\")","v":""}]
[null,{"$f":"IF(Självskattning!C77=\"Ja, i huvudsak\",Självskattning!A77,\"\")","v":""},{"$f":"IF(Självskattning!C77=\"Ja, i huvudsak\",Självskattning!B77,\"\")","v":""},{"$f":"IF(Självskattning!C77=\"Ja, i huvudsak\",Självskattning!D77,\"\")","v":""}]
[null,{"$f":"IF(Självskattning!C78=\"Ja, i huvudsak\",Självskattning!A78,\"\")","v":""},{"$f":"IF(Självskattning!C78=\"Ja, i huvudsak\",Självskattning!B78,\"\")","v":""},{"$f":"IF(Självskattning!C78=\"Ja, i huvudsak\",Självskattning!D78,\"\")","v":""}]
[null,{"$f":"IF(Självskattning!C79=\"Ja, i huvudsak\",Självskattning!A79,\"\")","v":""},{"$f":"IF(Självskattning!C79=\"Ja, i huvudsak\",Självskattning!B79,\"\")","v":""},{"$f":"IF(Självskattning!C79=\"Ja, i huvudsak\",Självskattning!D79,\"\")","v":""}]
[null,{"$f":"IF(Självskattning!C80=\"Ja, i huvudsak\",Självskattning!A80,\"\")","v":""},{"$f":"IF(Självskattning!C80=\"Ja, i huvudsak\",Självskattning!B80,\"\")","v":""},{"$f":"IF(Självskattning!C80=\"Ja, i huvudsak\",Självskattning!D80,\"\")","v":""}]
[null,{"$f":"IF(Självskattning!C81=\"Ja, i huvudsak\",Självskattning!A81,\"\")","v":""},{"$f":"IF(Självskattning!C81=\"Ja, i huvudsak\",Självskattning!B81,\"\")","v":""},{"$f":"IF(Självskattning!C81=\"Ja, i huvudsak\",Självskattning!D81,\"\")","v":""}]
[null,{"$f":"IF(Självskattning!C82=\"Ja, i huvudsak\",Självskattning!A82,\"\")","v":""},{"$f":"IF(Självskattning!C82=\"Ja, i huvudsak\",Självskattning!B82,\"\")","v":""},{"$f":"IF(Självskattning!C82=\"Ja, i huvudsak\",Självskattning!D82,\"\")","v":""}]
[null,{"$f":"IF(Självskattning!C83=\"Ja, i huvudsak\",Självskattning!A83,\"\")","v":""},{"$f":"IF(Självskattning!C83=\"Ja, i huvudsak\",Självskattning!B83,\"\")","v":""},{"$f":"IF(Självskattning!C83=\"Ja, i huvudsak\",Självskattning!D83,\"\")","v":""}]
[null,{"$f":"IF(Självskattning!C84=\"Ja, i huvudsak\",Självskattning!A84,\"\")","v":""},{"$f":"IF(Självskattning!C84=\"Ja, i huvudsak\",Självskattning!B84,\"\")","v":""},{"$f":"IF(Självskattning!C84=\"Ja, i huvudsak\",Självskattning!D84,\"\")","v":""}]
[null,{"$f":"IF(Självskattning!C85=\"Ja, i huvudsak\",Självskattning!A85,\"\")","v":""},{"$f":"IF(Självskattning!C85=\"Ja, i huvudsak\",Självskattning!B85,\"\")","v":""},{"$f":"IF(Självskattning!C85=\"Ja, i huvudsak\",Självskattning!D85,\"\")","v":""}]
[null,{"$f":"IF(Självskattning!C86=\"Ja, i huvudsak\",Självskattning!A86,\"\")","v":""},{"$f":"IF(Självskattning!C86=\"Ja, i huvudsak\",Självskattning!B86,\"\")","v":""},{"$f":"IF(Självskattning!C86=\"Ja, i huvudsak\",Självskattning!D86,\"\")","v":""}]
[null,{"$f":"IF(Självskattning!C87=\"Ja, i huvudsak\",Självskattning!A87,\"\")","v":""},{"$f":"IF(Självskattning!C87=\"Ja, i huvudsak\",Självskattning!B87,\"\")","v":""},{"$f":"IF(Självskattning!C87=\"Ja, i huvudsak\",Självskattning!D87,\"\")","v":""}]
[null,{"$f":"IF(Självskattning!C88=\"Ja, i huvudsak\",Självskattning!A88,\"\")","v":""},{"$f":"IF(Självskattning!C88=\"Ja, i huvudsak\",Självskattning!B88,\"\")","v":""},{"$f":"IF(Självskattning!C88=\"Ja, i huvudsak\",Självskattning!D88,\"\")","v":""}]
[null,{"$f":"IF(Självskattning!C89=\"Ja, i huvudsak\",Självskattning!A89,\"\")","v":""},{"$f":"IF(Självskattning!C89=\"Ja, i huvudsak\",Självskattning!B89,\"\")","v":""},{"$f":"IF(Självskattning!C89=\"Ja, i huvudsak\",Självskattning!D89,\"\")","v":""}]
[null,{"$f":"IF(Självskattning!C90=\"Ja, i huvudsak\",Självskattning!A90,\"\")","v":""},{"$f":"IF(Självskattning!C90=\"Ja, i huvudsak\",Självskattning!B90,\"\")","v":""},{"$f":"IF(Självskattning!C90=\"Ja, i huvudsak\",Självskattning!D90,\"\")","v":""}]
[null,{"$f":"IF(Självskattning!C91=\"Ja, i huvudsak\",Självskattning!A91,\"\")","v":""},{"$f":"IF(Självskattning!C91=\"Ja, i huvudsak\",Självskattning!B91,\"\")","v":""},{"$f":"IF(Självskattning!C91=\"Ja, i huvudsak\",Självskattning!D91,\"\")","v":""}]
[null,{"$f":"IF(Självskattning!C92=\"Ja, i huvudsak\",Självskattning!A92,\"\")","v":""},{"$f":"IF(Självskattning!C92=\"Ja, i huvudsak\",Självskattning!B92,\"\")","v":""},{"$f":"IF(Självskattning!C92=\"Ja, i huvudsak\",Självskattning!D92,\"\")","v":""}]
[null,{"$f":"IF(Självskattning!C93=\"Ja, i huvudsak\",Självskattning!A93,\"\")","v":""},{"$f":"IF(Självskattning!C93=\"Ja, i huvudsak\",Självskattning!B93,\"\")","v":""},{"$f":"IF(Självskattning!C93=\"Ja, i huvudsak\",Självskattning!D93,\"\")","v":""}]
[null,{"$f":"IF(Självskattning!C94=\"Ja, i huvudsak\",Självskattning!A94,\"\")","v":""},{"$f":"IF(Självskattning!C94=\"Ja, i huvudsak\",Självskattning!B94,\"\")","v":""},{"$f":"IF(Självskattning!C94=\"Ja, i huvudsak\",Självskattning!D94,\"\")","v":""}]
[null,{"$f":"IF(Självskattning!C95=\"Ja, i huvudsak\",Självskattning!A95,\"\")","v":""},{"$f":"IF(Självskattning!C95=\"Ja, i huvudsak\",Självskattning!B95,\"\")","v":""},{"$f":"IF(Självskattning!C95=\"Ja, i huvudsak\",Självskattning!D95,\"\")","v":""}]
[null,{"$f":"IF(Självskattning!C96=\"Ja, i huvudsak\",Självskattning!A96,\"\")","v":""},{"$f":"IF(Självskattning!C96=\"Ja, i huvudsak\",Självskattning!B96,\"\")","v":""},{"$f":"IF(Självskattning!C96=\"Ja, i huvudsak\",Självskattning!D96,\"\")","v":""}]
[null,{"$f":"IF(Självskattning!C97=\"Ja, i huvudsak\",Självskattning!A97,\"\")","v":""},{"$f":"IF(Självskattning!C97=\"Ja, i huvudsak\",Självskattning!B97,\"\")","v":""},{"$f":"IF(Självskattning!C97=\"Ja, i huvudsak\",Självskattning!D97,\"\")","v":""}]
[null,{"$f":"IF(Självskattning!C98=\"Ja, i huvudsak\",Självskattning!A98,\"\")","v":""},{"$f":"IF(Självskattning!C98=\"Ja, i huvudsak\",Självskattning!B98,\"\")","v":""},{"$f":"IF(Självskattning!C98=\"Ja, i huvudsak\",Självskattning!D98,\"\")","v":""}]
[null,{"$f":"IF(Självskattning!C99=\"Ja, i huvudsak\",Självskattning!A99,\"\")","v":""},{"$f":"IF(Självskattning!C99=\"Ja, i huvudsak\",Självskattning!B99,\"\")","v":""},{"$f":"IF(Självskattning!C99=\"Ja, i huvudsak\",Självskattning!D99,\"\")","v":""}]
[null,{"$f":"IF(Självskattning!C100=\"Ja, i huvudsak\",Självskattning!A100,\"\")","v":""},{"$f":"IF(Självskattning!C100=\"Ja, i huvudsak\",Självskattning!B100,\"\")","v":""},{"$f":"IF(Självskattning!C100=\"Ja, i huvudsak\",Självskattning!D100,\"\")","v":""}]
[null,{"$f":"IF(Självskattning!C101=\"Ja, i huvudsak\",Självskattning!A101,\"\")","v":""},{"$f":"IF(Självskattning!C101=\"Ja, i huvudsak\",Självskattning!B101,\"\")","v":""},{"$f":"IF(Självskattning!C101=\"Ja, i huvudsak\",Självskattning!D101,\"\")","v":""}]
[null,{"$f":"IF(Självskattning!C102=\"Ja, i huvudsak\",Självskattning!A102,\"\")","v":""},{"$f":"IF(Självskattning!C102=\"Ja, i huvudsak\",Självskattning!B102,\"\")","v":""},{"$f":"IF(Självskattning!C102=\"Ja, i huvudsak\",Självskattning!D102,\"\")","v":""}]
[null,{"$f":"IF(Självskattning!C103=\"Ja, i huvudsak\",Självskattning!A103,\"\")","v":""},{"$f":"IF(Självskattning!C103=\"Ja, i huvudsak\",Självskattning!B103,\"\")","v":""},{"$f":"IF(Självskattning!C103=\"Ja, i huvudsak\",Självskattning!D103,\"\")","v":""}]
[null,{"$f":"IF(Självskattning!C104=\"Ja, i huvudsak\",Självskattning!A104,\"\")","v":""},{"$f":"IF(Självskattning!C104=\"Ja, i huvudsak\",Självskattning!B104,\"\")","v":""},{"$f":"IF(Självskattning!C104=\"Ja, i huvudsak\",Självskattning!D104,\"\")","v":""}]
[null,{"$f":"IF(Självskattning!C105=\"Ja, i huvudsak\",Självskattning!A105,\"\")","v":""},{"$f":"IF(Självskattning!C105=\"Ja, i huvudsak\",Självskattning!B105,\"\")","v":""},{"$f":"IF(Självskattning!C105=\"Ja, i huvudsak\",Självskattning!D105,\"\")","v":""}]
[null,{"$f":"IF(Självskattning!C106=\"Ja, i huvudsak\",Självskattning!A106,\"\")","v":""},{"$f":"IF(Självskattning!C106=\"Ja, i huvudsak\",Självskattning!B106,\"\")","v":""},{"$f":"IF(Självskattning!C106=\"Ja, i huvudsak\",Självskattning!D106,\"\")","v":""}]
[null,{"$f":"IF(Självskattning!C107=\"Ja, i huvudsak\",Självskattning!A107,\"\")","v":""},{"$f":"IF(Självskattning!C107=\"Ja, i huvudsak\",Självskattning!B107,\"\")","v":""},{"$f":"IF(Självskattning!C107=\"Ja, i huvudsak\",Självskattning!D107,\"\")","v":""}]
[null,{"$f":"IF(Självskattning!C108=\"Ja, i huvudsak\",Självskattning!A108,\"\")","v":""},{"$f":"IF(Självskattning!C108=\"Ja, i huvudsak\",Självskattning!B108,\"\")","v":""},{"$f":"IF(Självskattning!C108=\"Ja, i huvudsak\",Självskattning!D108,\"\")","v":""}]
[null,{"$f":"IF(Självskattning!C109=\"Ja, i huvudsak\",Självskattning!A109,\"\")","v":""},{"$f":"IF(Självskattning!C109=\"Ja, i huvudsak\",Självskattning!B109,\"\")","v":""},{"$f":"IF(Självskattning!C109=\"Ja, i huvudsak\",Självskattning!D109,\"\")","v":""}]
[null,{"$f":"IF(Självskattning!C110=\"Ja, i huvudsak\",Självskattning!A110,\"\")","v":""},{"$f":"IF(Självskattning!C110=\"Ja, i huvudsak\",Självskattning!B110,\"\")","v":""},{"$f":"IF(Självskattning!C110=\"Ja, i huvudsak\",Självskattning!D110,\"\")","v":""}]
[null,{"$f":"IF(Självskattning!C111=\"Ja, i huvudsak\",Självskattning!A111,\"\")","v":""},{"$f":"IF(Självskattning!C111=\"Ja, i huvudsak\",Självskattning!B111,\"\")","v":""},{"$f":"IF(Självskattning!C111=\"Ja, i huvudsak\",Självskattning!D111,\"\")","v":""}]
[null,{"$f":"IF(Självskattning!C112=\"Ja, i huvudsak\",Självskattning!A112,\"\")","v":""},{"$f":"IF(Självskattning!C112=\"Ja, i huvudsak\",Självskattning!B112,\"\")","v":""},{"$f":"IF(Självskattning!C112=\"Ja, i huvudsak\",Självskattning!D112,\"\")","v":""}]
[null,{"$f":"IF(Självskattning!C113=\"Ja, i huvudsak\",Självskattning!A113,\"\")","v":""},{"$f":"IF(Självskattning!C113=\"Ja, i huvudsak\",Självskattning!B113,\"\")","v":""},{"$f":"IF(Självskattning!C113=\"Ja, i huvudsak\",Självskattning!D113,\"\")","v":""}]
[null,{"$f":"IF(Självskattning!C114=\"Ja, i huvudsak\",Självskattning!A114,\"\")","v":""},{"$f":"IF(Självskattning!C114=\"Ja, i huvudsak\",Självskattning!B114,\"\")","v":""},{"$f":"IF(Självskattning!C114=\"Ja, i huvudsak\",Självskattning!D114,\"\")","v":""}]
[null,{"$f":"IF(Självskattning!C115=\"Ja, i huvudsak\",Självskattning!A115,\"\")","v":""},{"$f":"IF(Självskattning!C115=\"Ja, i huvudsak\",Självskattning!B115,\"\")","v":""},{"$f":"IF(Självskattning!C115=\"Ja, i huvudsak\",Självskattning!D115,\"\")","v":""}]
[null,{"$f":"IF(Självskattning!C116=\"Ja, i huvudsak\",Självskattning!A116,\"\")","v":""},{"$f":"IF(Självskattning!C116=\"Ja, i huvudsak\",Självskattning!B116,\"\")","v":""},{"$f":"IF(Självskattning!C116=\"Ja, i huvudsak\",Självskattning!D116,\"\")","v":""}]
[null,{"$f":"IF(Självskattning!C117=\"Ja, i huvudsak\",Självskattning!A117,\"\")","v":""},{"$f":"IF(Självskattning!C117=\"Ja, i huvudsak\",Självskattning!B117,\"\")","v":""},{"$f":"IF(Självskattning!C117=\"Ja, i huvudsak\",Självskattning!D117,\"\")","v":""}]
[null,{"$f":"IF(Självskattning!C118=\"Ja, i huvudsak\",Självskattning!A118,\"\")","v":""},{"$f":"IF(Självskattning!C118=\"Ja, i huvudsak\",Självskattning!B118,\"\")","v":""},{"$f":"IF(Självskattning!C118=\"Ja, i huvudsak\",Självskattning!D118,\"\")","v":""}]
[null,{"$f":"IF(Självskattning!C119=\"Ja, i huvudsak\",Självskattning!A119,\"\")","v":""},{"$f":"IF(Självskattning!C119=\"Ja, i huvudsak\",Självskattning!B119,\"\")","v":""},{"$f":"IF(Självskattning!C119=\"Ja, i huvudsak\",Självskattning!D119,\"\")","v":""}]
[null,{"$f":"IF(Självskattning!C120=\"Ja, i huvudsak\",Självskattning!A120,\"\")","v":""},{"$f":"IF(Självskattning!C120=\"Ja, i huvudsak\",Självskattning!B120,\"\")","v":""},{"$f":"IF(Självskattning!C120=\"Ja, i huvudsak\",Självskattning!D120,\"\")","v":""}]
[null,{"$f":"IF(Självskattning!C121=\"Ja, i huvudsak\",Självskattning!A121,\"\")","v":""},{"$f":"IF(Självskattning!C121=\"Ja, i huvudsak\",Självskattning!B121,\"\")","v":""},{"$f":"IF(Självskattning!C121=\"Ja, i huvudsak\",Självskattning!D121,\"\")","v":""}]
[null,{"$f":"IF(Självskattning!C122=\"Ja, i huvudsak\",Självskattning!A122,\"\")","v":""},{"$f":"IF(Självskattning!C122=\"Ja, i huvudsak\",Självskattning!B122,\"\")","v":""},{"$f":"IF(Självskattning!C122=\"Ja, i huvudsak\",Självskattning!D122,\"\")","v":""}]
[null,{"$f":"IF(Självskattning!C123=\"Ja, i huvudsak\",Självskattning!A123,\"\")","v":""},{"$f":"IF(Självskattning!C123=\"Ja, i huvudsak\",Självskattning!B123,\"\")","v":""},{"$f":"IF(Självskattning!C123=\"Ja, i huvudsak\",Självskattning!D123,\"\")","v":""}]
[null,{"$f":"IF(Självskattning!C124=\"Ja, i huvudsak\",Självskattning!A124,\"\")","v":""},{"$f":"IF(Självskattning!C124=\"Ja, i huvudsak\",Självskattning!B124,\"\")","v":""},{"$f":"IF(Självskattning!C124=\"Ja, i huvudsak\",Självskattning!D124,\"\")","v":""}]
[null,{"$f":"IF(Självskattning!C125=\"Ja, i huvudsak\",Självskattning!A125,\"\")","v":""},{"$f":"IF(Självskattning!C125=\"Ja, i huvudsak\",Självskattning!B125,\"\")","v":""},{"$f":"IF(Självskattning!C125=\"Ja, i huvudsak\",Självskattning!D125,\"\")","v":""}]
[null,{"$f":"IF(Självskattning!C126=\"Ja, i huvudsak\",Självskattning!A126,\"\")","v":""},{"$f":"IF(Självskattning!C126=\"Ja, i huvudsak\",Självskattning!B126,\"\")","v":""},{"$f":"IF(Självskattning!C126=\"Ja, i huvudsak\",Självskattning!D126,\"\")","v":""}]
[null,{"$f":"IF(Självskattning!C127=\"Ja, i huvudsak\",Självskattning!A127,\"\")","v":""},{"$f":"IF(Självskattning!C127=\"Ja, i huvudsak\",Självskattning!B127,\"\")","v":""},{"$f":"IF(Självskattning!C127=\"Ja, i huvudsak\",Självskattning!D127,\"\")","v":""}]
[null,{"$f":"IF(Självskattning!C128=\"Ja, i huvudsak\",Självskattning!A128,\"\")","v":""},{"$f":"IF(Självskattning!C128=\"Ja, i huvudsak\",Självskattning!B128,\"\")","v":""},{"$f":"IF(Självskattning!C128=\"Ja, i huvudsak\",Självskattning!D128,\"\")","v":""}]
[null,{"$f":"IF(Självskattning!C129=\"Ja, i huvudsak\",Självskattning!A129,\"\")","v":""},{"$f":"IF(Självskattning!C129=\"Ja, i huvudsak\",Självskattning!B129,\"\")","v":""},{"$f":"IF(Självskattning!C129=\"Ja, i huvudsak\",Självskattning!D129,\"\")","v":""}]
[null,{"$f":"IF(Självskattning!C130=\"Ja, i huvudsak\",Självskattning!A130,\"\")","v":""},{"$f":"IF(Självskattning!C130=\"Ja, i huvudsak\",Självskattning!B130,\"\")","v":""},{"$f":"IF(Självskattning!C130=\"Ja, i huvudsak\",Självskattning!D130,\"\")","v":""}]
[null,{"$f":"IF(Självskattning!C131=\"Ja, i huvudsak\",Självskattning!A131,\"\")","v":""},{"$f":"IF(Självskattning!C131=\"Ja, i huvudsak\",Självskattning!B131,\"\")","v":""},{"$f":"IF(Självskattning!C131=\"Ja, i huvudsak\",Självskattning!D131,\"\")","v":""}]
[null,{"$f":"IF(Självskattning!C132=\"Ja, i huvudsak\",Självskattning!A132,\"\")","v":""},{"$f":"IF(Självskattning!C132=\"Ja, i huvudsak\",Självskattning!B132,\"\")","v":""},{"$f":"IF(Självskattning!C132=\"Ja, i huvudsak\",Självskattning!D132,\"\")","v":""}]
[null,{"$f":"IF(Självskattning!C133=\"Ja, i huvudsak\",Självskattning!A133,\"\")","v":""},{"$f":"IF(Självskattning!C133=\"Ja, i huvudsak\",Självskattning!B133,\"\")","v":""},{"$f":"IF(Självskattning!C133=\"Ja, i huvudsak\",Självskattning!D133,\"\")","v":""}]
[null,{"$f":"IF(Självskattning!C134=\"Ja, i huvudsak\",Självskattning!A134,\"\")","v":""},{"$f":"IF(Självskattning!C134=\"Ja, i huvudsak\",Självskattning!B134,\"\")","v":""},{"$f":"IF(Självskattning!C134=\"Ja, i huvudsak\",Självskattning!D134,\"\")","v":""}]
[null,{"$f":"IF(Självskattning!C135=\"Ja, i huvudsak\",Självskattning!A135,\"\")","v":""},{"$f":"IF(Självskattning!C135=\"Ja, i huvudsak\",Självskattning!B135,\"\")","v":""},{"$f":"IF(Självskattning!C135=\"Ja, i huvudsak\",Självskattning!D135,\"\")","v":""}]
[null,{"$f":"IF(Självskattning!C136=\"Ja, i huvudsak\",Självskattning!A136,\"\")","v":""},{"$f":"IF(Självskattning!C136=\"Ja, i huvudsak\",Självskattning!B136,\"\")","v":""},{"$f":"IF(Självskattning!C136=\"Ja, i huvudsak\",Självskattning!D136,\"\")","v":""}]
[null,{"$f":"IF(Självskattning!C137=\"Ja, i huvudsak\",Självskattning!A137,\"\")","v":""},{"$f":"IF(Självskattning!C137=\"Ja, i huvudsak\",Självskattning!B137,\"\")","v":""},{"$f":"IF(Självskattning!C137=\"Ja, i huvudsak\",Självskattning!D137,\"\")","v":""}]
[null,{"$f":"IF(Självskattning!C138=\"Ja, i huvudsak\",Självskattning!A138,\"\")","v":""},{"$f":"IF(Självskattning!C138=\"Ja, i huvudsak\",Självskattning!B138,\"\")","v":""},{"$f":"IF(Självskattning!C138=\"Ja, i huvudsak\",Självskattning!D138,\"\")","v":""}]
[null,{"$f":"IF(Självskattning!C139=\"Ja, i huvudsak\",Självskattning!A139,\"\")","v":""},{"$f":"IF(Självskattning!C139=\"Ja, i huvudsak\",Självskattning!B139,\"\")","v":""},{"$f":"IF(Självskattning!C139=\"Ja, i huvudsak\",Självskattning!D139,\"\")","v":""}]
[null,{"$f":"IF(Självskattning!C140=\"Ja, i huvudsak\",Självskattning!A140,\"\")","v":""},{"$f":"IF(Självskattning!C140=\"Ja, i huvudsak\",Självskattning!B140,\"\")","v":""},{"$f":"IF(Självskattning!C140=\"Ja, i huvudsak\",Självskattning!D140,\"\")","v":""}]
[null,{"$f":"IF(Självskattning!C141=\"Ja, i huvudsak\",Självskattning!A141,\"\")","v":""},{"$f":"IF(Självskattning!C141=\"Ja, i huvudsak\",Självskattning!B141,\"\")","v":""},{"$f":"IF(Självskattning!C141=\"Ja, i huvudsak\",Självskattning!D141,\"\")","v":""}]
[null,{"$f":"IF(Självskattning!C142=\"Ja, i huvudsak\",Självskattning!A142,\"\")","v":""},{"$f":"IF(Självskattning!C142=\"Ja, i huvudsak\",Självskattning!B142,\"\")","v":""},{"$f":"IF(Självskattning!C142=\"Ja, i huvudsak\",Självskattning!D142,\"\")","v":""}]
[null,{"$f":"IF(Självskattning!C143=\"Ja, i huvudsak\",Självskattning!A143,\"\")","v":""},{"$f":"IF(Självskattning!C143=\"Ja, i huvudsak\",Självskattning!B143,\"\")","v":""},{"$f":"IF(Självskattning!C143=\"Ja, i huvudsak\",Självskattning!D143,\"\")","v":""}]
[null,{"$f":"IF(Självskattning!C144=\"Ja, i huvudsak\",Självskattning!A144,\"\")","v":""},{"$f":"IF(Självskattning!C144=\"Ja, i huvudsak\",Självskattning!B144,\"\")","v":""},{"$f":"IF(Självskattning!C144=\"Ja, i huvudsak\",Självskattning!D144,\"\")","v":""}]
[null,{"$f":"IF(Självskattning!C145=\"Ja, i huvudsak\",Självskattning!A145,\"\")","v":""},{"$f":"IF(Självskattning!C145=\"Ja, i huvudsak\",Självskattning!B145,\"\")","v":""},{"$f":"IF(Självskattning!C145=\"Ja, i huvudsak\",Självskattning!D145,\"\")","v":""}]
[null,{"$f":"IF(Självskattning!C146=\"Ja, i huvudsak\",Självskattning!A146,\"\")","v":""},{"$f":"IF(Självskattning!C146=\"Ja, i huvudsak\",Självskattning!B146,\"\")","v":""},{"$f":"IF(Självskattning!C146=\"Ja, i huvudsak\",Självskattning!D146,\"\")","v":""}]
[null,{"$f":"IF(Självskattning!C147=\"Ja, i huvudsak\",Självskattning!A147,\"\")","v":""},{"$f":"IF(Självskattning!C147=\"Ja, i huvudsak\",Självskattning!B147,\"\")","v":""},{"$f":"IF(Självskattning!C147=\"Ja, i huvudsak\",Självskattning!D147,\"\")","v":""}]
[null,{"$f":"IF(Självskattning!C148=\"Ja, i huvudsak\",Självskattning!A148,\"\")","v":""},{"$f":"IF(Självskattning!C148=\"Ja, i huvudsak\",Självskattning!B148,\"\")","v":""},{"$f":"IF(Självskattning!C148=\"Ja, i huvudsak\",Självskattning!D148,\"\")","v":""}]
[null,{"$f":"IF(Självskattning!C149=\"Ja, i huvudsak\",Självskattning!A149,\"\")","v":""},{"$f":"IF(Självskattning!C149=\"Ja, i huvudsak\",Självskattning!B149,\"\")","v":""},{"$f":"IF(Självskattning!C149=\"Ja, i huvudsak\",Självskattning!D149,\"\")","v":""}]
[null,{"$f":"IF(Självskattning!C150=\"Ja, i huvudsak\",Självskattning!A150,\"\")","v":""},{"$f":"IF(Självskattning!C150=\"Ja, i huvudsak\",Självskattning!B150,\"\")","v":""},{"$f":"IF(Självskattning!C150=\"Ja, i huvudsak\",Självskattning!D150,\"\")","v":""}]
[null,{"$f":"IF(Självskattning!C151=\"Ja, i huvudsak\",Självskattning!A151,\"\")","v":""},{"$f":"IF(Självskattning!C151=\"Ja, i huvudsak\",Självskattning!B151,\"\")","v":""},{"$f":"IF(Självskattning!C151=\"Ja, i huvudsak\",Självskattning!D151,\"\")","v":""}]
[null,{"$f":"IF(Självskattning!C152=\"Ja, i huvudsak\",Självskattning!A152,\"\")","v":""},{"$f":"IF(Självskattning!C152=\"Ja, i huvudsak\",Självskattning!B152,\"\")","v":""},{"$f":"IF(Självskattning!C152=\"Ja, i huvudsak\",Självskattning!D152,\"\")","v":""}]
[null,{"$f":"IF(Självskattning!C153=\"Ja, i huvudsak\",Självskattning!A153,\"\")","v":""},{"$f":"IF(Självskattning!C153=\"Ja, i huvudsak\",Självskattning!B153,\"\")","v":""},{"$f":"IF(Självskattning!C153=\"Ja, i huvudsak\",Självskattning!D153,\"\")","v":""}]
[null,{"$f":"IF(Självskattning!C154=\"Ja, i huvudsak\",Självskattning!A154,\"\")","v":""},{"$f":"IF(Självskattning!C154=\"Ja, i huvudsak\",Självskattning!B154,\"\")","v":""},{"$f":"IF(Självskattning!C154=\"Ja, i huvudsak\",Självskattning!D154,\"\")","v":""}]
[null,{"$f":"IF(Självskattning!C155=\"Ja, i huvudsak\",Självskattning!A155,\"\")","v":""},{"$f":"IF(Självskattning!C155=\"Ja, i huvudsak\",Självskattning!B155,\"\")","v":""},{"$f":"IF(Självskattning!C155=\"Ja, i huvudsak\",Självskattning!D155,\"\")","v":""}]
[null,{"$f":"IF(Självskattning!C156=\"Ja, i huvudsak\",Självskattning!A156,\"\")","v":""},{"$f":"IF(Självskattning!C156=\"Ja, i huvudsak\",Självskattning!B156,\"\")","v":""},{"$f":"IF(Självskattning!C156=\"Ja, i huvudsak\",Självskattning!D156,\"\")","v":""}]
[null,{"$f":"IF(Självskattning!C157=\"Ja, i huvudsak\",Självskattning!A157,\"\")","v":""},{"$f":"IF(Självskattning!C157=\"Ja, i huvudsak\",Självskattning!B157,\"\")","v":""},{"$f":"IF(Självskattning!C157=\"Ja, i huvudsak\",Självskattning!D157,\"\")","v":""}]
[null,{"$f":"IF(Självskattning!C158=\"Ja, i huvudsak\",Självskattning!A158,\"\")","v":""},{"$f":"IF(Självskattning!C158=\"Ja, i huvudsak\",Självskattning!B158,\"\")","v":""},{"$f":"IF(Självskattning!C158=\"Ja, i huvudsak\",Självskattning!D158,\"\")","v":""}]
[null,{"$f":"IF(Självskattning!C159=\"Ja, i huvudsak\",Självskattning!A159,\"\")","v":""},{"$f":"IF(Självskattning!C159=\"Ja, i huvudsak\",Självskattning!B159,\"\")","v":""},{"$f":"IF(Självskattning!C159=\"Ja, i huvudsak\",Självskattning!D159,\"\")","v":""}]
[null,{"$f":"IF(Självskattning!C160=\"Ja, i huvudsak\",Självskattning!A160,\"\")","v":""},{"$f":"IF(Självskattning!C160=\"Ja, i huvudsak\",Självskattning!B160,\"\")","v":""},{"$f":"IF(Självskattning!C160=\"Ja, i huvudsak\",Självskattning!D160,\"\")","v":""}]
[null,{"$f":"IF(Självskattning!C161=\"Ja, i huvudsak\",Självskattning!A161,\"\")","v":""},{"$f":"IF(Självskattning!C161=\"Ja, i huvudsak\",Självskattning!B161,\"\")","v":""},{"$f":"IF(Självskattning!C161=\"Ja, i huvudsak\",Självskattning!D161,\"\")","v":""}]
[null,{"$f":"IF(Självskattning!C162=\"Ja, i huvudsak\",Självskattning!A162,\"\")","v":""},{"$f":"IF(Självskattning!C162=\"Ja, i huvudsak\",Självskattning!B162,\"\")","v":""},{"$f":"IF(Självskattning!C162=\"Ja, i huvudsak\",Självskattning!D162,\"\")","v":""}]
[null,{"$f":"IF(Självskattning!C163=\"Ja, i huvudsak\",Självskattning!A163,\"\")","v":""},{"$f":"IF(Självskattning!C163=\"Ja, i huvudsak\",Självskattning!B163,\"\")","v":""},{"$f":"IF(Självskattning!C163=\"Ja, i huvudsak\",Självskattning!D163,\"\")","v":""}]
[null,{"$f":"IF(Självskattning!C164=\"Ja, i huvudsak\",Självskattning!A164,\"\")","v":""},{"$f":"IF(Självskattning!C164=\"Ja, i huvudsak\",Självskattning!B164,\"\")","v":""},{"$f":"IF(Självskattning!C164=\"Ja, i huvudsak\",Självskattning!D164,\"\")","v":""}]
[null,{"$f":"IF(Självskattning!C165=\"Ja, i huvudsak\",Självskattning!A165,\"\")","v":""},{"$f":"IF(Självskattning!C165=\"Ja, i huvudsak\",Självskattning!B165,\"\")","v":""},{"$f":"IF(Självskattning!C165=\"Ja, i huvudsak\",Självskattning!D165,\"\")","v":""}]
[null,{"$f":"IF(Självskattning!C166=\"Ja, i huvudsak\",Självskattning!A166,\"\")","v":""},{"$f":"IF(Självskattning!C166=\"Ja, i huvudsak\",Självskattning!B166,\"\")","v":""},{"$f":"IF(Självskattning!C166=\"Ja, i huvudsak\",Självskattning!D166,\"\")","v":""}]
[null,{"$f":"IF(Självskattning!C167=\"Ja, i huvudsak\",Självskattning!A167,\"\")","v":""},{"$f":"IF(Självskattning!C167=\"Ja, i huvudsak\",Självskattning!B167,\"\")","v":""},{"$f":"IF(Självskattning!C167=\"Ja, i huvudsak\",Självskattning!D167,\"\")","v":""}]
[null,{"$f":"IF(Självskattning!C168=\"Ja, i huvudsak\",Självskattning!A168,\"\")","v":""},{"$f":"IF(Självskattning!C168=\"Ja, i huvudsak\",Självskattning!B168,\"\")","v":""},{"$f":"IF(Självskattning!C168=\"Ja, i huvudsak\",Självskattning!D168,\"\")","v":""}]
[null,{"$f":"IF(Självskattning!C169=\"Ja, i huvudsak\",Självskattning!A169,\"\")","v":""},{"$f":"IF(Självskattning!C169=\"Ja, i huvudsak\",Självskattning!B169,\"\")","v":""},{"$f":"IF(Självskattning!C169=\"Ja, i huvudsak\",Självskattning!D169,\"\")","v":""}]
[null,{"$f":"IF(Självskattning!C170=\"Ja, i huvudsak\",Självskattning!A170,\"\")","v":""},{"$f":"IF(Självskattning!C170=\"Ja, i huvudsak\",Självskattning!B170,\"\")","v":""},{"$f":"IF(Självskattning!C170=\"Ja, i huvudsak\",Självskattning!D170,\"\")","v":""}]
[null,{"$f":"IF(Självskattning!C171=\"Ja, i huvudsak\",Självskattning!A171,\"\")","v":""},{"$f":"IF(Självskattning!C171=\"Ja, i huvudsak\",Självskattning!B171,\"\")","v":""},{"$f":"IF(Självskattning!C171=\"Ja, i huvudsak\",Självskattning!D171,\"\")","v":""}]
[null,{"$f":"IF(Självskattning!C172=\"Ja, i huvudsak\",Självskattning!A172,\"\")","v":""},{"$f":"IF(Självskattning!C172=\"Ja, i huvudsak\",Självskattning!B172,\"\")","v":""},{"$f":"IF(Självskattning!C172=\"Ja, i huvudsak\",Självskattning!D172,\"\")","v":""}]
[null,{"$f":"IF(Självskattning!C173=\"Ja, i huvudsak\",Självskattning!A173,\"\")","v":""},{"$f":"IF(Självskattning!C173=\"Ja, i huvudsak\",Självskattning!B173,\"\")","v":""},{"$f":"IF(Självskattning!C173=\"Ja, i huvudsak\",Självskattning!D173,\"\")","v":""}]
[null,{"$f":"IF(Självskattning!C174=\"Ja, i huvudsak\",Självskattning!A174,\"\")","v":""},{"$f":"IF(Självskattning!C174=\"Ja, i huvudsak\",Självskattning!B174,\"\")","v":""},{"$f":"IF(Självskattning!C174=\"Ja, i huvudsak\",Självskattning!D174,\"\")","v":""}]
[null,{"$f":"IF(Självskattning!C175=\"Ja, i huvudsak\",Självskattning!A175,\"\")","v":""},{"$f":"IF(Självskattning!C175=\"Ja, i huvudsak\",Självskattning!B175,\"\")","v":""},{"$f":"IF(Självskattning!C175=\"Ja, i huvudsak\",Självskattning!D175,\"\")","v":""}]
[null,{"$f":"IF(Självskattning!C176=\"Ja, i huvudsak\",Självskattning!A176,\"\")","v":""},{"$f":"IF(Självskattning!C176=\"Ja, i huvudsak\",Självskattning!B176,\"\")","v":""},{"$f":"IF(Självskattning!C176=\"Ja, i huvudsak\",Självskattning!D176,\"\")","v":""}]
[null,{"$f":"IF(Självskattning!C177=\"Ja, i huvudsak\",Självskattning!A177,\"\")","v":""},{"$f":"IF(Självskattning!C177=\"Ja, i huvudsak\",Självskattning!B177,\"\")","v":""},{"$f":"IF(Självskattning!C177=\"Ja, i huvudsak\",Självskattning!D177,\"\")","v":""}]
[null,{"$f":"IF(Självskattning!C178=\"Ja, i huvudsak\",Självskattning!A178,\"\")","v":""},{"$f":"IF(Självskattning!C178=\"Ja, i huvudsak\",Självskattning!B178,\"\")","v":""},{"$f":"IF(Självskattning!C178=\"Ja, i huvudsak\",Självskattning!D178,\"\")","v":""}]
[null,{"$f":"IF(Självskattning!C179=\"Ja, i huvudsak\",Självskattning!A179,\"\")","v":""},{"$f":"IF(Självskattning!C179=\"Ja, i huvudsak\",Självskattning!B179,\"\")","v":""},{"$f":"IF(Självskattning!C179=\"Ja, i huvudsak\",Självskattning!D179,\"\")","v":""}]
[null,{"$f":"IF(Självskattning!C180=\"Ja, i huvudsak\",Självskattning!A180,\"\")","v":""},{"$f":"IF(Självskattning!C180=\"Ja, i huvudsak\",Självskattning!B180,\"\")","v":""},{"$f":"IF(Självskattning!C180=\"Ja, i huvudsak\",Självskattning!D180,\"\")","v":""}]
[null,{"$f":"IF(Självskattning!C181=\"Ja, i huvudsak\",Självskattning!A181,\"\")","v":""},{"$f":"IF(Självskattning!C181=\"Ja, i huvudsak\",Självskattning!B181,\"\")","v":""},{"$f":"IF(Självskattning!C181=\"Ja, i huvudsak\",Självskattning!D181,\"\")","v":""}]
[null,{"$f":"IF(Självskattning!C182=\"Ja, i huvudsak\",Självskattning!A182,\"\")","v":""},{"$f":"IF(Självskattning!C182=\"Ja, i huvudsak\",Självskattning!B182,\"\")","v":""},{"$f":"IF(Självskattning!C182=\"Ja, i huvudsak\",Självskattning!D182,\"\")","v":""}]
[null,{"$f":"IF(Självskattning!C183=\"Ja, i huvudsak\",Självskattning!A183,\"\")","v":""},{"$f":"IF(Självskattning!C183=\"Ja, i huvudsak\",Självskattning!B183,\"\")","v":""},{"$f":"IF(Självskattning!C183=\"Ja, i huvudsak\",Självskattning!D183,\"\")","v":""}]
[null,{"$f":"IF(Självskattning!C184=\"Ja, i huvudsak\",Självskattning!A184,\"\")","v":""},{"$f":"IF(Självskattning!C184=\"Ja, i huvudsak\",Självskattning!B184,\"\")","v":""},{"$f":"IF(Självskattning!C184=\"Ja, i huvudsak\",Självskattning!D184,\"\")","v":""}]
[null,{"$f":"IF(Självskattning!C185=\"Ja, i huvudsak\",Självskattning!A185,\"\")","v":""},{"$f":"IF(Självskattning!C185=\"Ja, i huvudsak\",Självskattning!B185,\"\")","v":""},{"$f":"IF(Självskattning!C185=\"Ja, i huvudsak\",Självskattning!D185,\"\")","v":""}]
[null,{"$f":"IF(Självskattning!C186=\"Ja, i huvudsak\",Självskattning!A186,\"\")","v":""},{"$f":"IF(Självskattning!C186=\"Ja, i huvudsak\",Självskattning!B186,\"\")","v":""},{"$f":"IF(Självskattning!C186=\"Ja, i huvudsak\",Självskattning!D186,\"\")","v":""}]
[null,{"$f":"IF(Självskattning!C187=\"Ja, i huvudsak\",Självskattning!A187,\"\")","v":""},{"$f":"IF(Självskattning!C187=\"Ja, i huvudsak\",Självskattning!B187,\"\")","v":""},{"$f":"IF(Självskattning!C187=\"Ja, i huvudsak\",Självskattning!D187,\"\")","v":""}]
[null,{"$f":"IF(Självskattning!C188=\"Ja, i huvudsak\",Självskattning!A188,\"\")","v":""},{"$f":"IF(Självskattning!C188=\"Ja, i huvudsak\",Självskattning!B188,\"\")","v":""},{"$f":"IF(Självskattning!C188=\"Ja, i huvudsak\",Självskattning!D188,\"\")","v":""}]
[null,{"$f":"IF(Självskattning!C189=\"Ja, i huvudsak\",Självskattning!A189,\"\")","v":""},{"$f":"IF(Självskattning!C189=\"Ja, i huvudsak\",Självskattning!B189,\"\")","v":""},{"$f":"IF(Självskattning!C189=\"Ja, i huvudsak\",Självskattning!D189,\"\")","v":""}]
[null,{"$f":"IF(Självskattning!C190=\"Ja, i huvudsak\",Självskattning!A190,\"\")","v":""},{"$f":"IF(Självskattning!C190=\"Ja, i huvudsak\",Självskattning!B190,\"\")","v":""},{"$f":"IF(Självskattning!C190=\"Ja, i huvudsak\",Självskattning!D190,\"\")","v":""}]
[null,{"$f":"IF(Självskattning!C191=\"Ja, i huvudsak\",Självskattning!A191,\"\")","v":""},{"$f":"IF(Självskattning!C191=\"Ja, i huvudsak\",Självskattning!B191,\"\")","v":""},{"$f":"IF(Självskattning!C191=\"Ja, i huvudsak\",Självskattning!D191,\"\")","v":""}]
[null,{"$f":"IF(Självskattning!C192=\"Ja, i huvudsak\",Självskattning!A192,\"\")","v":""},{"$f":"IF(Självskattning!C192=\"Ja, i huvudsak\",Självskattning!B192,\"\")","v":""},{"$f":"IF(Självskattning!C192=\"Ja, i huvudsak\",Självskattning!D192,\"\")","v":""}]
[null,{"$f":"IF(Självskattning!C193=\"Ja, i huvudsak\",Självskattning!A193,\"\")","v":""},{"$f":"IF(Självskattning!C193=\"Ja, i huvudsak\",Självskattning!B193,\"\")","v":""},{"$f":"IF(Självskattning!C193=\"Ja, i huvudsak\",Självskattning!D193,\"\")","v":""}]
[null,{"$f":"IF(Självskattning!C194=\"Ja, i huvudsak\",Självskattning!A194,\"\")","v":""},{"$f":"IF(Självskattning!C194=\"Ja, i huvudsak\",Självskattning!B194,\"\")","v":""},{"$f":"IF(Självskattning!C194=\"Ja, i huvudsak\",Självskattning!D194,\"\")","v":""}]
[null,{"$f":"IF(Självskattning!C195=\"Ja, i huvudsak\",Självskattning!A195,\"\")","v":""},{"$f":"IF(Självskattning!C195=\"Ja, i huvudsak\",Självskattning!B195,\"\")","v":""},{"$f":"IF(Självskattning!C195=\"Ja, i huvudsak\",Självskattning!D195,\"\")","v":""}]
[null,{"$f":"IF(Självskattning!C196=\"Ja, i huvudsak\",Självskattning!A196,\"\")","v":""},{"$f":"IF(Självskattning!C196=\"Ja, i huvudsak\",Självskattning!B196,\"\")","v":""},{"$f":"IF(Självskattning!C196=\"Ja, i huvudsak\",Självskattning!D196,\"\")","v":""}]
[null,{"$f":"IF(Självskattning!C197=\"Ja, i huvudsak\",Självskattning!A197,\"\")","v":""},{"$f":"IF(Självskattning!C197=\"Ja, i huvudsak\",Självskattning!B197,\"\")","v":""},{"$f":"IF(Självskattning!C197=\"Ja, i huvudsak\",Självskattning!D197,\"\")","v":""}]
[null,{"$f":"IF(Självskattning!C198=\"Ja, i huvudsak\",Självskattning!A198,\"\")","v":""},{"$f":"IF(Självskattning!C198=\"Ja, i huvudsak\",Självskattning!B198,\"\")","v":""},{"$f":"IF(Självskattning!C198=\"Ja, i huvudsak\",Självskattning!D198,\"\")","v":""}]
[null,{"$f":"IF(Självskattning!C199=\"Ja, i huvudsak\",Självskattning!A199,\"\")","v":""},{"$f":"IF(Självskattning!C199=\"Ja, i huvudsak\",Självskattning!B199,\"\")","v":""},{"$f":"IF(Självskattning!C199=\"Ja, i huvudsak\",Självskattning!D199,\"\")","v":""}]
[null,{"$f":"IF(Självskattning!C200=\"Ja, i huvudsak\",Självskattning!A200,\"\")","v":""},{"$f":"IF(Självskattning!C200=\"Ja, i huvudsak\",Självskattning!B200,\"\")","v":""},{"$f":"IF(Självskattning!C200=\"Ja, i huvudsak\",Självskattning!D200,\"\")","v":""}]
[null,{"$f":"IF(Självskattning!C201=\"Ja, i huvudsak\",Självskattning!A201,\"\")","v":""},{"$f":"IF(Självskattning!C201=\"Ja, i huvudsak\",Självskattning!B201,\"\")","v":""},{"$f":"IF(Självskattning!C201=\"Ja, i huvudsak\",Självskattning!D201,\"\")","v":""}]
[null,{"$f":"IF(Självskattning!C202=\"Ja, i huvudsak\",Självskattning!A202,\"\")","v":""},{"$f":"IF(Självskattning!C202=\"Ja, i huvudsak\",Självskattning!B202,\"\")","v":""},{"$f":"IF(Självskattning!C202=\"Ja, i huvudsak\",Självskattning!D202,\"\")","v":""}]
[null,{"$f":"IF(Självskattning!C203=\"Ja, i huvudsak\",Självskattning!A203,\"\")","v":""},{"$f":"IF(Självskattning!C203=\"Ja, i huvudsak\",Självskattning!B203,\"\")","v":""},{"$f":"IF(Självskattning!C203=\"Ja, i huvudsak\",Självskattning!D203,\"\")","v":""}]
[null,{"$f":"IF(Självskattning!C204=\"Ja, i huvudsak\",Självskattning!A204,\"\")","v":""},{"$f":"IF(Självskattning!C204=\"Ja, i huvudsak\",Självskattning!B204,\"\")","v":""},{"$f":"IF(Självskattning!C204=\"Ja, i huvudsak\",Självskattning!D204,\"\")","v":""}]
[null,{"$f":"IF(Självskattning!C205=\"Ja, i huvudsak\",Självskattning!A205,\"\")","v":""},{"$f":"IF(Självskattning!C205=\"Ja, i huvudsak\",Självskattning!B205,\"\")","v":""},{"$f":"IF(Självskattning!C205=\"Ja, i huvudsak\",Självskattning!D205,\"\")","v":""}]
[null,{"$f":"IF(Självskattning!C206=\"Ja, i huvudsak\",Självskattning!A206,\"\")","v":""},{"$f":"IF(Självskattning!C206=\"Ja, i huvudsak\",Självskattning!B206,\"\")","v":""},{"$f":"IF(Självskattning!C206=\"Ja, i huvudsak\",Självskattning!D206,\"\")","v":""}]
[null,{"$f":"IF(Självskattning!C207=\"Ja, i huvudsak\",Självskattning!A207,\"\")","v":""},{"$f":"IF(Självskattning!C207=\"Ja, i huvudsak\",Självskattning!B207,\"\")","v":""},{"$f":"IF(Självskattning!C207=\"Ja, i huvudsak\",Självskattning!D207,\"\")","v":""}]
[null,{"$f":"IF(Självskattning!C208=\"Ja, i huvudsak\",Självskattning!A208,\"\")","v":""},{"$f":"IF(Självskattning!C208=\"Ja, i huvudsak\",Självskattning!B208,\"\")","v":""},{"$f":"IF(Självskattning!C208=\"Ja, i huvudsak\",Självskattning!D208,\"\")","v":""}]
[null,{"$f":"IF(Självskattning!C209=\"Ja, i huvudsak\",Självskattning!A209,\"\")","v":""},{"$f":"IF(Självskattning!C209=\"Ja, i huvudsak\",Självskattning!B209,\"\")","v":""},{"$f":"IF(Självskattning!C209=\"Ja, i huvudsak\",Självskattning!D209,\"\")","v":""}]
[null,{"$f":"IF(Självskattning!C210=\"Ja, i huvudsak\",Självskattning!A210,\"\")","v":""},{"$f":"IF(Självskattning!C210=\"Ja, i huvudsak\",Självskattning!B210,\"\")","v":""},{"$f":"IF(Självskattning!C210=\"Ja, i huvudsak\",Självskattning!D210,\"\")","v":""}]
[null,{"$f":"IF(Självskattning!C211=\"Ja, i huvudsak\",Självskattning!A211,\"\")","v":""},{"$f":"IF(Självskattning!C211=\"Ja, i huvudsak\",Självskattning!B211,\"\")","v":""},{"$f":"IF(Självskattning!C211=\"Ja, i huvudsak\",Självskattning!D211,\"\")","v":""}]
[null,{"$f":"IF(Självskattning!C212=\"Ja, i huvudsak\",Självskattning!A212,\"\")","v":""},{"$f":"IF(Självskattning!C212=\"Ja, i huvudsak\",Självskattning!B212,\"\")","v":""},{"$f":"IF(Självskattning!C212=\"Ja, i huvudsak\",Självskattning!D212,\"\")","v":""}]
[null,{"$f":"IF(Självskattning!C213=\"Ja, i huvudsak\",Självskattning!A213,\"\")","v":""},{"$f":"IF(Självskattning!C213=\"Ja, i huvudsak\",Självskattning!B213,\"\")","v":""},{"$f":"IF(Självskattning!C213=\"Ja, i huvudsak\",Självskattning!D213,\"\")","v":""}]
[null,{"$f":"IF(Självskattning!C214=\"Ja, i huvudsak\",Självskattning!A214,\"\")","v":""},{"$f":"IF(Självskattning!C214=\"Ja, i huvudsak\",Självskattning!B214,\"\")","v":""},{"$f":"IF(Självskattning!C214=\"Ja, i huvudsak\",Självskattning!D214,\"\")","v":""}]
[null,{"$f":"IF(Självskattning!C215=\"Ja, i huvudsak\",Självskattning!A215,\"\")","v":""},{"$f":"IF(Självskattning!C215=\"Ja, i huvudsak\",Självskattning!B215,\"\")","v":""},{"$f":"IF(Självskattning!C215=\"Ja, i huvudsak\",Självskattning!D215,\"\")","v":""}]
[null,{"$f":"IF(Självskattning!C216=\"Ja, i huvudsak\",Självskattning!A216,\"\")","v":""},{"$f":"IF(Självskattning!C216=\"Ja, i huvudsak\",Självskattning!B216,\"\")","v":""},{"$f":"IF(Självskattning!C216=\"Ja, i huvudsak\",Självskattning!D216,\"\")","v":""}]
[null,{"$f":"IF(Självskattning!C217=\"Ja, i huvudsak\",Självskattning!A217,\"\")","v":""},{"$f":"IF(Självskattning!C217=\"Ja, i huvudsak\",Självskattning!B217,\"\")","v":""},{"$f":"IF(Självskattning!C217=\"Ja, i huvudsak\",Självskattning!D217,\"\")","v":""}]
[null,{"$f":"IF(Självskattning!C218=\"Ja, i huvudsak\",Självskattning!A218,\"\")","v":""},{"$f":"IF(Självskattning!C218=\"Ja, i huvudsak\",Självskattning!B218,\"\")","v":""},{"$f":"IF(Självskattning!C218=\"Ja, i huvudsak\",Självskattning!D218,\"\")","v":""}]
[null,{"$f":"IF(Självskattning!C219=\"Ja, i huvudsak\",Självskattning!A219,\"\")","v":""},{"$f":"IF(Självskattning!C219=\"Ja, i huvudsak\",Självskattning!B219,\"\")","v":""},{"$f":"IF(Självskattning!C219=\"Ja, i huvudsak\",Självskattning!D219,\"\")","v":""}]
[null,{"$f":"IF(Självskattning!C220=\"Ja, i huvudsak\",Självskattning!A220,\"\")","v":""},{"$f":"IF(Självskattning!C220=\"Ja, i huvudsak\",Självskattning!B220,\"\")","v":""},{"$f":"IF(Självskattning!C220=\"Ja, i huvudsak\",Självskattning!D220,\"\")","v":""}]
[null,{"$f":"IF(Självskattning!C221=\"Ja, i huvudsak\",Självskattning!A221,\"\")","v":""},{"$f":"IF(Självskattning!C221=\"Ja, i huvudsak\",Självskattning!B221,\"\")","v":""},{"$f":"IF(Självskattning!C221=\"Ja, i huvudsak\",Självskattning!D221,\"\")","v":""}]
[null,{"$f":"IF(Självskattning!C222=\"Ja, i huvudsak\",Självskattning!A222,\"\")","v":""},{"$f":"IF(Självskattning!C222=\"Ja, i huvudsak\",Självskattning!B222,\"\")","v":""},{"$f":"IF(Självskattning!C222=\"Ja, i huvudsak\",Självskattning!D222,\"\")","v":""}]
[null,{"$f":"IF(Självskattning!C223=\"Ja, i huvudsak\",Självskattning!A223,\"\")","v":""},{"$f":"IF(Självskattning!C223=\"Ja, i huvudsak\",Självskattning!B223,\"\")","v":""},{"$f":"IF(Självskattning!C223=\"Ja, i huvudsak\",Självskattning!D223,\"\")","v":""}]
[null,{"$f":"IF(Självskattning!C224=\"Ja, i huvudsak\",Självskattning!A224,\"\")","v":""},{"$f":"IF(Självskattning!C224=\"Ja, i huvudsak\",Självskattning!B224,\"\")","v":""},{"$f":"IF(Självskattning!C224=\"Ja, i huvudsak\",Självskattning!D224,\"\")","v":""}]
[null,{"$f":"IF(Självskattning!C225=\"Ja, i huvudsak\",Självskattning!A225,\"\")","v":""},{"$f":"IF(Självskattning!C225=\"Ja, i huvudsak\",Självskattning!B225,\"\")","v":""},{"$f":"IF(Självskattning!C225=\"Ja, i huvudsak\",Självskattning!D225,\"\")","v":""}]
[null,{"$f":"IF(Självskattning!C226=\"Ja, i huvudsak\",Självskattning!A226,\"\")","v":""},{"$f":"IF(Självskattning!C226=\"Ja, i huvudsak\",Självskattning!B226,\"\")","v":""},{"$f":"IF(Självskattning!C226=\"Ja, i huvudsak\",Självskattning!D226,\"\")","v":""}]
[null,{"$f":"IF(Självskattning!C227=\"Ja, i huvudsak\",Självskattning!A227,\"\")","v":""},{"$f":"IF(Självskattning!C227=\"Ja, i huvudsak\",Självskattning!B227,\"\")","v":""},{"$f":"IF(Självskattning!C227=\"Ja, i huvudsak\",Självskattning!D227,\"\")","v":""}]
[null,{"$f":"IF(Självskattning!C228=\"Ja, i huvudsak\",Självskattning!A228,\"\")","v":""},{"$f":"IF(Självskattning!C228=\"Ja, i huvudsak\",Självskattning!B228,\"\")","v":""},{"$f":"IF(Självskattning!C228=\"Ja, i huvudsak\",Självskattning!D228,\"\")","v":""}]
[null,{"$f":"IF(Självskattning!C229=\"Ja, i huvudsak\",Självskattning!A229,\"\")","v":""},{"$f":"IF(Självskattning!C229=\"Ja, i huvudsak\",Självskattning!B229,\"\")","v":""},{"$f":"IF(Självskattning!C229=\"Ja, i huvudsak\",Självskattning!D229,\"\")","v":""}]
[null,{"$f":"IF(Självskattning!C230=\"Ja, i huvudsak\",Självskattning!A230,\"\")","v":""},{"$f":"IF(Självskattning!C230=\"Ja, i huvudsak\",Självskattning!B230,\"\")","v":""},{"$f":"IF(Självskattning!C230=\"Ja, i huvudsak\",Självskattning!D230,\"\")","v":""}]
[null,{"$f":"IF(Självskattning!C231=\"Ja, i huvudsak\",Självskattning!A231,\"\")","v":""},{"$f":"IF(Självskattning!C231=\"Ja, i huvudsak\",Självskattning!B231,\"\")","v":""},{"$f":"IF(Självskattning!C231=\"Ja, i huvudsak\",Självskattning!D231,\"\")","v":""}]
[null,{"$f":"IF(Självskattning!C232=\"Ja, i huvudsak\",Självskattning!A232,\"\")","v":""},{"$f":"IF(Självskattning!C232=\"Ja, i huvudsak\",Självskattning!B232,\"\")","v":""},{"$f":"IF(Självskattning!C232=\"Ja, i huvudsak\",Självskattning!D232,\"\")","v":""}]
[null,{"$f":"IF(Självskattning!C233=\"Ja, i huvudsak\",Självskattning!A233,\"\")","v":""},{"$f":"IF(Självskattning!C233=\"Ja, i huvudsak\",Självskattning!B233,\"\")","v":""},{"$f":"IF(Självskattning!C233=\"Ja, i huvudsak\",Självskattning!D233,\"\")","v":""}]
[null,{"$f":"IF(Självskattning!C234=\"Ja, i huvudsak\",Självskattning!A234,\"\")","v":""},{"$f":"IF(Självskattning!C234=\"Ja, i huvudsak\",Självskattning!B234,\"\")","v":""},{"$f":"IF(Självskattning!C234=\"Ja, i huvudsak\",Självskattning!D234,\"\")","v":""}]
[null,{"$f":"IF(Självskattning!C235=\"Ja, i huvudsak\",Självskattning!A235,\"\")","v":""},{"$f":"IF(Självskattning!C235=\"Ja, i huvudsak\",Självskattning!B235,\"\")","v":""},{"$f":"IF(Självskattning!C235=\"Ja, i huvudsak\",Självskattning!D235,\"\")","v":""}]
[null,{"$f":"IF(Självskattning!C236=\"Ja, i huvudsak\",Självskattning!A236,\"\")","v":""},{"$f":"IF(Självskattning!C236=\"Ja, i huvudsak\",Självskattning!B236,\"\")","v":""},{"$f":"IF(Självskattning!C236=\"Ja, i huvudsak\",Självskattning!D236,\"\")","v":""}]
[null,{"$f":"IF(Självskattning!C237=\"Ja, i huvudsak\",Självskattning!A237,\"\")","v":""},{"$f":"IF(Självskattning!C237=\"Ja, i huvudsak\",Självskattning!B237,\"\")","v":""},{"$f":"IF(Självskattning!C237=\"Ja, i huvudsak\",Självskattning!D237,\"\")","v":""}]
[null,{"$f":"IF(Självskattning!C238=\"Ja, i huvudsak\",Självskattning!A238,\"\")","v":""},{"$f":"IF(Självskattning!C238=\"Ja, i huvudsak\",Självskattning!B238,\"\")","v":""},{"$f":"IF(Självskattning!C238=\"Ja, i huvudsak\",Självskattning!D238,\"\")","v":""}]
[null,{"$f":"IF(Självskattning!C239=\"Ja, i huvudsak\",Självskattning!A239,\"\")","v":""},{"$f":"IF(Självskattning!C239=\"Ja, i huvudsak\",Självskattning!B239,\"\")","v":""},{"$f":"IF(Självskattning!C239=\"Ja, i huvudsak\",Självskattning!D239,\"\")","v":""}]
[null,{"$f":"IF(Självskattning!C240=\"Ja, i huvudsak\",Självskattning!A240,\"\")","v":""},{"$f":"IF(Självskattning!C240=\"Ja, i huvudsak\",Självskattning!B240,\"\")","v":""},{"$f":"IF(Självskattning!C240=\"Ja, i huvudsak\",Självskattning!D240,\"\")","v":""}]
[null,{"$f":"IF(Självskattning!C241=\"Ja, i huvudsak\",Självskattning!A241,\"\")","v":""},{"$f":"IF(Självskattning!C241=\"Ja, i huvudsak\",Självskattning!B241,\"\")","v":""},{"$f":"IF(Självskattning!C241=\"Ja, i huvudsak\",Självskattning!D241,\"\")","v":""}]
[null,{"$f":"IF(Självskattning!C242=\"Ja, i huvudsak\",Självskattning!A242,\"\")","v":""},{"$f":"IF(Självskattning!C242=\"Ja, i huvudsak\",Självskattning!B242,\"\")","v":""},{"$f":"IF(Självskattning!C242=\"Ja, i huvudsak\",Självskattning!D242,\"\")","v":""}]
[null,{"$f":"IF(Självskattning!C243=\"Ja, i huvudsak\",Självskattning!A243,\"\")","v":""},{"$f":"IF(Självskattning!C243=\"Ja, i huvudsak\",Självskattning!B243,\"\")","v":""},{"$f":"IF(Självskattning!C243=\"Ja, i huvudsak\",Självskattning!D243,\"\")","v":""}]
[null,{"$f":"IF(Självskattning!C244=\"Ja, i huvudsak\",Självskattning!A244,\"\")","v":""},{"$f":"IF(Självskattning!C244=\"Ja, i huvudsak\",Självskattning!B244,\"\")","v":""},{"$f":"IF(Självskattning!C244=\"Ja, i huvudsak\",Självskattning!D244,\"\")","v":""}]
[null,{"$f":"IF(Självskattning!C245=\"Ja, i huvudsak\",Självskattning!A245,\"\")","v":""},{"$f":"IF(Självskattning!C245=\"Ja, i huvudsak\",Självskattning!B245,\"\")","v":""},{"$f":"IF(Självskattning!C245=\"Ja, i huvudsak\",Självskattning!D245,\"\")","v":""}]
[null,{"$f":"IF(Självskattning!C246=\"Ja, i huvudsak\",Självskattning!A246,\"\")","v":""},{"$f":"IF(Självskattning!C246=\"Ja, i huvudsak\",Självskattning!B246,\"\")","v":""},{"$f":"IF(Självskattning!C246=\"Ja, i huvudsak\",Självskattning!D246,\"\")","v":""}]
[null,{"$f":"IF(Självskattning!C247=\"Ja, i huvudsak\",Självskattning!A247,\"\")","v":""},{"$f":"IF(Självskattning!C247=\"Ja, i huvudsak\",Självskattning!B247,\"\")","v":""},{"$f":"IF(Självskattning!C247=\"Ja, i huvudsak\",Självskattning!D247,\"\")","v":""}]
[null,{"$f":"IF(Självskattning!C248=\"Ja, i huvudsak\",Självskattning!A248,\"\")","v":""},{"$f":"IF(Självskattning!C248=\"Ja, i huvudsak\",Självskattning!B248,\"\")","v":""},{"$f":"IF(Självskattning!C248=\"Ja, i huvudsak\",Självskattning!D248,\"\")","v":""}]
[null,{"$f":"IF(Självskattning!C249=\"Ja, i huvudsak\",Självskattning!A249,\"\")","v":""},{"$f":"IF(Självskattning!C249=\"Ja, i huvudsak\",Självskattning!B249,\"\")","v":""},{"$f":"IF(Självskattning!C249=\"Ja, i huvudsak\",Självskattning!D249,\"\")","v":""}]
[null,{"$f":"IF(Självskattning!C250=\"Ja, i huvudsak\",Självskattning!A250,\"\")","v":""},{"$f":"IF(Självskattning!C250=\"Ja, i huvudsak\",Självskattning!B250,\"\")","v":""},{"$f":"IF(Självskattning!C250=\"Ja, i huvudsak\",Självskattning!D250,\"\")","v":""}]
[null,{"$f":"IF(Självskattning!C251=\"Ja, i huvudsak\",Självskattning!A251,\"\")","v":""},{"$f":"IF(Självskattning!C251=\"Ja, i huvudsak\",Självskattning!B251,\"\")","v":""},{"$f":"IF(Självskattning!C251=\"Ja, i huvudsak\",Självskattning!D251,\"\")","v":""}]
[null,{"$f":"IF(Självskattning!C252=\"Ja, i huvudsak\",Självskattning!A252,\"\")","v":""},{"$f":"IF(Självskattning!C252=\"Ja, i huvudsak\",Självskattning!B252,\"\")","v":""},{"$f":"IF(Självskattning!C252=\"Ja, i huvudsak\",Självskattning!D252,\"\")","v":""}]
[null,{"$f":"IF(Självskattning!C253=\"Ja, i huvudsak\",Självskattning!A253,\"\")","v":""},{"$f":"IF(Självskattning!C253=\"Ja, i huvudsak\",Självskattning!B253,\"\")","v":""},{"$f":"IF(Självskattning!C253=\"Ja, i huvudsak\",Självskattning!D253,\"\")","v":""}]
[null,{"$f":"IF(Självskattning!C254=\"Ja, i huvudsak\",Självskattning!A254,\"\")","v":""},{"$f":"IF(Självskattning!C254=\"Ja, i huvudsak\",Självskattning!B254,\"\")","v":""},{"$f":"IF(Självskattning!C254=\"Ja, i huvudsak\",Självskattning!D254,\"\")","v":""}]
[null,{"$f":"IF(Självskattning!C255=\"Ja, i huvudsak\",Självskattning!A255,\"\")","v":""},{"$f":"IF(Självskattning!C255=\"Ja, i huvudsak\",Självskattning!B255,\"\")","v":""},{"$f":"IF(Självskattning!C255=\"Ja, i huvudsak\",Självskattning!D255,\"\")","v":""}]
[null,{"$f":"IF(Självskattning!C256=\"Ja, i huvudsak\",Självskattning!A256,\"\")","v":""},{"$f":"IF(Självskattning!C256=\"Ja, i huvudsak\",Självskattning!B256,\"\")","v":""},{"$f":"IF(Självskattning!C256=\"Ja, i huvudsak\",Självskattning!D256,\"\")","v":""}]
[null,{"$f":"IF(Självskattning!C257=\"Ja, i huvudsak\",Självskattning!A257,\"\")","v":""},{"$f":"IF(Självskattning!C257=\"Ja, i huvudsak\",Självskattning!B257,\"\")","v":""},{"$f":"IF(Självskattning!C257=\"Ja, i huvudsak\",Självskattning!D257,\"\")","v":""}]
[null,{"$f":"IF(Självskattning!C258=\"Ja, i huvudsak\",Självskattning!A258,\"\")","v":""},{"$f":"IF(Självskattning!C258=\"Ja, i huvudsak\",Självskattning!B258,\"\")","v":""},{"$f":"IF(Självskattning!C258=\"Ja, i huvudsak\",Självskattning!D258,\"\")","v":""}]
[null,{"$f":"IF(Självskattning!C259=\"Ja, i huvudsak\",Självskattning!A259,\"\")","v":""},{"$f":"IF(Självskattning!C259=\"Ja, i huvudsak\",Självskattning!B259,\"\")","v":""},{"$f":"IF(Självskattning!C259=\"Ja, i huvudsak\",Självskattning!D259,\"\")","v":""}]
[null,{"$f":"IF(Självskattning!C260=\"Ja, i huvudsak\",Självskattning!A260,\"\")","v":""},{"$f":"IF(Självskattning!C260=\"Ja, i huvudsak\",Självskattning!B260,\"\")","v":""},{"$f":"IF(Självskattning!C260=\"Ja, i huvudsak\",Självskattning!D260,\"\")","v":""}]
[null,{"$f":"IF(Självskattning!C261=\"Ja, i huvudsak\",Självskattning!A261,\"\")","v":""},{"$f":"IF(Självskattning!C261=\"Ja, i huvudsak\",Självskattning!B261,\"\")","v":""},{"$f":"IF(Självskattning!C261=\"Ja, i huvudsak\",Självskattning!D261,\"\")","v":""}]
[null,{"$f":"IF(Självskattning!C262=\"Ja, i huvudsak\",Självskattning!A262,\"\")","v":""},{"$f":"IF(Självskattning!C262=\"Ja, i huvudsak\",Självskattning!B262,\"\")","v":""},{"$f":"IF(Självskattning!C262=\"Ja, i huvudsak\",Självskattning!D262,\"\")","v":""}]
[null,{"$f":"IF(Självskattning!C263=\"Ja, i huvudsak\",Självskattning!A263,\"\")","v":""},{"$f":"IF(Självskattning!C263=\"Ja, i huvudsak\",Självskattning!B263,\"\")","v":""},{"$f":"IF(Självskattning!C263=\"Ja, i huvudsak\",Självskattning!D263,\"\")","v":""}]
[null,{"$f":"IF(Självskattning!C264=\"Ja, i huvudsak\",Självskattning!A264,\"\")","v":""},{"$f":"IF(Självskattning!C264=\"Ja, i huvudsak\",Självskattning!B264,\"\")","v":""},{"$f":"IF(Självskattning!C264=\"Ja, i huvudsak\",Självskattning!D264,\"\")","v":""}]
[null,{"$f":"IF(Självskattning!C265=\"Ja, i huvudsak\",Självskattning!A265,\"\")","v":""},{"$f":"IF(Självskattning!C265=\"Ja, i huvudsak\",Självskattning!B265,\"\")","v":""},{"$f":"IF(Självskattning!C265=\"Ja, i huvudsak\",Självskattning!D265,\"\")","v":""}]
[null,{"$f":"IF(Självskattning!C266=\"Ja, i huvudsak\",Självskattning!A266,\"\")","v":""},{"$f":"IF(Självskattning!C266=\"Ja, i huvudsak\",Självskattning!B266,\"\")","v":""},{"$f":"IF(Självskattning!C266=\"Ja, i huvudsak\",Självskattning!D266,\"\")","v":""}]
[null,{"$f":"IF(Självskattning!C267=\"Ja, i huvudsak\",Självskattning!A267,\"\")","v":""},{"$f":"IF(Självskattning!C267=\"Ja, i huvudsak\",Självskattning!B267,\"\")","v":""},{"$f":"IF(Självskattning!C267=\"Ja, i huvudsak\",Självskattning!D267,\"\")","v":""}]
[null,{"$f":"IF(Självskattning!C268=\"Ja, i huvudsak\",Självskattning!A268,\"\")","v":""},{"$f":"IF(Självskattning!C268=\"Ja, i huvudsak\",Självskattning!B268,\"\")","v":""},{"$f":"IF(Självskattning!C268=\"Ja, i huvudsak\",Självskattning!D268,\"\")","v":""}]
[null,{"$f":"IF(Självskattning!C269=\"Ja, i huvudsak\",Självskattning!A269,\"\")","v":""},{"$f":"IF(Självskattning!C269=\"Ja, i huvudsak\",Självskattning!B269,\"\")","v":""},{"$f":"IF(Självskattning!C269=\"Ja, i huvudsak\",Självskattning!D269,\"\")","v":""}]
[null,{"$f":"IF(Självskattning!C270=\"Ja, i huvudsak\",Självskattning!A270,\"\")","v":""},{"$f":"IF(Självskattning!C270=\"Ja, i huvudsak\",Självskattning!B270,\"\")","v":""},{"$f":"IF(Självskattning!C270=\"Ja, i huvudsak\",Självskattning!D270,\"\")","v":""}]
[null,{"$f":"IF(Självskattning!C271=\"Ja, i huvudsak\",Självskattning!A271,\"\")","v":""},{"$f":"IF(Självskattning!C271=\"Ja, i huvudsak\",Självskattning!B271,\"\")","v":""},{"$f":"IF(Självskattning!C271=\"Ja, i huvudsak\",Självskattning!D271,\"\")","v":""}]
[null,{"$f":"IF(Självskattning!C272=\"Ja, i huvudsak\",Självskattning!A272,\"\")","v":""},{"$f":"IF(Självskattning!C272=\"Ja, i huvudsak\",Självskattning!B272,\"\")","v":""},{"$f":"IF(Självskattning!C272=\"Ja, i huvudsak\",Självskattning!D272,\"\")","v":""}]
[null,{"$f":"IF(Självskattning!C273=\"Ja, i huvudsak\",Självskattning!A273,\"\")","v":""},{"$f":"IF(Självskattning!C273=\"Ja, i huvudsak\",Självskattning!B273,\"\")","v":""},{"$f":"IF(Självskattning!C273=\"Ja, i huvudsak\",Självskattning!D273,\"\")","v":""}]
[null,{"$f":"IF(Självskattning!C274=\"Ja, i huvudsak\",Självskattning!A274,\"\")","v":""},{"$f":"IF(Självskattning!C274=\"Ja, i huvudsak\",Självskattning!B274,\"\")","v":""},{"$f":"IF(Självskattning!C274=\"Ja, i huvudsak\",Självskattning!D274,\"\")","v":""}]
[null,{"$f":"IF(Självskattning!C275=\"Ja, i huvudsak\",Självskattning!A275,\"\")","v":""},{"$f":"IF(Självskattning!C275=\"Ja, i huvudsak\",Självskattning!B275,\"\")","v":""},{"$f":"IF(Självskattning!C275=\"Ja, i huvudsak\",Självskattning!D275,\"\")","v":""}]
[null,{"$f":"IF(Självskattning!C276=\"Ja, i huvudsak\",Självskattning!A276,\"\")","v":""},{"$f":"IF(Självskattning!C276=\"Ja, i huvudsak\",Självskattning!B276,\"\")","v":""},{"$f":"IF(Självskattning!C276=\"Ja, i huvudsak\",Självskattning!D276,\"\")","v":""}]
[null,{"$f":"IF(Självskattning!C277=\"Ja, i huvudsak\",Självskattning!A277,\"\")","v":""},{"$f":"IF(Självskattning!C277=\"Ja, i huvudsak\",Självskattning!B277,\"\")","v":""},{"$f":"IF(Självskattning!C277=\"Ja, i huvudsak\",Självskattning!D277,\"\")","v":""}]
[null,{"$f":"IF(Självskattning!C278=\"Ja, i huvudsak\",Självskattning!A278,\"\")","v":""},{"$f":"IF(Självskattning!C278=\"Ja, i huvudsak\",Självskattning!B278,\"\")","v":""},{"$f":"IF(Självskattning!C278=\"Ja, i huvudsak\",Självskattning!D278,\"\")","v":""}]
[null,{"$f":"IF(Självskattning!C279=\"Ja, i huvudsak\",Självskattning!A279,\"\")","v":""},{"$f":"IF(Självskattning!C279=\"Ja, i huvudsak\",Självskattning!B279,\"\")","v":""},{"$f":"IF(Självskattning!C279=\"Ja, i huvudsak\",Självskattning!D279,\"\")","v":""}]
[null,{"$f":"IF(Självskattning!C280=\"Ja, i huvudsak\",Självskattning!A280,\"\")","v":""},{"$f":"IF(Självskattning!C280=\"Ja, i huvudsak\",Självskattning!B280,\"\")","v":""},{"$f":"IF(Självskattning!C280=\"Ja, i huvudsak\",Självskattning!D280,\"\")","v":""}]
[null,{"$f":"IF(Självskattning!C281=\"Ja, i huvudsak\",Självskattning!A281,\"\")","v":""},{"$f":"IF(Självskattning!C281=\"Ja, i huvudsak\",Självskattning!B281,\"\")","v":""},{"$f":"IF(Självskattning!C281=\"Ja, i huvudsak\",Självskattning!D281,\"\")","v":""}]
[null,{"$f":"IF(Självskattning!C282=\"Ja, i huvudsak\",Självskattning!A282,\"\")","v":""},{"$f":"IF(Självskattning!C282=\"Ja, i huvudsak\",Självskattning!B282,\"\")","v":""},{"$f":"IF(Självskattning!C282=\"Ja, i huvudsak\",Självskattning!D282,\"\")","v":""}]
[null,{"$f":"IF(Självskattning!C283=\"Ja, i huvudsak\",Självskattning!A283,\"\")","v":""},{"$f":"IF(Självskattning!C283=\"Ja, i huvudsak\",Självskattning!B283,\"\")","v":""},{"$f":"IF(Självskattning!C283=\"Ja, i huvudsak\",Självskattning!D283,\"\")","v":""}]
[null,{"$f":"IF(Självskattning!C284=\"Ja, i huvudsak\",Självskattning!A284,\"\")","v":""},{"$f":"IF(Självskattning!C284=\"Ja, i huvudsak\",Självskattning!B284,\"\")","v":""},{"$f":"IF(Självskattning!C284=\"Ja, i huvudsak\",Självskattning!D284,\"\")","v":""}]
[null,{"$f":"IF(Självskattning!C285=\"Ja, i huvudsak\",Självskattning!A285,\"\")","v":""},{"$f":"IF(Självskattning!C285=\"Ja, i huvudsak\",Självskattning!B285,\"\")","v":""},{"$f":"IF(Självskattning!C285=\"Ja, i huvudsak\",Självskattning!D285,\"\")","v":""}]
[null,{"$f":"IF(Självskattning!C286=\"Ja, i huvudsak\",Självskattning!A286,\"\")","v":""},{"$f":"IF(Självskattning!C286=\"Ja, i huvudsak\",Självskattning!B286,\"\")","v":""},{"$f":"IF(Självskattning!C286=\"Ja, i huvudsak\",Självskattning!D286,\"\")","v":""}]
[null,{"$f":"IF(Självskattning!C287=\"Ja, i huvudsak\",Självskattning!A287,\"\")","v":""},{"$f":"IF(Självskattning!C287=\"Ja, i huvudsak\",Självskattning!B287,\"\")","v":""},{"$f":"IF(Självskattning!C287=\"Ja, i huvudsak\",Självskattning!D287,\"\")","v":""}]
[null,{"$f":"IF(Självskattning!C288=\"Ja, i huvudsak\",Självskattning!A288,\"\")","v":""},{"$f":"IF(Självskattning!C288=\"Ja, i huvudsak\",Självskattning!B288,\"\")","v":""},{"$f":"IF(Självskattning!C288=\"Ja, i huvudsak\",Självskattning!D288,\"\")","v":""}]
[null,{"$f":"IF(Självskattning!C289=\"Ja, i huvudsak\",Självskattning!A289,\"\")","v":""},{"$f":"IF(Självskattning!C289=\"Ja, i huvudsak\",Självskattning!B289,\"\")","v":""},{"$f":"IF(Självskattning!C289=\"Ja, i huvudsak\",Självskattning!D289,\"\")","v":""}]
[null,{"$f":"IF(Självskattning!C290=\"Ja, i huvudsak\",Självskattning!A290,\"\")","v":""},{"$f":"IF(Självskattning!C290=\"Ja, i huvudsak\",Självskattning!B290,\"\")","v":""},{"$f":"IF(Självskattning!C290=\"Ja, i huvudsak\",Självskattning!D290,\"\")","v":""}]
[null,{"$f":"IF(Självskattning!C291=\"Ja, i huvudsak\",Självskattning!A291,\"\")","v":""},{"$f":"IF(Självskattning!C291=\"Ja, i huvudsak\",Självskattning!B291,\"\")","v":""},{"$f":"IF(Självskattning!C291=\"Ja, i huvudsak\",Självskattning!D291,\"\")","v":""}]
[null,{"$f":"IF(Självskattning!C292=\"Ja, i huvudsak\",Självskattning!A292,\"\")","v":""},{"$f":"IF(Självskattning!C292=\"Ja, i huvudsak\",Självskattning!B292,\"\")","v":""},{"$f":"IF(Självskattning!C292=\"Ja, i huvudsak\",Självskattning!D292,\"\")","v":""}]
[null,{"$f":"IF(Självskattning!C293=\"Ja, i huvudsak\",Självskattning!A293,\"\")","v":""},{"$f":"IF(Självskattning!C293=\"Ja, i huvudsak\",Självskattning!B293,\"\")","v":""},{"$f":"IF(Självskattning!C293=\"Ja, i huvudsak\",Självskattning!D293,\"\")","v":""}]
[null,{"$f":"IF(Självskattning!C294=\"Ja, i huvudsak\",Självskattning!A294,\"\")","v":""},{"$f":"IF(Självskattning!C294=\"Ja, i huvudsak\",Självskattning!B294,\"\")","v":""},{"$f":"IF(Självskattning!C294=\"Ja, i huvudsak\",Självskattning!D294,\"\")","v":""}]
[null,{"$f":"IF(Självskattning!C295=\"Ja, i huvudsak\",Självskattning!A295,\"\")","v":""},{"$f":"IF(Självskattning!C295=\"Ja, i huvudsak\",Självskattning!B295,\"\")","v":""},{"$f":"IF(Självskattning!C295=\"Ja, i huvudsak\",Självskattning!D295,\"\")","v":""}]
[null,{"$f":"IF(Självskattning!C296=\"Ja, i huvudsak\",Självskattning!A296,\"\")","v":""},{"$f":"IF(Självskattning!C296=\"Ja, i huvudsak\",Självskattning!B296,\"\")","v":""},{"$f":"IF(Självskattning!C296=\"Ja, i huvudsak\",Självskattning!D296,\"\")","v":""}]
[null,{"$f":"IF(Självskattning!C297=\"Ja, i huvudsak\",Självskattning!A297,\"\")","v":""},{"$f":"IF(Självskattning!C297=\"Ja, i huvudsak\",Självskattning!B297,\"\")","v":""},{"$f":"IF(Självskattning!C297=\"Ja, i huvudsak\",Självskattning!D297,\"\")","v":""}]
[null,{"$f":"IF(Självskattning!C298=\"Ja, i huvudsak\",Självskattning!A298,\"\")","v":""},{"$f":"IF(Självskattning!C298=\"Ja, i huvudsak\",Självskattning!B298,\"\")","v":""},{"$f":"IF(Självskattning!C298=\"Ja, i huvudsak\",Självskattning!D298,\"\")","v":""}]
[null,{"$f":"IF(Självskattning!C299=\"Ja, i huvudsak\",Självskattning!A299,\"\")","v":""},{"$f":"IF(Självskattning!C299=\"Ja, i huvudsak\",Självskattning!B299,\"\")","v":""},{"$f":"IF(Självskattning!C299=\"Ja, i huvudsak\",Självskattning!D299,\"\")","v":""}]
[null,{"$f":"IF(Självskattning!C300=\"Ja, i huvudsak\",Självskattning!A300,\"\")","v":""},{"$f":"IF(Självskattning!C300=\"Ja, i huvudsak\",Självskattning!B300,\"\")","v":""},{"$f":"IF(Självskattning!C300=\"Ja, i huvudsak\",Självskattning!D300,\"\")","v":""}]
[null,{"$f":"IF(Självskattning!C301=\"Ja, i huvudsak\",Självskattning!A301,\"\")","v":""},{"$f":"IF(Självskattning!C301=\"Ja, i huvudsak\",Självskattning!B301,\"\")","v":""},{"$f":"IF(Självskattning!C301=\"Ja, i huvudsak\",Självskattning!D301,\"\")","v":""}]
[null,{"$f":"IF(Självskattning!C302=\"Ja, i huvudsak\",Självskattning!A302,\"\")","v":""},{"$f":"IF(Självskattning!C302=\"Ja, i huvudsak\",Självskattning!B302,\"\")","v":""},{"$f":"IF(Självskattning!C302=\"Ja, i huvudsak\",Självskattning!D302,\"\")","v":""}]
[null,{"$f":"IF(Självskattning!C303=\"Ja, i huvudsak\",Självskattning!A303,\"\")","v":""},{"$f":"IF(Självskattning!C303=\"Ja, i huvudsak\",Självskattning!B303,\"\")","v":""},{"$f":"IF(Självskattning!C303=\"Ja, i huvudsak\",Självskattning!D303,\"\")","v":""}]
[null,{"$f":"IF(Självskattning!C304=\"Ja, i huvudsak\",Självskattning!A304,\"\")","v":""},{"$f":"IF(Självskattning!C304=\"Ja, i huvudsak\",Självskattning!B304,\"\")","v":""},{"$f":"IF(Självskattning!C304=\"Ja, i huvudsak\",Självskattning!D304,\"\")","v":""}]
[null,{"$f":"IF(Självskattning!C305=\"Ja, i huvudsak\",Självskattning!A305,\"\")","v":""},{"$f":"IF(Självskattning!C305=\"Ja, i huvudsak\",Självskattning!B305,\"\")","v":""},{"$f":"IF(Självskattning!C305=\"Ja, i huvudsak\",Självskattning!D305,\"\")","v":""}]
[null,{"$f":"IF(Självskattning!C306=\"Ja, i huvudsak\",Självskattning!A306,\"\")","v":""},{"$f":"IF(Självskattning!C306=\"Ja, i huvudsak\",Självskattning!B306,\"\")","v":""},{"$f":"IF(Självskattning!C306=\"Ja, i huvudsak\",Självskattning!D306,\"\")","v":""}]
[null,{"$f":"IF(Självskattning!C307=\"Ja, i huvudsak\",Självskattning!A307,\"\")","v":""},{"$f":"IF(Självskattning!C307=\"Ja, i huvudsak\",Självskattning!B307,\"\")","v":""},{"$f":"IF(Självskattning!C307=\"Ja, i huvudsak\",Självskattning!D307,\"\")","v":""}]
[null,{"$f":"IF(Självskattning!C308=\"Ja, i huvudsak\",Självskattning!A308,\"\")","v":""},{"$f":"IF(Självskattning!C308=\"Ja, i huvudsak\",Självskattning!B308,\"\")","v":""},{"$f":"IF(Självskattning!C308=\"Ja, i huvudsak\",Självskattning!D308,\"\")","v":""}]
[null,{"$f":"IF(Självskattning!C309=\"Ja, i huvudsak\",Självskattning!A309,\"\")","v":""},{"$f":"IF(Självskattning!C309=\"Ja, i huvudsak\",Självskattning!B309,\"\")","v":""},{"$f":"IF(Självskattning!C309=\"Ja, i huvudsak\",Självskattning!D309,\"\")","v":""}]
[null,{"$f":"IF(Självskattning!C310=\"Ja, i huvudsak\",Självskattning!A310,\"\")","v":""},{"$f":"IF(Självskattning!C310=\"Ja, i huvudsak\",Självskattning!B310,\"\")","v":""},{"$f":"IF(Självskattning!C310=\"Ja, i huvudsak\",Självskattning!D310,\"\")","v":""}]
[null,{"$f":"IF(Självskattning!C311=\"Ja, i huvudsak\",Självskattning!A311,\"\")","v":""},{"$f":"IF(Självskattning!C311=\"Ja, i huvudsak\",Självskattning!B311,\"\")","v":""},{"$f":"IF(Självskattning!C311=\"Ja, i huvudsak\",Självskattning!D311,\"\")","v":""}]
[null,{"$f":"IF(Självskattning!C312=\"Ja, i huvudsak\",Självskattning!A312,\"\")","v":""},{"$f":"IF(Självskattning!C312=\"Ja, i huvudsak\",Självskattning!B312,\"\")","v":""},{"$f":"IF(Självskattning!C312=\"Ja, i huvudsak\",Självskattning!D312,\"\")","v":""}]
[null,{"$f":"IF(Självskattning!C313=\"Ja, i huvudsak\",Självskattning!A313,\"\")","v":""},{"$f":"IF(Självskattning!C313=\"Ja, i huvudsak\",Självskattning!B313,\"\")","v":""},{"$f":"IF(Självskattning!C313=\"Ja, i huvudsak\",Självskattning!D313,\"\")","v":""}]
[null,{"$f":"IF(Självskattning!C314=\"Ja, i huvudsak\",Självskattning!A314,\"\")","v":""},{"$f":"IF(Självskattning!C314=\"Ja, i huvudsak\",Självskattning!B314,\"\")","v":""},{"$f":"IF(Självskattning!C314=\"Ja, i huvudsak\",Självskattning!D314,\"\")","v":""}]
[null,{"$f":"IF(Självskattning!C315=\"Ja, i huvudsak\",Självskattning!A315,\"\")","v":""},{"$f":"IF(Självskattning!C315=\"Ja, i huvudsak\",Självskattning!B315,\"\")","v":""},{"$f":"IF(Självskattning!C315=\"Ja, i huvudsak\",Självskattning!D315,\"\")","v":""}]
[null,{"$f":"IF(Självskattning!C316=\"Ja, i huvudsak\",Självskattning!A316,\"\")","v":""},{"$f":"IF(Självskattning!C316=\"Ja, i huvudsak\",Självskattning!B316,\"\")","v":""},{"$f":"IF(Självskattning!C316=\"Ja, i huvudsak\",Självskattning!D316,\"\")","v":""}]
[null,{"$f":"IF(Självskattning!C317=\"Ja, i huvudsak\",Självskattning!A317,\"\")","v":""},{"$f":"IF(Självskattning!C317=\"Ja, i huvudsak\",Självskattning!B317,\"\")","v":""},{"$f":"IF(Självskattning!C317=\"Ja, i huvudsak\",Självskattning!D317,\"\")","v":""}]
[null,{"$f":"IF(Självskattning!C318=\"Ja, i huvudsak\",Självskattning!A318,\"\")","v":""},{"$f":"IF(Självskattning!C318=\"Ja, i huvudsak\",Självskattning!B318,\"\")","v":""},{"$f":"IF(Självskattning!C318=\"Ja, i huvudsak\",Självskattning!D318,\"\")","v":""}]
[null,{"$f":"IF(Självskattning!C319=\"Ja, i huvudsak\",Självskattning!A319,\"\")","v":""},{"$f":"IF(Självskattning!C319=\"Ja, i huvudsak\",Självskattning!B319,\"\")","v":""},{"$f":"IF(Självskattning!C319=\"Ja, i huvudsak\",Självskattning!D319,\"\")","v":""}]
[null,{"$f":"IF(Självskattning!C320=\"Ja, i huvudsak\",Självskattning!A320,\"\")","v":""},{"$f":"IF(Självskattning!C320=\"Ja, i huvudsak\",Självskattning!B320,\"\")","v":""},{"$f":"IF(Självskattning!C320=\"Ja, i huvudsak\",Självskattning!D320,\"\")","v":""}]
[null,{"$f":"IF(Självskattning!C321=\"Ja, i huvudsak\",Självskattning!A321,\"\")","v":""},{"$f":"IF(Självskattning!C321=\"Ja, i huvudsak\",Självskattning!B321,\"\")","v":""},{"$f":"IF(Självskattning!C321=\"Ja, i huvudsak\",Självskattning!D321,\"\")","v":""}]
[null,{"$f":"IF(Självskattning!C322=\"Ja, i huvudsak\",Självskattning!A322,\"\")","v":""},{"$f":"IF(Självskattning!C322=\"Ja, i huvudsak\",Självskattning!B322,\"\")","v":""},{"$f":"IF(Självskattning!C322=\"Ja, i huvudsak\",Självskattning!D322,\"\")","v":""}]
[null,{"$f":"IF(Självskattning!C323=\"Ja, i huvudsak\",Självskattning!A323,\"\")","v":""},{"$f":"IF(Självskattning!C323=\"Ja, i huvudsak\",Självskattning!B323,\"\")","v":""},{"$f":"IF(Självskattning!C323=\"Ja, i huvudsak\",Självskattning!D323,\"\")","v":""}]
[null,{"$f":"IF(Självskattning!C324=\"Ja, i huvudsak\",Självskattning!A324,\"\")","v":""},{"$f":"IF(Självskattning!C324=\"Ja, i huvudsak\",Självskattning!B324,\"\")","v":""},{"$f":"IF(Självskattning!C324=\"Ja, i huvudsak\",Självskattning!D324,\"\")","v":""}]
[null,{"$f":"IF(Självskattning!C325=\"Ja, i huvudsak\",Självskattning!A325,\"\")","v":""},{"$f":"IF(Självskattning!C325=\"Ja, i huvudsak\",Självskattning!B325,\"\")","v":""},{"$f":"IF(Självskattning!C325=\"Ja, i huvudsak\",Självskattning!D325,\"\")","v":""}]
[null,{"$f":"IF(Självskattning!C326=\"Ja, i huvudsak\",Självskattning!A326,\"\")","v":""},{"$f":"IF(Självskattning!C326=\"Ja, i huvudsak\",Självskattning!B326,\"\")","v":""},{"$f":"IF(Självskattning!C326=\"Ja, i huvudsak\",Självskattning!D326,\"\")","v":""}]
[null,{"$f":"IF(Självskattning!C327=\"Ja, i huvudsak\",Självskattning!A327,\"\")","v":""},{"$f":"IF(Självskattning!C327=\"Ja, i huvudsak\",Självskattning!B327,\"\")","v":""},{"$f":"IF(Självskattning!C327=\"Ja, i huvudsak\",Självskattning!D327,\"\")","v":""}]
[null,{"$f":"IF(Självskattning!C328=\"Ja, i huvudsak\",Självskattning!A328,\"\")","v":""},{"$f":"IF(Självskattning!C328=\"Ja, i huvudsak\",Självskattning!B328,\"\")","v":""},{"$f":"IF(Självskattning!C328=\"Ja, i huvudsak\",Självskattning!D328,\"\")","v":""}]
[null,{"$f":"IF(Självskattning!C329=\"Ja, i huvudsak\",Självskattning!A329,\"\")","v":""},{"$f":"IF(Självskattning!C329=\"Ja, i huvudsak\",Självskattning!B329,\"\")","v":""},{"$f":"IF(Självskattning!C329=\"Ja, i huvudsak\",Självskattning!D329,\"\")","v":""}]
[null,{"$f":"IF(Självskattning!C330=\"Ja, i huvudsak\",Självskattning!A330,\"\")","v":""},{"$f":"IF(Självskattning!C330=\"Ja, i huvudsak\",Självskattning!B330,\"\")","v":""},{"$f":"IF(Självskattning!C330=\"Ja, i huvudsak\",Självskattning!D330,\"\")","v":""}]
[null,{"$f":"IF(Självskattning!C331=\"Ja, i huvudsak\",Självskattning!A331,\"\")","v":""},{"$f":"IF(Självskattning!C331=\"Ja, i huvudsak\",Självskattning!B331,\"\")","v":""},{"$f":"IF(Självskattning!C331=\"Ja, i huvudsak\",Självskattning!D331,\"\")","v":""}]
[null,{"$f":"IF(Självskattning!C332=\"Ja, i huvudsak\",Självskattning!A332,\"\")","v":""},{"$f":"IF(Självskattning!C332=\"Ja, i huvudsak\",Självskattning!B332,\"\")","v":""},{"$f":"IF(Självskattning!C332=\"Ja, i huvudsak\",Självskattning!D332,\"\")","v":""}]
[null,{"$f":"IF(Självskattning!C333=\"Ja, i huvudsak\",Självskattning!A333,\"\")","v":""},{"$f":"IF(Självskattning!C333=\"Ja, i huvudsak\",Självskattning!B333,\"\")","v":""},{"$f":"IF(Självskattning!C333=\"Ja, i huvudsak\",Självskattning!D333,\"\")","v":""}]
[null,{"$f":"IF(Självskattning!C334=\"Ja, i huvudsak\",Självskattning!A334,\"\")","v":""},{"$f":"IF(Självskattning!C334=\"Ja, i huvudsak\",Självskattning!B334,\"\")","v":""},{"$f":"IF(Självskattning!C334=\"Ja, i huvudsak\",Självskattning!D334,\"\")","v":""}]
[null,{"$f":"IF(Självskattning!C335=\"Ja, i huvudsak\",Självskattning!A335,\"\")","v":""},{"$f":"IF(Självskattning!C335=\"Ja, i huvudsak\",Självskattning!B335,\"\")","v":""},{"$f":"IF(Självskattning!C335=\"Ja, i huvudsak\",Självskattning!D335,\"\")","v":""}]
[null,{"$f":"IF(Självskattning!C336=\"Ja, i huvudsak\",Självskattning!A336,\"\")","v":""},{"$f":"IF(Självskattning!C336=\"Ja, i huvudsak\",Självskattning!B336,\"\")","v":""},{"$f":"IF(Självskattning!C336=\"Ja, i huvudsak\",Självskattning!D336,\"\")","v":""}]
[null,{"$f":"IF(Självskattning!C337=\"Ja, i huvudsak\",Självskattning!A337,\"\")","v":""},{"$f":"IF(Självskattning!C337=\"Ja, i huvudsak\",Självskattning!B337,\"\")","v":""},{"$f":"IF(Självskattning!C337=\"Ja, i huvudsak\",Självskattning!D337,\"\")","v":""}]
[null,{"$f":"IF(Självskattning!C338=\"Ja, i huvudsak\",Självskattning!A338,\"\")","v":""},{"$f":"IF(Självskattning!C338=\"Ja, i huvudsak\",Självskattning!B338,\"\")","v":""},{"$f":"IF(Självskattning!C338=\"Ja, i huvudsak\",Självskattning!D338,\"\")","v":""}]
[null,{"$f":"IF(Självskattning!C339=\"Ja, i huvudsak\",Självskattning!A339,\"\")","v":""},{"$f":"IF(Självskattning!C339=\"Ja, i huvudsak\",Självskattning!B339,\"\")","v":""},{"$f":"IF(Självskattning!C339=\"Ja, i huvudsak\",Självskattning!D339,\"\")","v":""}]
[null,{"$f":"IF(Självskattning!C340=\"Ja, i huvudsak\",Självskattning!A340,\"\")","v":""},{"$f":"IF(Självskattning!C340=\"Ja, i huvudsak\",Självskattning!B340,\"\")","v":""},{"$f":"IF(Självskattning!C340=\"Ja, i huvudsak\",Självskattning!D340,\"\")","v":""}]
[null,{"$f":"IF(Självskattning!C341=\"Ja, i huvudsak\",Självskattning!A341,\"\")","v":""},{"$f":"IF(Självskattning!C341=\"Ja, i huvudsak\",Självskattning!B341,\"\")","v":""},{"$f":"IF(Självskattning!C341=\"Ja, i huvudsak\",Självskattning!D341,\"\")","v":""}]
[null,{"$f":"IF(Självskattning!C342=\"Ja, i huvudsak\",Självskattning!A342,\"\")","v":""},{"$f":"IF(Självskattning!C342=\"Ja, i huvudsak\",Självskattning!B342,\"\")","v":""},{"$f":"IF(Självskattning!C342=\"Ja, i huvudsak\",Självskattning!D342,\"\")","v":""}]
[null,{"$f":"IF(Självskattning!C343=\"Ja, i huvudsak\",Självskattning!A343,\"\")","v":""},{"$f":"IF(Självskattning!C343=\"Ja, i huvudsak\",Självskattning!B343,\"\")","v":""},{"$f":"IF(Självskattning!C343=\"Ja, i huvudsak\",Självskattning!D343,\"\")","v":""}]
[null,{"$f":"IF(Självskattning!C344=\"Ja, i huvudsak\",Självskattning!A344,\"\")","v":""},{"$f":"IF(Självskattning!C344=\"Ja, i huvudsak\",Självskattning!B344,\"\")","v":""},{"$f":"IF(Självskattning!C344=\"Ja, i huvudsak\",Självskattning!D344,\"\")","v":""}]
[null,{"$f":"IF(Självskattning!C345=\"Ja, i huvudsak\",Självskattning!A345,\"\")","v":""},{"$f":"IF(Självskattning!C345=\"Ja, i huvudsak\",Självskattning!B345,\"\")","v":""},{"$f":"IF(Självskattning!C345=\"Ja, i huvudsak\",Självskattning!D345,\"\")","v":""}]
[null,{"$f":"IF(Självskattning!C346=\"Ja, i huvudsak\",Självskattning!A346,\"\")","v":""},{"$f":"IF(Självskattning!C346=\"Ja, i huvudsak\",Självskattning!B346,\"\")","v":""},{"$f":"IF(Självskattning!C346=\"Ja, i huvudsak\",Självskattning!D346,\"\")","v":""}]
[null,{"$f":"IF(Självskattning!C347=\"Ja, i huvudsak\",Självskattning!A347,\"\")","v":""},{"$f":"IF(Självskattning!C347=\"Ja, i huvudsak\",Självskattning!B347,\"\")","v":""},{"$f":"IF(Självskattning!C347=\"Ja, i huvudsak\",Självskattning!D347,\"\")","v":""}]
[null,{"$f":"IF(Självskattning!C348=\"Ja, i huvudsak\",Självskattning!A348,\"\")","v":""},{"$f":"IF(Självskattning!C348=\"Ja, i huvudsak\",Självskattning!B348,\"\")","v":""},{"$f":"IF(Självskattning!C348=\"Ja, i huvudsak\",Självskattning!D348,\"\")","v":""}]
[null,{"$f":"IF(Självskattning!C349=\"Ja, i huvudsak\",Självskattning!A349,\"\")","v":""},{"$f":"IF(Självskattning!C349=\"Ja, i huvudsak\",Självskattning!B349,\"\")","v":""},{"$f":"IF(Självskattning!C349=\"Ja, i huvudsak\",Självskattning!D349,\"\")","v":""}]
[null,{"$f":"IF(Självskattning!C350=\"Ja, i huvudsak\",Självskattning!A350,\"\")","v":""},{"$f":"IF(Självskattning!C350=\"Ja, i huvudsak\",Självskattning!B350,\"\")","v":""},{"$f":"IF(Självskattning!C350=\"Ja, i huvudsak\",Självskattning!D350,\"\")","v":""}]
[null,{"$f":"IF(Självskattning!C351=\"Ja, i huvudsak\",Självskattning!A351,\"\")","v":""},{"$f":"IF(Självskattning!C351=\"Ja, i huvudsak\",Självskattning!B351,\"\")","v":""},{"$f":"IF(Självskattning!C351=\"Ja, i huvudsak\",Självskattning!D351,\"\")","v":""}]
[null,{"$f":"IF(Självskattning!C352=\"Ja, i huvudsak\",Självskattning!A352,\"\")","v":""},{"$f":"IF(Självskattning!C352=\"Ja, i huvudsak\",Självskattning!B352,\"\")","v":""},{"$f":"IF(Självskattning!C352=\"Ja, i huvudsak\",Självskattning!D352,\"\")","v":""}]
[null,{"$f":"IF(Självskattning!C353=\"Ja, i huvudsak\",Självskattning!A353,\"\")","v":""},{"$f":"IF(Självskattning!C353=\"Ja, i huvudsak\",Självskattning!B353,\"\")","v":""},{"$f":"IF(Självskattning!C353=\"Ja, i huvudsak\",Självskattning!D353,\"\")","v":""}]
[null,{"$f":"IF(Självskattning!C354=\"Ja, i huvudsak\",Självskattning!A354,\"\")","v":""},{"$f":"IF(Självskattning!C354=\"Ja, i huvudsak\",Självskattning!B354,\"\")","v":""},{"$f":"IF(Självskattning!C354=\"Ja, i huvudsak\",Självskattning!D354,\"\")","v":""}]
[null,{"$f":"IF(Självskattning!C355=\"Ja, i huvudsak\",Självskattning!A355,\"\")","v":""},{"$f":"IF(Självskattning!C355=\"Ja, i huvudsak\",Självskattning!B355,\"\")","v":""},{"$f":"IF(Självskattning!C355=\"Ja, i huvudsak\",Självskattning!D355,\"\")","v":""}]
[null,{"$f":"IF(Självskattning!C356=\"Ja, i huvudsak\",Självskattning!A356,\"\")","v":""},{"$f":"IF(Självskattning!C356=\"Ja, i huvudsak\",Självskattning!B356,\"\")","v":""},{"$f":"IF(Självskattning!C356=\"Ja, i huvudsak\",Självskattning!D356,\"\")","v":""}]
[null,{"$f":"IF(Självskattning!C357=\"Ja, i huvudsak\",Självskattning!A357,\"\")","v":""},{"$f":"IF(Självskattning!C357=\"Ja, i huvudsak\",Självskattning!B357,\"\")","v":""},{"$f":"IF(Självskattning!C357=\"Ja, i huvudsak\",Självskattning!D357,\"\")","v":""}]
[null,{"$f":"IF(Självskattning!C358=\"Ja, i huvudsak\",Självskattning!A358,\"\")","v":""},{"$f":"IF(Självskattning!C358=\"Ja, i huvudsak\",Självskattning!B358,\"\")","v":""},{"$f":"IF(Självskattning!C358=\"Ja, i huvudsak\",Självskattning!D358,\"\")","v":""}]
[null,{"$f":"IF(Självskattning!C359=\"Ja, i huvudsak\",Självskattning!A359,\"\")","v":""},{"$f":"IF(Självskattning!C359=\"Ja, i huvudsak\",Självskattning!B359,\"\")","v":""},{"$f":"IF(Självskattning!C359=\"Ja, i huvudsak\",Självskattning!D359,\"\")","v":""}]
[null,{"$f":"IF(Självskattning!C360=\"Ja, i huvudsak\",Självskattning!A360,\"\")","v":""},{"$f":"IF(Självskattning!C360=\"Ja, i huvudsak\",Självskattning!B360,\"\")","v":""},{"$f":"IF(Självskattning!C360=\"Ja, i huvudsak\",Självskattning!D360,\"\")","v":""}]
[null,{"$f":"IF(Självskattning!C361=\"Ja, i huvudsak\",Självskattning!A361,\"\")","v":""},{"$f":"IF(Självskattning!C361=\"Ja, i huvudsak\",Självskattning!B361,\"\")","v":""},{"$f":"IF(Självskattning!C361=\"Ja, i huvudsak\",Självskattning!D361,\"\")","v":""}]
[null,{"$f":"IF(Självskattning!C362=\"Ja, i huvudsak\",Självskattning!A362,\"\")","v":""},{"$f":"IF(Självskattning!C362=\"Ja, i huvudsak\",Självskattning!B362,\"\")","v":""},{"$f":"IF(Självskattning!C362=\"Ja, i huvudsak\",Självskattning!D362,\"\")","v":""}]
[null,{"$f":"IF(Självskattning!C363=\"Ja, i huvudsak\",Självskattning!A363,\"\")","v":""},{"$f":"IF(Självskattning!C363=\"Ja, i huvudsak\",Självskattning!B363,\"\")","v":""},{"$f":"IF(Självskattning!C363=\"Ja, i huvudsak\",Självskattning!D363,\"\")","v":""}]
[null,{"$f":"IF(Självskattning!C364=\"Ja, i huvudsak\",Självskattning!A364,\"\")","v":""},{"$f":"IF(Självskattning!C364=\"Ja, i huvudsak\",Självskattning!B364,\"\")","v":""},{"$f":"IF(Självskattning!C364=\"Ja, i huvudsak\",Självskattning!D364,\"\")","v":""}]
[null,{"$f":"IF(Självskattning!C365=\"Ja, i huvudsak\",Självskattning!A365,\"\")","v":""},{"$f":"IF(Självskattning!C365=\"Ja, i huvudsak\",Självskattning!B365,\"\")","v":""},{"$f":"IF(Självskattning!C365=\"Ja, i huvudsak\",Självskattning!D365,\"\")","v":""}]
[null,{"$f":"IF(Självskattning!C366=\"Ja, i huvudsak\",Självskattning!A366,\"\")","v":""},{"$f":"IF(Självskattning!C366=\"Ja, i huvudsak\",Självskattning!B366,\"\")","v":""},{"$f":"IF(Självskattning!C366=\"Ja, i huvudsak\",Självskattning!D366,\"\")","v":""}]
[null,{"$f":"IF(Självskattning!C367=\"Ja, i huvudsak\",Självskattning!A367,\"\")","v":""},{"$f":"IF(Självskattning!C367=\"Ja, i huvudsak\",Självskattning!B367,\"\")","v":""},{"$f":"IF(Självskattning!C367=\"Ja, i huvudsak\",Självskattning!D367,\"\")","v":""}]
[null,{"$f":"IF(Självskattning!C368=\"Ja, i huvudsak\",Självskattning!A368,\"\")","v":""},{"$f":"IF(Självskattning!C368=\"Ja, i huvudsak\",Självskattning!B368,\"\")","v":""},{"$f":"IF(Självskattning!C368=\"Ja, i huvudsak\",Självskattning!D368,\"\")","v":""}]
[null,{"$f":"IF(Självskattning!C369=\"Ja, i huvudsak\",Självskattning!A369,\"\")","v":""},{"$f":"IF(Självskattning!C369=\"Ja, i huvudsak\",Självskattning!B369,\"\")","v":""},{"$f":"IF(Självskattning!C369=\"Ja, i huvudsak\",Självskattning!D369,\"\")","v":""}]
[null,{"$f":"IF(Självskattning!C370=\"Ja, i huvudsak\",Självskattning!A370,\"\")","v":""},{"$f":"IF(Självskattning!C370=\"Ja, i huvudsak\",Självskattning!B370,\"\")","v":""},{"$f":"IF(Självskattning!C370=\"Ja, i huvudsak\",Självskattning!D370,\"\")","v":""}]
[null,{"$f":"IF(Självskattning!C371=\"Ja, i huvudsak\",Självskattning!A371,\"\")","v":""},{"$f":"IF(Självskattning!C371=\"Ja, i huvudsak\",Självskattning!B371,\"\")","v":""},{"$f":"IF(Självskattning!C371=\"Ja, i huvudsak\",Självskattning!D371,\"\")","v":""}]
[null,{"$f":"IF(Självskattning!C372=\"Ja, i huvudsak\",Självskattning!A372,\"\")","v":""},{"$f":"IF(Självskattning!C372=\"Ja, i huvudsak\",Självskattning!B372,\"\")","v":""},{"$f":"IF(Självskattning!C372=\"Ja, i huvudsak\",Självskattning!D372,\"\")","v":""}]
[null,{"$f":"IF(Självskattning!C373=\"Ja, i huvudsak\",Självskattning!A373,\"\")","v":""},{"$f":"IF(Självskattning!C373=\"Ja, i huvudsak\",Självskattning!B373,\"\")","v":""},{"$f":"IF(Självskattning!C373=\"Ja, i huvudsak\",Självskattning!D373,\"\")","v":""}]
[null,{"$f":"IF(Självskattning!C374=\"Ja, i huvudsak\",Självskattning!A374,\"\")","v":""},{"$f":"IF(Självskattning!C374=\"Ja, i huvudsak\",Självskattning!B374,\"\")","v":""},{"$f":"IF(Självskattning!C374=\"Ja, i huvudsak\",Självskattning!D374,\"\")","v":""}]
[null,{"$f":"IF(Självskattning!C375=\"Ja, i huvudsak\",Självskattning!A375,\"\")","v":""},{"$f":"IF(Självskattning!C375=\"Ja, i huvudsak\",Självskattning!B375,\"\")","v":""},{"$f":"IF(Självskattning!C375=\"Ja, i huvudsak\",Självskattning!D375,\"\")","v":""}]
[null,{"$f":"IF(Självskattning!C376=\"Ja, i huvudsak\",Självskattning!A376,\"\")","v":""},{"$f":"IF(Självskattning!C376=\"Ja, i huvudsak\",Självskattning!B376,\"\")","v":""},{"$f":"IF(Självskattning!C376=\"Ja, i huvudsak\",Självskattning!D376,\"\")","v":""}]
[null,{"$f":"IF(Självskattning!C377=\"Ja, i huvudsak\",Självskattning!A377,\"\")","v":""},{"$f":"IF(Självskattning!C377=\"Ja, i huvudsak\",Självskattning!B377,\"\")","v":""},{"$f":"IF(Självskattning!C377=\"Ja, i huvudsak\",Självskattning!D377,\"\")","v":""}]
[null,{"$f":"IF(Självskattning!C378=\"Ja, i huvudsak\",Självskattning!A378,\"\")","v":""},{"$f":"IF(Självskattning!C378=\"Ja, i huvudsak\",Självskattning!B378,\"\")","v":""},{"$f":"IF(Självskattning!C378=\"Ja, i huvudsak\",Självskattning!D378,\"\")","v":""}]
[null,{"$f":"IF(Självskattning!C379=\"Ja, i huvudsak\",Självskattning!A379,\"\")","v":""},{"$f":"IF(Självskattning!C379=\"Ja, i huvudsak\",Självskattning!B379,\"\")","v":""},{"$f":"IF(Självskattning!C379=\"Ja, i huvudsak\",Självskattning!D379,\"\")","v":""}]
[null,{"$f":"IF(Självskattning!C380=\"Ja, i huvudsak\",Självskattning!A380,\"\")","v":""},{"$f":"IF(Självskattning!C380=\"Ja, i huvudsak\",Självskattning!B380,\"\")","v":""},{"$f":"IF(Självskattning!C380=\"Ja, i huvudsak\",Självskattning!D380,\"\")","v":""}]
[null,{"$f":"IF(Självskattning!C381=\"Ja, i huvudsak\",Självskattning!A381,\"\")","v":""},{"$f":"IF(Självskattning!C381=\"Ja, i huvudsak\",Självskattning!B381,\"\")","v":""},{"$f":"IF(Självskattning!C381=\"Ja, i huvudsak\",Självskattning!D381,\"\")","v":""}]
[null,{"$f":"IF(Självskattning!C382=\"Ja, i huvudsak\",Självskattning!A382,\"\")","v":""},{"$f":"IF(Självskattning!C382=\"Ja, i huvudsak\",Självskattning!B382,\"\")","v":""},{"$f":"IF(Självskattning!C382=\"Ja, i huvudsak\",Självskattning!D382,\"\")","v":""}]
[null,{"$f":"IF(Självskattning!C383=\"Ja, i huvudsak\",Självskattning!A383,\"\")","v":""},{"$f":"IF(Självskattning!C383=\"Ja, i huvudsak\",Självskattning!B383,\"\")","v":""},{"$f":"IF(Självskattning!C383=\"Ja, i huvudsak\",Självskattning!D383,\"\")","v":""}]
[null,{"$f":"IF(Självskattning!C384=\"Ja, i huvudsak\",Självskattning!A384,\"\")","v":""},{"$f":"IF(Självskattning!C384=\"Ja, i huvudsak\",Självskattning!B384,\"\")","v":""},{"$f":"IF(Självskattning!C384=\"Ja, i huvudsak\",Självskattning!D384,\"\")","v":""}]
[null,{"$f":"IF(Självskattning!C385=\"Ja, i huvudsak\",Självskattning!A385,\"\")","v":""},{"$f":"IF(Självskattning!C385=\"Ja, i huvudsak\",Självskattning!B385,\"\")","v":""},{"$f":"IF(Självskattning!C385=\"Ja, i huvudsak\",Självskattning!D385,\"\")","v":""}]
[null,{"$f":"IF(Självskattning!C386=\"Ja, i huvudsak\",Självskattning!A386,\"\")","v":""},{"$f":"IF(Självskattning!C386=\"Ja, i huvudsak\",Självskattning!B386,\"\")","v":""},{"$f":"IF(Självskattning!C386=\"Ja, i huvudsak\",Självskattning!D386,\"\")","v":""}]
[null,{"$f":"IF(Självskattning!C387=\"Ja, i huvudsak\",Självskattning!A387,\"\")","v":""},{"$f":"IF(Självskattning!C387=\"Ja, i huvudsak\",Självskattning!B387,\"\")","v":""},{"$f":"IF(Självskattning!C387=\"Ja, i huvudsak\",Självskattning!D387,\"\")","v":""}]
[null,{"$f":"IF(Självskattning!C388=\"Ja, i huvudsak\",Självskattning!A388,\"\")","v":""},{"$f":"IF(Självskattning!C388=\"Ja, i huvudsak\",Självskattning!B388,\"\")","v":""},{"$f":"IF(Självskattning!C388=\"Ja, i huvudsak\",Självskattning!D388,\"\")","v":""}]
[null,{"$f":"IF(Självskattning!C389=\"Ja, i huvudsak\",Självskattning!A389,\"\")","v":""},{"$f":"IF(Självskattning!C389=\"Ja, i huvudsak\",Självskattning!B389,\"\")","v":""},{"$f":"IF(Självskattning!C389=\"Ja, i huvudsak\",Självskattning!D389,\"\")","v":""}]
[null,{"$f":"IF(Självskattning!C390=\"Ja, i huvudsak\",Självskattning!A390,\"\")","v":""},{"$f":"IF(Självskattning!C390=\"Ja, i huvudsak\",Självskattning!B390,\"\")","v":""},{"$f":"IF(Självskattning!C390=\"Ja, i huvudsak\",Självskattning!D390,\"\")","v":""}]
[null,{"$f":"IF(Självskattning!C391=\"Ja, i huvudsak\",Självskattning!A391,\"\")","v":""},{"$f":"IF(Självskattning!C391=\"Ja, i huvudsak\",Självskattning!B391,\"\")","v":""},{"$f":"IF(Självskattning!C391=\"Ja, i huvudsak\",Självskattning!D391,\"\")","v":""}]
[null,{"$f":"IF(Självskattning!C392=\"Ja, i huvudsak\",Självskattning!A392,\"\")","v":""},{"$f":"IF(Självskattning!C392=\"Ja, i huvudsak\",Självskattning!B392,\"\")","v":""},{"$f":"IF(Självskattning!C392=\"Ja, i huvudsak\",Självskattning!D392,\"\")","v":""}]
[null,{"$f":"IF(Självskattning!C393=\"Ja, i huvudsak\",Självskattning!A393,\"\")","v":""},{"$f":"IF(Självskattning!C393=\"Ja, i huvudsak\",Självskattning!B393,\"\")","v":""},{"$f":"IF(Självskattning!C393=\"Ja, i huvudsak\",Självskattning!D393,\"\")","v":""}]
[null,{"$f":"IF(Självskattning!C394=\"Ja, i huvudsak\",Självskattning!A394,\"\")","v":""},{"$f":"IF(Självskattning!C394=\"Ja, i huvudsak\",Självskattning!B394,\"\")","v":""},{"$f":"IF(Självskattning!C394=\"Ja, i huvudsak\",Självskattning!D394,\"\")","v":""}]
[null,{"$f":"IF(Självskattning!C395=\"Ja, i huvudsak\",Självskattning!A395,\"\")","v":""},{"$f":"IF(Självskattning!C395=\"Ja, i huvudsak\",Självskattning!B395,\"\")","v":""},{"$f":"IF(Självskattning!C395=\"Ja, i huvudsak\",Självskattning!D395,\"\")","v":""}]
[null,{"$f":"IF(Självskattning!C396=\"Ja, i huvudsak\",Självskattning!A396,\"\")","v":""},{"$f":"IF(Självskattning!C396=\"Ja, i huvudsak\",Självskattning!B396,\"\")","v":""},{"$f":"IF(Självskattning!C396=\"Ja, i huvudsak\",Självskattning!D396,\"\")","v":""}]
[null,{"$f":"IF(Självskattning!C397=\"Ja, i huvudsak\",Självskattning!A397,\"\")","v":""},{"$f":"IF(Självskattning!C397=\"Ja, i huvudsak\",Självskattning!B397,\"\")","v":""},{"$f":"IF(Självskattning!C397=\"Ja, i huvudsak\",Självskattning!D397,\"\")","v":""}]
[null,{"$f":"IF(Självskattning!C398=\"Ja, i huvudsak\",Självskattning!A398,\"\")","v":""},{"$f":"IF(Självskattning!C398=\"Ja, i huvudsak\",Självskattning!B398,\"\")","v":""},{"$f":"IF(Självskattning!C398=\"Ja, i huvudsak\",Självskattning!D398,\"\")","v":""}]
[null,{"$f":"IF(Självskattning!C399=\"Ja, i huvudsak\",Självskattning!A399,\"\")","v":""},{"$f":"IF(Självskattning!C399=\"Ja, i huvudsak\",Självskattning!B399,\"\")","v":""},{"$f":"IF(Självskattning!C399=\"Ja, i huvudsak\",Självskattning!D399,\"\")","v":""}]
[null,{"$f":"IF(Självskattning!C400=\"Ja, i huvudsak\",Självskattning!A400,\"\")","v":""},{"$f":"IF(Självskattning!C400=\"Ja, i huvudsak\",Självskattning!B400,\"\")","v":""},{"$f":"IF(Självskattning!C400=\"Ja, i huvudsak\",Självskattning!D400,\"\")","v":""}]
[null,{"$f":"IF(Självskattning!C401=\"Ja, i huvudsak\",Självskattning!A401,\"\")","v":""},{"$f":"IF(Självskattning!C401=\"Ja, i huvudsak\",Självskattning!B401,\"\")","v":""},{"$f":"IF(Självskattning!C401=\"Ja, i huvudsak\",Självskattning!D401,\"\")","v":""}]
[null,{"$f":"IF(Självskattning!C402=\"Ja, i huvudsak\",Självskattning!A402,\"\")","v":""},{"$f":"IF(Självskattning!C402=\"Ja, i huvudsak\",Självskattning!B402,\"\")","v":""},{"$f":"IF(Självskattning!C402=\"Ja, i huvudsak\",Självskattning!D402,\"\")","v":""}]
[null,{"$f":"IF(Självskattning!C403=\"Ja, i huvudsak\",Självskattning!A403,\"\")","v":""},{"$f":"IF(Självskattning!C403=\"Ja, i huvudsak\",Självskattning!B403,\"\")","v":""},{"$f":"IF(Självskattning!C403=\"Ja, i huvudsak\",Självskattning!D403,\"\")","v":""}]
[null,{"$f":"IF(Självskattning!C404=\"Ja, i huvudsak\",Självskattning!A404,\"\")","v":""},{"$f":"IF(Självskattning!C404=\"Ja, i huvudsak\",Självskattning!B404,\"\")","v":""},{"$f":"IF(Självskattning!C404=\"Ja, i huvudsak\",Självskattning!D404,\"\")","v":""}]
[null,{"$f":"IF(Självskattning!C405=\"Ja, i huvudsak\",Självskattning!A405,\"\")","v":""},{"$f":"IF(Självskattning!C405=\"Ja, i huvudsak\",Självskattning!B405,\"\")","v":""},{"$f":"IF(Självskattning!C405=\"Ja, i huvudsak\",Självskattning!D405,\"\")","v":""}]
[null,{"$f":"IF(Självskattning!C406=\"Ja, i huvudsak\",Självskattning!A406,\"\")","v":""},{"$f":"IF(Självskattning!C406=\"Ja, i huvudsak\",Självskattning!B406,\"\")","v":""},{"$f":"IF(Självskattning!C406=\"Ja, i huvudsak\",Självskattning!D406,\"\")","v":""}]
[null,{"$f":"IF(Självskattning!C407=\"Ja, i huvudsak\",Självskattning!A407,\"\")","v":""},{"$f":"IF(Självskattning!C407=\"Ja, i huvudsak\",Självskattning!B407,\"\")","v":""},{"$f":"IF(Självskattning!C407=\"Ja, i huvudsak\",Självskattning!D407,\"\")","v":""}]
[null,{"$f":"IF(Självskattning!C408=\"Ja, i huvudsak\",Självskattning!A408,\"\")","v":""},{"$f":"IF(Självskattning!C408=\"Ja, i huvudsak\",Självskattning!B408,\"\")","v":""},{"$f":"IF(Självskattning!C408=\"Ja, i huvudsak\",Självskattning!D408,\"\")","v":""}]
[null,{"$f":"IF(Självskattning!C409=\"Ja, i huvudsak\",Självskattning!A409,\"\")","v":""},{"$f":"IF(Självskattning!C409=\"Ja, i huvudsak\",Självskattning!B409,\"\")","v":""},{"$f":"IF(Självskattning!C409=\"Ja, i huvudsak\",Självskattning!D409,\"\")","v":""}]
[null,{"$f":"IF(Självskattning!C410=\"Ja, i huvudsak\",Självskattning!A410,\"\")","v":""},{"$f":"IF(Självskattning!C410=\"Ja, i huvudsak\",Självskattning!B410,\"\")","v":""},{"$f":"IF(Självskattning!C410=\"Ja, i huvudsak\",Självskattning!D410,\"\")","v":""}]
[null,{"$f":"IF(Självskattning!C411=\"Ja, i huvudsak\",Självskattning!A411,\"\")","v":""},{"$f":"IF(Självskattning!C411=\"Ja, i huvudsak\",Självskattning!B411,\"\")","v":""},{"$f":"IF(Självskattning!C411=\"Ja, i huvudsak\",Självskattning!D411,\"\")","v":""}]
[null,{"$f":"IF(Självskattning!C412=\"Ja, i huvudsak\",Självskattning!A412,\"\")","v":""},{"$f":"IF(Självskattning!C412=\"Ja, i huvudsak\",Självskattning!B412,\"\")","v":""},{"$f":"IF(Självskattning!C412=\"Ja, i huvudsak\",Självskattning!D412,\"\")","v":""}]
[null,{"$f":"IF(Självskattning!C413=\"Ja, i huvudsak\",Självskattning!A413,\"\")","v":""},{"$f":"IF(Självskattning!C413=\"Ja, i huvudsak\",Självskattning!B413,\"\")","v":""},{"$f":"IF(Självskattning!C413=\"Ja, i huvudsak\",Självskattning!D413,\"\")","v":""}]
[null,{"$f":"IF(Självskattning!C414=\"Ja, i huvudsak\",Självskattning!A414,\"\")","v":""},{"$f":"IF(Självskattning!C414=\"Ja, i huvudsak\",Självskattning!B414,\"\")","v":""},{"$f":"IF(Självskattning!C414=\"Ja, i huvudsak\",Självskattning!D414,\"\")","v":""}]
[null,{"$f":"IF(Självskattning!C415=\"Ja, i huvudsak\",Självskattning!A415,\"\")","v":""},{"$f":"IF(Självskattning!C415=\"Ja, i huvudsak\",Självskattning!B415,\"\")","v":""},{"$f":"IF(Självskattning!C415=\"Ja, i huvudsak\",Självskattning!D415,\"\")","v":""}]
[null,{"$f":"IF(Självskattning!C416=\"Ja, i huvudsak\",Självskattning!A416,\"\")","v":""},{"$f":"IF(Självskattning!C416=\"Ja, i huvudsak\",Självskattning!B416,\"\")","v":""},{"$f":"IF(Självskattning!C416=\"Ja, i huvudsak\",Självskattning!D416,\"\")","v":""}]
[null,{"$f":"IF(Självskattning!C417=\"Ja, i huvudsak\",Självskattning!A417,\"\")","v":""},{"$f":"IF(Självskattning!C417=\"Ja, i huvudsak\",Självskattning!B417,\"\")","v":""},{"$f":"IF(Självskattning!C417=\"Ja, i huvudsak\",Självskattning!D417,\"\")","v":""}]
[null,{"$f":"IF(Självskattning!C418=\"Ja, i huvudsak\",Självskattning!A418,\"\")","v":""},{"$f":"IF(Självskattning!C418=\"Ja, i huvudsak\",Självskattning!B418,\"\")","v":""},{"$f":"IF(Självskattning!C418=\"Ja, i huvudsak\",Självskattning!D418,\"\")","v":""}]
[null,{"$f":"IF(Självskattning!C419=\"Ja, i huvudsak\",Självskattning!A419,\"\")","v":""},{"$f":"IF(Självskattning!C419=\"Ja, i huvudsak\",Självskattning!B419,\"\")","v":""},{"$f":"IF(Självskattning!C419=\"Ja, i huvudsak\",Självskattning!D419,\"\")","v":""}]
[null,{"$f":"IF(Självskattning!C420=\"Ja, i huvudsak\",Självskattning!A420,\"\")","v":""},{"$f":"IF(Självskattning!C420=\"Ja, i huvudsak\",Självskattning!B420,\"\")","v":""},{"$f":"IF(Självskattning!C420=\"Ja, i huvudsak\",Självskattning!D420,\"\")","v":""}]
[null,{"$f":"IF(Självskattning!C421=\"Ja, i huvudsak\",Självskattning!A421,\"\")","v":""},{"$f":"IF(Självskattning!C421=\"Ja, i huvudsak\",Självskattning!B421,\"\")","v":""},{"$f":"IF(Självskattning!C421=\"Ja, i huvudsak\",Självskattning!D421,\"\")","v":""}]
[null,{"$f":"IF(Självskattning!C422=\"Ja, i huvudsak\",Självskattning!A422,\"\")","v":""},{"$f":"IF(Självskattning!C422=\"Ja, i huvudsak\",Självskattning!B422,\"\")","v":""},{"$f":"IF(Självskattning!C422=\"Ja, i huvudsak\",Självskattning!D422,\"\")","v":""}]
[null,{"$f":"IF(Självskattning!C423=\"Ja, i huvudsak\",Självskattning!A423,\"\")","v":""},{"$f":"IF(Självskattning!C423=\"Ja, i huvudsak\",Självskattning!B423,\"\")","v":""},{"$f":"IF(Självskattning!C423=\"Ja, i huvudsak\",Självskattning!D423,\"\")","v":""}]
[null,{"$f":"IF(Självskattning!C424=\"Ja, i huvudsak\",Självskattning!A424,\"\")","v":""},{"$f":"IF(Självskattning!C424=\"Ja, i huvudsak\",Självskattning!B424,\"\")","v":""},{"$f":"IF(Självskattning!C424=\"Ja, i huvudsak\",Självskattning!D424,\"\")","v":""}]
[null,{"$f":"IF(Självskattning!C425=\"Ja, i huvudsak\",Självskattning!A425,\"\")","v":""},{"$f":"IF(Självskattning!C425=\"Ja, i huvudsak\",Självskattning!B425,\"\")","v":""},{"$f":"IF(Självskattning!C425=\"Ja, i huvudsak\",Självskattning!D425,\"\")","v":""}]
[null,{"$f":"IF(Självskattning!C426=\"Ja, i huvudsak\",Självskattning!A426,\"\")","v":""},{"$f":"IF(Självskattning!C426=\"Ja, i huvudsak\",Självskattning!B426,\"\")","v":""},{"$f":"IF(Självskattning!C426=\"Ja, i huvudsak\",Självskattning!D426,\"\")","v":""}]
[null,{"$f":"IF(Självskattning!C427=\"Ja, i huvudsak\",Självskattning!A427,\"\")","v":""},{"$f":"IF(Självskattning!C427=\"Ja, i huvudsak\",Självskattning!B427,\"\")","v":""},{"$f":"IF(Självskattning!C427=\"Ja, i huvudsak\",Självskattning!D427,\"\")","v":""}]
[null,{"$f":"IF(Självskattning!C428=\"Ja, i huvudsak\",Självskattning!A428,\"\")","v":""},{"$f":"IF(Självskattning!C428=\"Ja, i huvudsak\",Självskattning!B428,\"\")","v":""},{"$f":"IF(Självskattning!C428=\"Ja, i huvudsak\",Självskattning!D428,\"\")","v":""}]
[null,{"$f":"IF(Självskattning!C429=\"Ja, i huvudsak\",Självskattning!A429,\"\")","v":""},{"$f":"IF(Självskattning!C429=\"Ja, i huvudsak\",Självskattning!B429,\"\")","v":""},{"$f":"IF(Självskattning!C429=\"Ja, i huvudsak\",Självskattning!D429,\"\")","v":""}]
[null,{"$f":"IF(Självskattning!C430=\"Ja, i huvudsak\",Självskattning!A430,\"\")","v":""},{"$f":"IF(Självskattning!C430=\"Ja, i huvudsak\",Självskattning!B430,\"\")","v":""},{"$f":"IF(Självskattning!C430=\"Ja, i huvudsak\",Självskattning!D430,\"\")","v":""}]
[null,{"$f":"IF(Självskattning!C431=\"Ja, i huvudsak\",Självskattning!A431,\"\")","v":""},{"$f":"IF(Självskattning!C431=\"Ja, i huvudsak\",Självskattning!B431,\"\")","v":""},{"$f":"IF(Självskattning!C431=\"Ja, i huvudsak\",Självskattning!D431,\"\")","v":""}]
[null,{"$f":"IF(Självskattning!C432=\"Ja, i huvudsak\",Självskattning!A432,\"\")","v":""},{"$f":"IF(Självskattning!C432=\"Ja, i huvudsak\",Självskattning!B432,\"\")","v":""},{"$f":"IF(Självskattning!C432=\"Ja, i huvudsak\",Självskattning!D432,\"\")","v":""}]
[null,{"$f":"IF(Självskattning!C433=\"Ja, i huvudsak\",Självskattning!A433,\"\")","v":""},{"$f":"IF(Självskattning!C433=\"Ja, i huvudsak\",Självskattning!B433,\"\")","v":""},{"$f":"IF(Självskattning!C433=\"Ja, i huvudsak\",Självskattning!D433,\"\")","v":""}]
[null,{"$f":"IF(Självskattning!C434=\"Ja, i huvudsak\",Självskattning!A434,\"\")","v":""},{"$f":"IF(Självskattning!C434=\"Ja, i huvudsak\",Självskattning!B434,\"\")","v":""},{"$f":"IF(Självskattning!C434=\"Ja, i huvudsak\",Självskattning!D434,\"\")","v":""}]
[null,{"$f":"IF(Självskattning!C435=\"Ja, i huvudsak\",Självskattning!A435,\"\")","v":""},{"$f":"IF(Självskattning!C435=\"Ja, i huvudsak\",Självskattning!B435,\"\")","v":""},{"$f":"IF(Självskattning!C435=\"Ja, i huvudsak\",Självskattning!D435,\"\")","v":""}]
[null,{"$f":"IF(Självskattning!C436=\"Ja, i huvudsak\",Självskattning!A436,\"\")","v":""},{"$f":"IF(Självskattning!C436=\"Ja, i huvudsak\",Självskattning!B436,\"\")","v":""},{"$f":"IF(Självskattning!C436=\"Ja, i huvudsak\",Självskattning!D436,\"\")","v":""}]
[null,{"$f":"IF(Självskattning!C437=\"Ja, i huvudsak\",Självskattning!A437,\"\")","v":""},{"$f":"IF(Självskattning!C437=\"Ja, i huvudsak\",Självskattning!B437,\"\")","v":""},{"$f":"IF(Självskattning!C437=\"Ja, i huvudsak\",Självskattning!D437,\"\")","v":""}]
[null,{"$f":"IF(Självskattning!C438=\"Ja, i huvudsak\",Självskattning!A438,\"\")","v":""},{"$f":"IF(Självskattning!C438=\"Ja, i huvudsak\",Självskattning!B438,\"\")","v":""},{"$f":"IF(Självskattning!C438=\"Ja, i huvudsak\",Självskattning!D438,\"\")","v":""}]
[null,{"$f":"IF(Självskattning!C439=\"Ja, i huvudsak\",Självskattning!A439,\"\")","v":""},{"$f":"IF(Självskattning!C439=\"Ja, i huvudsak\",Självskattning!B439,\"\")","v":""},{"$f":"IF(Självskattning!C439=\"Ja, i huvudsak\",Självskattning!D439,\"\")","v":""}]
[null,{"$f":"IF(Självskattning!C440=\"Ja, i huvudsak\",Självskattning!A440,\"\")","v":""},{"$f":"IF(Självskattning!C440=\"Ja, i huvudsak\",Självskattning!B440,\"\")","v":""},{"$f":"IF(Självskattning!C440=\"Ja, i huvudsak\",Självskattning!D440,\"\")","v":""}]
[null,{"$f":"IF(Självskattning!C441=\"Ja, i huvudsak\",Självskattning!A441,\"\")","v":""},{"$f":"IF(Självskattning!C441=\"Ja, i huvudsak\",Självskattning!B441,\"\")","v":""},{"$f":"IF(Självskattning!C441=\"Ja, i huvudsak\",Självskattning!D441,\"\")","v":""}]
[null,{"$f":"IF(Självskattning!C442=\"Ja, i huvudsak\",Självskattning!A442,\"\")","v":""},{"$f":"IF(Självskattning!C442=\"Ja, i huvudsak\",Självskattning!B442,\"\")","v":""},{"$f":"IF(Självskattning!C442=\"Ja, i huvudsak\",Självskattning!D442,\"\")","v":""}]
[null,{"$f":"IF(Självskattning!C443=\"Ja, i huvudsak\",Självskattning!A443,\"\")","v":""},{"$f":"IF(Självskattning!C443=\"Ja, i huvudsak\",Självskattning!B443,\"\")","v":""},{"$f":"IF(Självskattning!C443=\"Ja, i huvudsak\",Självskattning!D443,\"\")","v":""}]
[null,{"$f":"IF(Självskattning!C444=\"Ja, i huvudsak\",Självskattning!A444,\"\")","v":""},{"$f":"IF(Självskattning!C444=\"Ja, i huvudsak\",Självskattning!B444,\"\")","v":""},{"$f":"IF(Självskattning!C444=\"Ja, i huvudsak\",Självskattning!D444,\"\")","v":""}]
[null,{"$f":"IF(Självskattning!C445=\"Ja, i huvudsak\",Självskattning!A445,\"\")","v":""},{"$f":"IF(Självskattning!C445=\"Ja, i huvudsak\",Självskattning!B445,\"\")","v":""},{"$f":"IF(Självskattning!C445=\"Ja, i huvudsak\",Självskattning!D445,\"\")","v":""}]
[null,{"$f":"IF(Självskattning!C446=\"Ja, i huvudsak\",Självskattning!A446,\"\")","v":""},{"$f":"IF(Självskattning!C446=\"Ja, i huvudsak\",Självskattning!B446,\"\")","v":""},{"$f":"IF(Självskattning!C446=\"Ja, i huvudsak\",Självskattning!D446,\"\")","v":""}]
[null,{"$f":"IF(Självskattning!C447=\"Ja, i huvudsak\",Självskattning!A447,\"\")","v":""},{"$f":"IF(Självskattning!C447=\"Ja, i huvudsak\",Självskattning!B447,\"\")","v":""},{"$f":"IF(Självskattning!C447=\"Ja, i huvudsak\",Självskattning!D447,\"\")","v":""}]
[null,{"$f":"IF(Självskattning!C448=\"Ja, i huvudsak\",Självskattning!A448,\"\")","v":""},{"$f":"IF(Självskattning!C448=\"Ja, i huvudsak\",Självskattning!B448,\"\")","v":""},{"$f":"IF(Självskattning!C448=\"Ja, i huvudsak\",Självskattning!D448,\"\")","v":""}]
[null,{"$f":"IF(Självskattning!C449=\"Ja, i huvudsak\",Självskattning!A449,\"\")","v":""},{"$f":"IF(Självskattning!C449=\"Ja, i huvudsak\",Självskattning!B449,\"\")","v":""},{"$f":"IF(Självskattning!C449=\"Ja, i huvudsak\",Självskattning!D449,\"\")","v":""}]
[null,{"$f":"IF(Självskattning!C450=\"Ja, i huvudsak\",Självskattning!A450,\"\")","v":""},{"$f":"IF(Självskattning!C450=\"Ja, i huvudsak\",Självskattning!B450,\"\")","v":""},{"$f":"IF(Självskattning!C450=\"Ja, i huvudsak\",Självskattning!D450,\"\")","v":""}]
[null,{"$f":"IF(Självskattning!C451=\"Ja, i huvudsak\",Självskattning!A451,\"\")","v":""},{"$f":"IF(Självskattning!C451=\"Ja, i huvudsak\",Självskattning!B451,\"\")","v":""},{"$f":"IF(Självskattning!C451=\"Ja, i huvudsak\",Självskattning!D451,\"\")","v":""}]
[null,{"$f":"IF(Självskattning!C452=\"Ja, i huvudsak\",Självskattning!A452,\"\")","v":""},{"$f":"IF(Självskattning!C452=\"Ja, i huvudsak\",Självskattning!B452,\"\")","v":""},{"$f":"IF(Självskattning!C452=\"Ja, i huvudsak\",Självskattning!D452,\"\")","v":""}]
[null,{"$f":"IF(Självskattning!C453=\"Ja, i huvudsak\",Självskattning!A453,\"\")","v":""},{"$f":"IF(Självskattning!C453=\"Ja, i huvudsak\",Självskattning!B453,\"\")","v":""},{"$f":"IF(Självskattning!C453=\"Ja, i huvudsak\",Självskattning!D453,\"\")","v":""}]
[null,{"$f":"IF(Självskattning!C454=\"Ja, i huvudsak\",Självskattning!A454,\"\")","v":""},{"$f":"IF(Självskattning!C454=\"Ja, i huvudsak\",Självskattning!B454,\"\")","v":""},{"$f":"IF(Självskattning!C454=\"Ja, i huvudsak\",Självskattning!D454,\"\")","v":""}]
[null,{"$f":"IF(Självskattning!C455=\"Ja, i huvudsak\",Självskattning!A455,\"\")","v":""},{"$f":"IF(Självskattning!C455=\"Ja, i huvudsak\",Självskattning!B455,\"\")","v":""},{"$f":"IF(Självskattning!C455=\"Ja, i huvudsak\",Självskattning!D455,\"\")","v":""}]
[null,{"$f":"IF(Självskattning!C456=\"Ja, i huvudsak\",Självskattning!A456,\"\")","v":""},{"$f":"IF(Självskattning!C456=\"Ja, i huvudsak\",Självskattning!B456,\"\")","v":""},{"$f":"IF(Självskattning!C456=\"Ja, i huvudsak\",Självskattning!D456,\"\")","v":""}]
[null,{"$f":"IF(Självskattning!C457=\"Ja, i huvudsak\",Självskattning!A457,\"\")","v":""},{"$f":"IF(Självskattning!C457=\"Ja, i huvudsak\",Självskattning!B457,\"\")","v":""},{"$f":"IF(Självskattning!C457=\"Ja, i huvudsak\",Självskattning!D457,\"\")","v":""}]
[null,{"$f":"IF(Självskattning!C458=\"Ja, i huvudsak\",Självskattning!A458,\"\")","v":""},{"$f":"IF(Självskattning!C458=\"Ja, i huvudsak\",Självskattning!B458,\"\")","v":""},{"$f":"IF(Självskattning!C458=\"Ja, i huvudsak\",Självskattning!D458,\"\")","v":""}]
[null,{"$f":"IF(Självskattning!C459=\"Ja, i huvudsak\",Självskattning!A459,\"\")","v":""},{"$f":"IF(Självskattning!C459=\"Ja, i huvudsak\",Självskattning!B459,\"\")","v":""},{"$f":"IF(Självskattning!C459=\"Ja, i huvudsak\",Självskattning!D459,\"\")","v":""}]
[null,{"$f":"IF(Självskattning!C460=\"Ja, i huvudsak\",Självskattning!A460,\"\")","v":""},{"$f":"IF(Självskattning!C460=\"Ja, i huvudsak\",Självskattning!B460,\"\")","v":""},{"$f":"IF(Självskattning!C460=\"Ja, i huvudsak\",Självskattning!D460,\"\")","v":""}]
[null,{"$f":"IF(Självskattning!C461=\"Ja, i huvudsak\",Självskattning!A461,\"\")","v":""},{"$f":"IF(Självskattning!C461=\"Ja, i huvudsak\",Självskattning!B461,\"\")","v":""},{"$f":"IF(Självskattning!C461=\"Ja, i huvudsak\",Självskattning!D461,\"\")","v":""}]
[null,{"$f":"IF(Självskattning!C462=\"Ja, i huvudsak\",Självskattning!A462,\"\")","v":""},{"$f":"IF(Självskattning!C462=\"Ja, i huvudsak\",Självskattning!B462,\"\")","v":""},{"$f":"IF(Självskattning!C462=\"Ja, i huvudsak\",Självskattning!D462,\"\")","v":""}]
[null,{"$f":"IF(Självskattning!C463=\"Ja, i huvudsak\",Självskattning!A463,\"\")","v":""},{"$f":"IF(Självskattning!C463=\"Ja, i huvudsak\",Självskattning!B463,\"\")","v":""},{"$f":"IF(Självskattning!C463=\"Ja, i huvudsak\",Självskattning!D463,\"\")","v":""}]
[null,{"$f":"IF(Självskattning!C464=\"Ja, i huvudsak\",Självskattning!A464,\"\")","v":""},{"$f":"IF(Självskattning!C464=\"Ja, i huvudsak\",Självskattning!B464,\"\")","v":""},{"$f":"IF(Självskattning!C464=\"Ja, i huvudsak\",Självskattning!D464,\"\")","v":""}]
[null,{"$f":"IF(Självskattning!C465=\"Ja, i huvudsak\",Självskattning!A465,\"\")","v":""},{"$f":"IF(Självskattning!C465=\"Ja, i huvudsak\",Självskattning!B465,\"\")","v":""},{"$f":"IF(Självskattning!C465=\"Ja, i huvudsak\",Självskattning!D465,\"\")","v":""}]
[null,{"$f":"IF(Självskattning!C466=\"Ja, i huvudsak\",Självskattning!A466,\"\")","v":""},{"$f":"IF(Självskattning!C466=\"Ja, i huvudsak\",Självskattning!B466,\"\")","v":""},{"$f":"IF(Självskattning!C466=\"Ja, i huvudsak\",Självskattning!D466,\"\")","v":""}]
[null,{"$f":"IF(Självskattning!C467=\"Ja, i huvudsak\",Självskattning!A467,\"\")","v":""},{"$f":"IF(Självskattning!C467=\"Ja, i huvudsak\",Självskattning!B467,\"\")","v":""},{"$f":"IF(Självskattning!C467=\"Ja, i huvudsak\",Självskattning!D467,\"\")","v":""}]
[null,{"$f":"IF(Självskattning!C468=\"Ja, i huvudsak\",Självskattning!A468,\"\")","v":""},{"$f":"IF(Självskattning!C468=\"Ja, i huvudsak\",Självskattning!B468,\"\")","v":""},{"$f":"IF(Självskattning!C468=\"Ja, i huvudsak\",Självskattning!D468,\"\")","v":""}]
[null,{"$f":"IF(Självskattning!C469=\"Ja, i huvudsak\",Självskattning!A469,\"\")","v":""},{"$f":"IF(Självskattning!C469=\"Ja, i huvudsak\",Självskattning!B469,\"\")","v":""},{"$f":"IF(Självskattning!C469=\"Ja, i huvudsak\",Självskattning!D469,\"\")","v":""}]
[null,{"$f":"IF(Självskattning!C470=\"Ja, i huvudsak\",Självskattning!A470,\"\")","v":""},{"$f":"IF(Självskattning!C470=\"Ja, i huvudsak\",Självskattning!B470,\"\")","v":""},{"$f":"IF(Självskattning!C470=\"Ja, i huvudsak\",Självskattning!D470,\"\")","v":""}]
[null,{"$f":"IF(Självskattning!C471=\"Ja, i huvudsak\",Självskattning!A471,\"\")","v":""},{"$f":"IF(Självskattning!C471=\"Ja, i huvudsak\",Självskattning!B471,\"\")","v":""},{"$f":"IF(Självskattning!C471=\"Ja, i huvudsak\",Självskattning!D471,\"\")","v":""}]
[null,{"$f":"IF(Självskattning!C472=\"Ja, i huvudsak\",Självskattning!A472,\"\")","v":""},{"$f":"IF(Självskattning!C472=\"Ja, i huvudsak\",Självskattning!B472,\"\")","v":""},{"$f":"IF(Självskattning!C472=\"Ja, i huvudsak\",Självskattning!D472,\"\")","v":""}]
[null,{"$f":"IF(Självskattning!C473=\"Ja, i huvudsak\",Självskattning!A473,\"\")","v":""},{"$f":"IF(Självskattning!C473=\"Ja, i huvudsak\",Självskattning!B473,\"\")","v":""},{"$f":"IF(Självskattning!C473=\"Ja, i huvudsak\",Självskattning!D473,\"\")","v":""}]
[null,{"$f":"IF(Självskattning!C474=\"Ja, i huvudsak\",Självskattning!A474,\"\")","v":""},{"$f":"IF(Självskattning!C474=\"Ja, i huvudsak\",Självskattning!B474,\"\")","v":""},{"$f":"IF(Självskattning!C474=\"Ja, i huvudsak\",Självskattning!D474,\"\")","v":""}]
[null,{"$f":"IF(Självskattning!C475=\"Ja, i huvudsak\",Självskattning!A475,\"\")","v":""},{"$f":"IF(Självskattning!C475=\"Ja, i huvudsak\",Självskattning!B475,\"\")","v":""},{"$f":"IF(Självskattning!C475=\"Ja, i huvudsak\",Självskattning!D475,\"\")","v":""}]
[null,{"$f":"IF(Självskattning!C476=\"Ja, i huvudsak\",Självskattning!A476,\"\")","v":""},{"$f":"IF(Självskattning!C476=\"Ja, i huvudsak\",Självskattning!B476,\"\")","v":""},{"$f":"IF(Självskattning!C476=\"Ja, i huvudsak\",Självskattning!D476,\"\")","v":""}]
[null,{"$f":"IF(Självskattning!C477=\"Ja, i huvudsak\",Självskattning!A477,\"\")","v":""},{"$f":"IF(Självskattning!C477=\"Ja, i huvudsak\",Självskattning!B477,\"\")","v":""},{"$f":"IF(Självskattning!C477=\"Ja, i huvudsak\",Självskattning!D477,\"\")","v":""}]
[null,{"$f":"IF(Självskattning!C478=\"Ja, i huvudsak\",Självskattning!A478,\"\")","v":""},{"$f":"IF(Självskattning!C478=\"Ja, i huvudsak\",Självskattning!B478,\"\")","v":""},{"$f":"IF(Självskattning!C478=\"Ja, i huvudsak\",Självskattning!D478,\"\")","v":""}]
[null,{"$f":"IF(Självskattning!C479=\"Ja, i huvudsak\",Självskattning!A479,\"\")","v":""},{"$f":"IF(Självskattning!C479=\"Ja, i huvudsak\",Självskattning!B479,\"\")","v":""},{"$f":"IF(Självskattning!C479=\"Ja, i huvudsak\",Självskattning!D479,\"\")","v":""}]
[null,{"$f":"IF(Självskattning!C480=\"Ja, i huvudsak\",Självskattning!A480,\"\")","v":""},{"$f":"IF(Självskattning!C480=\"Ja, i huvudsak\",Självskattning!B480,\"\")","v":""},{"$f":"IF(Självskattning!C480=\"Ja, i huvudsak\",Självskattning!D480,\"\")","v":""}]
[null,{"$f":"IF(Självskattning!C481=\"Ja, i huvudsak\",Självskattning!A481,\"\")","v":""},{"$f":"IF(Självskattning!C481=\"Ja, i huvudsak\",Självskattning!B481,\"\")","v":""},{"$f":"IF(Självskattning!C481=\"Ja, i huvudsak\",Självskattning!D481,\"\")","v":""}]
[null,{"$f":"IF(Självskattning!C482=\"Ja, i huvudsak\",Självskattning!A482,\"\")","v":""},{"$f":"IF(Självskattning!C482=\"Ja, i huvudsak\",Självskattning!B482,\"\")","v":""},{"$f":"IF(Självskattning!C482=\"Ja, i huvudsak\",Självskattning!D482,\"\")","v":""}]
[null,{"$f":"IF(Självskattning!C483=\"Ja, i huvudsak\",Självskattning!A483,\"\")","v":""},{"$f":"IF(Självskattning!C483=\"Ja, i huvudsak\",Självskattning!B483,\"\")","v":""},{"$f":"IF(Självskattning!C483=\"Ja, i huvudsak\",Självskattning!D483,\"\")","v":""}]
[null,{"$f":"IF(Självskattning!C484=\"Ja, i huvudsak\",Självskattning!A484,\"\")","v":""},{"$f":"IF(Självskattning!C484=\"Ja, i huvudsak\",Självskattning!B484,\"\")","v":""},{"$f":"IF(Självskattning!C484=\"Ja, i huvudsak\",Självskattning!D484,\"\")","v":""}]
[null,{"$f":"IF(Självskattning!C485=\"Ja, i huvudsak\",Självskattning!A485,\"\")","v":""},{"$f":"IF(Självskattning!C485=\"Ja, i huvudsak\",Självskattning!B485,\"\")","v":""},{"$f":"IF(Självskattning!C485=\"Ja, i huvudsak\",Självskattning!D485,\"\")","v":""}]
[null,{"$f":"IF(Självskattning!C486=\"Ja, i huvudsak\",Självskattning!A486,\"\")","v":""},{"$f":"IF(Självskattning!C486=\"Ja, i huvudsak\",Självskattning!B486,\"\")","v":""},{"$f":"IF(Självskattning!C486=\"Ja, i huvudsak\",Självskattning!D486,\"\")","v":""}]
[null,{"$f":"IF(Självskattning!C487=\"Ja, i huvudsak\",Självskattning!A487,\"\")","v":""},{"$f":"IF(Självskattning!C487=\"Ja, i huvudsak\",Självskattning!B487,\"\")","v":""},{"$f":"IF(Självskattning!C487=\"Ja, i huvudsak\",Självskattning!D487,\"\")","v":""}]
[null,{"$f":"IF(Självskattning!C488=\"Ja, i huvudsak\",Självskattning!A488,\"\")","v":""},{"$f":"IF(Självskattning!C488=\"Ja, i huvudsak\",Självskattning!B488,\"\")","v":""},{"$f":"IF(Självskattning!C488=\"Ja, i huvudsak\",Självskattning!D488,\"\")","v":""}]
[null,{"$f":"IF(Självskattning!C489=\"Ja, i huvudsak\",Självskattning!A489,\"\")","v":""},{"$f":"IF(Självskattning!C489=\"Ja, i huvudsak\",Självskattning!B489,\"\")","v":""},{"$f":"IF(Självskattning!C489=\"Ja, i huvudsak\",Självskattning!D489,\"\")","v":""}]
[null,{"$f":"IF(Självskattning!C490=\"Ja, i huvudsak\",Självskattning!A490,\"\")","v":""},{"$f":"IF(Självskattning!C490=\"Ja, i huvudsak\",Självskattning!B490,\"\")","v":""},{"$f":"IF(Självskattning!C490=\"Ja, i huvudsak\",Självskattning!D490,\"\")","v":""}]
[null,{"$f":"IF(Självskattning!C491=\"Ja, i huvudsak\",Självskattning!A491,\"\")","v":""},{"$f":"IF(Självskattning!C491=\"Ja, i huvudsak\",Självskattning!B491,\"\")","v":""},{"$f":"IF(Självskattning!C491=\"Ja, i huvudsak\",Självskattning!D491,\"\")","v":""}]
[null,{"$f":"IF(Självskattning!C492=\"Ja, i huvudsak\",Självskattning!A492,\"\")","v":""},{"$f":"IF(Självskattning!C492=\"Ja, i huvudsak\",Självskattning!B492,\"\")","v":""},{"$f":"IF(Självskattning!C492=\"Ja, i huvudsak\",Självskattning!D492,\"\")","v":""}]
[null,{"$f":"IF(Självskattning!C493=\"Ja, i huvudsak\",Självskattning!A493,\"\")","v":""},{"$f":"IF(Självskattning!C493=\"Ja, i huvudsak\",Självskattning!B493,\"\")","v":""},{"$f":"IF(Självskattning!C493=\"Ja, i huvudsak\",Självskattning!D493,\"\")","v":""}]
[null,{"$f":"IF(Självskattning!C494=\"Ja, i huvudsak\",Självskattning!A494,\"\")","v":""},{"$f":"IF(Självskattning!C494=\"Ja, i huvudsak\",Självskattning!B494,\"\")","v":""},{"$f":"IF(Självskattning!C494=\"Ja, i huvudsak\",Självskattning!D494,\"\")","v":""}]
[null,{"$f":"IF(Självskattning!C495=\"Ja, i huvudsak\",Självskattning!A495,\"\")","v":""},{"$f":"IF(Självskattning!C495=\"Ja, i huvudsak\",Självskattning!B495,\"\")","v":""},{"$f":"IF(Självskattning!C495=\"Ja, i huvudsak\",Självskattning!D495,\"\")","v":""}]
[null,{"$f":"IF(Självskattning!C496=\"Ja, i huvudsak\",Självskattning!A496,\"\")","v":""},{"$f":"IF(Självskattning!C496=\"Ja, i huvudsak\",Självskattning!B496,\"\")","v":""},{"$f":"IF(Självskattning!C496=\"Ja, i huvudsak\",Självskattning!D496,\"\")","v":""}]
[null,{"$f":"IF(Självskattning!C497=\"Ja, i huvudsak\",Självskattning!A497,\"\")","v":""},{"$f":"IF(Självskattning!C497=\"Ja, i huvudsak\",Självskattning!B497,\"\")","v":""},{"$f":"IF(Självskattning!C497=\"Ja, i huvudsak\",Självskattning!D497,\"\")","v":""}]
[null,{"$f":"IF(Självskattning!C498=\"Ja, i huvudsak\",Självskattning!A498,\"\")","v":""},{"$f":"IF(Självskattning!C498=\"Ja, i huvudsak\",Självskattning!B498,\"\")","v":""},{"$f":"IF(Självskattning!C498=\"Ja, i huvudsak\",Självskattning!D498,\"\")","v":""}]
[null,{"$f":"IF(Självskattning!C499=\"Ja, i huvudsak\",Självskattning!A499,\"\")","v":""},{"$f":"IF(Självskattning!C499=\"Ja, i huvudsak\",Självskattning!B499,\"\")","v":""},{"$f":"IF(Självskattning!C499=\"Ja, i huvudsak\",Självskattning!D499,\"\")","v":""}]
[null,{"$f":"IF(Självskattning!C500=\"Ja, i huvudsak\",Självskattning!A500,\"\")","v":""},{"$f":"IF(Självskattning!C500=\"Ja, i huvudsak\",Självskattning!B500,\"\")","v":""},{"$f":"IF(Självskattning!C500=\"Ja, i huvudsak\",Självskattning!D500,\"\")","v":""}]
[null,{"$f":"IF(Självskattning!C501=\"Ja, i huvudsak\",Självskattning!A501,\"\")","v":""},{"$f":"IF(Självskattning!C501=\"Ja, i huvudsak\",Självskattning!B501,\"\")","v":""},{"$f":"IF(Självskattning!C501=\"Ja, i huvudsak\",Självskattning!D501,\"\")","v":""}]
[null,{"$f":"IF(Självskattning!C502=\"Ja, i huvudsak\",Självskattning!A502,\"\")","v":""},{"$f":"IF(Självskattning!C502=\"Ja, i huvudsak\",Självskattning!B502,\"\")","v":""},{"$f":"IF(Självskattning!C502=\"Ja, i huvudsak\",Självskattning!D502,\"\")","v":""}]
[null,{"$f":"IF(Självskattning!C503=\"Ja, i huvudsak\",Självskattning!A503,\"\")","v":""},{"$f":"IF(Självskattning!C503=\"Ja, i huvudsak\",Självskattning!B503,\"\")","v":""},{"$f":"IF(Självskattning!C503=\"Ja, i huvudsak\",Självskattning!D503,\"\")","v":""}]
[null,{"$f":"IF(Självskattning!C504=\"Ja, i huvudsak\",Självskattning!A504,\"\")","v":""},{"$f":"IF(Självskattning!C504=\"Ja, i huvudsak\",Självskattning!B504,\"\")","v":""},{"$f":"IF(Självskattning!C504=\"Ja, i huvudsak\",Självskattning!D504,\"\")","v":""}]
[null,{"$f":"IF(Självskattning!C505=\"Ja, i huvudsak\",Självskattning!A505,\"\")","v":""},{"$f":"IF(Självskattning!C505=\"Ja, i huvudsak\",Självskattning!B505,\"\")","v":""},{"$f":"IF(Självskattning!C505=\"Ja, i huvudsak\",Självskattning!D505,\"\")","v":""}]
[null,"VET EJ","KOMMENTAR","LÄSHÄNVISNINGAR"]
[null,{"$f":"IF(Självskattning!C3=\"Vet ej\",Självskattning!A3,\"\")","v":""},{"$f":"IF(Självskattning!C3=\"Vet ej\",Självskattning!B3,\"\")","v":""},{"$f":"IF(Självskattning!C3=\"Vet ej\",Självskattning!D3,\"\")","v":""}]
[null,{"$f":"IF(Självskattning!C4=\"Vet ej\",Självskattning!A4,\"\")","v":""},{"$f":"IF(Självskattning!C4=\"Vet ej\",Självskattning!B4,\"\")","v":""},{"$f":"IF(Självskattning!C4=\"Vet ej\",Självskattning!D4,\"\")","v":""}]
[null,{"$f":"IF(Självskattning!C5=\"Vet ej\",Självskattning!A5,\"\")","v":""},{"$f":"IF(Självskattning!C5=\"Vet ej\",Självskattning!B5,\"\")","v":""},{"$f":"IF(Självskattning!C5=\"Vet ej\",Självskattning!D5,\"\")","v":""}]
[null,{"$f":"IF(Självskattning!C6=\"Vet ej\",Självskattning!A6,\"\")","v":""},{"$f":"IF(Självskattning!C6=\"Vet ej\",Självskattning!B6,\"\")","v":""},{"$f":"IF(Självskattning!C6=\"Vet ej\",Självskattning!D6,\"\")","v":""}]
[null,{"$f":"IF(Självskattning!C7=\"Vet ej\",Självskattning!A7,\"\")","v":""},{"$f":"IF(Självskattning!C7=\"Vet ej\",Självskattning!B7,\"\")","v":""},{"$f":"IF(Självskattning!C7=\"Vet ej\",Självskattning!D7,\"\")","v":""}]
[null,{"$f":"IF(Självskattning!C8=\"Vet ej\",Självskattning!A8,\"\")","v":""},{"$f":"IF(Självskattning!C8=\"Vet ej\",Självskattning!B8,\"\")","v":""},{"$f":"IF(Självskattning!C8=\"Vet ej\",Självskattning!D8,\"\")","v":""}]
[null,{"$f":"IF(Självskattning!C9=\"Vet ej\",Självskattning!A9,\"\")","v":""},{"$f":"IF(Självskattning!C9=\"Vet ej\",Självskattning!B9,\"\")","v":""},{"$f":"IF(Självskattning!C9=\"Vet ej\",Självskattning!D9,\"\")","v":""}]
[null,{"$f":"IF(Självskattning!C10=\"Vet ej\",Självskattning!A10,\"\")","v":""},{"$f":"IF(Självskattning!C10=\"Vet ej\",Självskattning!B10,\"\")","v":""},{"$f":"IF(Självskattning!C10=\"Vet ej\",Självskattning!D10,\"\")","v":""}]
[null,{"$f":"IF(Självskattning!C11=\"Vet ej\",Självskattning!A11,\"\")","v":""},{"$f":"IF(Självskattning!C11=\"Vet ej\",Självskattning!B11,\"\")","v":""},{"$f":"IF(Självskattning!C11=\"Vet ej\",Självskattning!D11,\"\")","v":""}]
[null,{"$f":"IF(Självskattning!C12=\"Vet ej\",Självskattning!A12,\"\")","v":""},{"$f":"IF(Självskattning!C12=\"Vet ej\",Självskattning!B12,\"\")","v":""},{"$f":"IF(Självskattning!C12=\"Vet ej\",Självskattning!D12,\"\")","v":""}]
[null,{"$f":"IF(Självskattning!C13=\"Vet ej\",Självskattning!A13,\"\")","v":""},{"$f":"IF(Självskattning!C13=\"Vet ej\",Självskattning!B13,\"\")","v":""},{"$f":"IF(Självskattning!C13=\"Vet ej\",Självskattning!D13,\"\")","v":""}]
[null,{"$f":"IF(Självskattning!C14=\"Vet ej\",Självskattning!A14,\"\")","v":""},{"$f":"IF(Självskattning!C14=\"Vet ej\",Självskattning!B14,\"\")","v":""},{"$f":"IF(Självskattning!C14=\"Vet ej\",Självskattning!D14,\"\")","v":""}]
[null,{"$f":"IF(Självskattning!C15=\"Vet ej\",Självskattning!A15,\"\")","v":""},{"$f":"IF(Självskattning!C15=\"Vet ej\",Självskattning!B15,\"\")","v":""},{"$f":"IF(Självskattning!C15=\"Vet ej\",Självskattning!D15,\"\")","v":""}]
[null,{"$f":"IF(Självskattning!C16=\"Vet ej\",Självskattning!A16,\"\")","v":""},{"$f":"IF(Självskattning!C16=\"Vet ej\",Självskattning!B16,\"\")","v":""},{"$f":"IF(Självskattning!C16=\"Vet ej\",Självskattning!D16,\"\")","v":""}]
[null,{"$f":"IF(Självskattning!C17=\"Vet ej\",Självskattning!A17,\"\")","v":""},{"$f":"IF(Självskattning!C17=\"Vet ej\",Självskattning!B17,\"\")","v":""},{"$f":"IF(Självskattning!C17=\"Vet ej\",Självskattning!D17,\"\")","v":""}]
[null,{"$f":"IF(Självskattning!C18=\"Vet ej\",Självskattning!A18,\"\")","v":""},{"$f":"IF(Självskattning!C18=\"Vet ej\",Självskattning!B18,\"\")","v":""},{"$f":"IF(Självskattning!C18=\"Vet ej\",Självskattning!D18,\"\")","v":""}]
[null,{"$f":"IF(Självskattning!C19=\"Vet ej\",Självskattning!A19,\"\")","v":""},{"$f":"IF(Självskattning!C19=\"Vet ej\",Självskattning!B19,\"\")","v":""},{"$f":"IF(Självskattning!C19=\"Vet ej\",Självskattning!D19,\"\")","v":""}]
[null,{"$f":"IF(Självskattning!C20=\"Vet ej\",Självskattning!A20,\"\")","v":""},{"$f":"IF(Självskattning!C20=\"Vet ej\",Självskattning!B20,\"\")","v":""},{"$f":"IF(Självskattning!C20=\"Vet ej\",Självskattning!D20,\"\")","v":""}]
[null,{"$f":"IF(Självskattning!C21=\"Vet ej\",Självskattning!A21,\"\")","v":""},{"$f":"IF(Självskattning!C21=\"Vet ej\",Självskattning!B21,\"\")","v":""},{"$f":"IF(Självskattning!C21=\"Vet ej\",Självskattning!D21,\"\")","v":""}]
[null,{"$f":"IF(Självskattning!C22=\"Vet ej\",Självskattning!A22,\"\")","v":""},{"$f":"IF(Självskattning!C22=\"Vet ej\",Självskattning!B22,\"\")","v":""},{"$f":"IF(Självskattning!C22=\"Vet ej\",Självskattning!D22,\"\")","v":""}]
[null,{"$f":"IF(Självskattning!C23=\"Vet ej\",Självskattning!A23,\"\")","v":""},{"$f":"IF(Självskattning!C23=\"Vet ej\",Självskattning!B23,\"\")","v":""},{"$f":"IF(Självskattning!C23=\"Vet ej\",Självskattning!D23,\"\")","v":""}]
[null,{"$f":"IF(Självskattning!C24=\"Vet ej\",Självskattning!A24,\"\")","v":""},{"$f":"IF(Självskattning!C24=\"Vet ej\",Självskattning!B24,\"\")","v":""},{"$f":"IF(Självskattning!C24=\"Vet ej\",Självskattning!D24,\"\")","v":""}]
[null,{"$f":"IF(Självskattning!C25=\"Vet ej\",Självskattning!A25,\"\")","v":""},{"$f":"IF(Självskattning!C25=\"Vet ej\",Självskattning!B25,\"\")","v":""},{"$f":"IF(Självskattning!C25=\"Vet ej\",Självskattning!D25,\"\")","v":""}]
[null,{"$f":"IF(Självskattning!C26=\"Vet ej\",Självskattning!A26,\"\")","v":""},{"$f":"IF(Självskattning!C26=\"Vet ej\",Självskattning!B26,\"\")","v":""},{"$f":"IF(Självskattning!C26=\"Vet ej\",Självskattning!D26,\"\")","v":""}]
[null,{"$f":"IF(Självskattning!C27=\"Vet ej\",Självskattning!A27,\"\")","v":""},{"$f":"IF(Självskattning!C27=\"Vet ej\",Självskattning!B27,\"\")","v":""},{"$f":"IF(Självskattning!C27=\"Vet ej\",Självskattning!D27,\"\")","v":""}]
[null,{"$f":"IF(Självskattning!C28=\"Vet ej\",Självskattning!A28,\"\")","v":""},{"$f":"IF(Självskattning!C28=\"Vet ej\",Självskattning!B28,\"\")","v":""},{"$f":"IF(Självskattning!C28=\"Vet ej\",Självskattning!D28,\"\")","v":""}]
[null,{"$f":"IF(Självskattning!C29=\"Vet ej\",Självskattning!A29,\"\")","v":""},{"$f":"IF(Självskattning!C29=\"Vet ej\",Självskattning!B29,\"\")","v":""},{"$f":"IF(Självskattning!C29=\"Vet ej\",Självskattning!D29,\"\")","v":""}]
[null,{"$f":"IF(Självskattning!C30=\"Vet ej\",Självskattning!A30,\"\")","v":""},{"$f":"IF(Självskattning!C30=\"Vet ej\",Självskattning!B30,\"\")","v":""},{"$f":"IF(Självskattning!C30=\"Vet ej\",Självskattning!D30,\"\")","v":""}]
[null,{"$f":"IF(Självskattning!C31=\"Vet ej\",Självskattning!A31,\"\")","v":""},{"$f":"IF(Självskattning!C31=\"Vet ej\",Självskattning!B31,\"\")","v":""},{"$f":"IF(Självskattning!C31=\"Vet ej\",Självskattning!D31,\"\")","v":""}]
[null,{"$f":"IF(Självskattning!C32=\"Vet ej\",Självskattning!A32,\"\")","v":""},{"$f":"IF(Självskattning!C32=\"Vet ej\",Självskattning!B32,\"\")","v":""},{"$f":"IF(Självskattning!C32=\"Vet ej\",Självskattning!D32,\"\")","v":""}]
[null,{"$f":"IF(Självskattning!C33=\"Vet ej\",Självskattning!A33,\"\")","v":""},{"$f":"IF(Självskattning!C33=\"Vet ej\",Självskattning!B33,\"\")","v":""},{"$f":"IF(Självskattning!C33=\"Vet ej\",Självskattning!D33,\"\")","v":""}]
[null,{"$f":"IF(Självskattning!C34=\"Vet ej\",Självskattning!A34,\"\")","v":""},{"$f":"IF(Självskattning!C34=\"Vet ej\",Självskattning!B34,\"\")","v":""},{"$f":"IF(Självskattning!C34=\"Vet ej\",Självskattning!D34,\"\")","v":""}]
[null,{"$f":"IF(Självskattning!C35=\"Vet ej\",Självskattning!A35,\"\")","v":""},{"$f":"IF(Självskattning!C35=\"Vet ej\",Självskattning!B35,\"\")","v":""},{"$f":"IF(Självskattning!C35=\"Vet ej\",Självskattning!D35,\"\")","v":""}]
[null,{"$f":"IF(Självskattning!C36=\"Vet ej\",Självskattning!A36,\"\")","v":""},{"$f":"IF(Självskattning!C36=\"Vet ej\",Självskattning!B36,\"\")","v":""},{"$f":"IF(Självskattning!C36=\"Vet ej\",Självskattning!D36,\"\")","v":""}]
[null,{"$f":"IF(Självskattning!C37=\"Vet ej\",Självskattning!A37,\"\")","v":""},{"$f":"IF(Självskattning!C37=\"Vet ej\",Självskattning!B37,\"\")","v":""},{"$f":"IF(Självskattning!C37=\"Vet ej\",Självskattning!D37,\"\")","v":""}]
[null,{"$f":"IF(Självskattning!C38=\"Vet ej\",Självskattning!A38,\"\")","v":""},{"$f":"IF(Självskattning!C38=\"Vet ej\",Självskattning!B38,\"\")","v":""},{"$f":"IF(Självskattning!C38=\"Vet ej\",Självskattning!D38,\"\")","v":""}]
[null,{"$f":"IF(Självskattning!C39=\"Vet ej\",Självskattning!A39,\"\")","v":""},{"$f":"IF(Självskattning!C39=\"Vet ej\",Självskattning!B39,\"\")","v":""},{"$f":"IF(Självskattning!C39=\"Vet ej\",Självskattning!D39,\"\")","v":""}]
[null,{"$f":"IF(Självskattning!C40=\"Vet ej\",Självskattning!A40,\"\")","v":""},{"$f":"IF(Självskattning!C40=\"Vet ej\",Självskattning!B40,\"\")","v":""},{"$f":"IF(Självskattning!C40=\"Vet ej\",Självskattning!D40,\"\")","v":""}]
[null,{"$f":"IF(Självskattning!C41=\"Vet ej\",Självskattning!A41,\"\")","v":""},{"$f":"IF(Självskattning!C41=\"Vet ej\",Självskattning!B41,\"\")","v":""},{"$f":"IF(Självskattning!C41=\"Vet ej\",Självskattning!D41,\"\")","v":""}]
[null,{"$f":"IF(Självskattning!C42=\"Vet ej\",Självskattning!A42,\"\")","v":""},{"$f":"IF(Självskattning!C42=\"Vet ej\",Självskattning!B42,\"\")","v":""},{"$f":"IF(Självskattning!C42=\"Vet ej\",Självskattning!D42,\"\")","v":""}]
[null,{"$f":"IF(Självskattning!C43=\"Vet ej\",Självskattning!A43,\"\")","v":""},{"$f":"IF(Självskattning!C43=\"Vet ej\",Självskattning!B43,\"\")","v":""},{"$f":"IF(Självskattning!C43=\"Vet ej\",Självskattning!D43,\"\")","v":""}]
[null,{"$f":"IF(Självskattning!C44=\"Vet ej\",Självskattning!A44,\"\")","v":""},{"$f":"IF(Självskattning!C44=\"Vet ej\",Självskattning!B44,\"\")","v":""},{"$f":"IF(Självskattning!C44=\"Vet ej\",Självskattning!D44,\"\")","v":""}]
[null,{"$f":"IF(Självskattning!C45=\"Vet ej\",Självskattning!A45,\"\")","v":""},{"$f":"IF(Självskattning!C45=\"Vet ej\",Självskattning!B45,\"\")","v":""},{"$f":"IF(Självskattning!C45=\"Vet ej\",Självskattning!D45,\"\")","v":""}]
[null,{"$f":"IF(Självskattning!C46=\"Vet ej\",Självskattning!A46,\"\")","v":""},{"$f":"IF(Självskattning!C46=\"Vet ej\",Självskattning!B46,\"\")","v":""},{"$f":"IF(Självskattning!C46=\"Vet ej\",Självskattning!D46,\"\")","v":""}]
[null,{"$f":"IF(Självskattning!C47=\"Vet ej\",Självskattning!A47,\"\")","v":""},{"$f":"IF(Självskattning!C47=\"Vet ej\",Självskattning!B47,\"\")","v":""},{"$f":"IF(Självskattning!C47=\"Vet ej\",Självskattning!D47,\"\")","v":""}]
[null,{"$f":"IF(Självskattning!C48=\"Vet ej\",Självskattning!A48,\"\")","v":""},{"$f":"IF(Självskattning!C48=\"Vet ej\",Självskattning!B48,\"\")","v":""},{"$f":"IF(Självskattning!C48=\"Vet ej\",Självskattning!D48,\"\")","v":""}]
[null,{"$f":"IF(Självskattning!C49=\"Vet ej\",Självskattning!A49,\"\")","v":""},{"$f":"IF(Självskattning!C49=\"Vet ej\",Självskattning!B49,\"\")","v":""},{"$f":"IF(Självskattning!C49=\"Vet ej\",Självskattning!D49,\"\")","v":""}]
[null,{"$f":"IF(Självskattning!C50=\"Vet ej\",Självskattning!A50,\"\")","v":""},{"$f":"IF(Självskattning!C50=\"Vet ej\",Självskattning!B50,\"\")","v":""},{"$f":"IF(Självskattning!C50=\"Vet ej\",Självskattning!D50,\"\")","v":""}]
[null,{"$f":"IF(Självskattning!C51=\"Vet ej\",Självskattning!A51,\"\")","v":""},{"$f":"IF(Självskattning!C51=\"Vet ej\",Självskattning!B51,\"\")","v":""},{"$f":"IF(Självskattning!C51=\"Vet ej\",Självskattning!D51,\"\")","v":""}]
[null,{"$f":"IF(Självskattning!C52=\"Vet ej\",Självskattning!A52,\"\")","v":""},{"$f":"IF(Självskattning!C52=\"Vet ej\",Självskattning!B52,\"\")","v":""},{"$f":"IF(Självskattning!C52=\"Vet ej\",Självskattning!D52,\"\")","v":""}]
[null,{"$f":"IF(Självskattning!C53=\"Vet ej\",Självskattning!A53,\"\")","v":""},{"$f":"IF(Självskattning!C53=\"Vet ej\",Självskattning!B53,\"\")","v":""},{"$f":"IF(Självskattning!C53=\"Vet ej\",Självskattning!D53,\"\")","v":""}]
[null,{"$f":"IF(Självskattning!C54=\"Vet ej\",Självskattning!A54,\"\")","v":""},{"$f":"IF(Självskattning!C54=\"Vet ej\",Självskattning!B54,\"\")","v":""},{"$f":"IF(Självskattning!C54=\"Vet ej\",Självskattning!D54,\"\")","v":""}]
[null,{"$f":"IF(Självskattning!C55=\"Vet ej\",Självskattning!A55,\"\")","v":""},{"$f":"IF(Självskattning!C55=\"Vet ej\",Självskattning!B55,\"\")","v":""},{"$f":"IF(Självskattning!C55=\"Vet ej\",Självskattning!D55,\"\")","v":""}]
[null,{"$f":"IF(Självskattning!C56=\"Vet ej\",Självskattning!A56,\"\")","v":""},{"$f":"IF(Självskattning!C56=\"Vet ej\",Självskattning!B56,\"\")","v":""},{"$f":"IF(Självskattning!C56=\"Vet ej\",Självskattning!D56,\"\")","v":""}]
[null,{"$f":"IF(Självskattning!C57=\"Vet ej\",Självskattning!A57,\"\")","v":""},{"$f":"IF(Självskattning!C57=\"Vet ej\",Självskattning!B57,\"\")","v":""},{"$f":"IF(Självskattning!C57=\"Vet ej\",Självskattning!D57,\"\")","v":""}]
[null,{"$f":"IF(Självskattning!C58=\"Vet ej\",Självskattning!A58,\"\")","v":""},{"$f":"IF(Självskattning!C58=\"Vet ej\",Självskattning!B58,\"\")","v":""},{"$f":"IF(Självskattning!C58=\"Vet ej\",Självskattning!D58,\"\")","v":""}]
[null,{"$f":"IF(Självskattning!C59=\"Vet ej\",Självskattning!A59,\"\")","v":""},{"$f":"IF(Självskattning!C59=\"Vet ej\",Självskattning!B59,\"\")","v":""},{"$f":"IF(Självskattning!C59=\"Vet ej\",Självskattning!D59,\"\")","v":""}]
[null,{"$f":"IF(Självskattning!C60=\"Vet ej\",Självskattning!A60,\"\")","v":""},{"$f":"IF(Självskattning!C60=\"Vet ej\",Självskattning!B60,\"\")","v":""},{"$f":"IF(Självskattning!C60=\"Vet ej\",Självskattning!D60,\"\")","v":""}]
[null,{"$f":"IF(Självskattning!C61=\"Vet ej\",Självskattning!A61,\"\")","v":""},{"$f":"IF(Självskattning!C61=\"Vet ej\",Självskattning!B61,\"\")","v":""},{"$f":"IF(Självskattning!C61=\"Vet ej\",Självskattning!D61,\"\")","v":""}]
[null,{"$f":"IF(Självskattning!C62=\"Vet ej\",Självskattning!A62,\"\")","v":""},{"$f":"IF(Självskattning!C62=\"Vet ej\",Självskattning!B62,\"\")","v":""},{"$f":"IF(Självskattning!C62=\"Vet ej\",Självskattning!D62,\"\")","v":""}]
[null,{"$f":"IF(Självskattning!C63=\"Vet ej\",Självskattning!A63,\"\")","v":""},{"$f":"IF(Självskattning!C63=\"Vet ej\",Självskattning!B63,\"\")","v":""},{"$f":"IF(Självskattning!C63=\"Vet ej\",Självskattning!D63,\"\")","v":""}]
[null,{"$f":"IF(Självskattning!C64=\"Vet ej\",Självskattning!A64,\"\")","v":""},{"$f":"IF(Självskattning!C64=\"Vet ej\",Självskattning!B64,\"\")","v":""},{"$f":"IF(Självskattning!C64=\"Vet ej\",Självskattning!D64,\"\")","v":""}]
[null,{"$f":"IF(Självskattning!C65=\"Vet ej\",Självskattning!A65,\"\")","v":""},{"$f":"IF(Självskattning!C65=\"Vet ej\",Självskattning!B65,\"\")","v":""},{"$f":"IF(Självskattning!C65=\"Vet ej\",Självskattning!D65,\"\")","v":""}]
[null,{"$f":"IF(Självskattning!C66=\"Vet ej\",Självskattning!A66,\"\")","v":""},{"$f":"IF(Självskattning!C66=\"Vet ej\",Självskattning!B66,\"\")","v":""},{"$f":"IF(Självskattning!C66=\"Vet ej\",Självskattning!D66,\"\")","v":""}]
[null,{"$f":"IF(Självskattning!C67=\"Vet ej\",Självskattning!A67,\"\")","v":""},{"$f":"IF(Självskattning!C67=\"Vet ej\",Självskattning!B67,\"\")","v":""},{"$f":"IF(Självskattning!C67=\"Vet ej\",Självskattning!D67,\"\")","v":""}]
[null,{"$f":"IF(Självskattning!C68=\"Vet ej\",Självskattning!A68,\"\")","v":""},{"$f":"IF(Självskattning!C68=\"Vet ej\",Självskattning!B68,\"\")","v":""},{"$f":"IF(Självskattning!C68=\"Vet ej\",Självskattning!D68,\"\")","v":""}]
[null,{"$f":"IF(Självskattning!C69=\"Vet ej\",Självskattning!A69,\"\")","v":""},{"$f":"IF(Självskattning!C69=\"Vet ej\",Självskattning!B69,\"\")","v":""},{"$f":"IF(Självskattning!C69=\"Vet ej\",Självskattning!D69,\"\")","v":""}]
[null,{"$f":"IF(Självskattning!C70=\"Vet ej\",Självskattning!A70,\"\")","v":""},{"$f":"IF(Självskattning!C70=\"Vet ej\",Självskattning!B70,\"\")","v":""},{"$f":"IF(Självskattning!C70=\"Vet ej\",Självskattning!D70,\"\")","v":""}]
[null,{"$f":"IF(Självskattning!C71=\"Vet ej\",Självskattning!A71,\"\")","v":""},{"$f":"IF(Självskattning!C71=\"Vet ej\",Självskattning!B71,\"\")","v":""},{"$f":"IF(Självskattning!C71=\"Vet ej\",Självskattning!D71,\"\")","v":""}]
[null,{"$f":"IF(Självskattning!C72=\"Vet ej\",Självskattning!A72,\"\")","v":""},{"$f":"IF(Självskattning!C72=\"Vet ej\",Självskattning!B72,\"\")","v":""},{"$f":"IF(Självskattning!C72=\"Vet ej\",Självskattning!D72,\"\")","v":""}]
[null,{"$f":"IF(Självskattning!C73=\"Vet ej\",Självskattning!A73,\"\")","v":""},{"$f":"IF(Självskattning!C73=\"Vet ej\",Självskattning!B73,\"\")","v":""},{"$f":"IF(Självskattning!C73=\"Vet ej\",Självskattning!D73,\"\")","v":""}]
[null,{"$f":"IF(Självskattning!C74=\"Vet ej\",Självskattning!A74,\"\")","v":""},{"$f":"IF(Självskattning!C74=\"Vet ej\",Självskattning!B74,\"\")","v":""},{"$f":"IF(Självskattning!C74=\"Vet ej\",Självskattning!D74,\"\")","v":""}]
[null,{"$f":"IF(Självskattning!C75=\"Vet ej\",Självskattning!A75,\"\")","v":""},{"$f":"IF(Självskattning!C75=\"Vet ej\",Självskattning!B75,\"\")","v":""},{"$f":"IF(Självskattning!C75=\"Vet ej\",Självskattning!D75,\"\")","v":""}]
[null,{"$f":"IF(Självskattning!C76=\"Vet ej\",Självskattning!A76,\"\")","v":""},{"$f":"IF(Självskattning!C76=\"Vet ej\",Självskattning!B76,\"\")","v":""},{"$f":"IF(Självskattning!C76=\"Vet ej\",Självskattning!D76,\"\")","v":""}]
[null,{"$f":"IF(Självskattning!C77=\"Vet ej\",Självskattning!A77,\"\")","v":""},{"$f":"IF(Självskattning!C77=\"Vet ej\",Självskattning!B77,\"\")","v":""},{"$f":"IF(Självskattning!C77=\"Vet ej\",Självskattning!D77,\"\")","v":""}]
[null,{"$f":"IF(Självskattning!C78=\"Vet ej\",Självskattning!A78,\"\")","v":""},{"$f":"IF(Självskattning!C78=\"Vet ej\",Självskattning!B78,\"\")","v":""},{"$f":"IF(Självskattning!C78=\"Vet ej\",Självskattning!D78,\"\")","v":""}]
[null,{"$f":"IF(Självskattning!C79=\"Vet ej\",Självskattning!A79,\"\")","v":""},{"$f":"IF(Självskattning!C79=\"Vet ej\",Självskattning!B79,\"\")","v":""},{"$f":"IF(Självskattning!C79=\"Vet ej\",Självskattning!D79,\"\")","v":""}]
[null,{"$f":"IF(Självskattning!C80=\"Vet ej\",Självskattning!A80,\"\")","v":""},{"$f":"IF(Självskattning!C80=\"Vet ej\",Självskattning!B80,\"\")","v":""},{"$f":"IF(Självskattning!C80=\"Vet ej\",Självskattning!D80,\"\")","v":""}]
[null,{"$f":"IF(Självskattning!C81=\"Vet ej\",Självskattning!A81,\"\")","v":""},{"$f":"IF(Självskattning!C81=\"Vet ej\",Självskattning!B81,\"\")","v":""},{"$f":"IF(Självskattning!C81=\"Vet ej\",Självskattning!D81,\"\")","v":""}]
[null,{"$f":"IF(Självskattning!C82=\"Vet ej\",Självskattning!A82,\"\")","v":""},{"$f":"IF(Självskattning!C82=\"Vet ej\",Självskattning!B82,\"\")","v":""},{"$f":"IF(Självskattning!C82=\"Vet ej\",Självskattning!D82,\"\")","v":""}]
[null,{"$f":"IF(Självskattning!C83=\"Vet ej\",Självskattning!A83,\"\")","v":""},{"$f":"IF(Självskattning!C83=\"Vet ej\",Självskattning!B83,\"\")","v":""},{"$f":"IF(Självskattning!C83=\"Vet ej\",Självskattning!D83,\"\")","v":""}]
[null,{"$f":"IF(Självskattning!C84=\"Vet ej\",Självskattning!A84,\"\")","v":""},{"$f":"IF(Självskattning!C84=\"Vet ej\",Självskattning!B84,\"\")","v":""},{"$f":"IF(Självskattning!C84=\"Vet ej\",Självskattning!D84,\"\")","v":""}]
[null,{"$f":"IF(Självskattning!C85=\"Vet ej\",Självskattning!A85,\"\")","v":""},{"$f":"IF(Självskattning!C85=\"Vet ej\",Självskattning!B85,\"\")","v":""},{"$f":"IF(Självskattning!C85=\"Vet ej\",Självskattning!D85,\"\")","v":""}]
[null,{"$f":"IF(Självskattning!C86=\"Vet ej\",Självskattning!A86,\"\")","v":""},{"$f":"IF(Självskattning!C86=\"Vet ej\",Självskattning!B86,\"\")","v":""},{"$f":"IF(Självskattning!C86=\"Vet ej\",Självskattning!D86,\"\")","v":""}]
[null,{"$f":"IF(Självskattning!C87=\"Vet ej\",Självskattning!A87,\"\")","v":""},{"$f":"IF(Självskattning!C87=\"Vet ej\",Självskattning!B87,\"\")","v":""},{"$f":"IF(Självskattning!C87=\"Vet ej\",Självskattning!D87,\"\")","v":""}]
[null,{"$f":"IF(Självskattning!C88=\"Vet ej\",Självskattning!A88,\"\")","v":""},{"$f":"IF(Självskattning!C88=\"Vet ej\",Självskattning!B88,\"\")","v":""},{"$f":"IF(Självskattning!C88=\"Vet ej\",Självskattning!D88,\"\")","v":""}]
[null,{"$f":"IF(Självskattning!C89=\"Vet ej\",Självskattning!A89,\"\")","v":""},{"$f":"IF(Självskattning!C89=\"Vet ej\",Självskattning!B89,\"\")","v":""},{"$f":"IF(Självskattning!C89=\"Vet ej\",Självskattning!D89,\"\")","v":""}]
[null,{"$f":"IF(Självskattning!C90=\"Vet ej\",Självskattning!A90,\"\")","v":""},{"$f":"IF(Självskattning!C90=\"Vet ej\",Självskattning!B90,\"\")","v":""},{"$f":"IF(Självskattning!C90=\"Vet ej\",Självskattning!D90,\"\")","v":""}]
[null,{"$f":"IF(Självskattning!C91=\"Vet ej\",Självskattning!A91,\"\")","v":""},{"$f":"IF(Självskattning!C91=\"Vet ej\",Självskattning!B91,\"\")","v":""},{"$f":"IF(Självskattning!C91=\"Vet ej\",Självskattning!D91,\"\")","v":""}]
[null,{"$f":"IF(Självskattning!C92=\"Vet ej\",Självskattning!A92,\"\")","v":""},{"$f":"IF(Självskattning!C92=\"Vet ej\",Självskattning!B92,\"\")","v":""},{"$f":"IF(Självskattning!C92=\"Vet ej\",Självskattning!D92,\"\")","v":""}]
[null,{"$f":"IF(Självskattning!C93=\"Vet ej\",Självskattning!A93,\"\")","v":""},{"$f":"IF(Självskattning!C93=\"Vet ej\",Självskattning!B93,\"\")","v":""},{"$f":"IF(Självskattning!C93=\"Vet ej\",Självskattning!D93,\"\")","v":""}]
[null,{"$f":"IF(Självskattning!C94=\"Vet ej\",Självskattning!A94,\"\")","v":""},{"$f":"IF(Självskattning!C94=\"Vet ej\",Självskattning!B94,\"\")","v":""},{"$f":"IF(Självskattning!C94=\"Vet ej\",Självskattning!D94,\"\")","v":""}]
[null,{"$f":"IF(Självskattning!C95=\"Vet ej\",Självskattning!A95,\"\")","v":""},{"$f":"IF(Självskattning!C95=\"Vet ej\",Självskattning!B95,\"\")","v":""},{"$f":"IF(Självskattning!C95=\"Vet ej\",Självskattning!D95,\"\")","v":""}]
[null,{"$f":"IF(Självskattning!C96=\"Vet ej\",Självskattning!A96,\"\")","v":""},{"$f":"IF(Självskattning!C96=\"Vet ej\",Självskattning!B96,\"\")","v":""},{"$f":"IF(Självskattning!C96=\"Vet ej\",Självskattning!D96,\"\")","v":""}]
[null,{"$f":"IF(Självskattning!C97=\"Vet ej\",Självskattning!A97,\"\")","v":""},{"$f":"IF(Självskattning!C97=\"Vet ej\",Självskattning!B97,\"\")","v":""},{"$f":"IF(Självskattning!C97=\"Vet ej\",Självskattning!D97,\"\")","v":""}]
[null,{"$f":"IF(Självskattning!C98=\"Vet ej\",Självskattning!A98,\"\")","v":""},{"$f":"IF(Självskattning!C98=\"Vet ej\",Självskattning!B98,\"\")","v":""},{"$f":"IF(Självskattning!C98=\"Vet ej\",Självskattning!D98,\"\")","v":""}]
[null,{"$f":"IF(Självskattning!C99=\"Vet ej\",Självskattning!A99,\"\")","v":""},{"$f":"IF(Självskattning!C99=\"Vet ej\",Självskattning!B99,\"\")","v":""},{"$f":"IF(Självskattning!C99=\"Vet ej\",Självskattning!D99,\"\")","v":""}]
[null,{"$f":"IF(Självskattning!C100=\"Vet ej\",Självskattning!A100,\"\")","v":""},{"$f":"IF(Självskattning!C100=\"Vet ej\",Självskattning!B100,\"\")","v":""},{"$f":"IF(Självskattning!C100=\"Vet ej\",Självskattning!D100,\"\")","v":""}]
[null,{"$f":"IF(Självskattning!C101=\"Vet ej\",Självskattning!A101,\"\")","v":""},{"$f":"IF(Självskattning!C101=\"Vet ej\",Självskattning!B101,\"\")","v":""},{"$f":"IF(Självskattning!C101=\"Vet ej\",Självskattning!D101,\"\")","v":""}]
[null,{"$f":"IF(Självskattning!C102=\"Vet ej\",Självskattning!A102,\"\")","v":""},{"$f":"IF(Självskattning!C102=\"Vet ej\",Självskattning!B102,\"\")","v":""},{"$f":"IF(Självskattning!C102=\"Vet ej\",Självskattning!D102,\"\")","v":""}]
[null,{"$f":"IF(Självskattning!C103=\"Vet ej\",Självskattning!A103,\"\")","v":""},{"$f":"IF(Självskattning!C103=\"Vet ej\",Självskattning!B103,\"\")","v":""},{"$f":"IF(Självskattning!C103=\"Vet ej\",Självskattning!D103,\"\")","v":""}]
[null,{"$f":"IF(Självskattning!C104=\"Vet ej\",Självskattning!A104,\"\")","v":""},{"$f":"IF(Självskattning!C104=\"Vet ej\",Självskattning!B104,\"\")","v":""},{"$f":"IF(Självskattning!C104=\"Vet ej\",Självskattning!D104,\"\")","v":""}]
[null,{"$f":"IF(Självskattning!C105=\"Vet ej\",Självskattning!A105,\"\")","v":""},{"$f":"IF(Självskattning!C105=\"Vet ej\",Självskattning!B105,\"\")","v":""},{"$f":"IF(Självskattning!C105=\"Vet ej\",Självskattning!D105,\"\")","v":""}]
[null,{"$f":"IF(Självskattning!C106=\"Vet ej\",Självskattning!A106,\"\")","v":""},{"$f":"IF(Självskattning!C106=\"Vet ej\",Självskattning!B106,\"\")","v":""},{"$f":"IF(Självskattning!C106=\"Vet ej\",Självskattning!D106,\"\")","v":""}]
[null,{"$f":"IF(Självskattning!C107=\"Vet ej\",Självskattning!A107,\"\")","v":""},{"$f":"IF(Självskattning!C107=\"Vet ej\",Självskattning!B107,\"\")","v":""},{"$f":"IF(Självskattning!C107=\"Vet ej\",Självskattning!D107,\"\")","v":""}]
[null,{"$f":"IF(Självskattning!C108=\"Vet ej\",Självskattning!A108,\"\")","v":""},{"$f":"IF(Självskattning!C108=\"Vet ej\",Självskattning!B108,\"\")","v":""},{"$f":"IF(Självskattning!C108=\"Vet ej\",Självskattning!D108,\"\")","v":""}]
[null,{"$f":"IF(Självskattning!C109=\"Vet ej\",Självskattning!A109,\"\")","v":""},{"$f":"IF(Självskattning!C109=\"Vet ej\",Självskattning!B109,\"\")","v":""},{"$f":"IF(Självskattning!C109=\"Vet ej\",Självskattning!D109,\"\")","v":""}]
[null,{"$f":"IF(Självskattning!C110=\"Vet ej\",Självskattning!A110,\"\")","v":""},{"$f":"IF(Självskattning!C110=\"Vet ej\",Självskattning!B110,\"\")","v":""},{"$f":"IF(Självskattning!C110=\"Vet ej\",Självskattning!D110,\"\")","v":""}]
[null,{"$f":"IF(Självskattning!C111=\"Vet ej\",Självskattning!A111,\"\")","v":""},{"$f":"IF(Självskattning!C111=\"Vet ej\",Självskattning!B111,\"\")","v":""},{"$f":"IF(Självskattning!C111=\"Vet ej\",Självskattning!D111,\"\")","v":""}]
[null,{"$f":"IF(Självskattning!C112=\"Vet ej\",Självskattning!A112,\"\")","v":""},{"$f":"IF(Självskattning!C112=\"Vet ej\",Självskattning!B112,\"\")","v":""},{"$f":"IF(Självskattning!C112=\"Vet ej\",Självskattning!D112,\"\")","v":""}]
[null,{"$f":"IF(Självskattning!C113=\"Vet ej\",Självskattning!A113,\"\")","v":""},{"$f":"IF(Självskattning!C113=\"Vet ej\",Självskattning!B113,\"\")","v":""},{"$f":"IF(Självskattning!C113=\"Vet ej\",Självskattning!D113,\"\")","v":""}]
[null,{"$f":"IF(Självskattning!C114=\"Vet ej\",Självskattning!A114,\"\")","v":""},{"$f":"IF(Självskattning!C114=\"Vet ej\",Självskattning!B114,\"\")","v":""},{"$f":"IF(Självskattning!C114=\"Vet ej\",Självskattning!D114,\"\")","v":""}]
[null,{"$f":"IF(Självskattning!C115=\"Vet ej\",Självskattning!A115,\"\")","v":""},{"$f":"IF(Självskattning!C115=\"Vet ej\",Självskattning!B115,\"\")","v":""},{"$f":"IF(Självskattning!C115=\"Vet ej\",Självskattning!D115,\"\")","v":""}]
[null,{"$f":"IF(Självskattning!C116=\"Vet ej\",Självskattning!A116,\"\")","v":""},{"$f":"IF(Självskattning!C116=\"Vet ej\",Självskattning!B116,\"\")","v":""},{"$f":"IF(Självskattning!C116=\"Vet ej\",Självskattning!D116,\"\")","v":""}]
[null,{"$f":"IF(Självskattning!C117=\"Vet ej\",Självskattning!A117,\"\")","v":""},{"$f":"IF(Självskattning!C117=\"Vet ej\",Självskattning!B117,\"\")","v":""},{"$f":"IF(Självskattning!C117=\"Vet ej\",Självskattning!D117,\"\")","v":""}]
[null,{"$f":"IF(Självskattning!C118=\"Vet ej\",Självskattning!A118,\"\")","v":""},{"$f":"IF(Självskattning!C118=\"Vet ej\",Självskattning!B118,\"\")","v":""},{"$f":"IF(Självskattning!C118=\"Vet ej\",Självskattning!D118,\"\")","v":""}]
[null,{"$f":"IF(Självskattning!C119=\"Vet ej\",Självskattning!A119,\"\")","v":""},{"$f":"IF(Självskattning!C119=\"Vet ej\",Självskattning!B119,\"\")","v":""},{"$f":"IF(Självskattning!C119=\"Vet ej\",Självskattning!D119,\"\")","v":""}]
[null,{"$f":"IF(Självskattning!C120=\"Vet ej\",Självskattning!A120,\"\")","v":""},{"$f":"IF(Självskattning!C120=\"Vet ej\",Självskattning!B120,\"\")","v":""},{"$f":"IF(Självskattning!C120=\"Vet ej\",Självskattning!D120,\"\")","v":""}]
[null,{"$f":"IF(Självskattning!C121=\"Vet ej\",Självskattning!A121,\"\")","v":""},{"$f":"IF(Självskattning!C121=\"Vet ej\",Självskattning!B121,\"\")","v":""},{"$f":"IF(Självskattning!C121=\"Vet ej\",Självskattning!D121,\"\")","v":""}]
[null,{"$f":"IF(Självskattning!C122=\"Vet ej\",Självskattning!A122,\"\")","v":""},{"$f":"IF(Självskattning!C122=\"Vet ej\",Självskattning!B122,\"\")","v":""},{"$f":"IF(Självskattning!C122=\"Vet ej\",Självskattning!D122,\"\")","v":""}]
[null,{"$f":"IF(Självskattning!C123=\"Vet ej\",Självskattning!A123,\"\")","v":""},{"$f":"IF(Självskattning!C123=\"Vet ej\",Självskattning!B123,\"\")","v":""},{"$f":"IF(Självskattning!C123=\"Vet ej\",Självskattning!D123,\"\")","v":""}]
[null,{"$f":"IF(Självskattning!C124=\"Vet ej\",Självskattning!A124,\"\")","v":""},{"$f":"IF(Självskattning!C124=\"Vet ej\",Självskattning!B124,\"\")","v":""},{"$f":"IF(Självskattning!C124=\"Vet ej\",Självskattning!D124,\"\")","v":""}]
[null,{"$f":"IF(Självskattning!C125=\"Vet ej\",Självskattning!A125,\"\")","v":""},{"$f":"IF(Självskattning!C125=\"Vet ej\",Självskattning!B125,\"\")","v":""},{"$f":"IF(Självskattning!C125=\"Vet ej\",Självskattning!D125,\"\")","v":""}]
[null,{"$f":"IF(Självskattning!C126=\"Vet ej\",Självskattning!A126,\"\")","v":""},{"$f":"IF(Självskattning!C126=\"Vet ej\",Självskattning!B126,\"\")","v":""},{"$f":"IF(Självskattning!C126=\"Vet ej\",Självskattning!D126,\"\")","v":""}]
[null,{"$f":"IF(Självskattning!C127=\"Vet ej\",Självskattning!A127,\"\")","v":""},{"$f":"IF(Självskattning!C127=\"Vet ej\",Självskattning!B127,\"\")","v":""},{"$f":"IF(Självskattning!C127=\"Vet ej\",Självskattning!D127,\"\")","v":""}]
[null,{"$f":"IF(Självskattning!C128=\"Vet ej\",Självskattning!A128,\"\")","v":""},{"$f":"IF(Självskattning!C128=\"Vet ej\",Självskattning!B128,\"\")","v":""},{"$f":"IF(Självskattning!C128=\"Vet ej\",Självskattning!D128,\"\")","v":""}]
[null,{"$f":"IF(Självskattning!C129=\"Vet ej\",Självskattning!A129,\"\")","v":""},{"$f":"IF(Självskattning!C129=\"Vet ej\",Självskattning!B129,\"\")","v":""},{"$f":"IF(Självskattning!C129=\"Vet ej\",Självskattning!D129,\"\")","v":""}]
[null,{"$f":"IF(Självskattning!C130=\"Vet ej\",Självskattning!A130,\"\")","v":""},{"$f":"IF(Självskattning!C130=\"Vet ej\",Självskattning!B130,\"\")","v":""},{"$f":"IF(Självskattning!C130=\"Vet ej\",Självskattning!D130,\"\")","v":""}]
[null,{"$f":"IF(Självskattning!C131=\"Vet ej\",Självskattning!A131,\"\")","v":""},{"$f":"IF(Självskattning!C131=\"Vet ej\",Självskattning!B131,\"\")","v":""},{"$f":"IF(Självskattning!C131=\"Vet ej\",Självskattning!D131,\"\")","v":""}]
[null,{"$f":"IF(Självskattning!C132=\"Vet ej\",Självskattning!A132,\"\")","v":""},{"$f":"IF(Självskattning!C132=\"Vet ej\",Självskattning!B132,\"\")","v":""},{"$f":"IF(Självskattning!C132=\"Vet ej\",Självskattning!D132,\"\")","v":""}]
[null,{"$f":"IF(Självskattning!C133=\"Vet ej\",Självskattning!A133,\"\")","v":""},{"$f":"IF(Självskattning!C133=\"Vet ej\",Självskattning!B133,\"\")","v":""},{"$f":"IF(Självskattning!C133=\"Vet ej\",Självskattning!D133,\"\")","v":""}]
[null,{"$f":"IF(Självskattning!C134=\"Vet ej\",Självskattning!A134,\"\")","v":""},{"$f":"IF(Självskattning!C134=\"Vet ej\",Självskattning!B134,\"\")","v":""},{"$f":"IF(Självskattning!C134=\"Vet ej\",Självskattning!D134,\"\")","v":""}]
[null,{"$f":"IF(Självskattning!C135=\"Vet ej\",Självskattning!A135,\"\")","v":""},{"$f":"IF(Självskattning!C135=\"Vet ej\",Självskattning!B135,\"\")","v":""},{"$f":"IF(Självskattning!C135=\"Vet ej\",Självskattning!D135,\"\")","v":""}]
[null,{"$f":"IF(Självskattning!C136=\"Vet ej\",Självskattning!A136,\"\")","v":""},{"$f":"IF(Självskattning!C136=\"Vet ej\",Självskattning!B136,\"\")","v":""},{"$f":"IF(Självskattning!C136=\"Vet ej\",Självskattning!D136,\"\")","v":""}]
[null,{"$f":"IF(Självskattning!C137=\"Vet ej\",Självskattning!A137,\"\")","v":""},{"$f":"IF(Självskattning!C137=\"Vet ej\",Självskattning!B137,\"\")","v":""},{"$f":"IF(Självskattning!C137=\"Vet ej\",Självskattning!D137,\"\")","v":""}]
[null,{"$f":"IF(Självskattning!C138=\"Vet ej\",Självskattning!A138,\"\")","v":""},{"$f":"IF(Självskattning!C138=\"Vet ej\",Självskattning!B138,\"\")","v":""},{"$f":"IF(Självskattning!C138=\"Vet ej\",Självskattning!D138,\"\")","v":""}]
[null,{"$f":"IF(Självskattning!C139=\"Vet ej\",Självskattning!A139,\"\")","v":""},{"$f":"IF(Självskattning!C139=\"Vet ej\",Självskattning!B139,\"\")","v":""},{"$f":"IF(Självskattning!C139=\"Vet ej\",Självskattning!D139,\"\")","v":""}]
[null,{"$f":"IF(Självskattning!C140=\"Vet ej\",Självskattning!A140,\"\")","v":""},{"$f":"IF(Självskattning!C140=\"Vet ej\",Självskattning!B140,\"\")","v":""},{"$f":"IF(Självskattning!C140=\"Vet ej\",Självskattning!D140,\"\")","v":""}]
[null,{"$f":"IF(Självskattning!C141=\"Vet ej\",Självskattning!A141,\"\")","v":""},{"$f":"IF(Självskattning!C141=\"Vet ej\",Självskattning!B141,\"\")","v":""},{"$f":"IF(Självskattning!C141=\"Vet ej\",Självskattning!D141,\"\")","v":""}]
[null,{"$f":"IF(Självskattning!C142=\"Vet ej\",Självskattning!A142,\"\")","v":""},{"$f":"IF(Självskattning!C142=\"Vet ej\",Självskattning!B142,\"\")","v":""},{"$f":"IF(Självskattning!C142=\"Vet ej\",Självskattning!D142,\"\")","v":""}]
[null,{"$f":"IF(Självskattning!C143=\"Vet ej\",Självskattning!A143,\"\")","v":""},{"$f":"IF(Självskattning!C143=\"Vet ej\",Självskattning!B143,\"\")","v":""},{"$f":"IF(Självskattning!C143=\"Vet ej\",Självskattning!D143,\"\")","v":""}]
[null,{"$f":"IF(Självskattning!C144=\"Vet ej\",Självskattning!A144,\"\")","v":""},{"$f":"IF(Självskattning!C144=\"Vet ej\",Självskattning!B144,\"\")","v":""},{"$f":"IF(Självskattning!C144=\"Vet ej\",Självskattning!D144,\"\")","v":""}]
[null,{"$f":"IF(Självskattning!C145=\"Vet ej\",Självskattning!A145,\"\")","v":""},{"$f":"IF(Självskattning!C145=\"Vet ej\",Självskattning!B145,\"\")","v":""},{"$f":"IF(Självskattning!C145=\"Vet ej\",Självskattning!D145,\"\")","v":""}]
[null,{"$f":"IF(Självskattning!C146=\"Vet ej\",Självskattning!A146,\"\")","v":""},{"$f":"IF(Självskattning!C146=\"Vet ej\",Självskattning!B146,\"\")","v":""},{"$f":"IF(Självskattning!C146=\"Vet ej\",Självskattning!D146,\"\")","v":""}]
[null,{"$f":"IF(Självskattning!C147=\"Vet ej\",Självskattning!A147,\"\")","v":""},{"$f":"IF(Självskattning!C147=\"Vet ej\",Självskattning!B147,\"\")","v":""},{"$f":"IF(Självskattning!C147=\"Vet ej\",Självskattning!D147,\"\")","v":""}]
[null,{"$f":"IF(Självskattning!C148=\"Vet ej\",Självskattning!A148,\"\")","v":""},{"$f":"IF(Självskattning!C148=\"Vet ej\",Självskattning!B148,\"\")","v":""},{"$f":"IF(Självskattning!C148=\"Vet ej\",Självskattning!D148,\"\")","v":""}]
[null,{"$f":"IF(Självskattning!C149=\"Vet ej\",Självskattning!A149,\"\")","v":""},{"$f":"IF(Självskattning!C149=\"Vet ej\",Självskattning!B149,\"\")","v":""},{"$f":"IF(Självskattning!C149=\"Vet ej\",Självskattning!D149,\"\")","v":""}]
[null,{"$f":"IF(Självskattning!C150=\"Vet ej\",Självskattning!A150,\"\")","v":""},{"$f":"IF(Självskattning!C150=\"Vet ej\",Självskattning!B150,\"\")","v":""},{"$f":"IF(Självskattning!C150=\"Vet ej\",Självskattning!D150,\"\")","v":""}]
[null,{"$f":"IF(Självskattning!C151=\"Vet ej\",Självskattning!A151,\"\")","v":""},{"$f":"IF(Självskattning!C151=\"Vet ej\",Självskattning!B151,\"\")","v":""},{"$f":"IF(Självskattning!C151=\"Vet ej\",Självskattning!D151,\"\")","v":""}]
[null,{"$f":"IF(Självskattning!C152=\"Vet ej\",Självskattning!A152,\"\")","v":""},{"$f":"IF(Självskattning!C152=\"Vet ej\",Självskattning!B152,\"\")","v":""},{"$f":"IF(Självskattning!C152=\"Vet ej\",Självskattning!D152,\"\")","v":""}]
[null,{"$f":"IF(Självskattning!C153=\"Vet ej\",Självskattning!A153,\"\")","v":""},{"$f":"IF(Självskattning!C153=\"Vet ej\",Självskattning!B153,\"\")","v":""},{"$f":"IF(Självskattning!C153=\"Vet ej\",Självskattning!D153,\"\")","v":""}]
[null,{"$f":"IF(Självskattning!C154=\"Vet ej\",Självskattning!A154,\"\")","v":""},{"$f":"IF(Självskattning!C154=\"Vet ej\",Självskattning!B154,\"\")","v":""},{"$f":"IF(Självskattning!C154=\"Vet ej\",Självskattning!D154,\"\")","v":""}]
[null,{"$f":"IF(Självskattning!C155=\"Vet ej\",Självskattning!A155,\"\")","v":""},{"$f":"IF(Självskattning!C155=\"Vet ej\",Självskattning!B155,\"\")","v":""},{"$f":"IF(Självskattning!C155=\"Vet ej\",Självskattning!D155,\"\")","v":""}]
[null,{"$f":"IF(Självskattning!C156=\"Vet ej\",Självskattning!A156,\"\")","v":""},{"$f":"IF(Självskattning!C156=\"Vet ej\",Självskattning!B156,\"\")","v":""},{"$f":"IF(Självskattning!C156=\"Vet ej\",Självskattning!D156,\"\")","v":""}]
[null,{"$f":"IF(Självskattning!C157=\"Vet ej\",Självskattning!A157,\"\")","v":""},{"$f":"IF(Självskattning!C157=\"Vet ej\",Självskattning!B157,\"\")","v":""},{"$f":"IF(Självskattning!C157=\"Vet ej\",Självskattning!D157,\"\")","v":""}]
[null,{"$f":"IF(Självskattning!C158=\"Vet ej\",Självskattning!A158,\"\")","v":""},{"$f":"IF(Självskattning!C158=\"Vet ej\",Självskattning!B158,\"\")","v":""},{"$f":"IF(Självskattning!C158=\"Vet ej\",Självskattning!D158,\"\")","v":""}]
[null,{"$f":"IF(Självskattning!C159=\"Vet ej\",Självskattning!A159,\"\")","v":""},{"$f":"IF(Självskattning!C159=\"Vet ej\",Självskattning!B159,\"\")","v":""},{"$f":"IF(Självskattning!C159=\"Vet ej\",Självskattning!D159,\"\")","v":""}]
[null,{"$f":"IF(Självskattning!C160=\"Vet ej\",Självskattning!A160,\"\")","v":""},{"$f":"IF(Självskattning!C160=\"Vet ej\",Självskattning!B160,\"\")","v":""},{"$f":"IF(Självskattning!C160=\"Vet ej\",Självskattning!D160,\"\")","v":""}]
[null,{"$f":"IF(Självskattning!C161=\"Vet ej\",Självskattning!A161,\"\")","v":""},{"$f":"IF(Självskattning!C161=\"Vet ej\",Självskattning!B161,\"\")","v":""},{"$f":"IF(Självskattning!C161=\"Vet ej\",Självskattning!D161,\"\")","v":""}]
[null,{"$f":"IF(Självskattning!C162=\"Vet ej\",Självskattning!A162,\"\")","v":""},{"$f":"IF(Självskattning!C162=\"Vet ej\",Självskattning!B162,\"\")","v":""},{"$f":"IF(Självskattning!C162=\"Vet ej\",Självskattning!D162,\"\")","v":""}]
[null,{"$f":"IF(Självskattning!C163=\"Vet ej\",Självskattning!A163,\"\")","v":""},{"$f":"IF(Självskattning!C163=\"Vet ej\",Självskattning!B163,\"\")","v":""},{"$f":"IF(Självskattning!C163=\"Vet ej\",Självskattning!D163,\"\")","v":""}]
[null,{"$f":"IF(Självskattning!C164=\"Vet ej\",Självskattning!A164,\"\")","v":""},{"$f":"IF(Självskattning!C164=\"Vet ej\",Självskattning!B164,\"\")","v":""},{"$f":"IF(Självskattning!C164=\"Vet ej\",Självskattning!D164,\"\")","v":""}]
[null,{"$f":"IF(Självskattning!C165=\"Vet ej\",Självskattning!A165,\"\")","v":""},{"$f":"IF(Självskattning!C165=\"Vet ej\",Självskattning!B165,\"\")","v":""},{"$f":"IF(Självskattning!C165=\"Vet ej\",Självskattning!D165,\"\")","v":""}]
[null,{"$f":"IF(Självskattning!C166=\"Vet ej\",Självskattning!A166,\"\")","v":""},{"$f":"IF(Självskattning!C166=\"Vet ej\",Självskattning!B166,\"\")","v":""},{"$f":"IF(Självskattning!C166=\"Vet ej\",Självskattning!D166,\"\")","v":""}]
[null,{"$f":"IF(Självskattning!C167=\"Vet ej\",Självskattning!A167,\"\")","v":""},{"$f":"IF(Självskattning!C167=\"Vet ej\",Självskattning!B167,\"\")","v":""},{"$f":"IF(Självskattning!C167=\"Vet ej\",Självskattning!D167,\"\")","v":""}]
[null,{"$f":"IF(Självskattning!C168=\"Vet ej\",Självskattning!A168,\"\")","v":""},{"$f":"IF(Självskattning!C168=\"Vet ej\",Självskattning!B168,\"\")","v":""},{"$f":"IF(Självskattning!C168=\"Vet ej\",Självskattning!D168,\"\")","v":""}]
[null,{"$f":"IF(Självskattning!C169=\"Vet ej\",Självskattning!A169,\"\")","v":""},{"$f":"IF(Självskattning!C169=\"Vet ej\",Självskattning!B169,\"\")","v":""},{"$f":"IF(Självskattning!C169=\"Vet ej\",Självskattning!D169,\"\")","v":""}]
[null,{"$f":"IF(Självskattning!C170=\"Vet ej\",Självskattning!A170,\"\")","v":""},{"$f":"IF(Självskattning!C170=\"Vet ej\",Självskattning!B170,\"\")","v":""},{"$f":"IF(Självskattning!C170=\"Vet ej\",Självskattning!D170,\"\")","v":""}]
[null,{"$f":"IF(Självskattning!C171=\"Vet ej\",Självskattning!A171,\"\")","v":""},{"$f":"IF(Självskattning!C171=\"Vet ej\",Självskattning!B171,\"\")","v":""},{"$f":"IF(Självskattning!C171=\"Vet ej\",Självskattning!D171,\"\")","v":""}]
[null,{"$f":"IF(Självskattning!C172=\"Vet ej\",Självskattning!A172,\"\")","v":""},{"$f":"IF(Självskattning!C172=\"Vet ej\",Självskattning!B172,\"\")","v":""},{"$f":"IF(Självskattning!C172=\"Vet ej\",Självskattning!D172,\"\")","v":""}]
[null,{"$f":"IF(Självskattning!C173=\"Vet ej\",Självskattning!A173,\"\")","v":""},{"$f":"IF(Självskattning!C173=\"Vet ej\",Självskattning!B173,\"\")","v":""},{"$f":"IF(Självskattning!C173=\"Vet ej\",Självskattning!D173,\"\")","v":""}]
[null,{"$f":"IF(Självskattning!C174=\"Vet ej\",Självskattning!A174,\"\")","v":""},{"$f":"IF(Självskattning!C174=\"Vet ej\",Självskattning!B174,\"\")","v":""},{"$f":"IF(Självskattning!C174=\"Vet ej\",Självskattning!D174,\"\")","v":""}]
[null,{"$f":"IF(Självskattning!C175=\"Vet ej\",Självskattning!A175,\"\")","v":""},{"$f":"IF(Självskattning!C175=\"Vet ej\",Självskattning!B175,\"\")","v":""},{"$f":"IF(Självskattning!C175=\"Vet ej\",Självskattning!D175,\"\")","v":""}]
[null,{"$f":"IF(Självskattning!C176=\"Vet ej\",Självskattning!A176,\"\")","v":""},{"$f":"IF(Självskattning!C176=\"Vet ej\",Självskattning!B176,\"\")","v":""},{"$f":"IF(Självskattning!C176=\"Vet ej\",Självskattning!D176,\"\")","v":""}]
[null,{"$f":"IF(Självskattning!C177=\"Vet ej\",Självskattning!A177,\"\")","v":""},{"$f":"IF(Självskattning!C177=\"Vet ej\",Självskattning!B177,\"\")","v":""},{"$f":"IF(Självskattning!C177=\"Vet ej\",Självskattning!D177,\"\")","v":""}]
[null,{"$f":"IF(Självskattning!C178=\"Vet ej\",Självskattning!A178,\"\")","v":""},{"$f":"IF(Självskattning!C178=\"Vet ej\",Självskattning!B178,\"\")","v":""},{"$f":"IF(Självskattning!C178=\"Vet ej\",Självskattning!D178,\"\")","v":""}]
[null,{"$f":"IF(Självskattning!C179=\"Vet ej\",Självskattning!A179,\"\")","v":""},{"$f":"IF(Självskattning!C179=\"Vet ej\",Självskattning!B179,\"\")","v":""},{"$f":"IF(Självskattning!C179=\"Vet ej\",Självskattning!D179,\"\")","v":""}]
[null,{"$f":"IF(Självskattning!C180=\"Vet ej\",Självskattning!A180,\"\")","v":""},{"$f":"IF(Självskattning!C180=\"Vet ej\",Självskattning!B180,\"\")","v":""},{"$f":"IF(Självskattning!C180=\"Vet ej\",Självskattning!D180,\"\")","v":""}]
[null,{"$f":"IF(Självskattning!C181=\"Vet ej\",Självskattning!A181,\"\")","v":""},{"$f":"IF(Självskattning!C181=\"Vet ej\",Självskattning!B181,\"\")","v":""},{"$f":"IF(Självskattning!C181=\"Vet ej\",Självskattning!D181,\"\")","v":""}]
[null,{"$f":"IF(Självskattning!C182=\"Vet ej\",Självskattning!A182,\"\")","v":""},{"$f":"IF(Självskattning!C182=\"Vet ej\",Självskattning!B182,\"\")","v":""},{"$f":"IF(Självskattning!C182=\"Vet ej\",Självskattning!D182,\"\")","v":""}]
[null,{"$f":"IF(Självskattning!C183=\"Vet ej\",Självskattning!A183,\"\")","v":""},{"$f":"IF(Självskattning!C183=\"Vet ej\",Självskattning!B183,\"\")","v":""},{"$f":"IF(Självskattning!C183=\"Vet ej\",Självskattning!D183,\"\")","v":""}]
[null,{"$f":"IF(Självskattning!C184=\"Vet ej\",Självskattning!A184,\"\")","v":""},{"$f":"IF(Självskattning!C184=\"Vet ej\",Självskattning!B184,\"\")","v":""},{"$f":"IF(Självskattning!C184=\"Vet ej\",Självskattning!D184,\"\")","v":""}]
[null,{"$f":"IF(Självskattning!C185=\"Vet ej\",Självskattning!A185,\"\")","v":""},{"$f":"IF(Självskattning!C185=\"Vet ej\",Självskattning!B185,\"\")","v":""},{"$f":"IF(Självskattning!C185=\"Vet ej\",Självskattning!D185,\"\")","v":""}]
[null,{"$f":"IF(Självskattning!C186=\"Vet ej\",Självskattning!A186,\"\")","v":""},{"$f":"IF(Självskattning!C186=\"Vet ej\",Självskattning!B186,\"\")","v":""},{"$f":"IF(Självskattning!C186=\"Vet ej\",Självskattning!D186,\"\")","v":""}]
[null,{"$f":"IF(Självskattning!C187=\"Vet ej\",Självskattning!A187,\"\")","v":""},{"$f":"IF(Självskattning!C187=\"Vet ej\",Självskattning!B187,\"\")","v":""},{"$f":"IF(Självskattning!C187=\"Vet ej\",Självskattning!D187,\"\")","v":""}]
[null,{"$f":"IF(Självskattning!C188=\"Vet ej\",Självskattning!A188,\"\")","v":""},{"$f":"IF(Självskattning!C188=\"Vet ej\",Självskattning!B188,\"\")","v":""},{"$f":"IF(Självskattning!C188=\"Vet ej\",Självskattning!D188,\"\")","v":""}]
[null,{"$f":"IF(Självskattning!C189=\"Vet ej\",Självskattning!A189,\"\")","v":""},{"$f":"IF(Självskattning!C189=\"Vet ej\",Självskattning!B189,\"\")","v":""},{"$f":"IF(Självskattning!C189=\"Vet ej\",Självskattning!D189,\"\")","v":""}]
[null,{"$f":"IF(Självskattning!C190=\"Vet ej\",Självskattning!A190,\"\")","v":""},{"$f":"IF(Självskattning!C190=\"Vet ej\",Självskattning!B190,\"\")","v":""},{"$f":"IF(Självskattning!C190=\"Vet ej\",Självskattning!D190,\"\")","v":""}]
[null,{"$f":"IF(Självskattning!C191=\"Vet ej\",Självskattning!A191,\"\")","v":""},{"$f":"IF(Självskattning!C191=\"Vet ej\",Självskattning!B191,\"\")","v":""},{"$f":"IF(Självskattning!C191=\"Vet ej\",Självskattning!D191,\"\")","v":""}]
[null,{"$f":"IF(Självskattning!C192=\"Vet ej\",Självskattning!A192,\"\")","v":""},{"$f":"IF(Självskattning!C192=\"Vet ej\",Självskattning!B192,\"\")","v":""},{"$f":"IF(Självskattning!C192=\"Vet ej\",Självskattning!D192,\"\")","v":""}]
[null,{"$f":"IF(Självskattning!C193=\"Vet ej\",Självskattning!A193,\"\")","v":""},{"$f":"IF(Självskattning!C193=\"Vet ej\",Självskattning!B193,\"\")","v":""},{"$f":"IF(Självskattning!C193=\"Vet ej\",Självskattning!D193,\"\")","v":""}]
[null,{"$f":"IF(Självskattning!C194=\"Vet ej\",Självskattning!A194,\"\")","v":""},{"$f":"IF(Självskattning!C194=\"Vet ej\",Självskattning!B194,\"\")","v":""},{"$f":"IF(Självskattning!C194=\"Vet ej\",Självskattning!D194,\"\")","v":""}]
[null,{"$f":"IF(Självskattning!C195=\"Vet ej\",Självskattning!A195,\"\")","v":""},{"$f":"IF(Självskattning!C195=\"Vet ej\",Självskattning!B195,\"\")","v":""},{"$f":"IF(Självskattning!C195=\"Vet ej\",Självskattning!D195,\"\")","v":""}]
[null,{"$f":"IF(Självskattning!C196=\"Vet ej\",Självskattning!A196,\"\")","v":""},{"$f":"IF(Självskattning!C196=\"Vet ej\",Självskattning!B196,\"\")","v":""},{"$f":"IF(Självskattning!C196=\"Vet ej\",Självskattning!D196,\"\")","v":""}]
[null,{"$f":"IF(Självskattning!C197=\"Vet ej\",Självskattning!A197,\"\")","v":""},{"$f":"IF(Självskattning!C197=\"Vet ej\",Självskattning!B197,\"\")","v":""},{"$f":"IF(Självskattning!C197=\"Vet ej\",Självskattning!D197,\"\")","v":""}]
[null,{"$f":"IF(Självskattning!C198=\"Vet ej\",Självskattning!A198,\"\")","v":""},{"$f":"IF(Självskattning!C198=\"Vet ej\",Självskattning!B198,\"\")","v":""},{"$f":"IF(Självskattning!C198=\"Vet ej\",Självskattning!D198,\"\")","v":""}]
[null,{"$f":"IF(Självskattning!C199=\"Vet ej\",Självskattning!A199,\"\")","v":""},{"$f":"IF(Självskattning!C199=\"Vet ej\",Självskattning!B199,\"\")","v":""},{"$f":"IF(Självskattning!C199=\"Vet ej\",Självskattning!D199,\"\")","v":""}]
[null,{"$f":"IF(Självskattning!C200=\"Vet ej\",Självskattning!A200,\"\")","v":""},{"$f":"IF(Självskattning!C200=\"Vet ej\",Självskattning!B200,\"\")","v":""},{"$f":"IF(Självskattning!C200=\"Vet ej\",Självskattning!D200,\"\")","v":""}]
[null,{"$f":"IF(Självskattning!C201=\"Vet ej\",Självskattning!A201,\"\")","v":""},{"$f":"IF(Självskattning!C201=\"Vet ej\",Självskattning!B201,\"\")","v":""},{"$f":"IF(Självskattning!C201=\"Vet ej\",Självskattning!D201,\"\")","v":""}]
[null,{"$f":"IF(Självskattning!C202=\"Vet ej\",Självskattning!A202,\"\")","v":""},{"$f":"IF(Självskattning!C202=\"Vet ej\",Självskattning!B202,\"\")","v":""},{"$f":"IF(Självskattning!C202=\"Vet ej\",Självskattning!D202,\"\")","v":""}]
[null,{"$f":"IF(Självskattning!C203=\"Vet ej\",Självskattning!A203,\"\")","v":""},{"$f":"IF(Självskattning!C203=\"Vet ej\",Självskattning!B203,\"\")","v":""},{"$f":"IF(Självskattning!C203=\"Vet ej\",Självskattning!D203,\"\")","v":""}]
[null,{"$f":"IF(Självskattning!C204=\"Vet ej\",Självskattning!A204,\"\")","v":""},{"$f":"IF(Självskattning!C204=\"Vet ej\",Självskattning!B204,\"\")","v":""},{"$f":"IF(Självskattning!C204=\"Vet ej\",Självskattning!D204,\"\")","v":""}]
[null,{"$f":"IF(Självskattning!C205=\"Vet ej\",Självskattning!A205,\"\")","v":""},{"$f":"IF(Självskattning!C205=\"Vet ej\",Självskattning!B205,\"\")","v":""},{"$f":"IF(Självskattning!C205=\"Vet ej\",Självskattning!D205,\"\")","v":""}]
[null,{"$f":"IF(Självskattning!C206=\"Vet ej\",Självskattning!A206,\"\")","v":""},{"$f":"IF(Självskattning!C206=\"Vet ej\",Självskattning!B206,\"\")","v":""},{"$f":"IF(Självskattning!C206=\"Vet ej\",Självskattning!D206,\"\")","v":""}]
[null,{"$f":"IF(Självskattning!C207=\"Vet ej\",Självskattning!A207,\"\")","v":""},{"$f":"IF(Självskattning!C207=\"Vet ej\",Självskattning!B207,\"\")","v":""},{"$f":"IF(Självskattning!C207=\"Vet ej\",Självskattning!D207,\"\")","v":""}]
[null,{"$f":"IF(Självskattning!C208=\"Vet ej\",Självskattning!A208,\"\")","v":""},{"$f":"IF(Självskattning!C208=\"Vet ej\",Självskattning!B208,\"\")","v":""},{"$f":"IF(Självskattning!C208=\"Vet ej\",Självskattning!D208,\"\")","v":""}]
[null,{"$f":"IF(Självskattning!C209=\"Vet ej\",Självskattning!A209,\"\")","v":""},{"$f":"IF(Självskattning!C209=\"Vet ej\",Självskattning!B209,\"\")","v":""},{"$f":"IF(Självskattning!C209=\"Vet ej\",Självskattning!D209,\"\")","v":""}]
[null,{"$f":"IF(Självskattning!C210=\"Vet ej\",Självskattning!A210,\"\")","v":""},{"$f":"IF(Självskattning!C210=\"Vet ej\",Självskattning!B210,\"\")","v":""},{"$f":"IF(Självskattning!C210=\"Vet ej\",Självskattning!D210,\"\")","v":""}]
[null,{"$f":"IF(Självskattning!C211=\"Vet ej\",Självskattning!A211,\"\")","v":""},{"$f":"IF(Självskattning!C211=\"Vet ej\",Självskattning!B211,\"\")","v":""},{"$f":"IF(Självskattning!C211=\"Vet ej\",Självskattning!D211,\"\")","v":""}]
[null,{"$f":"IF(Självskattning!C212=\"Vet ej\",Självskattning!A212,\"\")","v":""},{"$f":"IF(Självskattning!C212=\"Vet ej\",Självskattning!B212,\"\")","v":""},{"$f":"IF(Självskattning!C212=\"Vet ej\",Självskattning!D212,\"\")","v":""}]
[null,{"$f":"IF(Självskattning!C213=\"Vet ej\",Självskattning!A213,\"\")","v":""},{"$f":"IF(Självskattning!C213=\"Vet ej\",Självskattning!B213,\"\")","v":""},{"$f":"IF(Självskattning!C213=\"Vet ej\",Självskattning!D213,\"\")","v":""}]
[null,{"$f":"IF(Självskattning!C214=\"Vet ej\",Självskattning!A214,\"\")","v":""},{"$f":"IF(Självskattning!C214=\"Vet ej\",Självskattning!B214,\"\")","v":""},{"$f":"IF(Självskattning!C214=\"Vet ej\",Självskattning!D214,\"\")","v":""}]
[null,{"$f":"IF(Självskattning!C215=\"Vet ej\",Självskattning!A215,\"\")","v":""},{"$f":"IF(Självskattning!C215=\"Vet ej\",Självskattning!B215,\"\")","v":""},{"$f":"IF(Självskattning!C215=\"Vet ej\",Självskattning!D215,\"\")","v":""}]
[null,{"$f":"IF(Självskattning!C216=\"Vet ej\",Självskattning!A216,\"\")","v":""},{"$f":"IF(Självskattning!C216=\"Vet ej\",Självskattning!B216,\"\")","v":""},{"$f":"IF(Självskattning!C216=\"Vet ej\",Självskattning!D216,\"\")","v":""}]
[null,{"$f":"IF(Självskattning!C217=\"Vet ej\",Självskattning!A217,\"\")","v":""},{"$f":"IF(Självskattning!C217=\"Vet ej\",Självskattning!B217,\"\")","v":""},{"$f":"IF(Självskattning!C217=\"Vet ej\",Självskattning!D217,\"\")","v":""}]
[null,{"$f":"IF(Självskattning!C218=\"Vet ej\",Självskattning!A218,\"\")","v":""},{"$f":"IF(Självskattning!C218=\"Vet ej\",Självskattning!B218,\"\")","v":""},{"$f":"IF(Självskattning!C218=\"Vet ej\",Självskattning!D218,\"\")","v":""}]
[null,{"$f":"IF(Självskattning!C219=\"Vet ej\",Självskattning!A219,\"\")","v":""},{"$f":"IF(Självskattning!C219=\"Vet ej\",Självskattning!B219,\"\")","v":""},{"$f":"IF(Självskattning!C219=\"Vet ej\",Självskattning!D219,\"\")","v":""}]
[null,{"$f":"IF(Självskattning!C220=\"Vet ej\",Självskattning!A220,\"\")","v":""},{"$f":"IF(Självskattning!C220=\"Vet ej\",Självskattning!B220,\"\")","v":""},{"$f":"IF(Självskattning!C220=\"Vet ej\",Självskattning!D220,\"\")","v":""}]
[null,{"$f":"IF(Självskattning!C221=\"Vet ej\",Självskattning!A221,\"\")","v":""},{"$f":"IF(Självskattning!C221=\"Vet ej\",Självskattning!B221,\"\")","v":""},{"$f":"IF(Självskattning!C221=\"Vet ej\",Självskattning!D221,\"\")","v":""}]
[null,{"$f":"IF(Självskattning!C222=\"Vet ej\",Självskattning!A222,\"\")","v":""},{"$f":"IF(Självskattning!C222=\"Vet ej\",Självskattning!B222,\"\")","v":""},{"$f":"IF(Självskattning!C222=\"Vet ej\",Självskattning!D222,\"\")","v":""}]
[null,{"$f":"IF(Självskattning!C223=\"Vet ej\",Självskattning!A223,\"\")","v":""},{"$f":"IF(Självskattning!C223=\"Vet ej\",Självskattning!B223,\"\")","v":""},{"$f":"IF(Självskattning!C223=\"Vet ej\",Självskattning!D223,\"\")","v":""}]
[null,{"$f":"IF(Självskattning!C224=\"Vet ej\",Självskattning!A224,\"\")","v":""},{"$f":"IF(Självskattning!C224=\"Vet ej\",Självskattning!B224,\"\")","v":""},{"$f":"IF(Självskattning!C224=\"Vet ej\",Självskattning!D224,\"\")","v":""}]
[null,{"$f":"IF(Självskattning!C225=\"Vet ej\",Självskattning!A225,\"\")","v":""},{"$f":"IF(Självskattning!C225=\"Vet ej\",Självskattning!B225,\"\")","v":""},{"$f":"IF(Självskattning!C225=\"Vet ej\",Självskattning!D225,\"\")","v":""}]
[null,{"$f":"IF(Självskattning!C226=\"Vet ej\",Självskattning!A226,\"\")","v":""},{"$f":"IF(Självskattning!C226=\"Vet ej\",Självskattning!B226,\"\")","v":""},{"$f":"IF(Självskattning!C226=\"Vet ej\",Självskattning!D226,\"\")","v":""}]
[null,{"$f":"IF(Självskattning!C227=\"Vet ej\",Självskattning!A227,\"\")","v":""},{"$f":"IF(Självskattning!C227=\"Vet ej\",Självskattning!B227,\"\")","v":""},{"$f":"IF(Självskattning!C227=\"Vet ej\",Självskattning!D227,\"\")","v":""}]
[null,{"$f":"IF(Självskattning!C228=\"Vet ej\",Självskattning!A228,\"\")","v":""},{"$f":"IF(Självskattning!C228=\"Vet ej\",Självskattning!B228,\"\")","v":""},{"$f":"IF(Självskattning!C228=\"Vet ej\",Självskattning!D228,\"\")","v":""}]
[null,{"$f":"IF(Självskattning!C229=\"Vet ej\",Självskattning!A229,\"\")","v":""},{"$f":"IF(Självskattning!C229=\"Vet ej\",Självskattning!B229,\"\")","v":""},{"$f":"IF(Självskattning!C229=\"Vet ej\",Självskattning!D229,\"\")","v":""}]
[null,{"$f":"IF(Självskattning!C230=\"Vet ej\",Självskattning!A230,\"\")","v":""},{"$f":"IF(Självskattning!C230=\"Vet ej\",Självskattning!B230,\"\")","v":""},{"$f":"IF(Självskattning!C230=\"Vet ej\",Självskattning!D230,\"\")","v":""}]
[null,{"$f":"IF(Självskattning!C231=\"Vet ej\",Självskattning!A231,\"\")","v":""},{"$f":"IF(Självskattning!C231=\"Vet ej\",Självskattning!B231,\"\")","v":""},{"$f":"IF(Självskattning!C231=\"Vet ej\",Självskattning!D231,\"\")","v":""}]
[null,{"$f":"IF(Självskattning!C232=\"Vet ej\",Självskattning!A232,\"\")","v":""},{"$f":"IF(Självskattning!C232=\"Vet ej\",Självskattning!B232,\"\")","v":""},{"$f":"IF(Självskattning!C232=\"Vet ej\",Självskattning!D232,\"\")","v":""}]
[null,{"$f":"IF(Självskattning!C233=\"Vet ej\",Självskattning!A233,\"\")","v":""},{"$f":"IF(Självskattning!C233=\"Vet ej\",Självskattning!B233,\"\")","v":""},{"$f":"IF(Självskattning!C233=\"Vet ej\",Självskattning!D233,\"\")","v":""}]
[null,{"$f":"IF(Självskattning!C234=\"Vet ej\",Självskattning!A234,\"\")","v":""},{"$f":"IF(Självskattning!C234=\"Vet ej\",Självskattning!B234,\"\")","v":""},{"$f":"IF(Självskattning!C234=\"Vet ej\",Självskattning!D234,\"\")","v":""}]
[null,{"$f":"IF(Självskattning!C235=\"Vet ej\",Självskattning!A235,\"\")","v":""},{"$f":"IF(Självskattning!C235=\"Vet ej\",Självskattning!B235,\"\")","v":""},{"$f":"IF(Självskattning!C235=\"Vet ej\",Självskattning!D235,\"\")","v":""}]
[null,{"$f":"IF(Självskattning!C236=\"Vet ej\",Självskattning!A236,\"\")","v":""},{"$f":"IF(Självskattning!C236=\"Vet ej\",Självskattning!B236,\"\")","v":""},{"$f":"IF(Självskattning!C236=\"Vet ej\",Självskattning!D236,\"\")","v":""}]
[null,{"$f":"IF(Självskattning!C237=\"Vet ej\",Självskattning!A237,\"\")","v":""},{"$f":"IF(Självskattning!C237=\"Vet ej\",Självskattning!B237,\"\")","v":""},{"$f":"IF(Självskattning!C237=\"Vet ej\",Självskattning!D237,\"\")","v":""}]
[null,{"$f":"IF(Självskattning!C238=\"Vet ej\",Självskattning!A238,\"\")","v":""},{"$f":"IF(Självskattning!C238=\"Vet ej\",Självskattning!B238,\"\")","v":""},{"$f":"IF(Självskattning!C238=\"Vet ej\",Självskattning!D238,\"\")","v":""}]
[null,{"$f":"IF(Självskattning!C239=\"Vet ej\",Självskattning!A239,\"\")","v":""},{"$f":"IF(Självskattning!C239=\"Vet ej\",Självskattning!B239,\"\")","v":""},{"$f":"IF(Självskattning!C239=\"Vet ej\",Självskattning!D239,\"\")","v":""}]
[null,{"$f":"IF(Självskattning!C240=\"Vet ej\",Självskattning!A240,\"\")","v":""},{"$f":"IF(Självskattning!C240=\"Vet ej\",Självskattning!B240,\"\")","v":""},{"$f":"IF(Självskattning!C240=\"Vet ej\",Självskattning!D240,\"\")","v":""}]
[null,{"$f":"IF(Självskattning!C241=\"Vet ej\",Självskattning!A241,\"\")","v":""},{"$f":"IF(Självskattning!C241=\"Vet ej\",Självskattning!B241,\"\")","v":""},{"$f":"IF(Självskattning!C241=\"Vet ej\",Självskattning!D241,\"\")","v":""}]
[null,{"$f":"IF(Självskattning!C242=\"Vet ej\",Självskattning!A242,\"\")","v":""},{"$f":"IF(Självskattning!C242=\"Vet ej\",Självskattning!B242,\"\")","v":""},{"$f":"IF(Självskattning!C242=\"Vet ej\",Självskattning!D242,\"\")","v":""}]
[null,{"$f":"IF(Självskattning!C243=\"Vet ej\",Självskattning!A243,\"\")","v":""},{"$f":"IF(Självskattning!C243=\"Vet ej\",Självskattning!B243,\"\")","v":""},{"$f":"IF(Självskattning!C243=\"Vet ej\",Självskattning!D243,\"\")","v":""}]
[null,{"$f":"IF(Självskattning!C244=\"Vet ej\",Självskattning!A244,\"\")","v":""},{"$f":"IF(Självskattning!C244=\"Vet ej\",Självskattning!B244,\"\")","v":""},{"$f":"IF(Självskattning!C244=\"Vet ej\",Självskattning!D244,\"\")","v":""}]
[null,{"$f":"IF(Självskattning!C245=\"Vet ej\",Självskattning!A245,\"\")","v":""},{"$f":"IF(Självskattning!C245=\"Vet ej\",Självskattning!B245,\"\")","v":""},{"$f":"IF(Självskattning!C245=\"Vet ej\",Självskattning!D245,\"\")","v":""}]
[null,{"$f":"IF(Självskattning!C246=\"Vet ej\",Självskattning!A246,\"\")","v":""},{"$f":"IF(Självskattning!C246=\"Vet ej\",Självskattning!B246,\"\")","v":""},{"$f":"IF(Självskattning!C246=\"Vet ej\",Självskattning!D246,\"\")","v":""}]
[null,{"$f":"IF(Självskattning!C247=\"Vet ej\",Självskattning!A247,\"\")","v":""},{"$f":"IF(Självskattning!C247=\"Vet ej\",Självskattning!B247,\"\")","v":""},{"$f":"IF(Självskattning!C247=\"Vet ej\",Självskattning!D247,\"\")","v":""}]
[null,{"$f":"IF(Självskattning!C248=\"Vet ej\",Självskattning!A248,\"\")","v":""},{"$f":"IF(Självskattning!C248=\"Vet ej\",Självskattning!B248,\"\")","v":""},{"$f":"IF(Självskattning!C248=\"Vet ej\",Självskattning!D248,\"\")","v":""}]
[null,{"$f":"IF(Självskattning!C249=\"Vet ej\",Självskattning!A249,\"\")","v":""},{"$f":"IF(Självskattning!C249=\"Vet ej\",Självskattning!B249,\"\")","v":""},{"$f":"IF(Självskattning!C249=\"Vet ej\",Självskattning!D249,\"\")","v":""}]
[null,{"$f":"IF(Självskattning!C250=\"Vet ej\",Självskattning!A250,\"\")","v":""},{"$f":"IF(Självskattning!C250=\"Vet ej\",Självskattning!B250,\"\")","v":""},{"$f":"IF(Självskattning!C250=\"Vet ej\",Självskattning!D250,\"\")","v":""}]
[null,{"$f":"IF(Självskattning!C251=\"Vet ej\",Självskattning!A251,\"\")","v":""},{"$f":"IF(Självskattning!C251=\"Vet ej\",Självskattning!B251,\"\")","v":""},{"$f":"IF(Självskattning!C251=\"Vet ej\",Självskattning!D251,\"\")","v":""}]
[null,{"$f":"IF(Självskattning!C252=\"Vet ej\",Självskattning!A252,\"\")","v":""},{"$f":"IF(Självskattning!C252=\"Vet ej\",Självskattning!B252,\"\")","v":""},{"$f":"IF(Självskattning!C252=\"Vet ej\",Självskattning!D252,\"\")","v":""}]
[null,{"$f":"IF(Självskattning!C253=\"Vet ej\",Självskattning!A253,\"\")","v":""},{"$f":"IF(Självskattning!C253=\"Vet ej\",Självskattning!B253,\"\")","v":""},{"$f":"IF(Självskattning!C253=\"Vet ej\",Självskattning!D253,\"\")","v":""}]
[null,{"$f":"IF(Självskattning!C254=\"Vet ej\",Självskattning!A254,\"\")","v":""},{"$f":"IF(Självskattning!C254=\"Vet ej\",Självskattning!B254,\"\")","v":""},{"$f":"IF(Självskattning!C254=\"Vet ej\",Självskattning!D254,\"\")","v":""}]
[null,{"$f":"IF(Självskattning!C255=\"Vet ej\",Självskattning!A255,\"\")","v":""},{"$f":"IF(Självskattning!C255=\"Vet ej\",Självskattning!B255,\"\")","v":""},{"$f":"IF(Självskattning!C255=\"Vet ej\",Självskattning!D255,\"\")","v":""}]
[null,{"$f":"IF(Självskattning!C256=\"Vet ej\",Självskattning!A256,\"\")","v":""},{"$f":"IF(Självskattning!C256=\"Vet ej\",Självskattning!B256,\"\")","v":""},{"$f":"IF(Självskattning!C256=\"Vet ej\",Självskattning!D256,\"\")","v":""}]
[null,{"$f":"IF(Självskattning!C257=\"Vet ej\",Självskattning!A257,\"\")","v":""},{"$f":"IF(Självskattning!C257=\"Vet ej\",Självskattning!B257,\"\")","v":""},{"$f":"IF(Självskattning!C257=\"Vet ej\",Självskattning!D257,\"\")","v":""}]
[null,{"$f":"IF(Självskattning!C258=\"Vet ej\",Självskattning!A258,\"\")","v":""},{"$f":"IF(Självskattning!C258=\"Vet ej\",Självskattning!B258,\"\")","v":""},{"$f":"IF(Självskattning!C258=\"Vet ej\",Självskattning!D258,\"\")","v":""}]
[null,{"$f":"IF(Självskattning!C259=\"Vet ej\",Självskattning!A259,\"\")","v":""},{"$f":"IF(Självskattning!C259=\"Vet ej\",Självskattning!B259,\"\")","v":""},{"$f":"IF(Självskattning!C259=\"Vet ej\",Självskattning!D259,\"\")","v":""}]
[null,{"$f":"IF(Självskattning!C260=\"Vet ej\",Självskattning!A260,\"\")","v":""},{"$f":"IF(Självskattning!C260=\"Vet ej\",Självskattning!B260,\"\")","v":""},{"$f":"IF(Självskattning!C260=\"Vet ej\",Självskattning!D260,\"\")","v":""}]
[null,{"$f":"IF(Självskattning!C261=\"Vet ej\",Självskattning!A261,\"\")","v":""},{"$f":"IF(Självskattning!C261=\"Vet ej\",Självskattning!B261,\"\")","v":""},{"$f":"IF(Självskattning!C261=\"Vet ej\",Självskattning!D261,\"\")","v":""}]
[null,{"$f":"IF(Självskattning!C262=\"Vet ej\",Självskattning!A262,\"\")","v":""},{"$f":"IF(Självskattning!C262=\"Vet ej\",Självskattning!B262,\"\")","v":""},{"$f":"IF(Självskattning!C262=\"Vet ej\",Självskattning!D262,\"\")","v":""}]
[null,{"$f":"IF(Självskattning!C263=\"Vet ej\",Självskattning!A263,\"\")","v":""},{"$f":"IF(Självskattning!C263=\"Vet ej\",Självskattning!B263,\"\")","v":""},{"$f":"IF(Självskattning!C263=\"Vet ej\",Självskattning!D263,\"\")","v":""}]
[null,{"$f":"IF(Självskattning!C264=\"Vet ej\",Självskattning!A264,\"\")","v":""},{"$f":"IF(Självskattning!C264=\"Vet ej\",Självskattning!B264,\"\")","v":""},{"$f":"IF(Självskattning!C264=\"Vet ej\",Självskattning!D264,\"\")","v":""}]
[null,{"$f":"IF(Självskattning!C265=\"Vet ej\",Självskattning!A265,\"\")","v":""},{"$f":"IF(Självskattning!C265=\"Vet ej\",Självskattning!B265,\"\")","v":""},{"$f":"IF(Självskattning!C265=\"Vet ej\",Självskattning!D265,\"\")","v":""}]
[null,{"$f":"IF(Självskattning!C266=\"Vet ej\",Självskattning!A266,\"\")","v":""},{"$f":"IF(Självskattning!C266=\"Vet ej\",Självskattning!B266,\"\")","v":""},{"$f":"IF(Självskattning!C266=\"Vet ej\",Självskattning!D266,\"\")","v":""}]
[null,{"$f":"IF(Självskattning!C267=\"Vet ej\",Självskattning!A267,\"\")","v":""},{"$f":"IF(Självskattning!C267=\"Vet ej\",Självskattning!B267,\"\")","v":""},{"$f":"IF(Självskattning!C267=\"Vet ej\",Självskattning!D267,\"\")","v":""}]
[null,{"$f":"IF(Självskattning!C268=\"Vet ej\",Självskattning!A268,\"\")","v":""},{"$f":"IF(Självskattning!C268=\"Vet ej\",Självskattning!B268,\"\")","v":""},{"$f":"IF(Självskattning!C268=\"Vet ej\",Självskattning!D268,\"\")","v":""}]
[null,{"$f":"IF(Självskattning!C269=\"Vet ej\",Självskattning!A269,\"\")","v":""},{"$f":"IF(Självskattning!C269=\"Vet ej\",Självskattning!B269,\"\")","v":""},{"$f":"IF(Självskattning!C269=\"Vet ej\",Självskattning!D269,\"\")","v":""}]
[null,{"$f":"IF(Självskattning!C270=\"Vet ej\",Självskattning!A270,\"\")","v":""},{"$f":"IF(Självskattning!C270=\"Vet ej\",Självskattning!B270,\"\")","v":""},{"$f":"IF(Självskattning!C270=\"Vet ej\",Självskattning!D270,\"\")","v":""}]
[null,{"$f":"IF(Självskattning!C271=\"Vet ej\",Självskattning!A271,\"\")","v":""},{"$f":"IF(Självskattning!C271=\"Vet ej\",Självskattning!B271,\"\")","v":""},{"$f":"IF(Självskattning!C271=\"Vet ej\",Självskattning!D271,\"\")","v":""}]
[null,{"$f":"IF(Självskattning!C272=\"Vet ej\",Självskattning!A272,\"\")","v":""},{"$f":"IF(Självskattning!C272=\"Vet ej\",Självskattning!B272,\"\")","v":""},{"$f":"IF(Självskattning!C272=\"Vet ej\",Självskattning!D272,\"\")","v":""}]
[null,{"$f":"IF(Självskattning!C273=\"Vet ej\",Självskattning!A273,\"\")","v":""},{"$f":"IF(Självskattning!C273=\"Vet ej\",Självskattning!B273,\"\")","v":""},{"$f":"IF(Självskattning!C273=\"Vet ej\",Självskattning!D273,\"\")","v":""}]
[null,{"$f":"IF(Självskattning!C274=\"Vet ej\",Självskattning!A274,\"\")","v":""},{"$f":"IF(Självskattning!C274=\"Vet ej\",Självskattning!B274,\"\")","v":""},{"$f":"IF(Självskattning!C274=\"Vet ej\",Självskattning!D274,\"\")","v":""}]
[null,{"$f":"IF(Självskattning!C275=\"Vet ej\",Självskattning!A275,\"\")","v":""},{"$f":"IF(Självskattning!C275=\"Vet ej\",Självskattning!B275,\"\")","v":""},{"$f":"IF(Självskattning!C275=\"Vet ej\",Självskattning!D275,\"\")","v":""}]
[null,{"$f":"IF(Självskattning!C276=\"Vet ej\",Självskattning!A276,\"\")","v":""},{"$f":"IF(Självskattning!C276=\"Vet ej\",Självskattning!B276,\"\")","v":""},{"$f":"IF(Självskattning!C276=\"Vet ej\",Självskattning!D276,\"\")","v":""}]
[null,{"$f":"IF(Självskattning!C277=\"Vet ej\",Självskattning!A277,\"\")","v":""},{"$f":"IF(Självskattning!C277=\"Vet ej\",Självskattning!B277,\"\")","v":""},{"$f":"IF(Självskattning!C277=\"Vet ej\",Självskattning!D277,\"\")","v":""}]
[null,{"$f":"IF(Självskattning!C278=\"Vet ej\",Självskattning!A278,\"\")","v":""},{"$f":"IF(Självskattning!C278=\"Vet ej\",Självskattning!B278,\"\")","v":""},{"$f":"IF(Självskattning!C278=\"Vet ej\",Självskattning!D278,\"\")","v":""}]
[null,{"$f":"IF(Självskattning!C279=\"Vet ej\",Självskattning!A279,\"\")","v":""},{"$f":"IF(Självskattning!C279=\"Vet ej\",Självskattning!B279,\"\")","v":""},{"$f":"IF(Självskattning!C279=\"Vet ej\",Självskattning!D279,\"\")","v":""}]
[null,{"$f":"IF(Självskattning!C280=\"Vet ej\",Självskattning!A280,\"\")","v":""},{"$f":"IF(Självskattning!C280=\"Vet ej\",Självskattning!B280,\"\")","v":""},{"$f":"IF(Självskattning!C280=\"Vet ej\",Självskattning!D280,\"\")","v":""}]
[null,{"$f":"IF(Självskattning!C281=\"Vet ej\",Självskattning!A281,\"\")","v":""},{"$f":"IF(Självskattning!C281=\"Vet ej\",Självskattning!B281,\"\")","v":""},{"$f":"IF(Självskattning!C281=\"Vet ej\",Självskattning!D281,\"\")","v":""}]
[null,{"$f":"IF(Självskattning!C282=\"Vet ej\",Självskattning!A282,\"\")","v":""},{"$f":"IF(Självskattning!C282=\"Vet ej\",Självskattning!B282,\"\")","v":""},{"$f":"IF(Självskattning!C282=\"Vet ej\",Självskattning!D282,\"\")","v":""}]
[null,{"$f":"IF(Självskattning!C283=\"Vet ej\",Självskattning!A283,\"\")","v":""},{"$f":"IF(Självskattning!C283=\"Vet ej\",Självskattning!B283,\"\")","v":""},{"$f":"IF(Självskattning!C283=\"Vet ej\",Självskattning!D283,\"\")","v":""}]
[null,{"$f":"IF(Självskattning!C284=\"Vet ej\",Självskattning!A284,\"\")","v":""},{"$f":"IF(Självskattning!C284=\"Vet ej\",Självskattning!B284,\"\")","v":""},{"$f":"IF(Självskattning!C284=\"Vet ej\",Självskattning!D284,\"\")","v":""}]
[null,{"$f":"IF(Självskattning!C285=\"Vet ej\",Självskattning!A285,\"\")","v":""},{"$f":"IF(Självskattning!C285=\"Vet ej\",Självskattning!B285,\"\")","v":""},{"$f":"IF(Självskattning!C285=\"Vet ej\",Självskattning!D285,\"\")","v":""}]
[null,{"$f":"IF(Självskattning!C286=\"Vet ej\",Självskattning!A286,\"\")","v":""},{"$f":"IF(Självskattning!C286=\"Vet ej\",Självskattning!B286,\"\")","v":""},{"$f":"IF(Självskattning!C286=\"Vet ej\",Självskattning!D286,\"\")","v":""}]
[null,{"$f":"IF(Självskattning!C287=\"Vet ej\",Självskattning!A287,\"\")","v":""},{"$f":"IF(Självskattning!C287=\"Vet ej\",Självskattning!B287,\"\")","v":""},{"$f":"IF(Självskattning!C287=\"Vet ej\",Självskattning!D287,\"\")","v":""}]
[null,{"$f":"IF(Självskattning!C288=\"Vet ej\",Självskattning!A288,\"\")","v":""},{"$f":"IF(Självskattning!C288=\"Vet ej\",Självskattning!B288,\"\")","v":""},{"$f":"IF(Självskattning!C288=\"Vet ej\",Självskattning!D288,\"\")","v":""}]
[null,{"$f":"IF(Självskattning!C289=\"Vet ej\",Självskattning!A289,\"\")","v":""},{"$f":"IF(Självskattning!C289=\"Vet ej\",Självskattning!B289,\"\")","v":""},{"$f":"IF(Självskattning!C289=\"Vet ej\",Självskattning!D289,\"\")","v":""}]
[null,{"$f":"IF(Självskattning!C290=\"Vet ej\",Självskattning!A290,\"\")","v":""},{"$f":"IF(Självskattning!C290=\"Vet ej\",Självskattning!B290,\"\")","v":""},{"$f":"IF(Självskattning!C290=\"Vet ej\",Självskattning!D290,\"\")","v":""}]
[null,{"$f":"IF(Självskattning!C291=\"Vet ej\",Självskattning!A291,\"\")","v":""},{"$f":"IF(Självskattning!C291=\"Vet ej\",Självskattning!B291,\"\")","v":""},{"$f":"IF(Självskattning!C291=\"Vet ej\",Självskattning!D291,\"\")","v":""}]
[null,{"$f":"IF(Självskattning!C292=\"Vet ej\",Självskattning!A292,\"\")","v":""},{"$f":"IF(Självskattning!C292=\"Vet ej\",Självskattning!B292,\"\")","v":""},{"$f":"IF(Självskattning!C292=\"Vet ej\",Självskattning!D292,\"\")","v":""}]
[null,{"$f":"IF(Självskattning!C293=\"Vet ej\",Självskattning!A293,\"\")","v":""},{"$f":"IF(Självskattning!C293=\"Vet ej\",Självskattning!B293,\"\")","v":""},{"$f":"IF(Självskattning!C293=\"Vet ej\",Självskattning!D293,\"\")","v":""}]
[null,{"$f":"IF(Självskattning!C294=\"Vet ej\",Självskattning!A294,\"\")","v":""},{"$f":"IF(Självskattning!C294=\"Vet ej\",Självskattning!B294,\"\")","v":""},{"$f":"IF(Självskattning!C294=\"Vet ej\",Självskattning!D294,\"\")","v":""}]
[null,{"$f":"IF(Självskattning!C295=\"Vet ej\",Självskattning!A295,\"\")","v":""},{"$f":"IF(Självskattning!C295=\"Vet ej\",Självskattning!B295,\"\")","v":""},{"$f":"IF(Självskattning!C295=\"Vet ej\",Självskattning!D295,\"\")","v":""}]
[null,{"$f":"IF(Självskattning!C296=\"Vet ej\",Självskattning!A296,\"\")","v":""},{"$f":"IF(Självskattning!C296=\"Vet ej\",Självskattning!B296,\"\")","v":""},{"$f":"IF(Självskattning!C296=\"Vet ej\",Självskattning!D296,\"\")","v":""}]
[null,{"$f":"IF(Självskattning!C297=\"Vet ej\",Självskattning!A297,\"\")","v":""},{"$f":"IF(Självskattning!C297=\"Vet ej\",Självskattning!B297,\"\")","v":""},{"$f":"IF(Självskattning!C297=\"Vet ej\",Självskattning!D297,\"\")","v":""}]
[null,{"$f":"IF(Självskattning!C298=\"Vet ej\",Självskattning!A298,\"\")","v":""},{"$f":"IF(Självskattning!C298=\"Vet ej\",Självskattning!B298,\"\")","v":""},{"$f":"IF(Självskattning!C298=\"Vet ej\",Självskattning!D298,\"\")","v":""}]
[null,{"$f":"IF(Självskattning!C299=\"Vet ej\",Självskattning!A299,\"\")","v":""},{"$f":"IF(Självskattning!C299=\"Vet ej\",Självskattning!B299,\"\")","v":""},{"$f":"IF(Självskattning!C299=\"Vet ej\",Självskattning!D299,\"\")","v":""}]
[null,{"$f":"IF(Självskattning!C300=\"Vet ej\",Självskattning!A300,\"\")","v":""},{"$f":"IF(Självskattning!C300=\"Vet ej\",Självskattning!B300,\"\")","v":""},{"$f":"IF(Självskattning!C300=\"Vet ej\",Självskattning!D300,\"\")","v":""}]
[null,{"$f":"IF(Självskattning!C301=\"Vet ej\",Självskattning!A301,\"\")","v":""},{"$f":"IF(Självskattning!C301=\"Vet ej\",Självskattning!B301,\"\")","v":""},{"$f":"IF(Självskattning!C301=\"Vet ej\",Självskattning!D301,\"\")","v":""}]
[null,{"$f":"IF(Självskattning!C302=\"Vet ej\",Självskattning!A302,\"\")","v":""},{"$f":"IF(Självskattning!C302=\"Vet ej\",Självskattning!B302,\"\")","v":""},{"$f":"IF(Självskattning!C302=\"Vet ej\",Självskattning!D302,\"\")","v":""}]
[null,{"$f":"IF(Självskattning!C303=\"Vet ej\",Självskattning!A303,\"\")","v":""},{"$f":"IF(Självskattning!C303=\"Vet ej\",Självskattning!B303,\"\")","v":""},{"$f":"IF(Självskattning!C303=\"Vet ej\",Självskattning!D303,\"\")","v":""}]
[null,{"$f":"IF(Självskattning!C304=\"Vet ej\",Självskattning!A304,\"\")","v":""},{"$f":"IF(Självskattning!C304=\"Vet ej\",Självskattning!B304,\"\")","v":""},{"$f":"IF(Självskattning!C304=\"Vet ej\",Självskattning!D304,\"\")","v":""}]
[null,{"$f":"IF(Självskattning!C305=\"Vet ej\",Självskattning!A305,\"\")","v":""},{"$f":"IF(Självskattning!C305=\"Vet ej\",Självskattning!B305,\"\")","v":""},{"$f":"IF(Självskattning!C305=\"Vet ej\",Självskattning!D305,\"\")","v":""}]
[null,{"$f":"IF(Självskattning!C306=\"Vet ej\",Självskattning!A306,\"\")","v":""},{"$f":"IF(Självskattning!C306=\"Vet ej\",Självskattning!B306,\"\")","v":""},{"$f":"IF(Självskattning!C306=\"Vet ej\",Självskattning!D306,\"\")","v":""}]
[null,{"$f":"IF(Självskattning!C307=\"Vet ej\",Självskattning!A307,\"\")","v":""},{"$f":"IF(Självskattning!C307=\"Vet ej\",Självskattning!B307,\"\")","v":""},{"$f":"IF(Självskattning!C307=\"Vet ej\",Självskattning!D307,\"\")","v":""}]
[null,{"$f":"IF(Självskattning!C308=\"Vet ej\",Självskattning!A308,\"\")","v":""},{"$f":"IF(Självskattning!C308=\"Vet ej\",Självskattning!B308,\"\")","v":""},{"$f":"IF(Självskattning!C308=\"Vet ej\",Självskattning!D308,\"\")","v":""}]
[null,{"$f":"IF(Självskattning!C309=\"Vet ej\",Självskattning!A309,\"\")","v":""},{"$f":"IF(Självskattning!C309=\"Vet ej\",Självskattning!B309,\"\")","v":""},{"$f":"IF(Självskattning!C309=\"Vet ej\",Självskattning!D309,\"\")","v":""}]
[null,{"$f":"IF(Självskattning!C310=\"Vet ej\",Självskattning!A310,\"\")","v":""},{"$f":"IF(Självskattning!C310=\"Vet ej\",Självskattning!B310,\"\")","v":""},{"$f":"IF(Självskattning!C310=\"Vet ej\",Självskattning!D310,\"\")","v":""}]
[null,{"$f":"IF(Självskattning!C311=\"Vet ej\",Självskattning!A311,\"\")","v":""},{"$f":"IF(Självskattning!C311=\"Vet ej\",Självskattning!B311,\"\")","v":""},{"$f":"IF(Självskattning!C311=\"Vet ej\",Självskattning!D311,\"\")","v":""}]
[null,{"$f":"IF(Självskattning!C312=\"Vet ej\",Självskattning!A312,\"\")","v":""},{"$f":"IF(Självskattning!C312=\"Vet ej\",Självskattning!B312,\"\")","v":""},{"$f":"IF(Självskattning!C312=\"Vet ej\",Självskattning!D312,\"\")","v":""}]
[null,{"$f":"IF(Självskattning!C313=\"Vet ej\",Självskattning!A313,\"\")","v":""},{"$f":"IF(Självskattning!C313=\"Vet ej\",Självskattning!B313,\"\")","v":""},{"$f":"IF(Självskattning!C313=\"Vet ej\",Självskattning!D313,\"\")","v":""}]
[null,{"$f":"IF(Självskattning!C314=\"Vet ej\",Självskattning!A314,\"\")","v":""},{"$f":"IF(Självskattning!C314=\"Vet ej\",Självskattning!B314,\"\")","v":""},{"$f":"IF(Självskattning!C314=\"Vet ej\",Självskattning!D314,\"\")","v":""}]
[null,{"$f":"IF(Självskattning!C315=\"Vet ej\",Självskattning!A315,\"\")","v":""},{"$f":"IF(Självskattning!C315=\"Vet ej\",Självskattning!B315,\"\")","v":""},{"$f":"IF(Självskattning!C315=\"Vet ej\",Självskattning!D315,\"\")","v":""}]
[null,{"$f":"IF(Självskattning!C316=\"Vet ej\",Självskattning!A316,\"\")","v":""},{"$f":"IF(Självskattning!C316=\"Vet ej\",Självskattning!B316,\"\")","v":""},{"$f":"IF(Självskattning!C316=\"Vet ej\",Självskattning!D316,\"\")","v":""}]
[null,{"$f":"IF(Självskattning!C317=\"Vet ej\",Självskattning!A317,\"\")","v":""},{"$f":"IF(Självskattning!C317=\"Vet ej\",Självskattning!B317,\"\")","v":""},{"$f":"IF(Självskattning!C317=\"Vet ej\",Självskattning!D317,\"\")","v":""}]
[null,{"$f":"IF(Självskattning!C318=\"Vet ej\",Självskattning!A318,\"\")","v":""},{"$f":"IF(Självskattning!C318=\"Vet ej\",Självskattning!B318,\"\")","v":""},{"$f":"IF(Självskattning!C318=\"Vet ej\",Självskattning!D318,\"\")","v":""}]
[null,{"$f":"IF(Självskattning!C319=\"Vet ej\",Självskattning!A319,\"\")","v":""},{"$f":"IF(Självskattning!C319=\"Vet ej\",Självskattning!B319,\"\")","v":""},{"$f":"IF(Självskattning!C319=\"Vet ej\",Självskattning!D319,\"\")","v":""}]
[null,{"$f":"IF(Självskattning!C320=\"Vet ej\",Självskattning!A320,\"\")","v":""},{"$f":"IF(Självskattning!C320=\"Vet ej\",Självskattning!B320,\"\")","v":""},{"$f":"IF(Självskattning!C320=\"Vet ej\",Självskattning!D320,\"\")","v":""}]
[null,{"$f":"IF(Självskattning!C321=\"Vet ej\",Självskattning!A321,\"\")","v":""},{"$f":"IF(Självskattning!C321=\"Vet ej\",Självskattning!B321,\"\")","v":""},{"$f":"IF(Självskattning!C321=\"Vet ej\",Självskattning!D321,\"\")","v":""}]
[null,{"$f":"IF(Självskattning!C322=\"Vet ej\",Självskattning!A322,\"\")","v":""},{"$f":"IF(Självskattning!C322=\"Vet ej\",Självskattning!B322,\"\")","v":""},{"$f":"IF(Självskattning!C322=\"Vet ej\",Självskattning!D322,\"\")","v":""}]
[null,{"$f":"IF(Självskattning!C323=\"Vet ej\",Självskattning!A323,\"\")","v":""},{"$f":"IF(Självskattning!C323=\"Vet ej\",Självskattning!B323,\"\")","v":""},{"$f":"IF(Självskattning!C323=\"Vet ej\",Självskattning!D323,\"\")","v":""}]
[null,{"$f":"IF(Självskattning!C324=\"Vet ej\",Självskattning!A324,\"\")","v":""},{"$f":"IF(Självskattning!C324=\"Vet ej\",Självskattning!B324,\"\")","v":""},{"$f":"IF(Självskattning!C324=\"Vet ej\",Självskattning!D324,\"\")","v":""}]
[null,{"$f":"IF(Självskattning!C325=\"Vet ej\",Självskattning!A325,\"\")","v":""},{"$f":"IF(Självskattning!C325=\"Vet ej\",Självskattning!B325,\"\")","v":""},{"$f":"IF(Självskattning!C325=\"Vet ej\",Självskattning!D325,\"\")","v":""}]
[null,{"$f":"IF(Självskattning!C326=\"Vet ej\",Självskattning!A326,\"\")","v":""},{"$f":"IF(Självskattning!C326=\"Vet ej\",Självskattning!B326,\"\")","v":""},{"$f":"IF(Självskattning!C326=\"Vet ej\",Självskattning!D326,\"\")","v":""}]
[null,{"$f":"IF(Självskattning!C327=\"Vet ej\",Självskattning!A327,\"\")","v":""},{"$f":"IF(Självskattning!C327=\"Vet ej\",Självskattning!B327,\"\")","v":""},{"$f":"IF(Självskattning!C327=\"Vet ej\",Självskattning!D327,\"\")","v":""}]
[null,{"$f":"IF(Självskattning!C328=\"Vet ej\",Självskattning!A328,\"\")","v":""},{"$f":"IF(Självskattning!C328=\"Vet ej\",Självskattning!B328,\"\")","v":""},{"$f":"IF(Självskattning!C328=\"Vet ej\",Självskattning!D328,\"\")","v":""}]
[null,{"$f":"IF(Självskattning!C329=\"Vet ej\",Självskattning!A329,\"\")","v":""},{"$f":"IF(Självskattning!C329=\"Vet ej\",Självskattning!B329,\"\")","v":""},{"$f":"IF(Självskattning!C329=\"Vet ej\",Självskattning!D329,\"\")","v":""}]
[null,{"$f":"IF(Självskattning!C330=\"Vet ej\",Självskattning!A330,\"\")","v":""},{"$f":"IF(Självskattning!C330=\"Vet ej\",Självskattning!B330,\"\")","v":""},{"$f":"IF(Självskattning!C330=\"Vet ej\",Självskattning!D330,\"\")","v":""}]
[null,{"$f":"IF(Självskattning!C331=\"Vet ej\",Självskattning!A331,\"\")","v":""},{"$f":"IF(Självskattning!C331=\"Vet ej\",Självskattning!B331,\"\")","v":""},{"$f":"IF(Självskattning!C331=\"Vet ej\",Självskattning!D331,\"\")","v":""}]
[null,{"$f":"IF(Självskattning!C332=\"Vet ej\",Självskattning!A332,\"\")","v":""},{"$f":"IF(Självskattning!C332=\"Vet ej\",Självskattning!B332,\"\")","v":""},{"$f":"IF(Självskattning!C332=\"Vet ej\",Självskattning!D332,\"\")","v":""}]
[null,{"$f":"IF(Självskattning!C333=\"Vet ej\",Självskattning!A333,\"\")","v":""},{"$f":"IF(Självskattning!C333=\"Vet ej\",Självskattning!B333,\"\")","v":""},{"$f":"IF(Självskattning!C333=\"Vet ej\",Självskattning!D333,\"\")","v":""}]
[null,{"$f":"IF(Självskattning!C334=\"Vet ej\",Självskattning!A334,\"\")","v":""},{"$f":"IF(Självskattning!C334=\"Vet ej\",Självskattning!B334,\"\")","v":""},{"$f":"IF(Självskattning!C334=\"Vet ej\",Självskattning!D334,\"\")","v":""}]
[null,{"$f":"IF(Självskattning!C335=\"Vet ej\",Självskattning!A335,\"\")","v":""},{"$f":"IF(Självskattning!C335=\"Vet ej\",Självskattning!B335,\"\")","v":""},{"$f":"IF(Självskattning!C335=\"Vet ej\",Självskattning!D335,\"\")","v":""}]
[null,{"$f":"IF(Självskattning!C336=\"Vet ej\",Självskattning!A336,\"\")","v":""},{"$f":"IF(Självskattning!C336=\"Vet ej\",Självskattning!B336,\"\")","v":""},{"$f":"IF(Självskattning!C336=\"Vet ej\",Självskattning!D336,\"\")","v":""}]
[null,{"$f":"IF(Självskattning!C337=\"Vet ej\",Självskattning!A337,\"\")","v":""},{"$f":"IF(Självskattning!C337=\"Vet ej\",Självskattning!B337,\"\")","v":""},{"$f":"IF(Självskattning!C337=\"Vet ej\",Självskattning!D337,\"\")","v":""}]
[null,{"$f":"IF(Självskattning!C338=\"Vet ej\",Självskattning!A338,\"\")","v":""},{"$f":"IF(Självskattning!C338=\"Vet ej\",Självskattning!B338,\"\")","v":""},{"$f":"IF(Självskattning!C338=\"Vet ej\",Självskattning!D338,\"\")","v":""}]
[null,{"$f":"IF(Självskattning!C339=\"Vet ej\",Självskattning!A339,\"\")","v":""},{"$f":"IF(Självskattning!C339=\"Vet ej\",Självskattning!B339,\"\")","v":""},{"$f":"IF(Självskattning!C339=\"Vet ej\",Självskattning!D339,\"\")","v":""}]
[null,{"$f":"IF(Självskattning!C340=\"Vet ej\",Självskattning!A340,\"\")","v":""},{"$f":"IF(Självskattning!C340=\"Vet ej\",Självskattning!B340,\"\")","v":""},{"$f":"IF(Självskattning!C340=\"Vet ej\",Självskattning!D340,\"\")","v":""}]
[null,{"$f":"IF(Självskattning!C341=\"Vet ej\",Självskattning!A341,\"\")","v":""},{"$f":"IF(Självskattning!C341=\"Vet ej\",Självskattning!B341,\"\")","v":""},{"$f":"IF(Självskattning!C341=\"Vet ej\",Självskattning!D341,\"\")","v":""}]
[null,{"$f":"IF(Självskattning!C342=\"Vet ej\",Självskattning!A342,\"\")","v":""},{"$f":"IF(Självskattning!C342=\"Vet ej\",Självskattning!B342,\"\")","v":""},{"$f":"IF(Självskattning!C342=\"Vet ej\",Självskattning!D342,\"\")","v":""}]
[null,{"$f":"IF(Självskattning!C343=\"Vet ej\",Självskattning!A343,\"\")","v":""},{"$f":"IF(Självskattning!C343=\"Vet ej\",Självskattning!B343,\"\")","v":""},{"$f":"IF(Självskattning!C343=\"Vet ej\",Självskattning!D343,\"\")","v":""}]
[null,{"$f":"IF(Självskattning!C344=\"Vet ej\",Självskattning!A344,\"\")","v":""},{"$f":"IF(Självskattning!C344=\"Vet ej\",Självskattning!B344,\"\")","v":""},{"$f":"IF(Självskattning!C344=\"Vet ej\",Självskattning!D344,\"\")","v":""}]
[null,{"$f":"IF(Självskattning!C345=\"Vet ej\",Självskattning!A345,\"\")","v":""},{"$f":"IF(Självskattning!C345=\"Vet ej\",Självskattning!B345,\"\")","v":""},{"$f":"IF(Självskattning!C345=\"Vet ej\",Självskattning!D345,\"\")","v":""}]
[null,{"$f":"IF(Självskattning!C346=\"Vet ej\",Självskattning!A346,\"\")","v":""},{"$f":"IF(Självskattning!C346=\"Vet ej\",Självskattning!B346,\"\")","v":""},{"$f":"IF(Självskattning!C346=\"Vet ej\",Självskattning!D346,\"\")","v":""}]
[null,{"$f":"IF(Självskattning!C347=\"Vet ej\",Självskattning!A347,\"\")","v":""},{"$f":"IF(Självskattning!C347=\"Vet ej\",Självskattning!B347,\"\")","v":""},{"$f":"IF(Självskattning!C347=\"Vet ej\",Självskattning!D347,\"\")","v":""}]
[null,{"$f":"IF(Självskattning!C348=\"Vet ej\",Självskattning!A348,\"\")","v":""},{"$f":"IF(Självskattning!C348=\"Vet ej\",Självskattning!B348,\"\")","v":""},{"$f":"IF(Självskattning!C348=\"Vet ej\",Självskattning!D348,\"\")","v":""}]
[null,{"$f":"IF(Självskattning!C349=\"Vet ej\",Självskattning!A349,\"\")","v":""},{"$f":"IF(Självskattning!C349=\"Vet ej\",Självskattning!B349,\"\")","v":""},{"$f":"IF(Självskattning!C349=\"Vet ej\",Självskattning!D349,\"\")","v":""}]
[null,{"$f":"IF(Självskattning!C350=\"Vet ej\",Självskattning!A350,\"\")","v":""},{"$f":"IF(Självskattning!C350=\"Vet ej\",Självskattning!B350,\"\")","v":""},{"$f":"IF(Självskattning!C350=\"Vet ej\",Självskattning!D350,\"\")","v":""}]
[null,{"$f":"IF(Självskattning!C351=\"Vet ej\",Självskattning!A351,\"\")","v":""},{"$f":"IF(Självskattning!C351=\"Vet ej\",Självskattning!B351,\"\")","v":""},{"$f":"IF(Självskattning!C351=\"Vet ej\",Självskattning!D351,\"\")","v":""}]
[null,{"$f":"IF(Självskattning!C352=\"Vet ej\",Självskattning!A352,\"\")","v":""},{"$f":"IF(Självskattning!C352=\"Vet ej\",Självskattning!B352,\"\")","v":""},{"$f":"IF(Självskattning!C352=\"Vet ej\",Självskattning!D352,\"\")","v":""}]
[null,{"$f":"IF(Självskattning!C353=\"Vet ej\",Självskattning!A353,\"\")","v":""},{"$f":"IF(Självskattning!C353=\"Vet ej\",Självskattning!B353,\"\")","v":""},{"$f":"IF(Självskattning!C353=\"Vet ej\",Självskattning!D353,\"\")","v":""}]
[null,{"$f":"IF(Självskattning!C354=\"Vet ej\",Självskattning!A354,\"\")","v":""},{"$f":"IF(Självskattning!C354=\"Vet ej\",Självskattning!B354,\"\")","v":""},{"$f":"IF(Självskattning!C354=\"Vet ej\",Självskattning!D354,\"\")","v":""}]
[null,{"$f":"IF(Självskattning!C355=\"Vet ej\",Självskattning!A355,\"\")","v":""},{"$f":"IF(Självskattning!C355=\"Vet ej\",Självskattning!B355,\"\")","v":""},{"$f":"IF(Självskattning!C355=\"Vet ej\",Självskattning!D355,\"\")","v":""}]
[null,{"$f":"IF(Självskattning!C356=\"Vet ej\",Självskattning!A356,\"\")","v":""},{"$f":"IF(Självskattning!C356=\"Vet ej\",Självskattning!B356,\"\")","v":""},{"$f":"IF(Självskattning!C356=\"Vet ej\",Självskattning!D356,\"\")","v":""}]
[null,{"$f":"IF(Självskattning!C357=\"Vet ej\",Självskattning!A357,\"\")","v":""},{"$f":"IF(Självskattning!C357=\"Vet ej\",Självskattning!B357,\"\")","v":""},{"$f":"IF(Självskattning!C357=\"Vet ej\",Självskattning!D357,\"\")","v":""}]
[null,{"$f":"IF(Självskattning!C358=\"Vet ej\",Självskattning!A358,\"\")","v":""},{"$f":"IF(Självskattning!C358=\"Vet ej\",Självskattning!B358,\"\")","v":""},{"$f":"IF(Självskattning!C358=\"Vet ej\",Självskattning!D358,\"\")","v":""}]
[null,{"$f":"IF(Självskattning!C359=\"Vet ej\",Självskattning!A359,\"\")","v":""},{"$f":"IF(Självskattning!C359=\"Vet ej\",Självskattning!B359,\"\")","v":""},{"$f":"IF(Självskattning!C359=\"Vet ej\",Självskattning!D359,\"\")","v":""}]
[null,{"$f":"IF(Självskattning!C360=\"Vet ej\",Självskattning!A360,\"\")","v":""},{"$f":"IF(Självskattning!C360=\"Vet ej\",Självskattning!B360,\"\")","v":""},{"$f":"IF(Självskattning!C360=\"Vet ej\",Självskattning!D360,\"\")","v":""}]
[null,{"$f":"IF(Självskattning!C361=\"Vet ej\",Självskattning!A361,\"\")","v":""},{"$f":"IF(Självskattning!C361=\"Vet ej\",Självskattning!B361,\"\")","v":""},{"$f":"IF(Självskattning!C361=\"Vet ej\",Självskattning!D361,\"\")","v":""}]
[null,{"$f":"IF(Självskattning!C362=\"Vet ej\",Självskattning!A362,\"\")","v":""},{"$f":"IF(Självskattning!C362=\"Vet ej\",Självskattning!B362,\"\")","v":""},{"$f":"IF(Självskattning!C362=\"Vet ej\",Självskattning!D362,\"\")","v":""}]
[null,{"$f":"IF(Självskattning!C363=\"Vet ej\",Självskattning!A363,\"\")","v":""},{"$f":"IF(Självskattning!C363=\"Vet ej\",Självskattning!B363,\"\")","v":""},{"$f":"IF(Självskattning!C363=\"Vet ej\",Självskattning!D363,\"\")","v":""}]
[null,{"$f":"IF(Självskattning!C364=\"Vet ej\",Självskattning!A364,\"\")","v":""},{"$f":"IF(Självskattning!C364=\"Vet ej\",Självskattning!B364,\"\")","v":""},{"$f":"IF(Självskattning!C364=\"Vet ej\",Självskattning!D364,\"\")","v":""}]
[null,{"$f":"IF(Självskattning!C365=\"Vet ej\",Självskattning!A365,\"\")","v":""},{"$f":"IF(Självskattning!C365=\"Vet ej\",Självskattning!B365,\"\")","v":""},{"$f":"IF(Självskattning!C365=\"Vet ej\",Självskattning!D365,\"\")","v":""}]
[null,{"$f":"IF(Självskattning!C366=\"Vet ej\",Självskattning!A366,\"\")","v":""},{"$f":"IF(Självskattning!C366=\"Vet ej\",Självskattning!B366,\"\")","v":""},{"$f":"IF(Självskattning!C366=\"Vet ej\",Självskattning!D366,\"\")","v":""}]
[null,{"$f":"IF(Självskattning!C367=\"Vet ej\",Självskattning!A367,\"\")","v":""},{"$f":"IF(Självskattning!C367=\"Vet ej\",Självskattning!B367,\"\")","v":""},{"$f":"IF(Självskattning!C367=\"Vet ej\",Självskattning!D367,\"\")","v":""}]
[null,{"$f":"IF(Självskattning!C368=\"Vet ej\",Självskattning!A368,\"\")","v":""},{"$f":"IF(Självskattning!C368=\"Vet ej\",Självskattning!B368,\"\")","v":""},{"$f":"IF(Självskattning!C368=\"Vet ej\",Självskattning!D368,\"\")","v":""}]
[null,{"$f":"IF(Självskattning!C369=\"Vet ej\",Självskattning!A369,\"\")","v":""},{"$f":"IF(Självskattning!C369=\"Vet ej\",Självskattning!B369,\"\")","v":""},{"$f":"IF(Självskattning!C369=\"Vet ej\",Självskattning!D369,\"\")","v":""}]
[null,{"$f":"IF(Självskattning!C370=\"Vet ej\",Självskattning!A370,\"\")","v":""},{"$f":"IF(Självskattning!C370=\"Vet ej\",Självskattning!B370,\"\")","v":""},{"$f":"IF(Självskattning!C370=\"Vet ej\",Självskattning!D370,\"\")","v":""}]
[null,{"$f":"IF(Självskattning!C371=\"Vet ej\",Självskattning!A371,\"\")","v":""},{"$f":"IF(Självskattning!C371=\"Vet ej\",Självskattning!B371,\"\")","v":""},{"$f":"IF(Självskattning!C371=\"Vet ej\",Självskattning!D371,\"\")","v":""}]
[null,{"$f":"IF(Självskattning!C372=\"Vet ej\",Självskattning!A372,\"\")","v":""},{"$f":"IF(Självskattning!C372=\"Vet ej\",Självskattning!B372,\"\")","v":""},{"$f":"IF(Självskattning!C372=\"Vet ej\",Självskattning!D372,\"\")","v":""}]
[null,{"$f":"IF(Självskattning!C373=\"Vet ej\",Självskattning!A373,\"\")","v":""},{"$f":"IF(Självskattning!C373=\"Vet ej\",Självskattning!B373,\"\")","v":""},{"$f":"IF(Självskattning!C373=\"Vet ej\",Självskattning!D373,\"\")","v":""}]
[null,{"$f":"IF(Självskattning!C374=\"Vet ej\",Självskattning!A374,\"\")","v":""},{"$f":"IF(Självskattning!C374=\"Vet ej\",Självskattning!B374,\"\")","v":""},{"$f":"IF(Självskattning!C374=\"Vet ej\",Självskattning!D374,\"\")","v":""}]
[null,{"$f":"IF(Självskattning!C375=\"Vet ej\",Självskattning!A375,\"\")","v":""},{"$f":"IF(Självskattning!C375=\"Vet ej\",Självskattning!B375,\"\")","v":""},{"$f":"IF(Självskattning!C375=\"Vet ej\",Självskattning!D375,\"\")","v":""}]
[null,{"$f":"IF(Självskattning!C376=\"Vet ej\",Självskattning!A376,\"\")","v":""},{"$f":"IF(Självskattning!C376=\"Vet ej\",Självskattning!B376,\"\")","v":""},{"$f":"IF(Självskattning!C376=\"Vet ej\",Självskattning!D376,\"\")","v":""}]
[null,{"$f":"IF(Självskattning!C377=\"Vet ej\",Självskattning!A377,\"\")","v":""},{"$f":"IF(Självskattning!C377=\"Vet ej\",Självskattning!B377,\"\")","v":""},{"$f":"IF(Självskattning!C377=\"Vet ej\",Självskattning!D377,\"\")","v":""}]
[null,{"$f":"IF(Självskattning!C378=\"Vet ej\",Självskattning!A378,\"\")","v":""},{"$f":"IF(Självskattning!C378=\"Vet ej\",Självskattning!B378,\"\")","v":""},{"$f":"IF(Självskattning!C378=\"Vet ej\",Självskattning!D378,\"\")","v":""}]
[null,{"$f":"IF(Självskattning!C379=\"Vet ej\",Självskattning!A379,\"\")","v":""},{"$f":"IF(Självskattning!C379=\"Vet ej\",Självskattning!B379,\"\")","v":""},{"$f":"IF(Självskattning!C379=\"Vet ej\",Självskattning!D379,\"\")","v":""}]
[null,{"$f":"IF(Självskattning!C380=\"Vet ej\",Självskattning!A380,\"\")","v":""},{"$f":"IF(Självskattning!C380=\"Vet ej\",Självskattning!B380,\"\")","v":""},{"$f":"IF(Självskattning!C380=\"Vet ej\",Självskattning!D380,\"\")","v":""}]
[null,{"$f":"IF(Självskattning!C381=\"Vet ej\",Självskattning!A381,\"\")","v":""},{"$f":"IF(Självskattning!C381=\"Vet ej\",Självskattning!B381,\"\")","v":""},{"$f":"IF(Självskattning!C381=\"Vet ej\",Självskattning!D381,\"\")","v":""}]
[null,{"$f":"IF(Självskattning!C382=\"Vet ej\",Självskattning!A382,\"\")","v":""},{"$f":"IF(Självskattning!C382=\"Vet ej\",Självskattning!B382,\"\")","v":""},{"$f":"IF(Självskattning!C382=\"Vet ej\",Självskattning!D382,\"\")","v":""}]
[null,{"$f":"IF(Självskattning!C383=\"Vet ej\",Självskattning!A383,\"\")","v":""},{"$f":"IF(Självskattning!C383=\"Vet ej\",Självskattning!B383,\"\")","v":""},{"$f":"IF(Självskattning!C383=\"Vet ej\",Självskattning!D383,\"\")","v":""}]
[null,{"$f":"IF(Självskattning!C384=\"Vet ej\",Självskattning!A384,\"\")","v":""},{"$f":"IF(Självskattning!C384=\"Vet ej\",Självskattning!B384,\"\")","v":""},{"$f":"IF(Självskattning!C384=\"Vet ej\",Självskattning!D384,\"\")","v":""}]
[null,{"$f":"IF(Självskattning!C385=\"Vet ej\",Självskattning!A385,\"\")","v":""},{"$f":"IF(Självskattning!C385=\"Vet ej\",Självskattning!B385,\"\")","v":""},{"$f":"IF(Självskattning!C385=\"Vet ej\",Självskattning!D385,\"\")","v":""}]
[null,{"$f":"IF(Självskattning!C386=\"Vet ej\",Självskattning!A386,\"\")","v":""},{"$f":"IF(Självskattning!C386=\"Vet ej\",Självskattning!B386,\"\")","v":""},{"$f":"IF(Självskattning!C386=\"Vet ej\",Självskattning!D386,\"\")","v":""}]
[null,{"$f":"IF(Självskattning!C387=\"Vet ej\",Självskattning!A387,\"\")","v":""},{"$f":"IF(Självskattning!C387=\"Vet ej\",Självskattning!B387,\"\")","v":""},{"$f":"IF(Självskattning!C387=\"Vet ej\",Självskattning!D387,\"\")","v":""}]
[null,{"$f":"IF(Självskattning!C388=\"Vet ej\",Självskattning!A388,\"\")","v":""},{"$f":"IF(Självskattning!C388=\"Vet ej\",Självskattning!B388,\"\")","v":""},{"$f":"IF(Självskattning!C388=\"Vet ej\",Självskattning!D388,\"\")","v":""}]
[null,{"$f":"IF(Självskattning!C389=\"Vet ej\",Självskattning!A389,\"\")","v":""},{"$f":"IF(Självskattning!C389=\"Vet ej\",Självskattning!B389,\"\")","v":""},{"$f":"IF(Självskattning!C389=\"Vet ej\",Självskattning!D389,\"\")","v":""}]
[null,{"$f":"IF(Självskattning!C390=\"Vet ej\",Självskattning!A390,\"\")","v":""},{"$f":"IF(Självskattning!C390=\"Vet ej\",Självskattning!B390,\"\")","v":""},{"$f":"IF(Självskattning!C390=\"Vet ej\",Självskattning!D390,\"\")","v":""}]
[null,{"$f":"IF(Självskattning!C391=\"Vet ej\",Självskattning!A391,\"\")","v":""},{"$f":"IF(Självskattning!C391=\"Vet ej\",Självskattning!B391,\"\")","v":""},{"$f":"IF(Självskattning!C391=\"Vet ej\",Självskattning!D391,\"\")","v":""}]
[null,{"$f":"IF(Självskattning!C392=\"Vet ej\",Självskattning!A392,\"\")","v":""},{"$f":"IF(Självskattning!C392=\"Vet ej\",Självskattning!B392,\"\")","v":""},{"$f":"IF(Självskattning!C392=\"Vet ej\",Självskattning!D392,\"\")","v":""}]
[null,{"$f":"IF(Självskattning!C393=\"Vet ej\",Självskattning!A393,\"\")","v":""},{"$f":"IF(Självskattning!C393=\"Vet ej\",Självskattning!B393,\"\")","v":""},{"$f":"IF(Självskattning!C393=\"Vet ej\",Självskattning!D393,\"\")","v":""}]
[null,{"$f":"IF(Självskattning!C394=\"Vet ej\",Självskattning!A394,\"\")","v":""},{"$f":"IF(Självskattning!C394=\"Vet ej\",Självskattning!B394,\"\")","v":""},{"$f":"IF(Självskattning!C394=\"Vet ej\",Självskattning!D394,\"\")","v":""}]
[null,{"$f":"IF(Självskattning!C395=\"Vet ej\",Självskattning!A395,\"\")","v":""},{"$f":"IF(Självskattning!C395=\"Vet ej\",Självskattning!B395,\"\")","v":""},{"$f":"IF(Självskattning!C395=\"Vet ej\",Självskattning!D395,\"\")","v":""}]
[null,{"$f":"IF(Självskattning!C396=\"Vet ej\",Självskattning!A396,\"\")","v":""},{"$f":"IF(Självskattning!C396=\"Vet ej\",Självskattning!B396,\"\")","v":""},{"$f":"IF(Självskattning!C396=\"Vet ej\",Självskattning!D396,\"\")","v":""}]
[null,{"$f":"IF(Självskattning!C397=\"Vet ej\",Självskattning!A397,\"\")","v":""},{"$f":"IF(Självskattning!C397=\"Vet ej\",Självskattning!B397,\"\")","v":""},{"$f":"IF(Självskattning!C397=\"Vet ej\",Självskattning!D397,\"\")","v":""}]
[null,{"$f":"IF(Självskattning!C398=\"Vet ej\",Självskattning!A398,\"\")","v":""},{"$f":"IF(Självskattning!C398=\"Vet ej\",Självskattning!B398,\"\")","v":""},{"$f":"IF(Självskattning!C398=\"Vet ej\",Självskattning!D398,\"\")","v":""}]
[null,{"$f":"IF(Självskattning!C399=\"Vet ej\",Självskattning!A399,\"\")","v":""},{"$f":"IF(Självskattning!C399=\"Vet ej\",Självskattning!B399,\"\")","v":""},{"$f":"IF(Självskattning!C399=\"Vet ej\",Självskattning!D399,\"\")","v":""}]
[null,{"$f":"IF(Självskattning!C400=\"Vet ej\",Självskattning!A400,\"\")","v":""},{"$f":"IF(Självskattning!C400=\"Vet ej\",Självskattning!B400,\"\")","v":""},{"$f":"IF(Självskattning!C400=\"Vet ej\",Självskattning!D400,\"\")","v":""}]
[null,{"$f":"IF(Självskattning!C401=\"Vet ej\",Självskattning!A401,\"\")","v":""},{"$f":"IF(Självskattning!C401=\"Vet ej\",Självskattning!B401,\"\")","v":""},{"$f":"IF(Självskattning!C401=\"Vet ej\",Självskattning!D401,\"\")","v":""}]
[null,{"$f":"IF(Självskattning!C402=\"Vet ej\",Självskattning!A402,\"\")","v":""},{"$f":"IF(Självskattning!C402=\"Vet ej\",Självskattning!B402,\"\")","v":""},{"$f":"IF(Självskattning!C402=\"Vet ej\",Självskattning!D402,\"\")","v":""}]
[null,{"$f":"IF(Självskattning!C403=\"Vet ej\",Självskattning!A403,\"\")","v":""},{"$f":"IF(Självskattning!C403=\"Vet ej\",Självskattning!B403,\"\")","v":""},{"$f":"IF(Självskattning!C403=\"Vet ej\",Självskattning!D403,\"\")","v":""}]
[null,{"$f":"IF(Självskattning!C404=\"Vet ej\",Självskattning!A404,\"\")","v":""},{"$f":"IF(Självskattning!C404=\"Vet ej\",Självskattning!B404,\"\")","v":""},{"$f":"IF(Självskattning!C404=\"Vet ej\",Självskattning!D404,\"\")","v":""}]
[null,{"$f":"IF(Självskattning!C405=\"Vet ej\",Självskattning!A405,\"\")","v":""},{"$f":"IF(Självskattning!C405=\"Vet ej\",Självskattning!B405,\"\")","v":""},{"$f":"IF(Självskattning!C405=\"Vet ej\",Självskattning!D405,\"\")","v":""}]
[null,{"$f":"IF(Självskattning!C406=\"Vet ej\",Självskattning!A406,\"\")","v":""},{"$f":"IF(Självskattning!C406=\"Vet ej\",Självskattning!B406,\"\")","v":""},{"$f":"IF(Självskattning!C406=\"Vet ej\",Självskattning!D406,\"\")","v":""}]
[null,{"$f":"IF(Självskattning!C407=\"Vet ej\",Självskattning!A407,\"\")","v":""},{"$f":"IF(Självskattning!C407=\"Vet ej\",Självskattning!B407,\"\")","v":""},{"$f":"IF(Självskattning!C407=\"Vet ej\",Självskattning!D407,\"\")","v":""}]
[null,{"$f":"IF(Självskattning!C408=\"Vet ej\",Självskattning!A408,\"\")","v":""},{"$f":"IF(Självskattning!C408=\"Vet ej\",Självskattning!B408,\"\")","v":""},{"$f":"IF(Självskattning!C408=\"Vet ej\",Självskattning!D408,\"\")","v":""}]
[null,{"$f":"IF(Självskattning!C409=\"Vet ej\",Självskattning!A409,\"\")","v":""},{"$f":"IF(Självskattning!C409=\"Vet ej\",Självskattning!B409,\"\")","v":""},{"$f":"IF(Självskattning!C409=\"Vet ej\",Självskattning!D409,\"\")","v":""}]
[null,{"$f":"IF(Självskattning!C410=\"Vet ej\",Självskattning!A410,\"\")","v":""},{"$f":"IF(Självskattning!C410=\"Vet ej\",Självskattning!B410,\"\")","v":""},{"$f":"IF(Självskattning!C410=\"Vet ej\",Självskattning!D410,\"\")","v":""}]
[null,{"$f":"IF(Självskattning!C411=\"Vet ej\",Självskattning!A411,\"\")","v":""},{"$f":"IF(Självskattning!C411=\"Vet ej\",Självskattning!B411,\"\")","v":""},{"$f":"IF(Självskattning!C411=\"Vet ej\",Självskattning!D411,\"\")","v":""}]
[null,{"$f":"IF(Självskattning!C412=\"Vet ej\",Självskattning!A412,\"\")","v":""},{"$f":"IF(Självskattning!C412=\"Vet ej\",Självskattning!B412,\"\")","v":""},{"$f":"IF(Självskattning!C412=\"Vet ej\",Självskattning!D412,\"\")","v":""}]
[null,{"$f":"IF(Självskattning!C413=\"Vet ej\",Självskattning!A413,\"\")","v":""},{"$f":"IF(Självskattning!C413=\"Vet ej\",Självskattning!B413,\"\")","v":""},{"$f":"IF(Självskattning!C413=\"Vet ej\",Självskattning!D413,\"\")","v":""}]
[null,{"$f":"IF(Självskattning!C414=\"Vet ej\",Självskattning!A414,\"\")","v":""},{"$f":"IF(Självskattning!C414=\"Vet ej\",Självskattning!B414,\"\")","v":""},{"$f":"IF(Självskattning!C414=\"Vet ej\",Självskattning!D414,\"\")","v":""}]
[null,{"$f":"IF(Självskattning!C415=\"Vet ej\",Självskattning!A415,\"\")","v":""},{"$f":"IF(Självskattning!C415=\"Vet ej\",Självskattning!B415,\"\")","v":""},{"$f":"IF(Självskattning!C415=\"Vet ej\",Självskattning!D415,\"\")","v":""}]
[null,{"$f":"IF(Självskattning!C416=\"Vet ej\",Självskattning!A416,\"\")","v":""},{"$f":"IF(Självskattning!C416=\"Vet ej\",Självskattning!B416,\"\")","v":""},{"$f":"IF(Självskattning!C416=\"Vet ej\",Självskattning!D416,\"\")","v":""}]
[null,{"$f":"IF(Självskattning!C417=\"Vet ej\",Självskattning!A417,\"\")","v":""},{"$f":"IF(Självskattning!C417=\"Vet ej\",Självskattning!B417,\"\")","v":""},{"$f":"IF(Självskattning!C417=\"Vet ej\",Självskattning!D417,\"\")","v":""}]
[null,{"$f":"IF(Självskattning!C418=\"Vet ej\",Självskattning!A418,\"\")","v":""},{"$f":"IF(Självskattning!C418=\"Vet ej\",Självskattning!B418,\"\")","v":""},{"$f":"IF(Självskattning!C418=\"Vet ej\",Självskattning!D418,\"\")","v":""}]
[null,{"$f":"IF(Självskattning!C419=\"Vet ej\",Självskattning!A419,\"\")","v":""},{"$f":"IF(Självskattning!C419=\"Vet ej\",Självskattning!B419,\"\")","v":""},{"$f":"IF(Självskattning!C419=\"Vet ej\",Självskattning!D419,\"\")","v":""}]
[null,{"$f":"IF(Självskattning!C420=\"Vet ej\",Självskattning!A420,\"\")","v":""},{"$f":"IF(Självskattning!C420=\"Vet ej\",Självskattning!B420,\"\")","v":""},{"$f":"IF(Självskattning!C420=\"Vet ej\",Självskattning!D420,\"\")","v":""}]
[null,{"$f":"IF(Självskattning!C421=\"Vet ej\",Självskattning!A421,\"\")","v":""},{"$f":"IF(Självskattning!C421=\"Vet ej\",Självskattning!B421,\"\")","v":""},{"$f":"IF(Självskattning!C421=\"Vet ej\",Självskattning!D421,\"\")","v":""}]
[null,{"$f":"IF(Självskattning!C422=\"Vet ej\",Självskattning!A422,\"\")","v":""},{"$f":"IF(Självskattning!C422=\"Vet ej\",Självskattning!B422,\"\")","v":""},{"$f":"IF(Självskattning!C422=\"Vet ej\",Självskattning!D422,\"\")","v":""}]
[null,{"$f":"IF(Självskattning!C423=\"Vet ej\",Självskattning!A423,\"\")","v":""},{"$f":"IF(Självskattning!C423=\"Vet ej\",Självskattning!B423,\"\")","v":""},{"$f":"IF(Självskattning!C423=\"Vet ej\",Självskattning!D423,\"\")","v":""}]
[null,{"$f":"IF(Självskattning!C424=\"Vet ej\",Självskattning!A424,\"\")","v":""},{"$f":"IF(Självskattning!C424=\"Vet ej\",Självskattning!B424,\"\")","v":""},{"$f":"IF(Självskattning!C424=\"Vet ej\",Självskattning!D424,\"\")","v":""}]
[null,{"$f":"IF(Självskattning!C425=\"Vet ej\",Självskattning!A425,\"\")","v":""},{"$f":"IF(Självskattning!C425=\"Vet ej\",Självskattning!B425,\"\")","v":""},{"$f":"IF(Självskattning!C425=\"Vet ej\",Självskattning!D425,\"\")","v":""}]
[null,{"$f":"IF(Självskattning!C426=\"Vet ej\",Självskattning!A426,\"\")","v":""},{"$f":"IF(Självskattning!C426=\"Vet ej\",Självskattning!B426,\"\")","v":""},{"$f":"IF(Självskattning!C426=\"Vet ej\",Självskattning!D426,\"\")","v":""}]
[null,{"$f":"IF(Självskattning!C427=\"Vet ej\",Självskattning!A427,\"\")","v":""},{"$f":"IF(Självskattning!C427=\"Vet ej\",Självskattning!B427,\"\")","v":""},{"$f":"IF(Självskattning!C427=\"Vet ej\",Självskattning!D427,\"\")","v":""}]
[null,{"$f":"IF(Självskattning!C428=\"Vet ej\",Självskattning!A428,\"\")","v":""},{"$f":"IF(Självskattning!C428=\"Vet ej\",Självskattning!B428,\"\")","v":""},{"$f":"IF(Självskattning!C428=\"Vet ej\",Självskattning!D428,\"\")","v":""}]
[null,{"$f":"IF(Självskattning!C429=\"Vet ej\",Självskattning!A429,\"\")","v":""},{"$f":"IF(Självskattning!C429=\"Vet ej\",Självskattning!B429,\"\")","v":""},{"$f":"IF(Självskattning!C429=\"Vet ej\",Självskattning!D429,\"\")","v":""}]
[null,{"$f":"IF(Självskattning!C430=\"Vet ej\",Självskattning!A430,\"\")","v":""},{"$f":"IF(Självskattning!C430=\"Vet ej\",Självskattning!B430,\"\")","v":""},{"$f":"IF(Självskattning!C430=\"Vet ej\",Självskattning!D430,\"\")","v":""}]
[null,{"$f":"IF(Självskattning!C431=\"Vet ej\",Självskattning!A431,\"\")","v":""},{"$f":"IF(Självskattning!C431=\"Vet ej\",Självskattning!B431,\"\")","v":""},{"$f":"IF(Självskattning!C431=\"Vet ej\",Självskattning!D431,\"\")","v":""}]
[null,{"$f":"IF(Självskattning!C432=\"Vet ej\",Självskattning!A432,\"\")","v":""},{"$f":"IF(Självskattning!C432=\"Vet ej\",Självskattning!B432,\"\")","v":""},{"$f":"IF(Självskattning!C432=\"Vet ej\",Självskattning!D432,\"\")","v":""}]
[null,{"$f":"IF(Självskattning!C433=\"Vet ej\",Självskattning!A433,\"\")","v":""},{"$f":"IF(Självskattning!C433=\"Vet ej\",Självskattning!B433,\"\")","v":""},{"$f":"IF(Självskattning!C433=\"Vet ej\",Självskattning!D433,\"\")","v":""}]
[null,{"$f":"IF(Självskattning!C434=\"Vet ej\",Självskattning!A434,\"\")","v":""},{"$f":"IF(Självskattning!C434=\"Vet ej\",Självskattning!B434,\"\")","v":""},{"$f":"IF(Självskattning!C434=\"Vet ej\",Självskattning!D434,\"\")","v":""}]
[null,{"$f":"IF(Självskattning!C435=\"Vet ej\",Självskattning!A435,\"\")","v":""},{"$f":"IF(Självskattning!C435=\"Vet ej\",Självskattning!B435,\"\")","v":""},{"$f":"IF(Självskattning!C435=\"Vet ej\",Självskattning!D435,\"\")","v":""}]
[null,{"$f":"IF(Självskattning!C436=\"Vet ej\",Självskattning!A436,\"\")","v":""},{"$f":"IF(Självskattning!C436=\"Vet ej\",Självskattning!B436,\"\")","v":""},{"$f":"IF(Självskattning!C436=\"Vet ej\",Självskattning!D436,\"\")","v":""}]
[null,{"$f":"IF(Självskattning!C437=\"Vet ej\",Självskattning!A437,\"\")","v":""},{"$f":"IF(Självskattning!C437=\"Vet ej\",Självskattning!B437,\"\")","v":""},{"$f":"IF(Självskattning!C437=\"Vet ej\",Självskattning!D437,\"\")","v":""}]
[null,{"$f":"IF(Självskattning!C438=\"Vet ej\",Självskattning!A438,\"\")","v":""},{"$f":"IF(Självskattning!C438=\"Vet ej\",Självskattning!B438,\"\")","v":""},{"$f":"IF(Självskattning!C438=\"Vet ej\",Självskattning!D438,\"\")","v":""}]
[null,{"$f":"IF(Självskattning!C439=\"Vet ej\",Självskattning!A439,\"\")","v":""},{"$f":"IF(Självskattning!C439=\"Vet ej\",Självskattning!B439,\"\")","v":""},{"$f":"IF(Självskattning!C439=\"Vet ej\",Självskattning!D439,\"\")","v":""}]
[null,{"$f":"IF(Självskattning!C440=\"Vet ej\",Självskattning!A440,\"\")","v":""},{"$f":"IF(Självskattning!C440=\"Vet ej\",Självskattning!B440,\"\")","v":""},{"$f":"IF(Självskattning!C440=\"Vet ej\",Självskattning!D440,\"\")","v":""}]
[null,{"$f":"IF(Självskattning!C441=\"Vet ej\",Självskattning!A441,\"\")","v":""},{"$f":"IF(Självskattning!C441=\"Vet ej\",Självskattning!B441,\"\")","v":""},{"$f":"IF(Självskattning!C441=\"Vet ej\",Självskattning!D441,\"\")","v":""}]
[null,{"$f":"IF(Självskattning!C442=\"Vet ej\",Självskattning!A442,\"\")","v":""},{"$f":"IF(Självskattning!C442=\"Vet ej\",Självskattning!B442,\"\")","v":""},{"$f":"IF(Självskattning!C442=\"Vet ej\",Självskattning!D442,\"\")","v":""}]
[null,{"$f":"IF(Självskattning!C443=\"Vet ej\",Självskattning!A443,\"\")","v":""},{"$f":"IF(Självskattning!C443=\"Vet ej\",Självskattning!B443,\"\")","v":""},{"$f":"IF(Självskattning!C443=\"Vet ej\",Självskattning!D443,\"\")","v":""}]
[null,{"$f":"IF(Självskattning!C444=\"Vet ej\",Självskattning!A444,\"\")","v":""},{"$f":"IF(Självskattning!C444=\"Vet ej\",Självskattning!B444,\"\")","v":""},{"$f":"IF(Självskattning!C444=\"Vet ej\",Självskattning!D444,\"\")","v":""}]
[null,{"$f":"IF(Självskattning!C445=\"Vet ej\",Självskattning!A445,\"\")","v":""},{"$f":"IF(Självskattning!C445=\"Vet ej\",Självskattning!B445,\"\")","v":""},{"$f":"IF(Självskattning!C445=\"Vet ej\",Självskattning!D445,\"\")","v":""}]
[null,{"$f":"IF(Självskattning!C446=\"Vet ej\",Självskattning!A446,\"\")","v":""},{"$f":"IF(Självskattning!C446=\"Vet ej\",Självskattning!B446,\"\")","v":""},{"$f":"IF(Självskattning!C446=\"Vet ej\",Självskattning!D446,\"\")","v":""}]
[null,{"$f":"IF(Självskattning!C447=\"Vet ej\",Självskattning!A447,\"\")","v":""},{"$f":"IF(Självskattning!C447=\"Vet ej\",Självskattning!B447,\"\")","v":""},{"$f":"IF(Självskattning!C447=\"Vet ej\",Självskattning!D447,\"\")","v":""}]
[null,{"$f":"IF(Självskattning!C448=\"Vet ej\",Självskattning!A448,\"\")","v":""},{"$f":"IF(Självskattning!C448=\"Vet ej\",Självskattning!B448,\"\")","v":""},{"$f":"IF(Självskattning!C448=\"Vet ej\",Självskattning!D448,\"\")","v":""}]
[null,{"$f":"IF(Självskattning!C449=\"Vet ej\",Självskattning!A449,\"\")","v":""},{"$f":"IF(Självskattning!C449=\"Vet ej\",Självskattning!B449,\"\")","v":""},{"$f":"IF(Självskattning!C449=\"Vet ej\",Självskattning!D449,\"\")","v":""}]
[null,{"$f":"IF(Självskattning!C450=\"Vet ej\",Självskattning!A450,\"\")","v":""},{"$f":"IF(Självskattning!C450=\"Vet ej\",Självskattning!B450,\"\")","v":""},{"$f":"IF(Självskattning!C450=\"Vet ej\",Självskattning!D450,\"\")","v":""}]
[null,{"$f":"IF(Självskattning!C451=\"Vet ej\",Självskattning!A451,\"\")","v":""},{"$f":"IF(Självskattning!C451=\"Vet ej\",Självskattning!B451,\"\")","v":""},{"$f":"IF(Självskattning!C451=\"Vet ej\",Självskattning!D451,\"\")","v":""}]
[null,{"$f":"IF(Självskattning!C452=\"Vet ej\",Självskattning!A452,\"\")","v":""},{"$f":"IF(Självskattning!C452=\"Vet ej\",Självskattning!B452,\"\")","v":""},{"$f":"IF(Självskattning!C452=\"Vet ej\",Självskattning!D452,\"\")","v":""}]
[null,{"$f":"IF(Självskattning!C453=\"Vet ej\",Självskattning!A453,\"\")","v":""},{"$f":"IF(Självskattning!C453=\"Vet ej\",Självskattning!B453,\"\")","v":""},{"$f":"IF(Självskattning!C453=\"Vet ej\",Självskattning!D453,\"\")","v":""}]
[null,{"$f":"IF(Självskattning!C454=\"Vet ej\",Självskattning!A454,\"\")","v":""},{"$f":"IF(Självskattning!C454=\"Vet ej\",Självskattning!B454,\"\")","v":""},{"$f":"IF(Självskattning!C454=\"Vet ej\",Självskattning!D454,\"\")","v":""}]
[null,{"$f":"IF(Självskattning!C455=\"Vet ej\",Självskattning!A455,\"\")","v":""},{"$f":"IF(Självskattning!C455=\"Vet ej\",Självskattning!B455,\"\")","v":""},{"$f":"IF(Självskattning!C455=\"Vet ej\",Självskattning!D455,\"\")","v":""}]
[null,{"$f":"IF(Självskattning!C456=\"Vet ej\",Självskattning!A456,\"\")","v":""},{"$f":"IF(Självskattning!C456=\"Vet ej\",Självskattning!B456,\"\")","v":""},{"$f":"IF(Självskattning!C456=\"Vet ej\",Självskattning!D456,\"\")","v":""}]
[null,{"$f":"IF(Självskattning!C457=\"Vet ej\",Självskattning!A457,\"\")","v":""},{"$f":"IF(Självskattning!C457=\"Vet ej\",Självskattning!B457,\"\")","v":""},{"$f":"IF(Självskattning!C457=\"Vet ej\",Självskattning!D457,\"\")","v":""}]
[null,{"$f":"IF(Självskattning!C458=\"Vet ej\",Självskattning!A458,\"\")","v":""},{"$f":"IF(Självskattning!C458=\"Vet ej\",Självskattning!B458,\"\")","v":""},{"$f":"IF(Självskattning!C458=\"Vet ej\",Självskattning!D458,\"\")","v":""}]
[null,{"$f":"IF(Självskattning!C459=\"Vet ej\",Självskattning!A459,\"\")","v":""},{"$f":"IF(Självskattning!C459=\"Vet ej\",Självskattning!B459,\"\")","v":""},{"$f":"IF(Självskattning!C459=\"Vet ej\",Självskattning!D459,\"\")","v":""}]
[null,{"$f":"IF(Självskattning!C460=\"Vet ej\",Självskattning!A460,\"\")","v":""},{"$f":"IF(Självskattning!C460=\"Vet ej\",Självskattning!B460,\"\")","v":""},{"$f":"IF(Självskattning!C460=\"Vet ej\",Självskattning!D460,\"\")","v":""}]
[null,{"$f":"IF(Självskattning!C461=\"Vet ej\",Självskattning!A461,\"\")","v":""},{"$f":"IF(Självskattning!C461=\"Vet ej\",Självskattning!B461,\"\")","v":""},{"$f":"IF(Självskattning!C461=\"Vet ej\",Självskattning!D461,\"\")","v":""}]
[null,{"$f":"IF(Självskattning!C462=\"Vet ej\",Självskattning!A462,\"\")","v":""},{"$f":"IF(Självskattning!C462=\"Vet ej\",Självskattning!B462,\"\")","v":""},{"$f":"IF(Självskattning!C462=\"Vet ej\",Självskattning!D462,\"\")","v":""}]
[null,{"$f":"IF(Självskattning!C463=\"Vet ej\",Självskattning!A463,\"\")","v":""},{"$f":"IF(Självskattning!C463=\"Vet ej\",Självskattning!B463,\"\")","v":""},{"$f":"IF(Självskattning!C463=\"Vet ej\",Självskattning!D463,\"\")","v":""}]
[null,{"$f":"IF(Självskattning!C464=\"Vet ej\",Självskattning!A464,\"\")","v":""},{"$f":"IF(Självskattning!C464=\"Vet ej\",Självskattning!B464,\"\")","v":""},{"$f":"IF(Självskattning!C464=\"Vet ej\",Självskattning!D464,\"\")","v":""}]
[null,{"$f":"IF(Självskattning!C465=\"Vet ej\",Självskattning!A465,\"\")","v":""},{"$f":"IF(Självskattning!C465=\"Vet ej\",Självskattning!B465,\"\")","v":""},{"$f":"IF(Självskattning!C465=\"Vet ej\",Självskattning!D465,\"\")","v":""}]
[null,{"$f":"IF(Självskattning!C466=\"Vet ej\",Självskattning!A466,\"\")","v":""},{"$f":"IF(Självskattning!C466=\"Vet ej\",Självskattning!B466,\"\")","v":""},{"$f":"IF(Självskattning!C466=\"Vet ej\",Självskattning!D466,\"\")","v":""}]
[null,{"$f":"IF(Självskattning!C467=\"Vet ej\",Självskattning!A467,\"\")","v":""},{"$f":"IF(Självskattning!C467=\"Vet ej\",Självskattning!B467,\"\")","v":""},{"$f":"IF(Självskattning!C467=\"Vet ej\",Självskattning!D467,\"\")","v":""}]
[null,{"$f":"IF(Självskattning!C468=\"Vet ej\",Självskattning!A468,\"\")","v":""},{"$f":"IF(Självskattning!C468=\"Vet ej\",Självskattning!B468,\"\")","v":""},{"$f":"IF(Självskattning!C468=\"Vet ej\",Självskattning!D468,\"\")","v":""}]
[null,{"$f":"IF(Självskattning!C469=\"Vet ej\",Självskattning!A469,\"\")","v":""},{"$f":"IF(Självskattning!C469=\"Vet ej\",Självskattning!B469,\"\")","v":""},{"$f":"IF(Självskattning!C469=\"Vet ej\",Självskattning!D469,\"\")","v":""}]
[null,{"$f":"IF(Självskattning!C470=\"Vet ej\",Självskattning!A470,\"\")","v":""},{"$f":"IF(Självskattning!C470=\"Vet ej\",Självskattning!B470,\"\")","v":""},{"$f":"IF(Självskattning!C470=\"Vet ej\",Självskattning!D470,\"\")","v":""}]
[null,{"$f":"IF(Självskattning!C471=\"Vet ej\",Självskattning!A471,\"\")","v":""},{"$f":"IF(Självskattning!C471=\"Vet ej\",Självskattning!B471,\"\")","v":""},{"$f":"IF(Självskattning!C471=\"Vet ej\",Självskattning!D471,\"\")","v":""}]
[null,{"$f":"IF(Självskattning!C472=\"Vet ej\",Självskattning!A472,\"\")","v":""},{"$f":"IF(Självskattning!C472=\"Vet ej\",Självskattning!B472,\"\")","v":""},{"$f":"IF(Självskattning!C472=\"Vet ej\",Självskattning!D472,\"\")","v":""}]
[null,{"$f":"IF(Självskattning!C473=\"Vet ej\",Självskattning!A473,\"\")","v":""},{"$f":"IF(Självskattning!C473=\"Vet ej\",Självskattning!B473,\"\")","v":""},{"$f":"IF(Självskattning!C473=\"Vet ej\",Självskattning!D473,\"\")","v":""}]
[null,{"$f":"IF(Självskattning!C474=\"Vet ej\",Självskattning!A474,\"\")","v":""},{"$f":"IF(Självskattning!C474=\"Vet ej\",Självskattning!B474,\"\")","v":""},{"$f":"IF(Självskattning!C474=\"Vet ej\",Självskattning!D474,\"\")","v":""}]
[null,{"$f":"IF(Självskattning!C475=\"Vet ej\",Självskattning!A475,\"\")","v":""},{"$f":"IF(Självskattning!C475=\"Vet ej\",Självskattning!B475,\"\")","v":""},{"$f":"IF(Självskattning!C475=\"Vet ej\",Självskattning!D475,\"\")","v":""}]
[null,{"$f":"IF(Självskattning!C476=\"Vet ej\",Självskattning!A476,\"\")","v":""},{"$f":"IF(Självskattning!C476=\"Vet ej\",Självskattning!B476,\"\")","v":""},{"$f":"IF(Självskattning!C476=\"Vet ej\",Självskattning!D476,\"\")","v":""}]
[null,{"$f":"IF(Självskattning!C477=\"Vet ej\",Självskattning!A477,\"\")","v":""},{"$f":"IF(Självskattning!C477=\"Vet ej\",Självskattning!B477,\"\")","v":""},{"$f":"IF(Självskattning!C477=\"Vet ej\",Självskattning!D477,\"\")","v":""}]
[null,{"$f":"IF(Självskattning!C478=\"Vet ej\",Självskattning!A478,\"\")","v":""},{"$f":"IF(Självskattning!C478=\"Vet ej\",Självskattning!B478,\"\")","v":""},{"$f":"IF(Självskattning!C478=\"Vet ej\",Självskattning!D478,\"\")","v":""}]
[null,{"$f":"IF(Självskattning!C479=\"Vet ej\",Självskattning!A479,\"\")","v":""},{"$f":"IF(Självskattning!C479=\"Vet ej\",Självskattning!B479,\"\")","v":""},{"$f":"IF(Självskattning!C479=\"Vet ej\",Självskattning!D479,\"\")","v":""}]
[null,{"$f":"IF(Självskattning!C480=\"Vet ej\",Självskattning!A480,\"\")","v":""},{"$f":"IF(Självskattning!C480=\"Vet ej\",Självskattning!B480,\"\")","v":""},{"$f":"IF(Självskattning!C480=\"Vet ej\",Självskattning!D480,\"\")","v":""}]
[null,{"$f":"IF(Självskattning!C481=\"Vet ej\",Självskattning!A481,\"\")","v":""},{"$f":"IF(Självskattning!C481=\"Vet ej\",Självskattning!B481,\"\")","v":""},{"$f":"IF(Självskattning!C481=\"Vet ej\",Självskattning!D481,\"\")","v":""}]
[null,{"$f":"IF(Självskattning!C482=\"Vet ej\",Självskattning!A482,\"\")","v":""},{"$f":"IF(Självskattning!C482=\"Vet ej\",Självskattning!B482,\"\")","v":""},{"$f":"IF(Självskattning!C482=\"Vet ej\",Självskattning!D482,\"\")","v":""}]
[null,{"$f":"IF(Självskattning!C483=\"Vet ej\",Självskattning!A483,\"\")","v":""},{"$f":"IF(Självskattning!C483=\"Vet ej\",Självskattning!B483,\"\")","v":""},{"$f":"IF(Självskattning!C483=\"Vet ej\",Självskattning!D483,\"\")","v":""}]
[null,{"$f":"IF(Självskattning!C484=\"Vet ej\",Självskattning!A484,\"\")","v":""},{"$f":"IF(Självskattning!C484=\"Vet ej\",Självskattning!B484,\"\")","v":""},{"$f":"IF(Självskattning!C484=\"Vet ej\",Självskattning!D484,\"\")","v":""}]
[null,{"$f":"IF(Självskattning!C485=\"Vet ej\",Självskattning!A485,\"\")","v":""},{"$f":"IF(Självskattning!C485=\"Vet ej\",Självskattning!B485,\"\")","v":""},{"$f":"IF(Självskattning!C485=\"Vet ej\",Självskattning!D485,\"\")","v":""}]
[null,{"$f":"IF(Självskattning!C486=\"Vet ej\",Självskattning!A486,\"\")","v":""},{"$f":"IF(Självskattning!C486=\"Vet ej\",Självskattning!B486,\"\")","v":""},{"$f":"IF(Självskattning!C486=\"Vet ej\",Självskattning!D486,\"\")","v":""}]
[null,{"$f":"IF(Självskattning!C487=\"Vet ej\",Självskattning!A487,\"\")","v":""},{"$f":"IF(Självskattning!C487=\"Vet ej\",Självskattning!B487,\"\")","v":""},{"$f":"IF(Självskattning!C487=\"Vet ej\",Självskattning!D487,\"\")","v":""}]
[null,{"$f":"IF(Självskattning!C488=\"Vet ej\",Självskattning!A488,\"\")","v":""},{"$f":"IF(Självskattning!C488=\"Vet ej\",Självskattning!B488,\"\")","v":""},{"$f":"IF(Självskattning!C488=\"Vet ej\",Självskattning!D488,\"\")","v":""}]
[null,{"$f":"IF(Självskattning!C489=\"Vet ej\",Självskattning!A489,\"\")","v":""},{"$f":"IF(Självskattning!C489=\"Vet ej\",Självskattning!B489,\"\")","v":""},{"$f":"IF(Självskattning!C489=\"Vet ej\",Självskattning!D489,\"\")","v":""}]
[null,{"$f":"IF(Självskattning!C490=\"Vet ej\",Självskattning!A490,\"\")","v":""},{"$f":"IF(Självskattning!C490=\"Vet ej\",Självskattning!B490,\"\")","v":""},{"$f":"IF(Självskattning!C490=\"Vet ej\",Självskattning!D490,\"\")","v":""}]
[null,{"$f":"IF(Självskattning!C491=\"Vet ej\",Självskattning!A491,\"\")","v":""},{"$f":"IF(Självskattning!C491=\"Vet ej\",Självskattning!B491,\"\")","v":""},{"$f":"IF(Självskattning!C491=\"Vet ej\",Självskattning!D491,\"\")","v":""}]
[null,{"$f":"IF(Självskattning!C492=\"Vet ej\",Självskattning!A492,\"\")","v":""},{"$f":"IF(Självskattning!C492=\"Vet ej\",Självskattning!B492,\"\")","v":""},{"$f":"IF(Självskattning!C492=\"Vet ej\",Självskattning!D492,\"\")","v":""}]
[null,{"$f":"IF(Självskattning!C493=\"Vet ej\",Självskattning!A493,\"\")","v":""},{"$f":"IF(Självskattning!C493=\"Vet ej\",Självskattning!B493,\"\")","v":""},{"$f":"IF(Självskattning!C493=\"Vet ej\",Självskattning!D493,\"\")","v":""}]
[null,{"$f":"IF(Självskattning!C494=\"Vet ej\",Självskattning!A494,\"\")","v":""},{"$f":"IF(Självskattning!C494=\"Vet ej\",Självskattning!B494,\"\")","v":""},{"$f":"IF(Självskattning!C494=\"Vet ej\",Självskattning!D494,\"\")","v":""}]
[null,{"$f":"IF(Självskattning!C495=\"Vet ej\",Självskattning!A495,\"\")","v":""},{"$f":"IF(Självskattning!C495=\"Vet ej\",Självskattning!B495,\"\")","v":""},{"$f":"IF(Självskattning!C495=\"Vet ej\",Självskattning!D495,\"\")","v":""}]
[null,{"$f":"IF(Självskattning!C496=\"Vet ej\",Självskattning!A496,\"\")","v":""},{"$f":"IF(Självskattning!C496=\"Vet ej\",Självskattning!B496,\"\")","v":""},{"$f":"IF(Självskattning!C496=\"Vet ej\",Självskattning!D496,\"\")","v":""}]
[null,{"$f":"IF(Självskattning!C497=\"Vet ej\",Självskattning!A497,\"\")","v":""},{"$f":"IF(Självskattning!C497=\"Vet ej\",Självskattning!B497,\"\")","v":""},{"$f":"IF(Självskattning!C497=\"Vet ej\",Självskattning!D497,\"\")","v":""}]
[null,{"$f":"IF(Självskattning!C498=\"Vet ej\",Självskattning!A498,\"\")","v":""},{"$f":"IF(Självskattning!C498=\"Vet ej\",Självskattning!B498,\"\")","v":""},{"$f":"IF(Självskattning!C498=\"Vet ej\",Självskattning!D498,\"\")","v":""}]
[null,{"$f":"IF(Självskattning!C499=\"Vet ej\",Självskattning!A499,\"\")","v":""},{"$f":"IF(Självskattning!C499=\"Vet ej\",Självskattning!B499,\"\")","v":""},{"$f":"IF(Självskattning!C499=\"Vet ej\",Självskattning!D499,\"\")","v":""}]
[null,{"$f":"IF(Självskattning!C500=\"Vet ej\",Självskattning!A500,\"\")","v":""},{"$f":"IF(Självskattning!C500=\"Vet ej\",Självskattning!B500,\"\")","v":""},{"$f":"IF(Självskattning!C500=\"Vet ej\",Självskattning!D500,\"\")","v":""}]
[null,{"$f":"IF(Självskattning!C501=\"Vet ej\",Självskattning!A501,\"\")","v":""},{"$f":"IF(Självskattning!C501=\"Vet ej\",Självskattning!B501,\"\")","v":""},{"$f":"IF(Självskattning!C501=\"Vet ej\",Självskattning!D501,\"\")","v":""}]
[]
[null,"Resultat"]
[null,"Ja, i huvudsak",null,null,null,{"$f":"COUNTIF(Självskattning!C3:C965,\"Ja, i huvudsak\")","v":0}]
[null,"Ett mindre förändringsarbete behövs",null,null,null,{"$f":"COUNTIF(Självskattning!C3:C965,\"Ett mindre förändringsarbete behövs\")","v":0}]
[null,"Mer omfattande förändringsarbete behövs",null,null,null,{"$f":"COUNTIF(Självskattning!C3:C965,\"Mer omfattande förändringsarbete behövs\")","v":0}]
[null,"Nej",null,null,null,{"$f":"COUNTIF(Självskattning!C3:C965,\"Nej\")","v":0}]
[null,"Vet ej",null,null,null,{"$f":"COUNTIF(Självskattning!C3:C966,\"Vet ej\")","v":0}]
[]
[]
[]
[]
[]
[]
[]
[]
[]
[]
[]
[]
[]
[]
[]
[]
[]
[]
[]
[]
[]
[]
[]
[]
[]
[]
[]
[]
[null,"För mer information och tips på hur ni kan arbeta med resultatet klicka på denna länk till Kunskapsguiden"]